{"text_format":"1","workbook":"xlsx","n_sheets":66,"sheets":["START","Instructions","Template names","Lookup and lists","Org structure","Contacts","A1-Sum","A2-FinPerf SC","A2A","A3-FinPerf V","A3A","A4-FinPerf RE","A4 Funding","A5-Capex","A5A","A6-FinPos","A6 Inventory","A7-CFlow","A8-ResRecon","A9-Asset","A10-SerDel","SA1","SA2","SA3","SA4","SA5","SA6","SA7","SA8","SA9","SA10","SA11","SA12a","SA12b","SA13a","SA13b","SA14","SA15","SA16","SA17","SA18","SA19","SA20","SA21","SA22","SA23","SA24","SA25","SA26","SA27","SA28","SA29","SA30","SA31","SA32","SA33","SA34a","SA34b","SA34c","SA34d","SA34e","SA35","SA36","SA37","SA38","LGDB_EXPORT"],"not_rendered":{"charts":0,"images":18,"macros":1,"external_links":2,"defined_names":1919,"comments":0,"pivot_tables":0},"unopened":[],"bounds":{"document_bytes":16777216,"sheet_cells":100000,"rows_first":2000,"rows_last":500,"rows_between":2000,"halvings":0,"cell_chars":16384,"cell_head_chars":4096},"cells_cut":0,"cells_raw":0,"read":"whole","date_system":"1900"}

{"sheet":"START","index":0,"n_rows":1,"n_cols":1,"rows_kept":1,"cut":false,"hidden":false,"merged":[]}
["j"]

{"sheet":"Instructions","index":1,"n_rows":77,"n_cols":24,"rows_kept":77,"cut":false,"hidden":false,"merged":[]}
[]
[null,null,null,2020]
[]
[null,null,null,null,null,null,null,null,null,null,null,null,null,null,null,null,null,null,null,null,null,null,null,"Yes"]
[null,null,null,null,null,null,null,null,null,null,null,null,null,null,null,null,null,null,null,null,null,null,null,"No"]
[]
[null,null,null,null,null,null,null,null,null,null,null,null,null,null,null,null,null,null,null,null,null,null,"Type of Entities Range:"]
[null,null,null,null,null,null,null,null,null,null,null,null,null,null,null,null,null,null,null,null,null,null,null,"Parent Municipality"]
[null,null,null,null,null,null,null,null,null,null,null,null,null,null,null,null,null,null,null,null,null,null,null,"Consolidated Information"]
[]
[]
[]
[]
[null,null,null,null,null,"START"]
[null,null,null,null,null,"Instructions"]
[null,null,null,null,null,"Template names"]
[null,null,null,null,null,"Lookup and lists",null,null,null,null,null,null,null,null,null,null,null,null,null,null,null,null,"MTREF Range:",2013]
[null,null,null,null,null,"Org structure",null,null,null,null,null,null,null,null,null,null,null,null,null,null,null,null,null,2014]
[null,null,null,null,null,"Contacts",null,null,null,null,null,null,null,null,null,null,null,null,null,null,null,null,null,2015]
[null,null,null,null,null,"A1-Sum",null,null,null,null,null,null,null,null,null,null,null,null,null,null,null,null,null,2016]
[null,null,null,null,null,"A2-FinPerf SC",null,null,null,null,null,null,null,null,null,null,null,null,null,null,null,null,null,2017]
[null,null,null,null,null,"A2A",null,null,null,null,null,null,null,null,null,null,null,null,null,null,null,null,null,2018]
[null,null,null,null,null,"A3-FinPerf V",null,null,null,null,null,null,null,null,null,null,null,null,null,null,null,null,null,2019]
[null,null,null,null,null,"A3A",null,null,null,null,null,null,null,null,null,null,null,null,null,null,null,null,null,2020]
[null,null,null,null,null,"A4-FinPerf RE",null,null,null,null,null,null,null,null,null,null,null,null,null,null,null,null,null,2021]
[null,null,null,null,null,"A5-Capex",null,null,null,null,null,null,null,null,null,null,null,null,null,null,null,null,null,2022]
[null,null,null,null,null,"A5A",null,null,null,null,null,null,null,null,null,null,null,null,null,null,null,null,null,2023]
[null,null,null,null,null,"A6-FinPos",null,null,null,null,null,null,null,null,null,null,null,null,null,null,null,null,null,2024]
[null,null,null,null,null,"A7-CFlow",null,null,null,null,null,null,null,null,null,null,null,null,null,null,null,null,null,2025]
[null,null,null,null,null,"A8-ResRecon",null,null,null,null,null,null,null,null,null,null,null,null,null,null,null,null,null,2026]
[null,null,null,null,null,"A9-Asset",null,null,null,null,null,null,null,null,null,null,null,null,null,null,null,null,null,2027]
[null,null,null,null,null,"A10-SerDel",null,null,null,null,null,null,null,null,null,null,null,null,null,null,null,null,null,2028]
[null,null,null,null,null,"SA1",null,null,null,null,null,null,null,null,null,null,null,null,null,null,null,null,"MTREF Linked:",13]
[null,null,null,null,null,"SA2",null,null,null,null,null,null,null,null,null,null,null,null,null,null,null,null,"MTREF:",{"$f":"INDEX(X17:X31,X33,1)","v":2025}]
[null,null,null,null,null,"SA3"]
[null,null,null,null,null,"SA4",null,null,null,null,null,null,null,null,null,null,null,null,null,null,null,null,"Fin Year:",{"$f":"MTREF&\"/\"&RIGHT(MTREF,2)+1","v":"2025/26"}]
[null,null,null,null,null,"SA5"]
[null,null,null,null,null,"SA6"]
[null,null,null,null,null,"SA7"]
[null,null,null,null,null,"SA8"]
[null,null,null,null,null,"SA9"]
[null,null,null,null,null,"SA10"]
[null,null,null,null,null,"SA11"]
[null,null,null,null,null,"SA12a"]
[null,null,null,null,null,"SA12b"]
[null,null,null,null,null,"SA13a"]
[null,null,null,null,null,"SA13b"]
[null,null,null,null,null,"SA14"]
[null,null,null,null,null,"SA15"]
[null,null,null,null,null,"SA16"]
[null,null,null,null,null,"SA17"]
[null,null,null,null,null,"SA18"]
[null,null,null,null,null,"SA19"]
[null,null,null,null,null,"SA20"]
[null,null,null,null,null,"SA21"]
[null,null,null,null,null,"SA22"]
[null,null,null,null,null,"SA23"]
[null,null,null,null,null,"SA24"]
[null,null,null,null,null,"SA25"]
[null,null,null,null,null,"SA26"]
[null,null,null,null,null,"SA27"]
[null,null,null,null,null,"SA28"]
[null,null,null,null,null,"SA29"]
[null,null,null,null,null,"SA30"]
[null,null,null,null,null,"SA31"]
[null,null,null,null,null,"SA32"]
[null,null,null,null,null,"SA33"]
[null,null,null,null,null,"SA34a"]
[null,null,null,null,null,"SA34b"]
[null,null,null,null,null,"SA34c"]
[null,null,null,null,null,"SA34d"]
[null,null,null,null,null,"SA34e"]
[null,null,null,null,null,"SA35"]
[null,null,null,null,null,"SA36"]
[null,null,null,null,null,"SA37"]
[null,null,null,null,null,"SA38"]
[null,null,null,null,null,"LGDB_EXPORT"]

{"sheet":"Template names","index":2,"n_rows":179,"n_cols":6,"rows_kept":179,"cut":false,"hidden":false,"merged":[[0,0,0,3],[86,0,86,1],[109,0,109,1],[98,0,98,1],[91,0,91,3]]}
["Common sheet headings"]
["Head1",{"$f":"HLOOKUP(MTREF,Headings,2)","v":"2023/24"},"Prior year -1"]
["Head1A",{"$f":"HLOOKUP(MTREF,Headings,3)","v":"2022/23"},"Prior year -2"]
["Head1B",{"$f":"HLOOKUP(MTREF,Headings,4)","v":"2021/22"},"Prior year -3"]
["Head2",{"$f":"HLOOKUP(MTREF,Headings,5)","v":"Current Year 2024/25"},"Year in which budget is being prepared"]
["Head2A",{"$f":"HLOOKUP(MTREF,Headings,6)","v":"2024/25"},"Year in which budget is being prepared"]
["Head3",{"$f":"HLOOKUP(MTREF,Headings,7)","v":"2025/26 Medium Term Revenue & Expenditure Framework"},"MTREF name"]
["Head4","LTFS","Long term financial strategy"]
["Head5","Audited Outcome"]
["Head5A","Outcome"]
["Head5B","Pre-audit outcome"]
["Head6","Original Budget"]
["Head7","Adjusted Budget"]
["Head8","Full Year Forecast"]
["Head9",{"$f":"HLOOKUP(MTREF,Headings,8)","v":"Budget Year 2025/26"},"1st year of MTREF","Year1"]
["Head10",{"$f":"HLOOKUP(MTREF,Headings,9)","v":"Budget Year +1 2026/27"},"2nd year of MTREF","Year2"]
["Head11",{"$f":"HLOOKUP(MTREF,Headings,10)","v":"Budget Year +2 2027/28"},"3rd year of MTREF","Year3"]
["Head12",{"$f":"HLOOKUP(MTREF,Headings,11)","v":"Forecast 2028/29"},"1st yr of long term forecast","Year4"]
["Head13",{"$f":"HLOOKUP(MTREF,Headings,12)","v":"Forecast 2029/30"},"Next yr of long term forecast","Year5"]
["Head14",{"$f":"HLOOKUP(MTREF,Headings,13)","v":"Forecast 2030/31"},"Next yr of long term forecast","Year6"]
["Head15",{"$f":"HLOOKUP(MTREF,Headings,14)","v":"Forecast 2031/32"},"Next yr of long term forecast","Year7"]
["Head16",{"$f":"HLOOKUP(MTREF,Headings,15)","v":"Forecast 2032/33"},"Next yr of long term forecast","Year8"]
["Head17",{"$f":"HLOOKUP(MTREF,Headings,16)","v":"Forecast 2033/34"},"Next yr of long term forecast","Year9"]
["Head18",{"$f":"HLOOKUP(MTREF,Headings,17)","v":"Forecast 2034/35"},"Next yr of long term forecast","Year10"]
["Head19",{"$f":"HLOOKUP(MTREF,Headings,18)","v":"Forecast 2035/36"},"Next yr of long term forecast","Year11"]
["Head20",{"$f":"HLOOKUP(MTREF,Headings,19)","v":"Forecast 2036/37"},"Next yr of long term forecast","Year12"]
["Head21",{"$f":"HLOOKUP(MTREF,Headings,20)","v":"Forecast 2037/38"},"Next yr of long term forecast","Year13"]
["Head22",{"$f":"HLOOKUP(MTREF,Headings,21)","v":"Forecast 2038/39"},"Next yr of long term forecast","Year14"]
["Head23",{"$f":"HLOOKUP(MTREF,Headings,22)","v":"Forecast 2039/40"},"Next yr of long term forecast","Year15"]
["Head24","Description"]
["Head25"]
["Head26","Vote Description"]
["Head27","Ref"]
["Head27a","References"]
["Head28","Surplus/(Deficit) for the year",null,"Result"]
["Head29",{"$f":"HLOOKUP(MTREF,Headings,23)","v":"Annual target 2025/26"}]
["Head30",{"$f":"HLOOKUP(MTREF,Headings,24)","v":"Revised target 2025/26"}]
["Head31","Quarter ended 30 September"]
["Head32","Quarter ended 31 December"]
["Head33","Quarter ended 31 March"]
["Head34","Quarter ended 30 June"]
["Head35","Variance explanation"]
["Head36","YTD  Actual 31 Dec"]
["Head37","YTD  Budget 31 Dec"]
["Head38","Monthly actual"]
["Head39","YTD actual"]
["Head40","YTD budget"]
["Head41","YTD variance"]
["Head42","Surplus/ (Deficit) for the yr/period"]
["Head43",{"$f":"Head3&\" Summary\"","v":"2025/26 Medium Term Revenue & Expenditure Framework Summary"}]
["Head44","2001 Census"]
["Head45","2011 Census"]
["Head46"," - Adjustments Budget - January 2007"]
["Head47","Previous target year to complete"]
["Head48","Present value"]
["Head49"]
["Head50","Other Adjusts."]
["Head51","Accum. Funds"]
["Head52","Multi-year capital"]
["Head53","Unfore. Unavoid."]
["Head54","Prior Adjusted"]
["Head55","Nat. or Prov. Govt"]
["Head56","Total Adjusts."]
["SFPerf1","Budgeted Financial Performance"]
["SFPerf2","Forecast Financial Performance"]
["SFPos1","Budgeted Financial Position"]
["SFPos2","Forecast Financial Position"]
["Cash1","Budget Cash Flow"]
["Cash2","Forecast Cash Flow"]
["RandM","Expenditure includes repairs & maintenance of R'000"]
["Depart1","Department 1 - ",null,"DEP1"]
["Depart2","Department 2 - ",null,"DEP2"]
["Depart3","Department 3 - ",null,"DEP3"]
["Depart4","Department 4 - ",null,"DEP4"]
["Depart5","Department 5 - ",null,"DEP5"]
["Depart6","Department 6 - ",null,"DEP6"]
["Depart7","Department 7 - ",null,"DEP7"]
["Depart8","Department 8 - ",null,"DEP8"]
["Depart9","Department 9 - ",null,"DEP9"]
["Depart10","Department 10 - ",null,"DEP10"]
["Depart11","Department 11 - ",null,"DEP11"]
["Depart12","Department 12 - ",null,"DEP12"]
["Depart13","Department 13 - ",null,"DEP13"]
["Depart14","Department 14 - ",null,"DEP14"]
[]
[]
["Base year of forecast column selection names"]
["Choose","ACT"]
[null,"APP"]
[null,"ADJ"]
[]
["Standard nomenclature"]
["Muni",{"$f":"'Lookup and lists'!B28","v":"Choose name from list"}]
["Municipal Entities",2,"Type of report:",2]
[{"$f":"IF((MuniEntities=1)*(MuniType=2),\"YES\",\"NO\")","v":"NO"},"Does this municipality have entities (consolidated budget and entity budgets required)? YES/NO"]
["Entity 1","(Pty) Ltd Example 1 - Municipal entity - ",null,"Ent1"]
["Entity 2","(Pty) Ltd Example 2 - Municipal entity - ",null,"Ent2"]
["Entity 3","Municipal Entity Example 3",null,"Ent3"]
["Budget approval tables",null,"Chart x-ref","Sch/Tab/Ch","Alternative for municipalities without entities","Alternative for municipalities without entities"]
[null,{"$f":"IF(Consolques=\"YES\",E100,F100)","v":"Table A1 Budget Summary"},null,"Table A1 ",{"$f":"D100&\"Consolidated Budget Summary\"","v":"Table A1 Consolidated Budget Summary"},{"$f":"D100&\"Budget Summary\"","v":"Table A1 Budget Summary"}]
[null,"Table A2 Budgeted Financial Performance (revenue and expenditure by functional classification)","Charts 5, 6","Table A2 ",{"$f":"D101&\"Consolidated Budgeted Financial Performance (revenue and expenditure by functional classification)\"","v":"Table A2 Consolidated Budgeted Financial Performance (revenue and expenditure by functional classification)"},{"$f":"D101&\"Budgeted Financial Performance (revenue and expenditure by functional classification)\"","v":"Table A2 Budgeted Financial Performance (revenue and expenditure by functional classification)"}]
[null,"Table A3 Budgeted Financial Performance (revenue and expenditure by municipal vote)",null,"Table A3 ",{"$f":"D102&\"Consolidated Budgeted Financial Performance (revenue and expenditure by municipal vote)\"","v":"Table A3 Consolidated Budgeted Financial Performance (revenue and expenditure by municipal vote)"},{"$f":"D102&\"Budgeted Financial Performance (revenue and expenditure by municipal vote)\"","v":"Table A3 Budgeted Financial Performance (revenue and expenditure by municipal vote)"}]
[null,"Table A4 Budgeted Financial Performance (revenue and expenditure)","Charts 1, 2, 3, 4","Table A4 ",{"$f":"D103&\"Consolidated Budgeted Financial Performance (revenue and expenditure)\"","v":"Table A4 Consolidated Budgeted Financial Performance (revenue and expenditure)"},{"$f":"D103&\"Budgeted Financial Performance (revenue and expenditure)\"","v":"Table A4 Budgeted Financial Performance (revenue and expenditure)"}]
[null,"Table A5 Budgeted Capital Expenditure by vote, functional classification and funding","Charts 7, 8, 9, 10, 20","Table A5 ",{"$f":"D104&\"Consolidated Budgeted Capital Expenditure by vote, functional classification and funding\"","v":"Table A5 Consolidated Budgeted Capital Expenditure by vote, functional classification and funding"},{"$f":"D104&\"Budgeted Capital Expenditure by vote, functional classification and funding\"","v":"Table A5 Budgeted Capital Expenditure by vote, functional classification and funding"}]
[null,"Table A6 Budgeted Financial Position",null,"Table A6 ",{"$f":"D105&\"Consolidated Budgeted Financial Position\"","v":"Table A6 Consolidated Budgeted Financial Position"},{"$f":"D105&\"Budgeted Financial Position\"","v":"Table A6 Budgeted Financial Position"}]
[null,"Table A7 Budgeted Cash Flows",null,"Table A7 ",{"$f":"D106&\"Consolidated Budgeted Cash Flows\"","v":"Table A7 Consolidated Budgeted Cash Flows"},{"$f":"D106&\"Budgeted Cash Flows\"","v":"Table A7 Budgeted Cash Flows"}]
[null,"Table A8 Cash backed reserves/accumulated surplus reconciliation",null,"Table A8 ",{"$f":"D107&\"Consolidated Cash backed reserves/accumulated surplus reconciliation\"","v":"Table A8 Consolidated Cash backed reserves/accumulated surplus reconciliation"},{"$f":"D107&\"Cash backed reserves/accumulated surplus reconciliation\"","v":"Table A8 Cash backed reserves/accumulated surplus reconciliation"}]
[null,"Table A9 Asset Management",null,"Table A9 ",{"$f":"D108&\"Consolidated Asset Management\"","v":"Table A9 Consolidated Asset Management"},{"$f":"D108&\"Asset Management\"","v":"Table A9 Asset Management"}]
[null,"Table A10 Basic service delivery measurement",null,"Table A10 ",{"$f":"D109&\"Consolidated basic service delivery measurement\"","v":"Table A10 Consolidated basic service delivery measurement"},{"$f":"D109&\"Basic service delivery measurement\"","v":"Table A10 Basic service delivery measurement"}]
["Supportinging Tables to the Budget Approval Tables",null,{"$f":"$C$99","v":"Chart x-ref"},{"$f":"$D$99","v":"Sch/Tab/Ch"}]
["Supporting Table SA1",{"$f":"A111&\" Supportinging detail to 'Budgeted Financial Performance'\"","v":"Supporting Table SA1 Supportinging detail to 'Budgeted Financial Performance'"}]
["Supporting Table SA2 ",{"$f":"IF(Consolques=\"YES\",E112,F112)","v":"Supporting Table SA2 Matrix Financial Performance Budget (revenue source/expenditure type and dept.)"},null,null,{"$f":"A112&\"Consolidated Matrix Financial Performance Budget (revenue source/expenditure type & dept.)\"","v":"Supporting Table SA2 Consolidated Matrix Financial Performance Budget (revenue source/expenditure type & dept.)"},{"$f":"A112&\"Matrix Financial Performance Budget (revenue source/expenditure type and dept.)\"","v":"Supporting Table SA2 Matrix Financial Performance Budget (revenue source/expenditure type and dept.)"}]
["Supporting Table SA3 ",{"$f":"A113&\"Supportinging detail to 'Budgeted Financial Position'\"","v":"Supporting Table SA3 Supportinging detail to 'Budgeted Financial Position'"}]
["Supporting Table SA4 ",{"$f":"A114&\"Reconciliation of IDP strategic objectives and budget (revenue)\"","v":"Supporting Table SA4 Reconciliation of IDP strategic objectives and budget (revenue)"},"Chart 11"]
["Supporting Table SA5 ",{"$f":"A115&\"Reconciliation of IDP strategic objectives and budget (operating expenditure)\"","v":"Supporting Table SA5 Reconciliation of IDP strategic objectives and budget (operating expenditure)"},"Chart 12"]
["Supporting Table SA6 ",{"$f":"A116&\"Reconciliation of IDP strategic objectives and budget (capital expenditure)\"","v":"Supporting Table SA6 Reconciliation of IDP strategic objectives and budget (capital expenditure)"},"Chart 13"]
["Supporting Table SA7",{"$f":"A117&\" Measureable performance objectives\"","v":"Supporting Table SA7 Measureable performance objectives"}]
["Supporting Table SA8",{"$f":"A118&\" Performance indicators and benchmarks\"","v":"Supporting Table SA8 Performance indicators and benchmarks"},"Chts 15-19"]
["Supporting Table SA9",{"$f":"A119&\" Social, economic and demographic statistics and assumptions\"","v":"Supporting Table SA9 Social, economic and demographic statistics and assumptions"}]
["Supporting Table SA10",{"$f":"A120&\" Funding measurement\"","v":"Supporting Table SA10 Funding measurement"},"Chart 14"]
["Supporting Table SA11",{"$f":"A121&\" Property rates summary\"","v":"Supporting Table SA11 Property rates summary"}]
["Supporting Table SA12a",{"$f":"A122&\" Property rates by category (current year)\"","v":"Supporting Table SA12a Property rates by category (current year)"}]
["Supporting Table SA12b",{"$f":"A123&\" Property rates by category (budget year)\"","v":"Supporting Table SA12b Property rates by category (budget year)"}]
["Supporting Table SA13a",{"$f":"A124&\" Service Tariffs by category\"","v":"Supporting Table SA13a Service Tariffs by category"}]
["Supporting Table SA13b",{"$f":"A125&\" Service Tariffs by category - explanatory\"","v":"Supporting Table SA13b Service Tariffs by category - explanatory"}]
["Supporting Table SA14",{"$f":"A126&\" Household bills\"","v":"Supporting Table SA14 Household bills"}]
["Supporting Table SA15",{"$f":"A127&\" Investment particulars by type\"","v":"Supporting Table SA15 Investment particulars by type"}]
["Supporting Table SA16",{"$f":"A128&\" Investment particulars by maturity\"","v":"Supporting Table SA16 Investment particulars by maturity"}]
["Supporting Table SA17",{"$f":"A129&\" Borrowing\"","v":"Supporting Table SA17 Borrowing"}]
["Supporting Table SA18",{"$f":"A130&\" Transfers and grant receipts\"","v":"Supporting Table SA18 Transfers and grant receipts"}]
["Supporting Table SA19",{"$f":"A131&\" Expenditure on transfers and grant programme\"","v":"Supporting Table SA19 Expenditure on transfers and grant programme"}]
["Supporting Table SA20",{"$f":"A132&\" Reconciliation of transfers, grant receipts and unspent funds\"","v":"Supporting Table SA20 Reconciliation of transfers, grant receipts and unspent funds"}]
["Supporting Table SA21",{"$f":"A133&\" Transfers and grants made by the municipality\"","v":"Supporting Table SA21 Transfers and grants made by the municipality"}]
["Supporting Table SA22",{"$f":"A134&\" Summary councillor and staff benefits\"","v":"Supporting Table SA22 Summary councillor and staff benefits"}]
["Supporting Table SA23",{"$f":"A135&\" Salaries, allowances & benefits (political office bearers/councillors/senior managers)\"","v":"Supporting Table SA23 Salaries, allowances & benefits (political office bearers/councillors/senior managers)"}]
["Supporting Table SA24",{"$f":"A136&\" Summary of personnel numbers\"","v":"Supporting Table SA24 Summary of personnel numbers"}]
["Supporting Table SA25",{"$f":"IF(Consolques=\"YES\",E137,F137)","v":"Supporting Table SA25 Budgeted monthly revenue and expenditure"},null,null,{"$f":"A137&\" Consolidated budgeted monthly revenue and expenditure\"","v":"Supporting Table SA25 Consolidated budgeted monthly revenue and expenditure"},{"$f":"A137&\" Budgeted monthly revenue and expenditure\"","v":"Supporting Table SA25 Budgeted monthly revenue and expenditure"}]
["Supporting Table SA26","Supporting Table SA26 Budgeted monthly revenue and expenditure (municipal vote)",null,null,{"$f":"A138&\" Consolidated budgeted monthly revenue and expenditure (municipal vote)\"","v":"Supporting Table SA26 Consolidated budgeted monthly revenue and expenditure (municipal vote)"},{"$f":"A138&\" Budgeted monthly revenue and expenditure (municipal vote)\"","v":"Supporting Table SA26 Budgeted monthly revenue and expenditure (municipal vote)"}]
["Supporting Table SA27","Supporting Table SA27 Budgeted monthly revenue and expenditure (functional classification)",null,null,{"$f":"A139&\" Consolidated budgeted monthly revenue and expenditure (functional classification)\"","v":"Supporting Table SA27 Consolidated budgeted monthly revenue and expenditure (functional classification)"},{"$f":"A139&\" Budgeted monthly revenue and expenditure (functional classification)\"","v":"Supporting Table SA27 Budgeted monthly revenue and expenditure (functional classification)"}]
["Supporting Table SA28","Supporting Table SA28 Budgeted monthly capital expenditure (municipal vote)",null,null,{"$f":"A140&\" Consolidated budgeted monthly capital expenditure (municipal vote)\"","v":"Supporting Table SA28 Consolidated budgeted monthly capital expenditure (municipal vote)"},{"$f":"A140&\" Budgeted monthly capital expenditure (municipal vote)\"","v":"Supporting Table SA28 Budgeted monthly capital expenditure (municipal vote)"}]
["Supporting Table SA29","Supporting Table SA29 Budgeted monthly capital expenditure (functional classification)",null,null,{"$f":"A141&\" Consolidated budgeted monthly capital expenditure (functional classification)\"","v":"Supporting Table SA29 Consolidated budgeted monthly capital expenditure (functional classification)"},{"$f":"A141&\" Budgeted monthly capital expenditure (functional classification)\"","v":"Supporting Table SA29 Budgeted monthly capital expenditure (functional classification)"}]
["Supporting Table SA30","Supporting Table SA30 Budgeted monthly cash flow",null,null,{"$f":"A142&\" Consolidated budgeted monthly cash flow\"","v":"Supporting Table SA30 Consolidated budgeted monthly cash flow"},{"$f":"A142&\" Budgeted monthly cash flow\"","v":"Supporting Table SA30 Budgeted monthly cash flow"}]
["Supporting Table SA31","NOT REQUIRED - municipality does not have entities",null,null,{"$f":"A143&\" Aggregated entity budget\"","v":"Supporting Table SA31 Aggregated entity budget"},"NOT REQUIRED - municipality does not have entities"]
["Supporting Table SA32",{"$f":"A144&\" List of external mechanisms\"","v":"Supporting Table SA32 List of external mechanisms"}]
["Supporting Table SA33",{"$f":"A145&\" Contracts having future budgetary implications\"","v":"Supporting Table SA33 Contracts having future budgetary implications"}]
["Supporting Table SA34a",{"$f":"IF(Consolques=\"YES\",E146,F146)","v":"Supporting Table SA34a Capital expenditure on new assets by asset class"},null,null,{"$f":"A146&\" Consolidated capital expenditure on new assets by asset class\"","v":"Supporting Table SA34a Consolidated capital expenditure on new assets by asset class"},{"$f":"A146&\" Capital expenditure on new assets by asset class\"","v":"Supporting Table SA34a Capital expenditure on new assets by asset class"}]
["Supporting Table SA34b","Supporting Table SA34b Capital expenditure on the renewal of existing assets by asset class",null,null,{"$f":"A147&\" Consolidated capital expenditure on the renewal of existing assets by asset class\"","v":"Supporting Table SA34b Consolidated capital expenditure on the renewal of existing assets by asset class"},{"$f":"A147&\" Capital expenditure on the renewal of existing assets by asset class\"","v":"Supporting Table SA34b Capital expenditure on the renewal of existing assets by asset class"}]
["Supporting Table SA34c","Supporting Table SA34c Repairs and maintenance expenditure by asset class",null,null,{"$f":"A148&\" Consolidated repairs and maintenance by asset class\"","v":"Supporting Table SA34c Consolidated repairs and maintenance by asset class"},{"$f":"A148&\" Repairs and maintenance expenditure by asset class\"","v":"Supporting Table SA34c Repairs and maintenance expenditure by asset class"}]
["Supporting Table SA34d",{"$f":"IF(Consolques=\"YES\",E149,F149)","v":"Supporting Table SA34d Depreciation by asset class"},null,null,{"$f":"A149&\" Consolidated Depreciation by asset class\"","v":"Supporting Table SA34d Consolidated Depreciation by asset class"},{"$f":"A149&\" Depreciation by asset class\"","v":"Supporting Table SA34d Depreciation by asset class"}]
["Supporting Table SA34e",{"$f":"IF(Consolques=\"YES\",E150,F150)","v":"Supporting Table SA34e Capital expenditure on the upgrading of existing assets by asset class"},null,null,{"$f":"A150&\" Consolidated capital expenditure on the upgrading of existing assets by asset class\"","v":"Supporting Table SA34e Consolidated capital expenditure on the upgrading of existing assets by asset class"},{"$f":"A150&\" Capital expenditure on the upgrading of existing assets by asset class\"","v":"Supporting Table SA34e Capital expenditure on the upgrading of existing assets by asset class"}]
["Supporting Table SA35","Supporting Table SA35 Future financial implications of the capital budget",null,null,{"$f":"A151&\" Consolidated future financial implications of the capital budget\"","v":"Supporting Table SA35 Consolidated future financial implications of the capital budget"},{"$f":"A151& \" Future financial implications of the capital budget\"","v":"Supporting Table SA35 Future financial implications of the capital budget"}]
["Supporting Table SA36","Supporting Table SA36 Detailed capital budget",null,null,{"$f":"A152&\" Consolidated detailed capital budget\"","v":"Supporting Table SA36 Consolidated detailed capital budget"},{"$f":"A152& \" Detailed capital budget\"","v":"Supporting Table SA36 Detailed capital budget"}]
["Supporting Table SA37","Supporting Table SA37 Projects delayed from previous financial year/s",null,null,{"$f":"A153&\" Consolidated projects delayed from previous financial year/s\"","v":"Supporting Table SA37 Consolidated projects delayed from previous financial year/s"},{"$f":"A153& \" Projects delayed from previous financial year/s\"","v":"Supporting Table SA37 Projects delayed from previous financial year/s"}]
["Supporting Table SA38",{"$f":"IF(Consolques=\"YES\",E154,F154)","v":"Supporting Table SA38 Detailed operational projects"},null,null,{"$f":"A154&\" Consolidated detailed operational projects\"","v":"Supporting Table SA38 Consolidated detailed operational projects"},{"$f":"A154& \" Detailed operational projects\"","v":"Supporting Table SA38 Detailed operational projects"}]
[]
["Budget Charts","Charts","Cross reference"]
["Chart A1 ",{"$f":"A157&\"Revenue by Municipal Vote\"","v":"Chart A1 Revenue by Municipal Vote"}]
["Chart A2 ",{"$f":"A158&\"Expenditure by Municipal Vote\"","v":"Chart A2 Expenditure by Municipal Vote"}]
["Chart A3 ",{"$f":"A159&\"Revenue by Standard Classification\"","v":"Chart A3 Revenue by Standard Classification"},"A2"]
["Chart A4 ",{"$f":"A160&\"Expenditure by Standard Classification\"","v":"Chart A4 Expenditure by Standard Classification"},"A2"]
["Chart A5 ",{"$f":"A161&\"Revenue by Major Source (refer 'Minor' source for 'Other Revenue' allocation\"","v":"Chart A5 Revenue by Major Source (refer 'Minor' source for 'Other Revenue' allocation"},"A3"]
["Chart A6 ",{"$f":"A162&\"Revenue by Minor Source (Other)\"","v":"Chart A6 Revenue by Minor Source (Other)"},"A3"]
["Chart A7 ",{"$f":"A163&\"Expenditure by Major Type\"","v":"Chart A7 Expenditure by Major Type"},"A3"]
["Chart A8 ",{"$f":"A164&\"Expenditure by Minor Type (Other)\"","v":"Chart A8 Expenditure by Minor Type (Other)"},"A3"]
["Chart A9 ",{"$f":"A165&\"Capital Expenditure by Municipal Vote/Appropriation (Major)\"","v":"Chart A9 Capital Expenditure by Municipal Vote/Appropriation (Major)"},"A5"]
["Chart A10 ",{"$f":"A166&\"Capital Expenditure by Municipal Vote/Appropriation (Minor)\"","v":"Chart A10 Capital Expenditure by Municipal Vote/Appropriation (Minor)"},"A5"]
["Chart A11 ",{"$f":"A166&\"Capital Expenditure by Standard Classification\"","v":"Chart A10 Capital Expenditure by Standard Classification"},"A5"]
["Chart A12 ",{"$f":"A168&\"Capital expenditure performance trend\"","v":"Chart A12 Capital expenditure performance trend"},"A5"]
["Chart A13 ",{"$f":"A169&\"Capital funding by Source\"","v":"Chart A13 Capital funding by Source"},"A5"]
["Chart A14 ",{"$f":"A170&\"Cash flow trend\"","v":"Chart A14 Cash flow trend"},"A7"]
["Chart A15 ",{"$f":"A171&\"IDP Strategic Objective - Revenue\"","v":"Chart A15 IDP Strategic Objective - Revenue"},"Table A4"]
["Chart A16 ",{"$f":"A172&\"IDP Strategic Objective - Expenditure\"","v":"Chart A16 IDP Strategic Objective - Expenditure"},"Table A5"]
["Chart A17 ",{"$f":"A173&\"IDP Strategic Objective - Capital Expenditure\"","v":"Chart A17 IDP Strategic Objective - Capital Expenditure"},"Table A6"]
["Chart A18 ",{"$f":"A174&\"Debt (borrowing to Total Revenue)\"","v":"Chart A18 Debt (borrowing to Total Revenue)"},"Table A8"]
["Chart A19 ",{"$f":"A175&\"Debtors' trend analysis\"","v":"Chart A19 Debtors' trend analysis"},"Table A8"]
["Chart A20 ",{"$f":"A176&\"Distribution losses\"","v":"Chart A20 Distribution losses"},"Table A8"]
["Chart A21 ",{"$f":"A177&\"Borrowed funding of capital expenditure\"","v":"Chart A21 Borrowed funding of capital expenditure"},"Table A8"]
["Chart A22 ",{"$f":"A178&\"Expenditure analysis (% of Revenue)\"","v":"Chart A22 Expenditure analysis (% of Revenue)"},"Table A8"]
["Chart A23 ",{"$f":"A179&\"Increases in service charges\"","v":"Chart A23 Increases in service charges"},"Table A10"]

{"sheet":"Lookup and lists","index":3,"n_rows":308,"n_cols":30,"rows_kept":308,"cut":false,"hidden":false,"merged":[]}
["Description",2013,2014,2015,2016,2017,2018,2019,2020,2021,2022,2023,2024,2025,2026,null,"Lists",null,null,null,null,null,null,null,"Grants:","National - opex","Provincial - opex","National - capex","Provincial - capex"]
[{"$f":"'Template names'!C2","v":"Prior year -1"},{"$f":"B1-2&\"/\"&RIGHT(B1,2)-1","v":"2011/12"},"2012/13","2013/14","2014/15","2015/16","2016/17","2017/18","2018/19",{"$f":"J1-2&\"/\"&RIGHT(J1,2)-1","v":"2019/20"},"2020/21","2021/22","2022/23","2023/24","2024/25",null,"Yes","<1","<4","Market","Land & impr.","Yes","Uniform","Yrs",null,"Local Government Equitable Share","Health subsidy"," Municipal Infrastructure Grant (MIG)","Agriculture"]
[{"$f":"'Template names'!C3","v":"Prior year -2"},{"$f":"B1-3&\"/\"&RIGHT(B1,2)-2","v":"2010/11"},"2011/12","2012/13","2013/14","2014/15","2015/16","2016/17","2017/18",{"$f":"J1-3&\"/\"&RIGHT(J1,2)-2","v":"2018/19"},"2019/20","2020/21","2021/22","2022/23","2023/24",null,"No",1,4,"Dep.Replace","Land only","No","Variable","Mths",null,"RSC Levy Replacement ","Ambulance subsidy"," Public Transport and Systems","Education"]
[{"$f":"'Template names'!C4","v":"Prior year -3"},{"$f":"B1-4&\"/\"&RIGHT(B1,2)-3","v":"2009/10"},"2010/11","2011/12","2012/13","2013/14","2014/15","2015/16","2016/17",{"$f":"J1-4&\"/\"&RIGHT(J1,2)-3","v":"2017/18"},"2018/19","2019/20","2020/21","2021/22","2022/23",null,null,2,5,"Other","Other",null,null,null,null,"Finance Management ","Housing","Rural Transport Services and Infrastructure","Health"]
[{"$f":"'Template names'!C5","v":"Year in which budget is being prepared"},{"$f":"\"Current Year \"& B1-1&\"/\"&RIGHT(B1,2)","v":"Current Year 2012/13"},"Current Year 2013/14","Current Year 2014/15","Current Year 2015/16","Current Year 2016/17","Current Year 2017/18","Current Year 2018/19","Current Year 2019/20",{"$f":"\"Current Year \"& J1-1&\"/\"&RIGHT(J1,2)","v":"Current Year 2020/21"},"Current Year 2021/22","Current Year 2022/23","Current Year 2023/24","Current Year 2024/25","Current Year 2025/26",null,null,3,6,null,null,null,null,null,null,"Municipal Systems Improvement","Sport and Recreation","Regional Bulk Infrastructure","Housing and Local Government "]
[{"$f":"'Template names'!C6","v":"Year in which budget is being prepared"},{"$f":"B1-1&\"/\"&RIGHT(B1,2)","v":"2012/13"},"2013/14","2014/15","2015/16","2016/17","2017/18","2018/19","2019/20",{"$f":"J1-1&\"/\"&RIGHT(J1,2)","v":"2020/21"},"2021/22","2022/23","2023/24","2024/25","2025/26",null,null,4,"6-10",null,null,null,null,null,null,"Water Services Operating Subsidy ",null,"Rural Households Infrastructure ","Other Departments"]
[{"$f":"'Template names'!C7","v":"MTREF name"},{"$f":"B1&\"/\"&RIGHT(B1,2)+1&\" Medium Term Revenue & Expenditure Framework\"","v":"2013/14 Medium Term Revenue & Expenditure Framework"},"2014/15 Medium Term Revenue & Expenditure Framework","2015/16 Medium Term Revenue & Expenditure Framework","2016/17 Medium Term Revenue & Expenditure Framework","2017/18 Medium Term Revenue & Expenditure Framework","2018/19 Medium Term Revenue & Expenditure Framework","2019/20 Medium Term Revenue & Expenditure Framework","2020/21 Medium Term Revenue & Expenditure Framework",{"$f":"J1&\"/\"&RIGHT(J1,2)+1&\" Medium Term Revenue & Expenditure Framework\"","v":"2021/22 Medium Term Revenue & Expenditure Framework"},"2022/23 Medium Term Revenue & Expenditure Framework","2023/24 Medium Term Revenue & Expenditure Framework","2024/25 Medium Term Revenue & Expenditure Framework","2025/26 Medium Term Revenue & Expenditure Framework","2026/27 Medium Term Revenue & Expenditure Framework",null,null,5,">10",null,null,null,null,null,null,"Energy Efficiency  and Demand Management",null,"Neighbourhood Development Partnership","Public Works, Roads, Transport "]
[{"$f":"'Template names'!C15","v":"1st year of MTREF"},{"$f":"\"Budget Year \"&B1&\"/\"&RIGHT(B1,2)+1","v":"Budget Year 2013/14"},"Budget Year 2014/15","Budget Year 2015/16","Budget Year 2016/17","Budget Year 2017/18","Budget Year 2018/19","Budget Year 2019/20","Budget Year 2020/21",{"$f":"\"Budget Year \"&J1&\"/\"&RIGHT(J1,2)+1","v":"Budget Year 2021/22"},"Budget Year 2022/23","Budget Year 2023/24","Budget Year 2024/25","Budget Year 2025/26","Budget Year 2026/27",null,null,">5",null,null,null,null,null,null,null,"Integrated National Electrification Programme",null,"2010 FIFA World Cup Stadiums Development","Sport and Recreation"]
[{"$f":"'Template names'!C16","v":"2nd year of MTREF"},{"$f":"\"Budget Year +1 \"&B1+1&\"/\"&RIGHT(B1,2)+2","v":"Budget Year +1 2014/15"},"Budget Year +1 2015/16","Budget Year +1 2016/17","Budget Year +1 2017/18","Budget Year +1 2018/19","Budget Year +1 2019/20","Budget Year +1 2020/21","Budget Year +1 2021/22",{"$f":"\"Budget Year +1 \"&J1+1&\"/\"&RIGHT(J1,2)+2","v":"Budget Year +1 2022/23"},"Budget Year +1 2023/24","Budget Year +1 2024/25","Budget Year +1 2025/26","Budget Year +1 2026/27","Budget Year +1 2027/28",null,null,null,null,null,null,null,null,null,null,"Municipal Drought Relief "]
[{"$f":"'Template names'!C17","v":"3rd year of MTREF"},{"$f":"\"Budget Year +2 \"&B1+2&\"/\"&RIGHT(B1,2)+3","v":"Budget Year +2 2015/16"},"Budget Year +2 2016/17","Budget Year +2 2017/18","Budget Year +2 2018/19","Budget Year +2 2019/20","Budget Year +2 2020/21","Budget Year +2 2021/22","Budget Year +2 2022/23",{"$f":"\"Budget Year +2 \"&J1+2&\"/\"&RIGHT(J1,2)+3","v":"Budget Year +2 2023/24"},"Budget Year +2 2024/25","Budget Year +2 2025/26","Budget Year +2 2026/27","Budget Year +2 2027/28","Budget Year +2 2028/29",null,null,null,null,null,null,null,null,null,null,"2010 FIFA World Cup Operating"]
[{"$f":"'Template names'!C18","v":"1st yr of long term forecast"},{"$f":"\"Forecast \"&B1+3&\"/\"&RIGHT(B1,2)+4","v":"Forecast 2016/17"},"Forecast 2017/18","Forecast 2018/19","Forecast 2019/20","Forecast 2020/21","Forecast 2021/22","Forecast 2022/23","Forecast 2023/24",{"$f":"\"Forecast \"&J1+3&\"/\"&RIGHT(J1,2)+4","v":"Forecast 2024/25"},"Forecast 2025/26","Forecast 2026/27","Forecast 2027/28","Forecast 2028/29","Forecast 2029/30",null,null,null,null,null,null,null,null,null,null,"Electricity Demand Side Management"]
[{"$f":"'Template names'!C19","v":"Next yr of long term forecast"},{"$f":"\"Forecast \"&B1+4&\"/\"&RIGHT(B1,2)+5","v":"Forecast 2017/18"},"Forecast 2018/19","Forecast 2019/20","Forecast 2020/21","Forecast 2021/22","Forecast 2022/23","Forecast 2023/24","Forecast 2024/25",{"$f":"\"Forecast \"&J1+4&\"/\"&RIGHT(J1,2)+5","v":"Forecast 2025/26"},"Forecast 2026/27","Forecast 2027/28","Forecast 2028/29","Forecast 2029/30","Forecast 2030/31",null,null,null,null,null,null,null,null,null,null,"EPWP Incentive"]
[{"$f":"'Template names'!C20","v":"Next yr of long term forecast"},{"$f":"\"Forecast \"&B1+5&\"/\"&RIGHT(B1,2)+6","v":"Forecast 2018/19"},"Forecast 2019/20","Forecast 2020/21","Forecast 2021/22","Forecast 2022/23","Forecast 2023/24","Forecast 2024/25","Forecast 2025/26",{"$f":"\"Forecast \"&J1+5&\"/\"&RIGHT(J1,2)+6","v":"Forecast 2026/27"},"Forecast 2027/28","Forecast 2028/29","Forecast 2029/30","Forecast 2030/31","Forecast 2031/32"]
[{"$f":"'Template names'!C21","v":"Next yr of long term forecast"},{"$f":"\"Forecast \"&B1+6&\"/\"&RIGHT(B1,2)+7","v":"Forecast 2019/20"},"Forecast 2020/21","Forecast 2021/22","Forecast 2022/23","Forecast 2023/24","Forecast 2024/25","Forecast 2025/26","Forecast 2026/27",{"$f":"\"Forecast \"&J1+6&\"/\"&RIGHT(J1,2)+7","v":"Forecast 2027/28"},"Forecast 2028/29","Forecast 2029/30","Forecast 2030/31","Forecast 2031/32","Forecast 2032/33",null,null,null,null,null,null,null,null,null,null,"Asset Class","Asset sub-class old","Asset sub-class","IUDF","MTSF"]
[{"$f":"'Template names'!C22","v":"Next yr of long term forecast"},{"$f":"\"Forecast \"&B1+7&\"/\"&RIGHT(B1,2)+8","v":"Forecast 2020/21"},"Forecast 2021/22","Forecast 2022/23","Forecast 2023/24","Forecast 2024/25","Forecast 2025/26","Forecast 2026/27","Forecast 2027/28",{"$f":"\"Forecast \"&J1+7&\"/\"&RIGHT(J1,2)+8","v":"Forecast 2028/29"},"Forecast 2029/30","Forecast 2030/31","Forecast 2031/32","Forecast 2032/33","Forecast 2033/34"]
[{"$f":"'Template names'!C23","v":"Next yr of long term forecast"},{"$f":"\"Forecast \"&B1+8&\"/\"&RIGHT(B1,2)+9","v":"Forecast 2021/22"},"Forecast 2022/23","Forecast 2023/24","Forecast 2024/25","Forecast 2025/26","Forecast 2026/27","Forecast 2027/28","Forecast 2028/29",{"$f":"\"Forecast \"&J1+8&\"/\"&RIGHT(J1,2)+9","v":"Forecast 2029/30"},"Forecast 2030/31","Forecast 2031/32","Forecast 2032/33","Forecast 2033/34","Forecast 2034/35",null,null,null,null,null,null,null,null,null,null,"Roads Infrastructure","Roads, Pavements & Bridges","Roads","Spatial integration","Quality basic education"]
[{"$f":"'Template names'!C24","v":"Next yr of long term forecast"},{"$f":"\"Forecast \"&B1+9&\"/\"&RIGHT(B1,2)+10","v":"Forecast 2022/23"},"Forecast 2023/24","Forecast 2024/25","Forecast 2025/26","Forecast 2026/27","Forecast 2027/28","Forecast 2028/29","Forecast 2029/30",{"$f":"\"Forecast \"&J1+9&\"/\"&RIGHT(J1,2)+10","v":"Forecast 2030/31"},"Forecast 2031/32","Forecast 2032/33","Forecast 2033/34","Forecast 2034/35","Forecast 2035/36",null,null,null,null,null,null,null,null,null,null,"Storm water Infrastructure","Storm water","Road Structures","Inclusion and access","A long and healthy life for all South Africans"]
[{"$f":"'Template names'!C25","v":"Next yr of long term forecast"},{"$f":"\"Forecast \"&B1+10&\"/\"&RIGHT(B1,2)+11","v":"Forecast 2023/24"},"Forecast 2024/25","Forecast 2025/26","Forecast 2026/27","Forecast 2027/28","Forecast 2028/29","Forecast 2029/30","Forecast 2030/31",{"$f":"\"Forecast \"&J1+10&\"/\"&RIGHT(J1,2)+11","v":"Forecast 2031/32"},"Forecast 2032/33","Forecast 2033/34","Forecast 2034/35","Forecast 2035/36","Forecast 2036/37",null,null,null,null,null,null,null,null,null,null,"Electrical Infrastructure","Generation","Road Furniture","Growth","All people in South Africa are and feel safe"]
[{"$f":"'Template names'!C26","v":"Next yr of long term forecast"},{"$f":"\"Forecast \"&B1+11&\"/\"&RIGHT(B1,2)+12","v":"Forecast 2024/25"},"Forecast 2025/26","Forecast 2026/27","Forecast 2027/28","Forecast 2028/29","Forecast 2029/30","Forecast 2030/31","Forecast 2031/32",{"$f":"\"Forecast \"&J1+11&\"/\"&RIGHT(J1,2)+12","v":"Forecast 2032/33"},"Forecast 2033/34","Forecast 2034/35","Forecast 2035/36","Forecast 2036/37","Forecast 2037/38",null,null,null,null,null,null,null,null,null,null,"Water Supply Infrastructure","Transmission & Reticulation","Capital Spares","Governance","Decent employment through inclusive growth"]
[{"$f":"'Template names'!C27","v":"Next yr of long term forecast"},{"$f":"\"Forecast \"&B1+12&\"/\"&RIGHT(B1,2)+13","v":"Forecast 2025/26"},"Forecast 2026/27","Forecast 2027/28","Forecast 2028/29","Forecast 2029/30","Forecast 2030/31","Forecast 2031/32","Forecast 2032/33",{"$f":"\"Forecast \"&J1+12&\"/\"&RIGHT(J1,2)+13","v":"Forecast 2033/34"},"Forecast 2034/35","Forecast 2035/36","Forecast 2036/37","Forecast 2037/38","Forecast 2038/39",null,null,null,null,null,null,null,null,null,null,"Sanitation Infrastructure","Street Lighting","Drainage Collection",null,"A skilled and capable workforce to support an inclusive growth path"]
[{"$f":"'Template names'!C28","v":"Next yr of long term forecast"},{"$f":"\"Forecast \"&B1+13&\"/\"&RIGHT(B1,2)+14","v":"Forecast 2026/27"},"Forecast 2027/28","Forecast 2028/29","Forecast 2029/30","Forecast 2030/31","Forecast 2031/32","Forecast 2032/33","Forecast 2033/34",{"$f":"\"Forecast \"&J1+13&\"/\"&RIGHT(J1,2)+14","v":"Forecast 2034/35"},"Forecast 2035/36","Forecast 2036/37","Forecast 2037/38","Forecast 2038/39","Forecast 2039/40",null,null,null,null,null,null,null,null,null,null,"Solid Waste Infrastructure","Dams & Reservoirs","Storm water Conveyance",null,"An efficient, competitive and responsive economic infrastructure network"]
[{"$f":"'Template names'!C29","v":"Next yr of long term forecast"},{"$f":"\"Forecast \"&B1+14&\"/\"&RIGHT(B1,2)+15","v":"Forecast 2027/28"},"Forecast 2028/29","Forecast 2029/30","Forecast 2030/31","Forecast 2031/32","Forecast 2032/33","Forecast 2033/34","Forecast 2034/35",{"$f":"\"Forecast \"&J1+14&\"/\"&RIGHT(J1,2)+15","v":"Forecast 2035/36"},"Forecast 2036/37","Forecast 2037/38","Forecast 2038/39","Forecast 2039/40","Forecast 2040/41",null,null,null,null,null,null,null,null,null,null,"Rail Infrastructure","Water purification","Attenuation",null,"Vibrant, equitable, sustainable rural communities contributing towards food security for all"]
["Adjustments Budget",{"$f":"\"Annual target \" & B1&\"/\"&RIGHT(B1,2)+1","v":"Annual target 2013/14"},"Annual target 2014/15","Annual target 2015/16","Annual target 2016/17","Annual target 2017/18","Annual target 2018/19","Annual target 2019/20","Annual target 2020/21",{"$f":"\"Annual target \" & J1&\"/\"&RIGHT(J1,2)+1","v":"Annual target 2021/22"},"Annual target 2022/23","Annual target 2023/24","Annual target 2024/25","Annual target 2025/26","Annual target 2026/27",null,null,null,null,null,null,null,null,null,null,"Coastal Infrastructure","Reticulation","Power Plants",null,"Sustainable human settlements and improved quality of household life"]
[{"$f":"A23","v":"Adjustments Budget"},{"$f":"\"Revised target \"& B1&\"/\"&RIGHT(B1,2)+1","v":"Revised target 2013/14"},"Revised target 2014/15","Revised target 2015/16","Revised target 2016/17","Revised target 2017/18","Revised target 2018/19","Revised target 2019/20","Revised target 2020/21",{"$f":"\"Revised target \"& J1&\"/\"&RIGHT(J1,2)+1","v":"Revised target 2021/22"},"Revised target 2022/23","Revised target 2023/24","Revised target 2024/25","Revised target 2025/26","Revised target 2026/27",null,null,null,null,null,null,null,null,null,null,"Information and Communication Infrastructure","Sewerage purification","HV Substations",null,"Responsive, accountable, effective and efficient local government"]
["NOTE: This sheet should not be directly amended - select headings from sheet 'S'",null,null,null,null,null,null,null,null,null,null,null,null,null,null,null,null,null,null,null,null,null,null,null,null,"Community Facilities","Waste Management","HV Switching Station",null,"Protect and enhance our environmental assets and natural resources"]
[null,null,null,null,null,null,null,null,null,null,null,null,null,null,null,null,null,null,null,null,null,null,null,null,null,"Sport and Recreation Facilities","Transportation","HV Transmission Conductors",null,"Create a better South Africa and contribute to a better Africa and a better world"]
["Name link",1,null,null,null,null,null,null,null,null,null,null,null,null,null,null,null,null,null,null,null,null,null,null,null,"Heritage assets","Gas","MV Substations",null,"An efficient, effective and development-oriented public service"]
["Name of Muni",{"$f":"INDEX(B29:B307,B27,1)","v":"Choose name from list"},null,null,null,null,null,null,null,null,null,null,null,null,null,null,null,null,null,null,null,null,null,null,null,"Revenue Generating","Parks & gardens","MV Switching Stations",null,"A comprehensive, responsive and sustainable social protection system"]
[null,"Choose name from list","Set name on 'Instructions' sheet",null,null,null,null,null,null,null,null,null,null,null,null,null,null,null,null,null,null,null,null,null,null,"Non-revenue Generating","Sportsfields & stadia","MV Networks",null,"A diverse, socially cohesive society with a common national identity"]
[null,"BUF Buffalo City","EC EASTERN CAPE",null,null,null,null,null,null,null,null,null,null,null,null,null,null,null,null,null,null,null,null,null,null,"Operational Buildings","Swimming pools","LV Networks"]
[null,"NMA Nelson Mandela Bay","EC EASTERN CAPE",null,null,null,null,null,null,null,null,null,null,null,null,null,null,null,null,null,null,null,null,null,null,"Housing","Community halls","Capital Spares"]
[null,"EC101 Dr Beyers Naude","EC EASTERN CAPE",null,null,null,null,null,null,null,null,null,null,null,null,null,null,null,null,null,null,null,null,null,null,"Biological or Cultivated Assets","Libraries","Dams and Weirs"]
[null,"EC102 Blue Crane Route","EC EASTERN CAPE",null,null,null,null,null,null,null,null,null,null,null,null,null,null,null,null,null,null,null,null,null,null,"Servitudes","Recreational facilities","Boreholes"]
[null,"EC104 Makana","EC EASTERN CAPE",null,null,null,null,null,null,null,null,null,null,null,null,null,null,null,null,null,null,null,null,null,null,"Licences and Rights","Fire, safety & emergency","Reservoirs"]
[null,"EC105 Ndlambe","EC EASTERN CAPE",null,null,null,null,null,null,null,null,null,null,null,null,null,null,null,null,null,null,null,null,null,null,"Computer Equipment","Security and policing","Pump Stations"]
[null,"EC106 Sundays River Valley","EC EASTERN CAPE",null,null,null,null,null,null,null,null,null,null,null,null,null,null,null,null,null,null,null,null,null,null,"Furniture and Office Equipment","Buses","Water Treatment Works"]
[null,"EC108 Kouga","EC EASTERN CAPE",null,null,null,null,null,null,null,null,null,null,null,null,null,null,null,null,null,null,null,null,null,null,"Machinery and Equipment","Clinics","Bulk Mains"]
[null,"EC109 Kou-Kamma","EC EASTERN CAPE",null,null,null,null,null,null,null,null,null,null,null,null,null,null,null,null,null,null,null,null,null,null,"Transport Assets","Museums & Art Galleries","Distribution"]
[null,"DC10 Sarah Baartman","EC EASTERN CAPE",null,null,null,null,null,null,null,null,null,null,null,null,null,null,null,null,null,null,null,null,null,null,"Land","Cemeteries","Distribution Points"]
[null,"EC121 Mbhashe","EC EASTERN CAPE",null,null,null,null,null,null,null,null,null,null,null,null,null,null,null,null,null,null,null,null,null,null,"Zoo's, Marine and Non-biological Animals","Social rental housing","PRV Stations"]
[null,"EC122 Mnquma","EC EASTERN CAPE",null,null,null,null,null,null,null,null,null,null,null,null,null,null,null,null,null,null,null,null,null,null,null,"Buildings","Capital Spares"]
[null,"EC123 Great Kei","EC EASTERN CAPE",null,null,null,null,null,null,null,null,null,null,null,null,null,null,null,null,null,null,null,null,null,null,null,"Housing development","Pump Station"]
[null,"EC124 Amahlathi","EC EASTERN CAPE",null,null,null,null,null,null,null,null,null,null,null,null,null,null,null,null,null,null,null,null,null,null,null,"General vehicles","Reticulation"]
[null,"EC126 Ngqushwa","EC EASTERN CAPE",null,null,null,null,null,null,null,null,null,null,null,null,null,null,null,null,null,null,null,null,null,null,null,"Specialised vehicles - Refuse","Waste Water Treatment Works"]
[null,"EC129 Raymond Mhlaba","EC EASTERN CAPE",null,null,null,null,null,null,null,null,null,null,null,null,null,null,null,null,null,null,null,null,null,null,null,"Specialised vehicles - Fire","Outfall Sewers"]
[null,"DC12 Amathole","EC EASTERN CAPE",null,null,null,null,null,null,null,null,null,null,null,null,null,null,null,null,null,null,null,null,null,null,null,"Specialised vehicles - Conservancy","Toilet Facilities"]
[null,"EC131 Inxuba Yethemba","EC EASTERN CAPE",null,null,null,null,null,null,null,null,null,null,null,null,null,null,null,null,null,null,null,null,null,null,null,"Specialised vehicles - Ambulances","Capital Spares"]
[null,"EC135 Intsika Yethu","EC EASTERN CAPE",null,null,null,null,null,null,null,null,null,null,null,null,null,null,null,null,null,null,null,null,null,null,null,"Plant & equipment","Landfill Sites"]
[null,"EC136 Emalahleni (Ec)","EC EASTERN CAPE",null,null,null,null,null,null,null,null,null,null,null,null,null,null,null,null,null,null,null,null,null,null,null,"Computers - hardware/equipment","Waste Transfer Stations"]
[null,"EC137 Engcobo","EC EASTERN CAPE",null,null,null,null,null,null,null,null,null,null,null,null,null,null,null,null,null,null,null,null,null,null,null,"Furniture and other office equipment","Waste Processing Facilities"]
[null,"EC138 Sakhisizwe","EC EASTERN CAPE",null,null,null,null,null,null,null,null,null,null,null,null,null,null,null,null,null,null,null,null,null,null,null,"Abattoirs","Waste Drop-off Points"]
[null,"EC139 Enoch Mgijima","EC EASTERN CAPE",null,null,null,null,null,null,null,null,null,null,null,null,null,null,null,null,null,null,null,null,null,null,null,"Markets","Waste Separation Facilities"]
[null,"DC13 Chris Hani","EC EASTERN CAPE",null,null,null,null,null,null,null,null,null,null,null,null,null,null,null,null,null,null,null,null,null,null,null,"Civic Land and Buildings","Electricity Generation Facilities"]
[null,"EC141 Elundini","EC EASTERN CAPE",null,null,null,null,null,null,null,null,null,null,null,null,null,null,null,null,null,null,null,null,null,null,null,"Other Buildings","Capital Spares"]
[null,"EC142 Senqu","EC EASTERN CAPE",null,null,null,null,null,null,null,null,null,null,null,null,null,null,null,null,null,null,null,null,null,null,null,"Other Land","Rail Lines"]
[null,"EC145 Walter Sisulu","EC EASTERN CAPE",null,null,null,null,null,null,null,null,null,null,null,null,null,null,null,null,null,null,null,null,null,null,null,"Surplus Assets - (Investment or Inventory)","Rail Structures"]
[null,"DC14 Joe Gqabi","EC EASTERN CAPE",null,null,null,null,null,null,null,null,null,null,null,null,null,null,null,null,null,null,null,null,null,null,null,"Computers - software & programming","Rail Furniture"]
[null,"EC153 Ngquza Hills","EC EASTERN CAPE",null,null,null,null,null,null,null,null,null,null,null,null,null,null,null,null,null,null,null,null,null,null,null,"Other","Drainage Collection"]
[null,"EC154 Port St Johns","EC EASTERN CAPE",null,null,null,null,null,null,null,null,null,null,null,null,null,null,null,null,null,null,null,null,null,null,null,null,"Storm water Conveyance"]
[null,"EC155 Nyandeni","EC EASTERN CAPE",null,null,null,null,null,null,null,null,null,null,null,null,null,null,null,null,null,null,null,null,null,null,"SA16 - Investments",null,"Attenuation"]
[null,"EC156 Mhlontlo","EC EASTERN CAPE",null,null,null,null,null,null,null,null,null,null,null,null,null,null,null,null,null,null,null,null,null,null,"Security","Interest rate","MV Substations"]
[null,"EC157 King Sabata Dalindyebo","EC EASTERN CAPE",null,null,null,null,null,null,null,null,null,null,null,null,null,null,null,null,null,null,null,null,null,null,"Yes","Fixed","LV Networks"]
[null,"DC15 O .R. Tambo","EC EASTERN CAPE",null,null,null,null,null,null,null,null,null,null,null,null,null,null,null,null,null,null,null,null,null,null,"No","Variable","Capital Spares"]
[null,"EC441 Matatiele","EC EASTERN CAPE",null,null,null,null,null,null,null,null,null,null,null,null,null,null,null,null,null,null,null,null,null,null,null,null,"Sand Pumps"]
[null,"EC442 Umzimvubu","EC EASTERN CAPE",null,null,null,null,null,null,null,null,null,null,null,null,null,null,null,null,null,null,null,null,null,null,null,null,"Piers"]
[null,"EC443 Winnie Madikizela Mandela","EC EASTERN CAPE",null,null,null,null,null,null,null,null,null,null,null,null,null,null,null,null,null,null,null,null,null,null,"SA36, SA37 - Capital projects",null,"Revetments"]
[null,"EC444 Ntabankulu","EC EASTERN CAPE",null,null,null,null,null,null,null,null,null,null,null,null,null,null,null,null,null,null,null,null,null,null,"Yes",null,"Promenades"]
[null,"DC44 Alfred Nzo","EC EASTERN CAPE",null,null,null,null,null,null,null,null,null,null,null,null,null,null,null,null,null,null,null,null,null,null,"No",null,"Capital Spares"]
[null,"MAN Mangaung","FS FREE STATE",null,null,null,null,null,null,null,null,null,null,null,null,null,null,null,null,null,null,null,null,null,null,null,null,"Data Centres"]
[null,"FS161 Letsemeng","FS FREE STATE",null,null,null,null,null,null,null,null,null,null,null,null,null,null,null,null,null,null,null,null,null,null,null,null,"Core Layers"]
[null,"FS162 Kopanong","FS FREE STATE",null,null,null,null,null,null,null,null,null,null,null,null,null,null,null,null,null,null,null,null,null,null,null,null,"Distribution Layers"]
[null,"FS163 Mohokare","FS FREE STATE",null,null,null,null,null,null,null,null,null,null,null,null,null,null,null,null,null,null,null,null,null,null,null,null,"Capital Spares"]
[null,"DC16 Xhariep","FS FREE STATE",null,null,null,null,null,null,null,null,null,null,null,null,null,null,null,null,null,null,null,null,null,null,null,null,"Halls"]
[null,"FS181 Masilonyana","FS FREE STATE",null,null,null,null,null,null,null,null,null,null,null,null,null,null,null,null,null,null,null,null,null,null,null,null,"Centres"]
[null,"FS182 Tokologo","FS FREE STATE",null,null,null,null,null,null,null,null,null,null,null,null,null,null,null,null,null,null,null,null,null,null,null,null,"Crèches"]
[null,"FS183 Tswelopele","FS FREE STATE",null,null,null,null,null,null,null,null,null,null,null,null,null,null,null,null,null,null,null,null,null,null,null,null,"Clinics/Care Centres"]
[null,"FS184 Matjhabeng","FS FREE STATE",null,null,null,null,null,null,null,null,null,null,null,null,null,null,null,null,null,null,null,null,null,null,null,null,"Fire/Ambulance Stations"]
[null,"FS185 Nala","FS FREE STATE",null,null,null,null,null,null,null,null,null,null,null,null,null,null,null,null,null,null,null,null,null,null,null,null,"Testing Stations"]
[null,"DC18 Lejweleputswa","FS FREE STATE",null,null,null,null,null,null,null,null,null,null,null,null,null,null,null,null,null,null,null,null,null,null,null,null,"Museums"]
[null,"FS191 Setsoto","FS FREE STATE",null,null,null,null,null,null,null,null,null,null,null,null,null,null,null,null,null,null,null,null,null,null,null,null,"Galleries"]
[null,"FS192 Dihlabeng","FS FREE STATE",null,null,null,null,null,null,null,null,null,null,null,null,null,null,null,null,null,null,null,null,null,null,null,null,"Theatres"]
[null,"FS193 Nketoana","FS FREE STATE",null,null,null,null,null,null,null,null,null,null,null,null,null,null,null,null,null,null,null,null,null,null,null,null,"Libraries"]
[null,"FS194 Maluti-a-Phofung","FS FREE STATE",null,null,null,null,null,null,null,null,null,null,null,null,null,null,null,null,null,null,null,null,null,null,null,null,"Cemeteries/Crematoria"]
[null,"FS195 Phumelela","FS FREE STATE",null,null,null,null,null,null,null,null,null,null,null,null,null,null,null,null,null,null,null,null,null,null,null,null,"Police"]
[null,"FS196 Mantsopa","FS FREE STATE",null,null,null,null,null,null,null,null,null,null,null,null,null,null,null,null,null,null,null,null,null,null,null,null,"Purls"]
[null,"DC19 Thabo Mofutsanyana","FS FREE STATE",null,null,null,null,null,null,null,null,null,null,null,null,null,null,null,null,null,null,null,null,null,null,null,null,"Public Open Space"]
[null,"FS201 Moqhaka","FS FREE STATE",null,null,null,null,null,null,null,null,null,null,null,null,null,null,null,null,null,null,null,null,null,null,null,null,"Nature Reserves"]
[null,"FS203 Ngwathe","FS FREE STATE",null,null,null,null,null,null,null,null,null,null,null,null,null,null,null,null,null,null,null,null,null,null,null,null,"Public Ablution Facilities"]
[null,"FS204 Metsimaholo","FS FREE STATE",null,null,null,null,null,null,null,null,null,null,null,null,null,null,null,null,null,null,null,null,null,null,null,null,"Markets"]
[null,"FS205 Mafube","FS FREE STATE",null,null,null,null,null,null,null,null,null,null,null,null,null,null,null,null,null,null,null,null,null,null,null,null,"Stalls"]
[null,"DC20 Fezile Dabi","FS FREE STATE",null,null,null,null,null,null,null,null,null,null,null,null,null,null,null,null,null,null,null,null,null,null,null,null,"Abattoirs"]
[null,"EKU City of Ekurhuleni","GT GAUTENG",null,null,null,null,null,null,null,null,null,null,null,null,null,null,null,null,null,null,null,null,null,null,null,null,"Airports"]
[null,"JHB City Of Johannesburg","GT GAUTENG",null,null,null,null,null,null,null,null,null,null,null,null,null,null,null,null,null,null,null,null,null,null,null,null,"Taxi Ranks/Bus Terminals"]
[null,"TSH City Of Tshwane","GT GAUTENG",null,null,null,null,null,null,null,null,null,null,null,null,null,null,null,null,null,null,null,null,null,null,null,null,"Capital Spares"]
[null,"GT421 Emfuleni","GT GAUTENG",null,null,null,null,null,null,null,null,null,null,null,null,null,null,null,null,null,null,null,null,null,null,null,null,"Indoor Facilities"]
[null,"GT422 Midvaal","GT GAUTENG",null,null,null,null,null,null,null,null,null,null,null,null,null,null,null,null,null,null,null,null,null,null,null,null,"Outdoor Facilities"]
[null,"GT423 Lesedi","GT GAUTENG",null,null,null,null,null,null,null,null,null,null,null,null,null,null,null,null,null,null,null,null,null,null,null,null,"Capital Spares"]
[null,"DC42 Sedibeng","GT GAUTENG",null,null,null,null,null,null,null,null,null,null,null,null,null,null,null,null,null,null,null,null,null,null,null,null,"Monuments"]
[null,"GT481 Mogale City","GT GAUTENG",null,null,null,null,null,null,null,null,null,null,null,null,null,null,null,null,null,null,null,null,null,null,null,null,"Historic Buildings"]
[null,"GT484 Merafong City","GT GAUTENG",null,null,null,null,null,null,null,null,null,null,null,null,null,null,null,null,null,null,null,null,null,null,null,null,"Works of Art"]
[null,"GT485 Rand West City","GT GAUTENG",null,null,null,null,null,null,null,null,null,null,null,null,null,null,null,null,null,null,null,null,null,null,null,null,"Conservation Areas"]
[null,"DC48 West Rand","GT GAUTENG",null,null,null,null,null,null,null,null,null,null,null,null,null,null,null,null,null,null,null,null,null,null,null,null,"Other Heritage"]
[null,"ETH eThekwini","KZN KWAZULU-NATAL",null,null,null,null,null,null,null,null,null,null,null,null,null,null,null,null,null,null,null,null,null,null,null,null,"Improved Property"]
[null,"KZN212 Umdoni","KZN KWAZULU-NATAL",null,null,null,null,null,null,null,null,null,null,null,null,null,null,null,null,null,null,null,null,null,null,null,null,"Unimproved Property"]
[null,"KZN213 Umzumbe","KZN KWAZULU-NATAL",null,null,null,null,null,null,null,null,null,null,null,null,null,null,null,null,null,null,null,null,null,null,null,null,"Municipal Offices"]
[null,"KZN214 uMuziwabantu","KZN KWAZULU-NATAL",null,null,null,null,null,null,null,null,null,null,null,null,null,null,null,null,null,null,null,null,null,null,null,null,"Pay/Enquiry Points"]
[null,"KZN216 Ray Nkonyeni","KZN KWAZULU-NATAL",null,null,null,null,null,null,null,null,null,null,null,null,null,null,null,null,null,null,null,null,null,null,null,null,"Building Plan Offices"]
[null,"DC21 Ugu","KZN KWAZULU-NATAL",null,null,null,null,null,null,null,null,null,null,null,null,null,null,null,null,null,null,null,null,null,null,null,null,"Workshops"]
[null,"KZN221 uMshwathi","KZN KWAZULU-NATAL",null,null,null,null,null,null,null,null,null,null,null,null,null,null,null,null,null,null,null,null,null,null,null,null,"Yards"]
[null,"KZN222 uMngeni","KZN KWAZULU-NATAL",null,null,null,null,null,null,null,null,null,null,null,null,null,null,null,null,null,null,null,null,null,null,null,null,"Stores"]
[null,"KZN223 Mpofana","KZN KWAZULU-NATAL",null,null,null,null,null,null,null,null,null,null,null,null,null,null,null,null,null,null,null,null,null,null,null,null,"Laboratories"]
[null,"KZN224 Impendle","KZN KWAZULU-NATAL",null,null,null,null,null,null,null,null,null,null,null,null,null,null,null,null,null,null,null,null,null,null,null,null,"Training Centres"]
[null,"KZN225 Msunduzi","KZN KWAZULU-NATAL",null,null,null,null,null,null,null,null,null,null,null,null,null,null,null,null,null,null,null,null,null,null,null,null,"Manufacturing Plant"]
[null,"KZN226 Mkhambathini","KZN KWAZULU-NATAL",null,null,null,null,null,null,null,null,null,null,null,null,null,null,null,null,null,null,null,null,null,null,null,null,"Depots"]
[null,"KZN227 Richmond","KZN KWAZULU-NATAL",null,null,null,null,null,null,null,null,null,null,null,null,null,null,null,null,null,null,null,null,null,null,null,null,"Capital Spares"]
[null,"DC22 uMgungundlovu","KZN KWAZULU-NATAL",null,null,null,null,null,null,null,null,null,null,null,null,null,null,null,null,null,null,null,null,null,null,null,null,"Staff Housing"]
[null,"KZN235 Okhahlamba","KZN KWAZULU-NATAL",null,null,null,null,null,null,null,null,null,null,null,null,null,null,null,null,null,null,null,null,null,null,null,null,"Social Housing"]
[null,"KZN237 Inkosi Langalibalele","KZN KWAZULU-NATAL",null,null,null,null,null,null,null,null,null,null,null,null,null,null,null,null,null,null,null,null,null,null,null,null,"Capital Spares"]
[null,"KZN238 Alfred Duma","KZN KWAZULU-NATAL",null,null,null,null,null,null,null,null,null,null,null,null,null,null,null,null,null,null,null,null,null,null,null,null,"Water Rights"]
[null,"DC23 Uthukela","KZN KWAZULU-NATAL",null,null,null,null,null,null,null,null,null,null,null,null,null,null,null,null,null,null,null,null,null,null,null,null,"Effluent Licenses"]
[null,"KZN241 Endumeni","KZN KWAZULU-NATAL",null,null,null,null,null,null,null,null,null,null,null,null,null,null,null,null,null,null,null,null,null,null,null,null,"Solid Waste Licenses"]
[null,"KZN242 Nquthu","KZN KWAZULU-NATAL",null,null,null,null,null,null,null,null,null,null,null,null,null,null,null,null,null,null,null,null,null,null,null,null,"Computer Software and Applications"]
[null,"KZN244 Msinga","KZN KWAZULU-NATAL",null,null,null,null,null,null,null,null,null,null,null,null,null,null,null,null,null,null,null,null,null,null,null,null,"Load Settlement Software Applications"]
[null,"KZN245 Umvoti","KZN KWAZULU-NATAL",null,null,null,null,null,null,null,null,null,null,null,null,null,null,null,null,null,null,null,null,null,null,null,null,"Unspecified"]
[null,"DC24 Umzinyathi","KZN KWAZULU-NATAL"]
[null,"KZN252 Newcastle","KZN KWAZULU-NATAL"]
[null,"KZN253 Emadlangeni","KZN KWAZULU-NATAL"]
[null,"KZN254 Dannhauser","KZN KWAZULU-NATAL"]
[null,"DC25 Amajuba","KZN KWAZULU-NATAL"]
[null,"KZN261 eDumbe","KZN KWAZULU-NATAL"]
[null,"KZN262 uPhongolo","KZN KWAZULU-NATAL"]
[null,"KZN263 Abaqulusi","KZN KWAZULU-NATAL"]
[null,"KZN265 Nongoma","KZN KWAZULU-NATAL"]
[null,"KZN266 Ulundi","KZN KWAZULU-NATAL"]
[null,"DC26 Zululand","KZN KWAZULU-NATAL"]
[null,"KZN271 Umhlabuyalingana","KZN KWAZULU-NATAL"]
[null,"KZN272 Jozini","KZN KWAZULU-NATAL"]
[null,"KZN275 Mtubatuba","KZN KWAZULU-NATAL"]
[null,"KZN276 Hlabisa Big Five","KZN KWAZULU-NATAL"]
[null,"DC27 Umkhanyakude","KZN KWAZULU-NATAL"]
[null,"KZN281 Mfolozi","KZN KWAZULU-NATAL"]
[null,"KZN282 uMhlathuze","KZN KWAZULU-NATAL"]
[null,"KZN284 uMlalazi","KZN KWAZULU-NATAL"]
[null,"KZN285 Mthonjaneni","KZN KWAZULU-NATAL"]
[null,"KZN286 Nkandla","KZN KWAZULU-NATAL"]
[null,"DC28 King Cetshwayo","KZN KWAZULU-NATAL"]
[null,"KZN291 Mandeni","KZN KWAZULU-NATAL"]
[null,"KZN292 KwaDukuza","KZN KWAZULU-NATAL"]
[null,"KZN293 Ndwedwe","KZN KWAZULU-NATAL"]
[null,"KZN294 Maphumulo","KZN KWAZULU-NATAL"]
[null,"DC29 iLembe","KZN KWAZULU-NATAL"]
[null,"KZN433 Greater Kokstad","KZN KWAZULU-NATAL"]
[null,"KZN434 Johannes Phumani Phungula","KZN KWAZULU-NATAL"]
[null,"KZN435 Umzimkhulu","KZN KWAZULU-NATAL"]
[null,"KZN436 Dr Nkosazana Dlamini Zuma","KZN KWAZULU-NATAL"]
[null,"DC43 Harry Gwala","KZN KWAZULU-NATAL"]
[null,"LIM331 Greater Giyani","LIM LIMPOPO"]
[null,"LIM332 Greater Letaba","LIM LIMPOPO"]
[null,"LIM333 Greater Tzaneen","LIM LIMPOPO"]
[null,"LIM334 Ba-Phalaborwa","LIM LIMPOPO"]
[null,"LIM335 Maruleng","LIM LIMPOPO"]
[null,"DC33 Mopani","LIM LIMPOPO"]
[null,"LIM341 Musina","LIM LIMPOPO"]
[null,"LIM343 Thulamela","LIM LIMPOPO"]
[null,"LIM344 Makhado","LIM LIMPOPO"]
[null,"LIM345 Collins Chabane","LIM LIMPOPO"]
[null,"DC34 Vhembe","LIM LIMPOPO"]
[null,"LIM351 Blouberg","LIM LIMPOPO"]
[null,"LIM353 Molemole","LIM LIMPOPO"]
[null,"LIM354 Polokwane","LIM LIMPOPO"]
[null,"LIM355 Lepelle-Nkumpi","LIM LIMPOPO"]
[null,"DC35 Capricorn","LIM LIMPOPO"]
[null,"LIM361 Thabazimbi","LIM LIMPOPO"]
[null,"LIM362 Lephalale","LIM LIMPOPO"]
[null,"LIM366 Bela Bela","LIM LIMPOPO"]
[null,"LIM367 Mogalakwena","LIM LIMPOPO"]
[null,"LIM368 Modimolle-Mookgopong","LIM LIMPOPO"]
[null,"DC36 Waterberg","LIM LIMPOPO"]
[null,"LIM471 Ephraim Mogale","LIM LIMPOPO"]
[null,"LIM472 Elias Motsoaledi","LIM LIMPOPO"]
[null,"LIM473 Makhuduthamaga","LIM LIMPOPO"]
[null,"LIM476 Tubatse Fetakgomo","LIM LIMPOPO"]
[null,"DC47 Sekhukhune","LIM LIMPOPO"]
[null,"MP301 Albert Luthuli","MP MPUMALANGA"]
[null,"MP302 Msukaligwa","MP MPUMALANGA"]
[null,"MP303 Mkhondo","MP MPUMALANGA"]
[null,"MP304 Pixley Ka Seme (MP)","MP MPUMALANGA"]
[null,"MP305 Lekwa","MP MPUMALANGA"]
[null,"MP306 Dipaleseng","MP MPUMALANGA"]
[null,"MP307 Govan Mbeki","MP MPUMALANGA"]
[null,"DC30 Gert Sibande","MP MPUMALANGA"]
[null,"MP311 Victor Khanye","MP MPUMALANGA"]
[null,"MP312 Emalahleni (Mp)","MP MPUMALANGA"]
[null,"MP313 Steve Tshwete","MP MPUMALANGA"]
[null,"MP314 Emakhazeni","MP MPUMALANGA"]
[null,"MP315 Thembisile Hani","MP MPUMALANGA"]
[null,"MP316 Dr J.S. Moroka","MP MPUMALANGA"]
[null,"DC31 Nkangala","MP MPUMALANGA"]
[null,"MP321 Thaba Chweu","MP MPUMALANGA"]
[null,"MP324 Nkomazi","MP MPUMALANGA"]
[null,"MP325 Bushbuckridge","MP MPUMALANGA"]
[null,"MP326 City of Mbombela","MP MPUMALANGA"]
[null,"DC32 Ehlanzeni","MP MPUMALANGA"]
[null,"NC451 Joe Morolong","NC NORTHERN CAPE"]
[null,"NC452 Ga-Segonyana","NC NORTHERN CAPE"]
[null,"NC453 Gamagara","NC NORTHERN CAPE"]
[null,"DC45 John Taolo Gaetsewe","NC NORTHERN CAPE"]
[null,"NC061 Richtersveld","NC NORTHERN CAPE"]
[null,"NC062 Nama Khoi","NC NORTHERN CAPE"]
[null,"NC064 Kamiesberg","NC NORTHERN CAPE"]
[null,"NC065 Hantam","NC NORTHERN CAPE"]
[null,"NC066 Karoo Hoogland","NC NORTHERN CAPE"]
[null,"NC067 Khai-Ma","NC NORTHERN CAPE"]
[null,"DC6 Namakwa","NC NORTHERN CAPE"]
[null,"NC071 Ubuntu","NC NORTHERN CAPE"]
[null,"NC072 Umsobomvu","NC NORTHERN CAPE"]
[null,"NC073 Emthanjeni","NC NORTHERN CAPE"]
[null,"NC074 Kareeberg","NC NORTHERN CAPE"]
[null,"NC075 Renosterberg","NC NORTHERN CAPE"]
[null,"NC076 Thembelihle","NC NORTHERN CAPE"]
[null,"NC077 Siyathemba","NC NORTHERN CAPE"]
[null,"NC078 Siyancuma","NC NORTHERN CAPE"]
[null,"DC7 Pixley Ka Seme (Nc)","NC NORTHERN CAPE"]
[null,"NC082 !Kai! Garib","NC NORTHERN CAPE"]
[null,"NC084 !Kheis","NC NORTHERN CAPE"]
[null,"NC085 Tsantsabane","NC NORTHERN CAPE"]
[null,"NC086 Kgatelopele","NC NORTHERN CAPE"]
[null,"NC087 Dawid Kruiper","NC NORTHERN CAPE"]
[null,"DC8 Z F Mgcawu","NC NORTHERN CAPE"]
[null,"NC091 Sol Plaatje","NC NORTHERN CAPE"]
[null,"NC092 Dikgatlong","NC NORTHERN CAPE"]
[null,"NC093 Magareng","NC NORTHERN CAPE"]
[null,"NC094 Phokwane","NC NORTHERN CAPE"]
[null,"DC9 Frances Baard","NC NORTHERN CAPE"]
[null,"NW371 Moretele","NW NORTH WEST"]
[null,"NW372 Madibeng","NW NORTH WEST"]
[null,"NW373 Rustenburg","NW NORTH WEST"]
[null,"NW374 Kgetlengrivier","NW NORTH WEST"]
[null,"NW375 Moses Kotane","NW NORTH WEST"]
[null,"DC37 Bojanala Platinum","NW NORTH WEST"]
[null,"NW381 Ratlou","NW NORTH WEST"]
[null,"NW382 Tswaing","NW NORTH WEST"]
[null,"NW383 Mafikeng","NW NORTH WEST"]
[null,"NW384 Ditsobotla","NW NORTH WEST"]
[null,"NW385 Ramotshere Moiloa","NW NORTH WEST"]
[null,"DC38 Ngaka Modiri Molema","NW NORTH WEST"]
[null,"NW392 Naledi (Nw)","NW NORTH WEST"]
[null,"NW393 Mamusa","NW NORTH WEST"]
[null,"NW394 Greater Taung","NW NORTH WEST"]
[null,"NW396 Lekwa-Teemane","NW NORTH WEST"]
[null,"NW397 Kagisano-Molopo","NW NORTH WEST"]
[null,"DC39 Dr Ruth Segomotsi Mompati","NW NORTH WEST"]
[null,"NW403 City Of Matlosana","NW NORTH WEST"]
[null,"NW404 Maquassi Hills","NW NORTH WEST"]
[null,"NW405 J B Marks","NW NORTH WEST"]
[null,"DC40 Dr Kenneth Kaunda","NW NORTH WEST"]
[null,"CPT Cape Town","WC WESTERN CAPE"]
[null,"WC011 Matzikama","WC WESTERN CAPE"]
[null,"WC012 Cederberg","WC WESTERN CAPE"]
[null,"WC013 Bergrivier","WC WESTERN CAPE"]
[null,"WC014 Saldanha Bay","WC WESTERN CAPE"]
[null,"WC015 Swartland","WC WESTERN CAPE"]
[null,"DC1 West Coast","WC WESTERN CAPE"]
[null,"WC022 Witzenberg","WC WESTERN CAPE"]
[null,"WC023 Drakenstein","WC WESTERN CAPE"]
[null,"WC024 Stellenbosch","WC WESTERN CAPE"]
[null,"WC025 Breede Valley","WC WESTERN CAPE"]
[null,"WC026 Langeberg","WC WESTERN CAPE"]
[null,"DC2 Cape Winelands DM","WC WESTERN CAPE"]
[null,"WC031 Theewaterskloof","WC WESTERN CAPE"]
[null,"WC032 Overstrand","WC WESTERN CAPE"]
[null,"WC033 Cape Agulhas","WC WESTERN CAPE"]
[null,"WC034 Swellendam","WC WESTERN CAPE"]
[null,"DC3 Overberg","WC WESTERN CAPE"]
[null,"WC041 Kannaland","WC WESTERN CAPE"]
[null,"WC042 Hessequa","WC WESTERN CAPE"]
[null,"WC043 Mossel Bay","WC WESTERN CAPE"]
[null,"WC044 George","WC WESTERN CAPE"]
[null,"WC045 Oudtshoorn","WC WESTERN CAPE"]
[null,"WC047 Bitou","WC WESTERN CAPE"]
[null,"WC048 Knysna","WC WESTERN CAPE"]
[null,"DC4 Garden Route","WC WESTERN CAPE"]
[null,"WC051 Laingsburg","WC WESTERN CAPE"]
[null,"WC052 Prince Albert","WC WESTERN CAPE"]
[null,"WC053 Beaufort West","WC WESTERN CAPE"]
[null,"DC5 Central Karoo","WC WESTERN CAPE"]
[]
[]
[]
[]
[]
[]
[]
[]
[]
[]
[]
[]
[]
[]
[]
[]
[]
[]
[]
[]
[]
[null,{"$f":"COUNTA(B30:B307)","v":257}]

{"sheet":"Org structure","index":4,"n_rows":166,"n_cols":5,"rows_kept":166,"cut":false,"hidden":false,"merged":[]}
["Organisational Structure Votes",null,"Organisational Structure Sub-Votes",null,"Display Sub-Votes"]
[{"$f":"B2&\" - \"&C2","v":"Vote 1 - Office of Municipal Manager"},"Vote 1","Office of Municipal Manager"]
[{"$f":"B13&\" - \"& C13","v":"Vote 2 - Budget and Treasury"},1.1000000000000001,"[Name of sub-vote]",{"$f":"CONCATENATE(B3, \" - \", C3)","v":"1,1 - [Name of sub-vote]"},"1.1 - [Name of sub-vote]"]
[{"$f":"B24&\" - \"&C24","v":"Vote 3 - Corporate Services"},1.2,"[Name of sub-vote]","1.2 - [Name of sub-vote]"]
[{"$f":"B35&\" - \"&C35","v":"Vote 4 - Social Service"},1.3,"[Name of sub-vote]","1.3 - [Name of sub-vote]"]
[{"$f":"B46&\" - \"&C46","v":"Vote 5 - Technical and Engineering Services"},1.4,"[Name of sub-vote]","1.4 - [Name of sub-vote]"]
[{"$f":"B57&\" - \"&C57","v":"Vote 6 - Property, Planning & Development"},1.5,"[Name of sub-vote]","1.5 - [Name of sub-vote]"]
[{"$f":"B68&\" - \"&C68","v":"Vote 7 - Office of the Mayor/Strategic Office"},1.6,"[Name of sub-vote]","1.6 - [Name of sub-vote]"]
[{"$f":"B79&\" - \"&C79","v":"Vote 8 - COMMUNITY & SOCIAL SERVICES"},1.7,"[Name of sub-vote]","1.7 - [Name of sub-vote]"]
[{"$f":"B90&\" - \"&C90","v":"Vote 9 - [NAME OF VOTE 9]"},1.8,"[Name of sub-vote]","1.8 - [Name of sub-vote]"]
[{"$f":"B101&\" - \"&C101","v":"Vote 10 - [NAME OF VOTE 10]"},1.9,"[Name of sub-vote]","1.9 - [Name of sub-vote]"]
[{"$f":"B112&\" - \"&C112","v":"Vote 11 - [NAME OF VOTE 11]"},"1.10","[Name of sub-vote]","1.10 - [Name of sub-vote]"]
[{"$f":"B123&\" - \"&C123","v":"Vote 12 - [NAME OF VOTE 12]"},"Vote 2","Budget and Treasury"]
[{"$f":"B134&\" - \"&C134","v":"Vote 13 - [NAME OF VOTE 13]"},2.1,"[Name of sub-vote]",{"$f":"CONCATENATE(B14, \" - \", C14)","v":"2.1 - [Name of sub-vote]"},"2.1 - [Name of sub-vote]"]
[{"$f":"B145&\" - \"&C145","v":"Vote 14 - [NAME OF VOTE 14]"},2.2000000000000002,"[Name of sub-vote]","2.2 - [Name of sub-vote]"]
[{"$f":"B156&\" - \"&C156","v":"Vote 15 - [NAME OF VOTE 15]"},2.2999999999999998,"[Name of sub-vote]","2.3 - [Name of sub-vote]"]
[null,2.4,"[Name of sub-vote]","2.4 - [Name of sub-vote]"]
[null,2.5,"[Name of sub-vote]","2.5 - [Name of sub-vote]"]
[null,2.6,"[Name of sub-vote]","2.6 - [Name of sub-vote]"]
[null,2.7,"[Name of sub-vote]","2.7 - [Name of sub-vote]"]
[null,2.8,"[Name of sub-vote]","2.8 - [Name of sub-vote]"]
[null,2.9,"[Name of sub-vote]","2.9 - [Name of sub-vote]"]
[null,"2.10","[Name of sub-vote]","2.10 - [Name of sub-vote]"]
[null,"Vote 3","Corporate Services"]
[null,3.1,"[Name of sub-vote]",{"$f":"CONCATENATE(B25, \" - \", C25)","v":"3.1 - [Name of sub-vote]"},"3.1 - [Name of sub-vote]"]
[null,3.2,"[Name of sub-vote]","3.2 - [Name of sub-vote]"]
[null,3.3,"[Name of sub-vote]","3.3 - [Name of sub-vote]"]
[null,3.4,"[Name of sub-vote]","3.4 - [Name of sub-vote]"]
[null,3.5,"[Name of sub-vote]","3.5 - [Name of sub-vote]"]
[null,3.6,"[Name of sub-vote]","3.6 - [Name of sub-vote]"]
[null,3.7,"[Name of sub-vote]","3.7 - [Name of sub-vote]"]
[null,3.8,"[Name of sub-vote]","3.8 - [Name of sub-vote]"]
[null,3.9,"[Name of sub-vote]","3.9 - [Name of sub-vote]"]
[null,"3.10","[Name of sub-vote]","3.10 - [Name of sub-vote]"]
[null,"Vote 4","Social Service"]
[null,4.0999999999999996,"[Name of sub-vote]",{"$f":"CONCATENATE(B36, \" - \", C36)","v":"4.1 - [Name of sub-vote]"},"4.1 - [Name of sub-vote]"]
[null,4.2,"[Name of sub-vote]","4.2 - [Name of sub-vote]"]
[null,4.3,"[Name of sub-vote]","4.3 - [Name of sub-vote]"]
[null,4.4000000000000004,"[Name of sub-vote]","4.4 - [Name of sub-vote]"]
[null,4.5,"[Name of sub-vote]","4.5 - [Name of sub-vote]"]
[null,4.5999999999999996,"[Name of sub-vote]","4.6 - [Name of sub-vote]"]
[null,4.7,"[Name of sub-vote]","4.7 - [Name of sub-vote]"]
[null,4.8,"[Name of sub-vote]","4.8 - [Name of sub-vote]"]
[null,4.9000000000000004,"[Name of sub-vote]","4.9 - [Name of sub-vote]"]
[null,"4.10","[Name of sub-vote]","4.10 - [Name of sub-vote]"]
[null,"Vote 5","Technical and Engineering Services"]
[null,5.0999999999999996,"[Name of sub-vote]",{"$f":"CONCATENATE(B47, \" - \", C47)","v":"5.1 - [Name of sub-vote]"},"5.1 - [Name of sub-vote]"]
[null,5.2,"[Name of sub-vote]","5.2 - [Name of sub-vote]"]
[null,5.3,"[Name of sub-vote]","5.3 - [Name of sub-vote]"]
[null,5.4,"[Name of sub-vote]","5.4 - [Name of sub-vote]"]
[null,5.5,"[Name of sub-vote]","5.5 - [Name of sub-vote]"]
[null,5.6,"[Name of sub-vote]","5.6 - [Name of sub-vote]"]
[null,5.7,"[Name of sub-vote]","5.7 - [Name of sub-vote]"]
[null,5.8,"[Name of sub-vote]","5.8 - [Name of sub-vote]"]
[null,5.9,"[Name of sub-vote]","5.9 - [Name of sub-vote]"]
[null,"5.10","[Name of sub-vote]","5.10 - [Name of sub-vote]"]
[null,"Vote 6","Property, Planning & Development"]
[null,6.1,"[Name of sub-vote]",{"$f":"CONCATENATE(B58, \" - \", C58)","v":"6.1 - [Name of sub-vote]"},"6.1 - [Name of sub-vote]"]
[null,6.2,"[Name of sub-vote]","6.2 - [Name of sub-vote]"]
[null,6.3,"[Name of sub-vote]","6.3 - [Name of sub-vote]"]
[null,6.4,"[Name of sub-vote]","6.4 - [Name of sub-vote]"]
[null,6.5,"[Name of sub-vote]","6.5 - [Name of sub-vote]"]
[null,6.6,"[Name of sub-vote]","6.6 - [Name of sub-vote]"]
[null,6.7,"[Name of sub-vote]","6.7 - [Name of sub-vote]"]
[null,6.8,"[Name of sub-vote]","6.8 - [Name of sub-vote]"]
[null,6.9,"[Name of sub-vote]","6.9 - [Name of sub-vote]"]
[null,"6.10","[Name of sub-vote]","6.10 - [Name of sub-vote]"]
[null,"Vote 7","Office of the Mayor/Strategic Office"]
[null,7.1,"[Name of sub-vote]",{"$f":"CONCATENATE(B69, \" - \", C69)","v":"7.1 - [Name of sub-vote]"},"7.1 - [Name of sub-vote]"]
[null,7.2,"[Name of sub-vote]","7.2 - [Name of sub-vote]"]
[null,7.3,"[Name of sub-vote]","7.3 - [Name of sub-vote]"]
[null,7.4,"[Name of sub-vote]","7.4 - [Name of sub-vote]"]
[null,7.5,"[Name of sub-vote]","7.5 - [Name of sub-vote]"]
[null,7.6,"[Name of sub-vote]","7.6 - [Name of sub-vote]"]
[null,7.7,"[Name of sub-vote]","7.7 - [Name of sub-vote]"]
[null,7.8,"[Name of sub-vote]","7.8 - [Name of sub-vote]"]
[null,7.9,"[Name of sub-vote]","7.9 - [Name of sub-vote]"]
[null,"7.10","[Name of sub-vote]","7.10 - [Name of sub-vote]"]
[null,"Vote 8","COMMUNITY & SOCIAL SERVICES"]
[null,8.1,"[Name of sub-vote]",{"$f":"CONCATENATE(B80, \" - \", C80)","v":"8.1 - [Name of sub-vote]"},"8.1 - [Name of sub-vote]"]
[null,8.1999999999999993,"[Name of sub-vote]","8.2 - [Name of sub-vote]"]
[null,8.3000000000000007,"[Name of sub-vote]","8.3 - [Name of sub-vote]"]
[null,8.4,"[Name of sub-vote]","8.4 - [Name of sub-vote]"]
[null,8.5,"[Name of sub-vote]","8.5 - [Name of sub-vote]"]
[null,8.6,"[Name of sub-vote]","8.6 - [Name of sub-vote]"]
[null,8.6999999999999993,"[Name of sub-vote]","8.7 - [Name of sub-vote]"]
[null,8.8000000000000007,"[Name of sub-vote]","8.8 - [Name of sub-vote]"]
[null,8.9,"[Name of sub-vote]","8.9 - [Name of sub-vote]"]
[null,"8.10","[Name of sub-vote]","8.10 - [Name of sub-vote]"]
[null,"Vote 9","[NAME OF VOTE 9]"]
[null,9.1,"[Name of sub-vote]",{"$f":"CONCATENATE(B91, \" - \", C91)","v":"9.1 - [Name of sub-vote]"},"9.1 - [Name of sub-vote]"]
[null,9.1999999999999993,"[Name of sub-vote]","9.2 - [Name of sub-vote]"]
[null,9.3000000000000007,"[Name of sub-vote]","9.3 - [Name of sub-vote]"]
[null,9.4,"[Name of sub-vote]","9.4 - [Name of sub-vote]"]
[null,9.5,"[Name of sub-vote]","9.5 - [Name of sub-vote]"]
[null,9.6,"[Name of sub-vote]","9.6 - [Name of sub-vote]"]
[null,9.6999999999999993,"[Name of sub-vote]","9.7 - [Name of sub-vote]"]
[null,9.8000000000000007,"[Name of sub-vote]","9.8 - [Name of sub-vote]"]
[null,9.9,"[Name of sub-vote]","9.9 - [Name of sub-vote]"]
[null,"9.10","[Name of sub-vote]","9.10 - [Name of sub-vote]"]
[null,"Vote 10","[NAME OF VOTE 10]"]
[null,10.1,"[Name of sub-vote]",{"$f":"CONCATENATE(B102, \" - \", C102)","v":"10.1 - [Name of sub-vote]"},"10.1 - [Name of sub-vote]"]
[null,10.199999999999999,"[Name of sub-vote]","10.2 - [Name of sub-vote]"]
[null,10.3,"[Name of sub-vote]","10.3 - [Name of sub-vote]"]
[null,10.4,"[Name of sub-vote]","10.4 - [Name of sub-vote]"]
[null,10.5,"[Name of sub-vote]","10.5 - [Name of sub-vote]"]
[null,10.6,"[Name of sub-vote]","10.6 - [Name of sub-vote]"]
[null,10.7,"[Name of sub-vote]","10.7 - [Name of sub-vote]"]
[null,10.8,"[Name of sub-vote]","10.8 - [Name of sub-vote]"]
[null,10.9,"[Name of sub-vote]","10.9 - [Name of sub-vote]"]
[null,"10.10","[Name of sub-vote]","10.10 - [Name of sub-vote]"]
[null,"Vote 11","[NAME OF VOTE 11]"]
[null,11.1,"[Name of sub-vote]",{"$f":"CONCATENATE(B113, \" - \", C113)","v":"11.1 - [Name of sub-vote]"},"11.1 - [Name of sub-vote]"]
[null,11.2,"[Name of sub-vote]","11.2 - [Name of sub-vote]"]
[null,11.3,"[Name of sub-vote]","11.3 - [Name of sub-vote]"]
[null,11.4,"[Name of sub-vote]","11.4 - [Name of sub-vote]"]
[null,11.5,"[Name of sub-vote]","11.5 - [Name of sub-vote]"]
[null,11.6,"[Name of sub-vote]","11.6 - [Name of sub-vote]"]
[null,11.7,"[Name of sub-vote]","11.7 - [Name of sub-vote]"]
[null,11.8,"[Name of sub-vote]","11.8 - [Name of sub-vote]"]
[null,11.9,"[Name of sub-vote]","11.9 - [Name of sub-vote]"]
[null,"11.10","[Name of sub-vote]","11.10 - [Name of sub-vote]"]
[null,"Vote 12","[NAME OF VOTE 12]"]
[null,12.1,"[Name of sub-vote]",{"$f":"CONCATENATE(B124, \" - \", C124)","v":"12.1 - [Name of sub-vote]"},"12.1 - [Name of sub-vote]"]
[null,12.2,"[Name of sub-vote]","12.2 - [Name of sub-vote]"]
[null,12.3,"[Name of sub-vote]","12.3 - [Name of sub-vote]"]
[null,12.4,"[Name of sub-vote]","12.4 - [Name of sub-vote]"]
[null,12.5,"[Name of sub-vote]","12.5 - [Name of sub-vote]"]
[null,12.6,"[Name of sub-vote]","12.6 - [Name of sub-vote]"]
[null,12.7,"[Name of sub-vote]","12.7 - [Name of sub-vote]"]
[null,12.8,"[Name of sub-vote]","12.8 - [Name of sub-vote]"]
[null,12.9,"[Name of sub-vote]","12.9 - [Name of sub-vote]"]
[null,"12.10","[Name of sub-vote]","12.10 - [Name of sub-vote]"]
[null,"Vote 13","[NAME OF VOTE 13]"]
[null,13.1,"[Name of sub-vote]",{"$f":"CONCATENATE(B135, \" - \", C135)","v":"13.1 - [Name of sub-vote]"},"13.1 - [Name of sub-vote]"]
[null,13.2,"[Name of sub-vote]","13.2 - [Name of sub-vote]"]
[null,13.3,"[Name of sub-vote]","13.3 - [Name of sub-vote]"]
[null,13.4,"[Name of sub-vote]","13.4 - [Name of sub-vote]"]
[null,13.5,"[Name of sub-vote]","13.5 - [Name of sub-vote]"]
[null,13.6,"[Name of sub-vote]","13.6 - [Name of sub-vote]"]
[null,13.7,"[Name of sub-vote]","13.7 - [Name of sub-vote]"]
[null,13.8,"[Name of sub-vote]","13.8 - [Name of sub-vote]"]
[null,13.9,"[Name of sub-vote]","13.9 - [Name of sub-vote]"]
[null,"13.10","[Name of sub-vote]","13.10 - [Name of sub-vote]"]
[null,"Vote 14","[NAME OF VOTE 14]"]
[null,14.1,"[Name of sub-vote]",{"$f":"CONCATENATE(B146, \" - \", C146)","v":"14.1 - [Name of sub-vote]"},"14.1 - [Name of sub-vote]"]
[null,14.2,"[Name of sub-vote]","14.2 - [Name of sub-vote]"]
[null,14.3,"[Name of sub-vote]","14.3 - [Name of sub-vote]"]
[null,14.4,"[Name of sub-vote]","14.4 - [Name of sub-vote]"]
[null,14.5,"[Name of sub-vote]","14.5 - [Name of sub-vote]"]
[null,14.6,"[Name of sub-vote]","14.6 - [Name of sub-vote]"]
[null,14.7,"[Name of sub-vote]","14.7 - [Name of sub-vote]"]
[null,14.8,"[Name of sub-vote]","14.8 - [Name of sub-vote]"]
[null,14.9,"[Name of sub-vote]","14.9 - [Name of sub-vote]"]
[null,"14.10","[Name of sub-vote]","14.10 - [Name of sub-vote]"]
[null,"Vote 15","[NAME OF VOTE 15]"]
[null,15.1,"[Name of sub-vote]",{"$f":"CONCATENATE(B157, \" - \", C157)","v":"15.1 - [Name of sub-vote]"},"15.1 - [Name of sub-vote]"]
[null,15.2,"[Name of sub-vote]","15.2 - [Name of sub-vote]"]
[null,15.3,"[Name of sub-vote]","15.3 - [Name of sub-vote]"]
[null,15.4,"[Name of sub-vote]","15.4 - [Name of sub-vote]"]
[null,15.5,"[Name of sub-vote]","15.5 - [Name of sub-vote]"]
[null,15.6,"[Name of sub-vote]","15.6 - [Name of sub-vote]"]
[null,15.7,"[Name of sub-vote]","15.7 - [Name of sub-vote]"]
[null,15.8,"[Name of sub-vote]","15.8 - [Name of sub-vote]"]
[null,15.9,"[Name of sub-vote]","15.9 - [Name of sub-vote]"]
[null,"15.10","[Name of sub-vote]","15.10 - [Name of sub-vote]"]

{"sheet":"Contacts","index":5,"n_rows":140,"n_cols":3,"rows_kept":140,"cut":false,"hidden":false,"merged":[[132,0,132,1],[132,2,132,3],[76,0,76,1],[57,0,57,1],[76,2,76,3],[92,2,92,3],[67,2,67,3],[124,0,124,1],[124,2,124,3],[116,0,116,1],[116,2,116,3],[108,0,108,1],[108,2,108,3],[100,0,100,1],[58,2,58,3],[84,0,84,1],[84,2,84,3],[30,2,30,3],[29,2,29,3],[48,0,48,1],[100,2,100,3],[39,2,39,3],[48,2,48,3],[57,2,57,3],[92,0,92,1],[39,0,39,1],[7,2,7,3],[13,0,13,1],[29,0,29,1],[10,2,10,3],[12,2,12,3]]}
[{"$f":"muni&\" - \"&\" Contact Information\"","v":"Choose name from list -  Contact Information"}]
[]
["A. GENERAL INFORMATION"]
["Municipality",{"$f":"muni","v":"Choose name from list"},{"$f":"IF(B4=\"Choose name from List\",\"Set name on 'Instructions' sheet\", \"\")","v":"Set name on 'Instructions' sheet"}]
[]
["Grade",null,"1 Grade in terms of the Remuneration of Public Office Bearers Act."]
[]
["Province",{"$f":"IF(B4>\" \",VLOOKUP(B4,'Lookup and lists'!B29:C307,2, FALSE),\" \")","v":"Set name on 'Instructions' sheet"}]
[]
["Web Address"]
[]
["e-mail Address"]
[]
["B. CONTACT INFORMATION"]
["Postal address:"]
["P.O. Box"]
["City / Town"]
["Postal Code"]
[]
["Street address"]
["Building"]
["Street No. & Name"]
["City / Town"]
["Postal Code"]
[]
["General Contacts"]
["Telephone number"]
["Fax number"]
[]
["C. POLITICAL LEADERSHIP"]
["Speaker:",null,"Secretary/PA to the Speaker:"]
["ID Number",null,"ID Number"]
["Title",null,"Title"]
["Name",null,"Name"]
["Telephone number",null,"Telephone number"]
["Cell number",null,"Cell number"]
["Fax number",null,"Fax number"]
["E-mail address",null,"E-mail address"]
[]
["Mayor/Executive Mayor:",null,"Secretary/PA to the Mayor/Executive Mayor:"]
["ID Number",null,"ID Number"]
["Title",null,"Title"]
["Name",null,"Name"]
["Telephone number",null,"Telephone number"]
["Cell number",null,"Cell number"]
["Fax number",null,"Fax number"]
["E-mail address",null,"E-mail address"]
[]
["Deputy Mayor/Executive Mayor:",null,"Secretary/PA to the Deputy Mayor/Executive Mayor:"]
["ID Number",null,"ID Number"]
["Title",null,"Title"]
["Name",null,"Name"]
["Telephone number",null,"Telephone number"]
["Cell number",null,"Cell number"]
["Fax number",null,"Fax number"]
["E-mail address",null,"E-mail address"]
[]
["D. MANAGEMENT LEADERSHIP"]
["Municipal Manager:",null,"Secretary/PA to the Municipal Manager:"]
["ID Number",null,"ID Number"]
["Title",null,"Title"]
["Name",null,"Name"]
["Telephone number",null,"Telephone number"]
["Cell number",null,"Cell number"]
["Fax number",null,"Fax number"]
["E-mail address",null,"E-mail address"]
[]
["Chief Financial Officer",null,"Secretary/PA to the Chief Financial Officer"]
["ID Number",null,"ID Number"]
["Title",null,"Title"]
["Name","","Name"]
["Telephone number",null,"Telephone number"]
["Cell number",null,"Cell number"]
["Fax number",null,"Fax number"]
["E-mail address",null,"E-mail address"]
[]
["Official responsible for submitting financial information",null,"Official responsible for submitting financial information"]
["ID Number",null,"ID Number"]
["Title",null,"Title"]
["Name",null,"Name"]
["Telephone number",null,"Telephone number"]
["Cell number",null,"Cell number"]
["Fax number",null,"Fax number"]
["E-mail address",null,"E-mail address"]
["Official responsible for submitting financial information",null,"Official responsible for submitting financial information"]
["ID Number",null,"ID Number"]
["Title",null,"Title"]
["Name",null,"Name"]
["Telephone number",null,"Telephone number"]
["Cell number",null,"Cell number"]
["Fax number",null,"Fax number"]
["E-mail address",null,"E-mail address"]
["Official responsible for submitting financial information",null,"Official responsible for submitting financial information"]
["ID Number",null,"ID Number"]
["Title",null,"Title"]
["Name",null,"Name"]
["Telephone number",null,"Telephone number"]
["Cell number",null,"Cell number"]
["Fax number",null,"Fax number"]
["E-mail address",null,"E-mail address"]
["Official responsible for submitting financial information",null,"Official responsible for submitting financial information"]
["ID Number",null,"ID Number"]
["Title",null,"Title"]
["Name",null,"Name"]
["Telephone number",null,"Telephone number"]
["Cell number",null,"Cell number"]
["Fax number",null,"Fax number"]
["E-mail address",null,"E-mail address"]
["Official responsible for submitting financial information",null,"Official responsible for submitting financial information"]
["ID Number",null,"ID Number"]
["Title",null,"Title"]
["Name",null,"Name"]
["Telephone number",null,"Telephone number"]
["Cell number",null,"Cell number"]
["Fax number",null,"Fax number"]
["E-mail address",null,"E-mail address"]
["Official responsible for submitting financial information",null,"Official responsible for submitting financial information"]
["ID Number",null,"ID Number"]
["Title",null,"Title"]
["Name",null,"Name"]
["Telephone number",null,"Telephone number"]
["Cell number",null,"Cell number"]
["Fax number",null,"Fax number"]
["E-mail address",null,"E-mail address"]
["Official responsible for submitting financial information",null,"Official responsible for submitting financial information"]
["ID Number",null,"ID Number"]
["Title",null,"Title"]
["Name",null,"Name"]
["Telephone number",null,"Telephone number"]
["Cell number",null,"Cell number"]
["Fax number",null,"Fax number"]
["E-mail address",null,"E-mail address"]
["Official responsible for submitting financial information"]
["ID Number"]
["Title"]
["Name"]
["Telephone number"]
["Cell number"]
["Fax number"]
["E-mail address"]

{"sheet":"A1-Sum","index":6,"n_rows":61,"n_cols":11,"rows_kept":61,"cut":false,"hidden":false,"merged":[[1,8,1,10],[1,4,1,7],[0,0,0,2]]}
[{"$f":"muni&\" - \"&Approve1","v":"Choose name from list - Table A1 Budget Summary"}]
[{"$f":"desc","v":"Description"},{"$f":"head1b","v":"2021/22"},{"$f":"head1A","v":"2022/23"},{"$f":"Head1","v":"2023/24"},{"$f":"Head2","v":"Current Year 2024/25"},null,null,null,{"$f":"Head3","v":"2025/26 Medium Term Revenue & Expenditure Framework"}]
["R thousands",{"$f":"Head5","v":"Audited Outcome"},{"$f":"Head5","v":"Audited Outcome"},{"$f":"Head5","v":"Audited Outcome"},{"$f":"Head6","v":"Original Budget"},{"$f":"Head7","v":"Adjusted Budget"},{"$f":"Head8","v":"Full Year Forecast"},{"$f":"Head5b","v":"Pre-audit outcome"},{"$f":"Head9","v":"Budget Year 2025/26"},{"$f":"Head10","v":"Budget Year +1 2026/27"},{"$f":"Head11","v":"Budget Year +2 2027/28"}]
["Financial Performance"]
["Property rates",{"$f":"'A4-FinPerf RE'!C22","v":0},{"$f":"'A4-FinPerf RE'!D22","v":-8243475.9000000004},{"$f":"'A4-FinPerf RE'!E22","v":114403880},{"$f":"'A4-FinPerf RE'!F22","v":126113439},{"$f":"'A4-FinPerf RE'!G22","v":126113439},{"$f":"'A4-FinPerf RE'!H22","v":126113439},{"$f":"'A4-FinPerf RE'!I22","v":126113439},{"$f":"'A4-FinPerf RE'!J22","v":133680245},{"$f":"'A4-FinPerf RE'!K22","v":139829537},{"$f":"'A4-FinPerf RE'!L22","v":145982036}]
["Service charges",{"$f":"SUM('A4-FinPerf RE'!C6:C9)","v":215872172.53},{"$f":"SUM('A4-FinPerf RE'!D6:D9)","v":286976147.18999994},{"$f":"SUM('A4-FinPerf RE'!E6:E9)","v":304364114.82000005},{"$f":"SUM('A4-FinPerf RE'!F6:F9)","v":389378920},{"$f":"SUM('A4-FinPerf RE'!G6:G9)","v":360256443},{"$f":"SUM('A4-FinPerf RE'!H6:H9)","v":360256443},{"$f":"SUM('A4-FinPerf RE'!I6:I9)","v":382147870},{"$f":"SUM('A4-FinPerf RE'!J6:J9)","v":403050833},{"$f":"SUM('A4-FinPerf RE'!K6:K9)","v":421591171},{"$f":"SUM('A4-FinPerf RE'!L6:L9)","v":440141188}]
["Investment revenue",{"$f":"'A4-FinPerf RE'!C14","v":4193328.89},{"$f":"'A4-FinPerf RE'!D14","v":9010901.5700000003},{"$f":"'A4-FinPerf RE'!E14","v":8679930.25},{"$f":"'A4-FinPerf RE'!F14","v":7162122},{"$f":"'A4-FinPerf RE'!G14","v":7162122},{"$f":"'A4-FinPerf RE'!H14","v":7162122},{"$f":"'A4-FinPerf RE'!I14","v":7162122},{"$f":"'A4-FinPerf RE'!J14","v":7591849},{"$f":"'A4-FinPerf RE'!K14","v":7941074},{"$f":"'A4-FinPerf RE'!L14","v":8290483}]
["Transfer and subsidies - Operational",{"$f":"'A4-FinPerf RE'!C26","v":187503322.71000001},{"$f":"'A4-FinPerf RE'!D26","v":206836438.09999999},{"$f":"'A4-FinPerf RE'!E26","v":230565261.46000001},{"$f":"'A4-FinPerf RE'!F26","v":247286250},{"$f":"'A4-FinPerf RE'!G26","v":247286250},{"$f":"'A4-FinPerf RE'!H26","v":247286250},{"$f":"'A4-FinPerf RE'!I26","v":247286250},{"$f":"'A4-FinPerf RE'!J26","v":260209300},{"$f":"'A4-FinPerf RE'!K26","v":270519300},{"$f":"'A4-FinPerf RE'!L26","v":282880901}]
["Other own revenue",{"$f":"'A4-FinPerf RE'!C33-SUM(B5:B8)","v":63614787.120000005},{"$f":"'A4-FinPerf RE'!D33-SUM(C5:C8)","v":89030413.49000001},{"$f":"'A4-FinPerf RE'!E33-SUM(D5:D8)","v":91026975.689999938},{"$f":"'A4-FinPerf RE'!F33-SUM(E5:E8)","v":68506480},{"$f":"'A4-FinPerf RE'!G33-SUM(F5:F8)","v":94035232},{"$f":"'A4-FinPerf RE'!H33-SUM(G5:G8)","v":94035232},{"$f":"'A4-FinPerf RE'!I33-SUM(H5:H8)","v":94035232},{"$f":"'A4-FinPerf RE'!J33-SUM(I5:I8)","v":99677339},{"$f":"'A4-FinPerf RE'!K33-SUM(J5:J8)","v":104262497},{"$f":"'A4-FinPerf RE'!L33-SUM(K5:K8)","v":108850051}]
[{"$f":"'A4-FinPerf RE'!A33","v":"Total Revenue (excluding capital transfers and contributions)"},{"$f":"SUM(B5:B9)","v":471183611.25},{"$f":"SUM(C5:C9)","v":583610424.44999993},749040162.22000003,838447211,834853486,834853486,856744913,904209566,944143579,986144659]
["Employee costs",{"$f":"'A4-FinPerf RE'!C35","v":206453565.32999995},{"$f":"'A4-FinPerf RE'!D35","v":208879531.67000002},{"$f":"'A4-FinPerf RE'!E35","v":233561213.38},{"$f":"'A4-FinPerf RE'!F35","v":265297876},{"$f":"'A4-FinPerf RE'!G35","v":255043194},{"$f":"'A4-FinPerf RE'!H35","v":255043194},{"$f":"'A4-FinPerf RE'!I35","v":255043194},{"$f":"'A4-FinPerf RE'!J35","v":273856903},{"$f":"'A4-FinPerf RE'!K35","v":286454318},{"$f":"'A4-FinPerf RE'!L35","v":299058309}]
["Remuneration of councillors",{"$f":"'A4-FinPerf RE'!C36","v":12077627.939999999},{"$f":"'A4-FinPerf RE'!D36","v":13304794.01},{"$f":"'A4-FinPerf RE'!E36","v":14066021.140000001},{"$f":"'A4-FinPerf RE'!F36","v":15400984},{"$f":"'A4-FinPerf RE'!G36","v":15400984},{"$f":"'A4-FinPerf RE'!H36","v":15400984},{"$f":"'A4-FinPerf RE'!I36","v":15400984},{"$f":"'A4-FinPerf RE'!J36","v":16063226},{"$f":"'A4-FinPerf RE'!K36","v":16786070},{"$f":"'A4-FinPerf RE'!L36","v":17524658}]
["Depreciation and amortisation",{"$f":"'A4-FinPerf RE'!C40","v":87197833.969999999},{"$f":"'A4-FinPerf RE'!D40","v":87737832.680000007},{"$f":"'A4-FinPerf RE'!E40","v":94711817.649999991},{"$f":"'A4-FinPerf RE'!F40","v":94726306},{"$f":"'A4-FinPerf RE'!G40","v":91726306},{"$f":"'A4-FinPerf RE'!H40","v":91726306},{"$f":"'A4-FinPerf RE'!I40","v":91726306},{"$f":"'A4-FinPerf RE'!J40","v":95670536},{"$f":"'A4-FinPerf RE'!K40","v":100089500},{"$f":"'A4-FinPerf RE'!L40","v":104492645}]
["Interest",{"$f":"'A4-FinPerf RE'!C41","v":28468903.640000001},{"$f":"'A4-FinPerf RE'!D41","v":22435386.82},{"$f":"'A4-FinPerf RE'!E41","v":19716635.100000001},{"$f":"'A4-FinPerf RE'!F41","v":19600559},{"$f":"'A4-FinPerf RE'!G41","v":20603884},{"$f":"'A4-FinPerf RE'!H41","v":20603884},{"$f":"'A4-FinPerf RE'!I41","v":20603884},{"$f":"'A4-FinPerf RE'!J41","v":21489851},{"$f":"'A4-FinPerf RE'!K41","v":22478384},{"$f":"'A4-FinPerf RE'!L41","v":23467433}]
["Inventory consumed and bulk purchases",{"$f":"'A4-FinPerf RE'!C37+'A4-FinPerf RE'!C38","v":168407539.88999999},{"$f":"'A4-FinPerf RE'!D37+'A4-FinPerf RE'!D38","v":185829758.76999998},{"$f":"'A4-FinPerf RE'!E37+'A4-FinPerf RE'!E38","v":209864589.98999998},{"$f":"'A4-FinPerf RE'!F37+'A4-FinPerf RE'!F38","v":246634216},{"$f":"'A4-FinPerf RE'!G37+'A4-FinPerf RE'!G38","v":239632001},{"$f":"'A4-FinPerf RE'!H37+'A4-FinPerf RE'!H38","v":239632001},{"$f":"'A4-FinPerf RE'!I37+'A4-FinPerf RE'!I38","v":239632001},{"$f":"'A4-FinPerf RE'!J37+'A4-FinPerf RE'!J38","v":263364655},{"$f":"'A4-FinPerf RE'!K37+'A4-FinPerf RE'!K38","v":275479430},{"$f":"'A4-FinPerf RE'!L37+'A4-FinPerf RE'!L38","v":287600525}]
["Transfers and subsidies",{"$f":"'A4-FinPerf RE'!C43","v":553239.06000000006},{"$f":"'A4-FinPerf RE'!D43","v":581154},{"$f":"'A4-FinPerf RE'!E43","v":-1658973.04},{"$f":"'A4-FinPerf RE'!F43","v":1054137},{"$f":"'A4-FinPerf RE'!G43","v":2054137},{"$f":"'A4-FinPerf RE'!H43","v":2054137},{"$f":"'A4-FinPerf RE'!I43","v":2054137},{"$f":"'A4-FinPerf RE'!J43","v":2142467},{"$f":"'A4-FinPerf RE'!K43","v":2241018},{"$f":"'A4-FinPerf RE'!L43","v":2339622}]
["Other expenditure",{"$f":"'A4-FinPerf RE'!C48-SUM(B11:B16)","v":185085533.76000011},{"$f":"'A4-FinPerf RE'!D48-SUM(C11:C16)","v":188172409.88000005},{"$f":"'A4-FinPerf RE'!E48-SUM(D11:D16)","v":225880756.51999998},{"$f":"'A4-FinPerf RE'!F48-SUM(E11:E16)","v":192920944},{"$f":"'A4-FinPerf RE'!G48-SUM(F11:F16)","v":207606179},{"$f":"'A4-FinPerf RE'!H48-SUM(G11:G16)","v":207606179},{"$f":"'A4-FinPerf RE'!I48-SUM(H11:H16)","v":207606179},{"$f":"'A4-FinPerf RE'!J48-SUM(I11:I16)","v":228817471},{"$f":"'A4-FinPerf RE'!K48-SUM(J11:J16)","v":239101732},{"$f":"'A4-FinPerf RE'!L48-SUM(K11:K16)","v":244511448}]
[{"$f":"'A4-FinPerf RE'!A48","v":"Total Expenditure"},{"$f":"SUM(B11:B17)","v":688244243.59000003},{"$f":"SUM(C11:C17)","v":706940867.83000004},796142060.74000001,835635022,832066685,832066685,832066685,901405109,942630452,978994640]
[{"$f":"'A4-FinPerf RE'!A49","v":"Surplus/(Deficit)"},{"$f":"B10-B18","v":-217060632.34000003},{"$f":"C10-C18","v":-123330443.38000011},-47101898.519999981,2812189,2786801,2786801,24678228,2804457,1513127,7150019]
[{"$f":"'A4-FinPerf RE'!A50","v":"Transfers and subsidies - capital (monetary allocations)"},{"$f":"'A4-FinPerf RE'!C50","v":113640249.05},{"$f":"'A4-FinPerf RE'!D50","v":51369987.57},{"$f":"'A4-FinPerf RE'!E50","v":119891335.76000001},{"$f":"'A4-FinPerf RE'!F50","v":194004750},{"$f":"'A4-FinPerf RE'!G50","v":197604752},{"$f":"'A4-FinPerf RE'!H50","v":197604752},{"$f":"'A4-FinPerf RE'!I50","v":197604752},{"$f":"'A4-FinPerf RE'!J50","v":117237700},{"$f":"'A4-FinPerf RE'!K50","v":142940700},{"$f":"'A4-FinPerf RE'!L50","v":145253102}]
[{"$f":"'A4-FinPerf RE'!A51","v":"Transfers and subsidies - capital (in-kind)"},{"$f":"'A4-FinPerf RE'!C51","v":0},{"$f":"'A4-FinPerf RE'!D51","v":0},{"$f":"'A4-FinPerf RE'!E51","v":0},{"$f":"'A4-FinPerf RE'!F51","v":0},{"$f":"'A4-FinPerf RE'!G51","v":0},{"$f":"'A4-FinPerf RE'!H51","v":0},{"$f":"'A4-FinPerf RE'!I51","v":0},{"$f":"'A4-FinPerf RE'!J51","v":0},{"$f":"'A4-FinPerf RE'!K51","v":0},{"$f":"'A4-FinPerf RE'!L51","v":0}]
[{"$f":"'A4-FinPerf RE'!A52","v":"Surplus/(Deficit) after capital transfers & contributions"},{"$f":"B19+SUM(B20:B21)","v":-103420383.29000004},{"$f":"C19+SUM(C20:C21)","v":-71960455.810000122},72789437.240000024,196816939,200391553,200391553,222282980,120042157,144453827,152403121]
[{"$f":"'A4-FinPerf RE'!A58","v":"Share of Surplus/Deficit attributable to Associate"},{"$f":"'A4-FinPerf RE'!C58","v":0},{"$f":"'A4-FinPerf RE'!D58","v":0},{"$f":"'A4-FinPerf RE'!E58","v":0},{"$f":"'A4-FinPerf RE'!F58","v":0},{"$f":"'A4-FinPerf RE'!G58","v":0},{"$f":"'A4-FinPerf RE'!H58","v":0},{"$f":"'A4-FinPerf RE'!I58","v":0},{"$f":"'A4-FinPerf RE'!J58","v":0},{"$f":"'A4-FinPerf RE'!K58","v":0},{"$f":"'A4-FinPerf RE'!L58","v":0}]
[{"$f":"'A4-FinPerf RE'!A60","v":"Surplus/(Deficit) for the year"},{"$f":"B22+B23","v":-103420383.29000004},{"$f":"C22+C23","v":-71960455.810000122},72789437.240000024,196816939,200391553,200391553,222282980,120042157,144453827,152403121]
["Capital expenditure & funds sources"]
["Capital expenditure",{"$f":"'A5-Capex'!C63","v":126699002.93000001},{"$f":"'A5-Capex'!D63","v":56455530.109999999},{"$f":"'A5-Capex'!E63","v":113962780.80000001},{"$f":"'A5-Capex'!F63","v":224093950},{"$f":"'A5-Capex'!G63","v":265641673},{"$f":"'A5-Capex'!H63","v":265641673},{"$f":"'A5-Capex'!I63","v":265641673},{"$f":"'A5-Capex'!J63","v":157914047},{"$f":"'A5-Capex'!K63","v":154040702},{"$f":"'A5-Capex'!L63","v":134334158}]
["Transfers recognised - capital",{"$f":"'A5-Capex'!C70","v":101440103.81999999},{"$f":"'A5-Capex'!D70","v":46418809},{"$f":"'A5-Capex'!E70","v":96388604.879999995},{"$f":"'A5-Capex'!F70","v":194004750},{"$f":"'A5-Capex'!G70","v":221079752},{"$f":"'A5-Capex'!H70","v":221079752},{"$f":"'A5-Capex'!I70","v":221079752},{"$f":"'A5-Capex'!J70","v":117237700},{"$f":"'A5-Capex'!K70","v":142940700},{"$f":"'A5-Capex'!L70","v":133534118}]
[]
[{"$f":"'A5-Capex'!A72","v":"Borrowing"},{"$f":"'A5-Capex'!C72","v":0},{"$f":"'A5-Capex'!D72","v":0},{"$f":"'A5-Capex'!E72","v":0},{"$f":"'A5-Capex'!F72","v":0},{"$f":"'A5-Capex'!G72","v":0},{"$f":"'A5-Capex'!H72","v":0},{"$f":"'A5-Capex'!I72","v":0},{"$f":"'A5-Capex'!J72","v":0},{"$f":"'A5-Capex'!K72","v":0},{"$f":"'A5-Capex'!L72","v":0}]
[{"$f":"'A5-Capex'!A73","v":"Internally generated funds"},{"$f":"'A5-Capex'!C73","v":21994213.52},{"$f":"'A5-Capex'!D73","v":10036721.109999999},{"$f":"'A5-Capex'!E73","v":17574175.920000002},{"$f":"'A5-Capex'!F73","v":30089200},{"$f":"'A5-Capex'!G73","v":44561921},{"$f":"'A5-Capex'!H73","v":44561921},{"$f":"'A5-Capex'!I73","v":44561921},{"$f":"'A5-Capex'!J73","v":40676347},{"$f":"'A5-Capex'!K73","v":11100002},{"$f":"'A5-Capex'!L73","v":800040}]
["Total sources of capital funds",{"$f":"+B27+B29+B30","v":123434317.33999999},{"$f":"+C27+C29+C30","v":56455530.109999999},113962780.8,224093950,265641673,265641673,265641673,157914047,154040702,134334158]
["Financial position"]
[{"$f":"'A6-FinPos'!A13","v":"Total current assets"},{"$f":"'A6-FinPos'!C13","v":185749311.92000005},{"$f":"'A6-FinPos'!D13","v":284684672.26000005},{"$f":"'A6-FinPos'!E13","v":360371269.29999995},{"$f":"'A6-FinPos'!F13","v":643742981},{"$f":"'A6-FinPos'!G13","v":337458763},{"$f":"'A6-FinPos'!H13","v":337458763},{"$f":"'A6-FinPos'!I13","v":337458763},{"$f":"'A6-FinPos'!J13","v":319883124},{"$f":"'A6-FinPos'!K13","v":353178583},{"$f":"'A6-FinPos'!L13","v":371726278}]
[{"$f":"'A6-FinPos'!A25","v":"Total non current assets"},{"$f":"'A6-FinPos'!C25","v":1480791223.1599998},{"$f":"'A6-FinPos'!D25","v":1424824534.0099998},{"$f":"'A6-FinPos'!E25","v":1457583220.1299999},{"$f":"'A6-FinPos'!F25","v":1670676655},{"$f":"'A6-FinPos'!G25","v":1729224380},{"$f":"'A6-FinPos'!H25","v":1729224380},{"$f":"'A6-FinPos'!I25","v":1729224380},{"$f":"'A6-FinPos'!J25","v":1590521337},{"$f":"'A6-FinPos'!K25","v":1582229048},{"$f":"'A6-FinPos'!L25","v":1558119301}]
[{"$f":"'A6-FinPos'!A37","v":"Total current liabilities"},{"$f":"'A6-FinPos'!C37","v":264570206.25999999},{"$f":"'A6-FinPos'!D37","v":190518254.45999998},{"$f":"'A6-FinPos'!E37","v":213524789.81999999},{"$f":"'A6-FinPos'!F37","v":300930299},{"$f":"'A6-FinPos'!G37","v":156333115},{"$f":"'A6-FinPos'!H37","v":156333115},{"$f":"'A6-FinPos'!I37","v":156333115},{"$f":"'A6-FinPos'!J37","v":184426772},{"$f":"'A6-FinPos'!K37","v":183594250},{"$f":"'A6-FinPos'!L37","v":182764289}]
[{"$f":"'A6-FinPos'!A43","v":"Total non current liabilities"},{"$f":"'A6-FinPos'!C43","v":174914068.12},{"$f":"'A6-FinPos'!D43","v":223514490.45999998},{"$f":"'A6-FinPos'!E43","v":191636633.34},{"$f":"'A6-FinPos'!F43","v":223514490},{"$f":"'A6-FinPos'!G43","v":223514490},{"$f":"'A6-FinPos'!H43","v":223514490},{"$f":"'A6-FinPos'!I43","v":223514490},{"$f":"'A6-FinPos'!J43","v":223514490},{"$f":"'A6-FinPos'!K43","v":223514502},{"$f":"'A6-FinPos'!L43","v":223514502}]
["Community wealth/Equity",{"$f":"'A6-FinPos'!C50","v":1196402653.71},{"$f":"'A6-FinPos'!D50","v":1252503123.23},{"$f":"'A6-FinPos'!E50","v":1412793066.27},{"$f":"'A6-FinPos'!F50","v":1790606371},{"$f":"'A6-FinPos'!G50","v":1320954908},{"$f":"'A6-FinPos'!H50","v":1320954908},{"$f":"'A6-FinPos'!I50","v":1320954908},{"$f":"'A6-FinPos'!J50","v":649251079},{"$f":"'A6-FinPos'!K50","v":847656740},{"$f":"'A6-FinPos'!L50","v":855606034}]
["Cash flows"]
["Net cash from (used) operating",{"$f":"'A7-CFlow'!C17","v":-143615761.94},{"$f":"'A7-CFlow'!D17","v":381896339.54999995},{"$f":"'A7-CFlow'!E17","v":779506675.30000007},{"$f":"'A7-CFlow'!F17","v":437392562},{"$f":"'A7-CFlow'!G17","v":333282036},{"$f":"'A7-CFlow'!H17","v":333282036},{"$f":"'A7-CFlow'!I17","v":333282036},{"$f":"'A7-CFlow'!J17","v":156151455},{"$f":"'A7-CFlow'!K17","v":185812731},{"$f":"'A7-CFlow'!L17","v":182517968}]
["Net cash from (used) investing",{"$f":"'A7-CFlow'!C27","v":0},{"$f":"'A7-CFlow'!D27","v":0},{"$f":"'A7-CFlow'!E27","v":0},{"$f":"'A7-CFlow'!F27","v":0},{"$f":"'A7-CFlow'!G27","v":0},{"$f":"'A7-CFlow'!H27","v":0},{"$f":"'A7-CFlow'!I27","v":0},{"$f":"'A7-CFlow'!J27","v":-181601156},{"$f":"'A7-CFlow'!K27","v":-177146807},{"$f":"'A7-CFlow'!L27","v":-154484280}]
["Net cash from (used) financing",{"$f":"'A7-CFlow'!C36","v":0},{"$f":"'A7-CFlow'!D36","v":-7246029.79},{"$f":"'A7-CFlow'!E36","v":0},{"$f":"'A7-CFlow'!F36","v":-9422400},{"$f":"'A7-CFlow'!G36","v":0},{"$f":"'A7-CFlow'!H36","v":0},{"$f":"'A7-CFlow'!I36","v":0},{"$f":"'A7-CFlow'!J36","v":0},{"$f":"'A7-CFlow'!K36","v":0},{"$f":"'A7-CFlow'!L36","v":-2}]
[{"$f":"LEFT('A7-CFlow'!A40,37)","v":"Cash/cash equivalents at the year end"},{"$f":"'A7-CFlow'!C40","v":-48791120.939999998},{"$f":"'A7-CFlow'!D40","v":468705590.4799999},{"$f":"'A7-CFlow'!E40","v":870766847.30000007},{"$f":"'A7-CFlow'!F40","v":519237439},{"$f":"'A7-CFlow'!G40","v":424549313},{"$f":"'A7-CFlow'!H40","v":424549313},{"$f":"'A7-CFlow'!I40","v":424549313},{"$f":"'A7-CFlow'!J40","v":65824481},{"$f":"'A7-CFlow'!K40","v":74490405},{"$f":"'A7-CFlow'!L40","v":102524091}]
[]
["Cash backing/surplus reconciliation"]
[{"$f":"'A8-ResRecon'!A4","v":"Cash and investments available"},{"$f":"'A8-ResRecon'!C8","v":47731681.229999989},{"$f":"'A8-ResRecon'!D8","v":92968112.379999995},{"$f":"'A8-ResRecon'!E8","v":60711469.060000062},{"$f":"'A8-ResRecon'!F8","v":57830112},{"$f":"'A8-ResRecon'!G8","v":26088140},{"$f":"'A8-ResRecon'!H8","v":26088140},{"$f":"'A8-ResRecon'!I8","v":26088140},{"$f":"'A8-ResRecon'!J8","v":65824481},{"$f":"'A8-ResRecon'!K8","v":99940115},{"$f":"'A8-ResRecon'!L8","v":119308001}]
[{"$f":"'A8-ResRecon'!A10","v":"Application of cash and investments"},{"$f":"'A8-ResRecon'!C18","v":221125341.47},{"$f":"'A8-ResRecon'!D18","v":106568317.03999999},{"$f":"'A8-ResRecon'!E18","v":-264347205.19999999},{"$f":"'A8-ResRecon'!F18","v":-56807765},{"$f":"'A8-ResRecon'!G18","v":-24736276},{"$f":"'A8-ResRecon'!H18","v":-24736276},{"$f":"'A8-ResRecon'!I18","v":-22819276},{"$f":"'A8-ResRecon'!J18","v":-136682791},{"$f":"'A8-ResRecon'!K18","v":-136383073},{"$f":"'A8-ResRecon'!L18","v":-135216226}]
["Balance - surplus (shortfall)",{"$f":"B45-B46","v":-173393660.24000001},{"$f":"C45-C46","v":-13600204.659999996},325058674.26000005,114637877,50824416,50824416,48907416,202507272,236323188,254524227]
["Asset management"]
["Asset register summary (WDV)",{"$f":"'A9-Asset'!C180","v":1312931549.3499999},{"$f":"'A9-Asset'!D180","v":1201548977.5299997},{"$f":"'A9-Asset'!E180","v":1284600741.7799997},{"$f":"'A9-Asset'!F180","v":1441911155},{"$f":"'A9-Asset'!G180","v":1498200137},{"$f":"'A9-Asset'!H180","v":1498200137},null,{"$f":"'A9-Asset'!I180","v":1380174149},{"$f":"'A9-Asset'!J180","v":1371881861},{"$f":"'A9-Asset'!K180","v":1347772114}]
[{"$f":"'A9-Asset'!A183","v":"Depreciation"},{"$f":"'A9-Asset'!C183","v":87197833.969999999},{"$f":"'A9-Asset'!D183","v":87737832.680000022},{"$f":"'A9-Asset'!E183","v":94711817.650000006},{"$f":"'A9-Asset'!F183","v":94726306},{"$f":"'A9-Asset'!G183","v":91726306},{"$f":"'A9-Asset'!H183","v":91726306},null,{"$f":"'A9-Asset'!I183","v":95670536},{"$f":"'A9-Asset'!J183","v":100089486},{"$f":"'A9-Asset'!K183","v":104492631}]
["Renewal and Upgrading of Existing Assets",{"$f":"'A9-Asset'!C40+'A9-Asset'!C75","v":0},{"$f":"'A9-Asset'!D40+'A9-Asset'!D75","v":491000},{"$f":"'A9-Asset'!E40+'A9-Asset'!E75","v":23921171.48},{"$f":"'A9-Asset'!F40+'A9-Asset'!F75","v":53345189},{"$f":"'A9-Asset'!G40+'A9-Asset'!G75","v":61070139},{"$f":"'A9-Asset'!H40+'A9-Asset'!H75","v":61070139},null,{"$f":"'A9-Asset'!I40+'A9-Asset'!I75","v":1493966},{"$f":"'A9-Asset'!J40+'A9-Asset'!J75","v":10000000},{"$f":"'A9-Asset'!K40+'A9-Asset'!K75","v":11770193}]
["Repairs and Maintenance",{"$f":"'A9-Asset'!C184","v":9607592.6099999994},{"$f":"'A9-Asset'!D184","v":12675247.329999998},{"$f":"'A9-Asset'!E184","v":18518706.789999999},{"$f":"'A9-Asset'!F184","v":15957507},{"$f":"'A9-Asset'!G184","v":20142807},{"$f":"'A9-Asset'!H184","v":20142807},null,{"$f":"'A9-Asset'!I184","v":15281337},{"$f":"'A9-Asset'!J184","v":15477563},{"$f":"'A9-Asset'!K184","v":15428849}]
[]
["Free services"]
["Cost of Free Basic Services provided",{"$f":"'A10-SerDel'!C60","v":0},{"$f":"'A10-SerDel'!D60","v":0},{"$f":"'A10-SerDel'!E60","v":0},{"$f":"'A10-SerDel'!F60","v":0},{"$f":"'A10-SerDel'!G60","v":0},{"$f":"'A10-SerDel'!H60","v":0},null,{"$f":"'A10-SerDel'!I60","v":0},{"$f":"'A10-SerDel'!J60","v":0},{"$f":"'A10-SerDel'!K60","v":0}]
["Revenue cost of free services provided",{"$f":"'A10-SerDel'!C79","v":0},{"$f":"'A10-SerDel'!D79","v":0},{"$f":"'A10-SerDel'!E79","v":0},{"$f":"'A10-SerDel'!F79","v":0},{"$f":"'A10-SerDel'!G79","v":0},{"$f":"'A10-SerDel'!H79","v":0},null,{"$f":"'A10-SerDel'!I79","v":0},{"$f":"'A10-SerDel'!J79","v":0},{"$f":"'A10-SerDel'!K79","v":0}]
["Households below minimum service level"]
[{"$f":"'A10-SerDel'!A5","v":"Water:"},{"$f":"'A10-SerDel'!C14","v":0},{"$f":"'A10-SerDel'!D14","v":0},{"$f":"'A10-SerDel'!E14","v":0},{"$f":"'A10-SerDel'!F14","v":0},{"$f":"'A10-SerDel'!G14","v":0},{"$f":"'A10-SerDel'!H14","v":0},null,{"$f":"'A10-SerDel'!I14","v":0},{"$f":"'A10-SerDel'!J14","v":0},{"$f":"'A10-SerDel'!K14","v":0}]
[{"$f":"'A10-SerDel'!A16","v":"Sanitation/sewerage:"},{"$f":"'A10-SerDel'!C26","v":0},{"$f":"'A10-SerDel'!D26","v":0},{"$f":"'A10-SerDel'!E26","v":0},{"$f":"'A10-SerDel'!F26","v":0},{"$f":"'A10-SerDel'!G26","v":0},{"$f":"'A10-SerDel'!H26","v":0},null,{"$f":"'A10-SerDel'!I26","v":0},{"$f":"'A10-SerDel'!J26","v":0},{"$f":"'A10-SerDel'!K26","v":0}]
[{"$f":"'A10-SerDel'!A28","v":"Energy:"},{"$f":"'A10-SerDel'!C35","v":0},{"$f":"'A10-SerDel'!D35","v":0},{"$f":"'A10-SerDel'!E35","v":0},{"$f":"'A10-SerDel'!F35","v":0},{"$f":"'A10-SerDel'!G35","v":0},{"$f":"'A10-SerDel'!H35","v":0},null,{"$f":"'A10-SerDel'!I35","v":0},{"$f":"'A10-SerDel'!J35","v":0},{"$f":"'A10-SerDel'!K35","v":0}]
[{"$f":"'A10-SerDel'!A37","v":"Refuse:"},{"$f":"'A10-SerDel'!C45","v":0},{"$f":"'A10-SerDel'!D45","v":0},{"$f":"'A10-SerDel'!E45","v":0},{"$f":"'A10-SerDel'!F45","v":0},{"$f":"'A10-SerDel'!G45","v":0},{"$f":"'A10-SerDel'!H45","v":0},null,{"$f":"'A10-SerDel'!I45","v":0},{"$f":"'A10-SerDel'!J45","v":0},{"$f":"'A10-SerDel'!K45","v":0}]

{"sheet":"A2-FinPerf SC","index":7,"n_rows":54,"n_cols":11,"rows_kept":54,"cut":false,"hidden":false,"merged":[[53,0,53,10],[1,5,1,7],[1,8,1,10]]}
[{"$f":"muni&\" - \"&Approve3","v":"Choose name from list - Table A2 Budgeted Financial Performance (revenue and expenditure by functional classification)"}]
[{"$f":"\"Functional Classification \"&desc","v":"Functional Classification Description"},{"$f":"head27","v":"Ref"},{"$f":"head1b","v":"2021/22"},{"$f":"head1A","v":"2022/23"},{"$f":"Head1","v":"2023/24"},{"$f":"Head2","v":"Current Year 2024/25"},null,null,{"$f":"Head3","v":"2025/26 Medium Term Revenue & Expenditure Framework"}]
["R thousand",1,{"$f":"Head5","v":"Audited Outcome"},{"$f":"Head5","v":"Audited Outcome"},{"$f":"Head5","v":"Audited Outcome"},{"$f":"Head6","v":"Original Budget"},{"$f":"Head7","v":"Adjusted Budget"},{"$f":"Head8","v":"Full Year Forecast"},{"$f":"Head9","v":"Budget Year 2025/26"},{"$f":"Head10","v":"Budget Year +1 2026/27"},{"$f":"Head11","v":"Budget Year +2 2027/28"}]
["Revenue - Functional"]
["Governance and administration",null,{"$f":"SUM(C6:C8)","v":210987299.49000001},{"$f":"SUM(D6:D8)","v":253375213.89000002},381089387.70999998,408879817,420710370,420710370,425174063,443073487,462982598]
["Executive and council",null,{"$f":"A2A!C6","v":8950379.8300000001},{"$f":"A2A!D6","v":3383174.84},{"$f":"A2A!E6","v":9763928.25},{"$f":"A2A!F6","v":9290567},{"$f":"A2A!G6","v":9290573},{"$f":"A2A!H6","v":9290573},{"$f":"A2A!I6","v":769885},{"$f":"A2A!J6","v":774991},{"$f":"A2A!K6","v":302260}]
["Finance and administration",null,{"$f":"A2A!C9","v":202036919.66},{"$f":"A2A!D9","v":249992039.05000001},{"$f":"A2A!E9","v":371325459.45999998},{"$f":"A2A!F9","v":399589250},{"$f":"A2A!G9","v":411419797},{"$f":"A2A!H9","v":411419797},{"$f":"A2A!I9","v":424404178},{"$f":"A2A!J9","v":442298496},{"$f":"A2A!K9","v":462680338}]
["Internal audit",null,{"$f":"A2A!C23","v":0},{"$f":"A2A!D23","v":0},{"$f":"A2A!E23","v":0},{"$f":"A2A!F23","v":0},{"$f":"A2A!G23","v":0},{"$f":"A2A!H23","v":0},{"$f":"A2A!I23","v":0},{"$f":"A2A!J23","v":0},{"$f":"A2A!K23","v":0}]
["Community and public safety",null,{"$f":"SUM(C10:C14)","v":10850549.699999999},{"$f":"SUM(D10:D14)","v":27654928.899999999},1127208.3900000001,866877,3264951,3264951,6013087,6287549,6644815]
["Community and social services",null,{"$f":"A2A!C26","v":-160364.56000000006},{"$f":"A2A!D26","v":20717776.509999998},{"$f":"A2A!E26","v":483533.39},{"$f":"A2A!F26","v":201682},{"$f":"A2A!G26","v":201682},{"$f":"A2A!H26","v":201682},{"$f":"A2A!I26","v":219193},{"$f":"A2A!J26","v":226773},{"$f":"A2A!K26","v":300636}]
["Sport and recreation",null,{"$f":"A2A!C48","v":0},{"$f":"A2A!D48","v":0},{"$f":"A2A!E48","v":0},{"$f":"A2A!F48","v":0},{"$f":"A2A!G48","v":0},{"$f":"A2A!H48","v":0},{"$f":"A2A!I48","v":0},{"$f":"A2A!J48","v":0},{"$f":"A2A!K48","v":0}]
["Public safety",null,{"$f":"A2A!C54","v":10962299.75},{"$f":"A2A!D54","v":6371547.9800000004},{"$f":"A2A!E54","v":643675},{"$f":"A2A!F54","v":665195},{"$f":"A2A!G54","v":3063269},{"$f":"A2A!H54","v":3063269},{"$f":"A2A!I54","v":5793894},{"$f":"A2A!J54","v":6060776},{"$f":"A2A!K54","v":6344179}]
["Housing",null,{"$f":"A2A!C63","v":48614.51},{"$f":"A2A!D63","v":565604.41},{"$f":"A2A!E63","v":0},{"$f":"A2A!F63","v":0},{"$f":"A2A!G63","v":0},{"$f":"A2A!H63","v":0},{"$f":"A2A!I63","v":0},{"$f":"A2A!J63","v":0},{"$f":"A2A!K63","v":0}]
["Health",null,{"$f":"A2A!C66","v":0},{"$f":"A2A!D66","v":0},{"$f":"A2A!E66","v":0},{"$f":"A2A!F66","v":0},{"$f":"A2A!G66","v":0},{"$f":"A2A!H66","v":0},{"$f":"A2A!I66","v":0},{"$f":"A2A!J66","v":0},{"$f":"A2A!K66","v":0}]
["Economic and environmental services",null,{"$f":"SUM(C16:C18)","v":45783783.100000001},{"$f":"SUM(D16:D18)","v":6886481.0599999996},66349281.729999997,50444601,52842676,52842676,52617395,56929312,59456470]
["Planning and development",null,{"$f":"A2A!C75","v":1022346.52},{"$f":"A2A!D75","v":1264829.5900000001},{"$f":"A2A!E75","v":918058.15},{"$f":"A2A!F75","v":1290897},{"$f":"A2A!G75","v":3688972},{"$f":"A2A!H75","v":3688972},{"$f":"A2A!I75","v":1337896},{"$f":"A2A!J75","v":1438502},{"$f":"A2A!K75","v":1525400}]
["Road transport",null,{"$f":"A2A!C86","v":44761436.579999998},{"$f":"A2A!D86","v":5621651.4699999997},{"$f":"A2A!E86","v":65431223.579999998},{"$f":"A2A!F86","v":49153704},{"$f":"A2A!G86","v":49153704},{"$f":"A2A!H86","v":49153704},{"$f":"A2A!I86","v":51279499},{"$f":"A2A!J86","v":55490810},{"$f":"A2A!K86","v":57931070}]
["Environmental protection",null,{"$f":"A2A!C91","v":0},{"$f":"A2A!D91","v":0},{"$f":"A2A!E91","v":0},{"$f":"A2A!F91","v":0},{"$f":"A2A!G91","v":0},{"$f":"A2A!H91","v":0},{"$f":"A2A!I91","v":0},{"$f":"A2A!J91","v":0},{"$f":"A2A!K91","v":0}]
["Trading services",null,{"$f":"SUM(C20:C23)","v":317202228.00999999},{"$f":"SUM(D20:D23)","v":352397136.64999998},411311232.77999997,562637878,543480199,543480199,524753076,{"$f":"SUM(J20:J23)","v":567311363},588238076]
["Energy sources",null,{"$f":"A2A!C99","v":164880991},{"$f":"A2A!D99","v":184594819.09},{"$f":"A2A!E99","v":210037946.46000001},{"$f":"A2A!F99","v":283716948},{"$f":"A2A!G99","v":263681746},{"$f":"A2A!H99","v":263681746},{"$f":"A2A!I99","v":317041024},{"$f":"A2A!J99","v":338660144},{"$f":"A2A!K99","v":357980277}]
["Water management",null,{"$f":"A2A!C103","v":100863110.23999999},{"$f":"A2A!D103","v":108439078.03999999},{"$f":"A2A!E103","v":135150794.66999999},{"$f":"A2A!F103","v":215575923},{"$f":"A2A!G103","v":213575923},{"$f":"A2A!H103","v":213575923},{"$f":"A2A!I103","v":139040465},{"$f":"A2A!J103","v":156832806},{"$f":"A2A!K103","v":154616671}]
["Waste water management",null,{"$f":"A2A!C107","v":28318532.43},{"$f":"A2A!D107","v":30665950.550000001},{"$f":"A2A!E107","v":33436368.890000001},{"$f":"A2A!F107","v":34898848},{"$f":"A2A!G107","v":36032283},{"$f":"A2A!H107","v":36032283},{"$f":"A2A!I107","v":38113894},{"$f":"A2A!J107","v":39859123},{"$f":"A2A!K107","v":42462197}]
["Waste management",null,{"$f":"A2A!C112","v":23139594.34},{"$f":"A2A!D112","v":28697288.969999999},{"$f":"A2A!E112","v":32686122.760000002},{"$f":"A2A!F112","v":28446159},{"$f":"A2A!G112","v":30190247},{"$f":"A2A!H112","v":30190247},{"$f":"A2A!I112","v":30557693},{"$f":"A2A!J112","v":31959290},{"$f":"A2A!K112","v":33178931}]
["Other",4,{"$f":"A2A!C117","v":0},{"$f":"A2A!D117","v":2910127.42},{"$f":"A2A!E117","v":9054387.3699999992},{"$f":"A2A!F117","v":9622788},{"$f":"A2A!G117","v":12160042},{"$f":"A2A!H117","v":12160042},{"$f":"A2A!I117","v":12889645},{"$f":"A2A!J117","v":13482568},{"$f":"A2A!K117","v":14075802}]
[{"$f":"\"Total \"&A4","v":"Total Revenue - Functional"},2,{"$f":"C5+C9+C15+C19+C24","v":584823860.29999995},{"$f":"D5+D9+D15+D19+D24","v":643223887.91999996},{"$f":"E5+E9+E15+E19+E24","v":868931497.9799999},1032451961,1032458238,1032458238,{"$f":"I5+I9+I15+I19+I24","v":1021447266},1087084279,1131397761]
[]
["Expenditure - Functional"]
["Governance and administration",null,{"$f":"SUM(C29:C31)","v":328488658.31},{"$f":"SUM(D29:D31)","v":311291838.40999997},228773679.25000003,262950489,285417572,285417572,328405394,332473494,355322268]
["Executive and council",null,{"$f":"A2A!C128","v":197182964.75},{"$f":"A2A!D128","v":130033032.11999999},{"$f":"A2A!E128","v":44135856.510000005},{"$f":"A2A!F128","v":69366072},{"$f":"A2A!G128","v":78270302},{"$f":"A2A!H128","v":78270302},{"$f":"A2A!I128","v":68039607},{"$f":"A2A!J128","v":57280304},{"$f":"A2A!K128","v":58557856}]
["Finance and administration",null,{"$f":"A2A!C131","v":129082090.17999999},{"$f":"A2A!D131","v":175025751.02999997},{"$f":"A2A!E131","v":181648899.51000002},{"$f":"A2A!F131","v":190613414},{"$f":"A2A!G131","v":204176267},{"$f":"A2A!H131","v":204176267},{"$f":"A2A!I131","v":256217033},{"$f":"A2A!J131","v":270853591},{"$f":"A2A!K131","v":292253773}]
["Internal audit",null,{"$f":"A2A!C145","v":2223603.38},{"$f":"A2A!D145","v":6233055.2599999998},{"$f":"A2A!E145","v":2988923.23},{"$f":"A2A!F145","v":2971003},{"$f":"A2A!G145","v":2971003},{"$f":"A2A!H145","v":2971003},{"$f":"A2A!I145","v":4148754},{"$f":"A2A!J145","v":4339599},{"$f":"A2A!K145","v":4510639}]
["Community and public safety",null,{"$f":"SUM(C33:C37)","v":52762824.569999993},{"$f":"SUM(D33:D37)","v":40324286.810000002},59999578.259999998,61210286,60909286,60909286,62558140,64275927,69517632]
["Community and social services",null,{"$f":"A2A!C148","v":29168667.899999999},{"$f":"A2A!D148","v":23047232.34},{"$f":"A2A!E148","v":33670880.369999997},{"$f":"A2A!F148","v":30941634},{"$f":"A2A!G148","v":31140634},{"$f":"A2A!H148","v":31140634},{"$f":"A2A!I148","v":33700335},{"$f":"A2A!J148","v":34776198},{"$f":"A2A!K148","v":39501525}]
["Sport and recreation",null,{"$f":"A2A!C170","v":129064.58},{"$f":"A2A!D170","v":324744.71999999997},{"$f":"A2A!E170","v":2471400.89},{"$f":"A2A!F170","v":505034},{"$f":"A2A!G170","v":505034},{"$f":"A2A!H170","v":505034},{"$f":"A2A!I170","v":531368},{"$f":"A2A!J170","v":552110},{"$f":"A2A!K170","v":551966}]
["Public safety",null,{"$f":"A2A!C176","v":19680571},{"$f":"A2A!D176","v":13674779.689999999},{"$f":"A2A!E176","v":20141554.619999997},{"$f":"A2A!F176","v":25306341},{"$f":"A2A!G176","v":24806341},{"$f":"A2A!H176","v":24806341},{"$f":"A2A!I176","v":23573467},{"$f":"A2A!J176","v":24061809},{"$f":"A2A!K176","v":24455414}]
["Housing",null,{"$f":"A2A!C185","v":3784521.09},{"$f":"A2A!D185","v":3277530.06},{"$f":"A2A!E185","v":3715742.38},{"$f":"A2A!F185","v":4457277},{"$f":"A2A!G185","v":4457277},{"$f":"A2A!H185","v":4457277},{"$f":"A2A!I185","v":4752970},{"$f":"A2A!J185","v":4885810},{"$f":"A2A!K185","v":5008727}]
["Health",null,{"$f":"A2A!C188","v":0},{"$f":"A2A!D188","v":0},{"$f":"A2A!E188","v":0},{"$f":"A2A!F188","v":0},{"$f":"A2A!G188","v":0},{"$f":"A2A!H188","v":0},{"$f":"A2A!I188","v":0},{"$f":"A2A!J188","v":0},{"$f":"A2A!K188","v":0}]
["Economic and environmental services",null,{"$f":"SUM(C39:C41)","v":31041454.149999999},{"$f":"SUM(D39:D41)","v":39815422.57},33757302.299999997,76824868,75534903,75534903,77485056,80806999,82803017]
["Planning and development",null,{"$f":"A2A!C197","v":16365242.720000001},{"$f":"A2A!D197","v":16123735.439999999},{"$f":"A2A!E197","v":14435661.32},{"$f":"A2A!F197","v":20995599},{"$f":"A2A!G197","v":19435994},{"$f":"A2A!H197","v":19435994},{"$f":"A2A!I197","v":24360290},{"$f":"A2A!J197","v":25704003},{"$f":"A2A!K197","v":24959058}]
["Road transport",null,{"$f":"A2A!C208","v":14676211.43},{"$f":"A2A!D208","v":23691687.129999999},{"$f":"A2A!E208","v":19321640.98},{"$f":"A2A!F208","v":55829269},{"$f":"A2A!G208","v":56098909},{"$f":"A2A!H208","v":56098909},{"$f":"A2A!I208","v":53124766},{"$f":"A2A!J208","v":55102996},{"$f":"A2A!K208","v":57843959}]
["Environmental protection",null,{"$f":"A2A!C213","v":0},{"$f":"A2A!D213","v":0},{"$f":"A2A!E213","v":0},{"$f":"A2A!F213","v":0},{"$f":"A2A!G213","v":0},{"$f":"A2A!H213","v":0},{"$f":"A2A!I213","v":0},{"$f":"A2A!J213","v":0},{"$f":"A2A!K213","v":0}]
["Trading services",null,{"$f":"SUM(C43:C46)","v":275951306.56},{"$f":"SUM(D43:D46)","v":315509320.03999996},473611500.93000007,{"$f":"SUM(F43:F46)","v":434649380},410204925,410204925,432956519,465074032,{"$f":"SUM(K43:K46)","v":471351723}]
["Energy sources",null,{"$f":"A2A!C221","v":149723065.16},{"$f":"A2A!D221","v":167221066.88},{"$f":"A2A!E221","v":214995149.31999999},{"$f":"A2A!F221","v":227118574},{"$f":"A2A!G221","v":224222166},{"$f":"A2A!H221","v":224222166},{"$f":"A2A!I221","v":241173071},{"$f":"A2A!J221","v":251683069},{"$f":"A2A!K221","v":260773065}]
["Water management",null,{"$f":"A2A!C225","v":88928901.349999994},{"$f":"A2A!D225","v":94234505.829999998},{"$f":"A2A!E225","v":206902918.53},{"$f":"A2A!F225","v":147955510},{"$f":"A2A!G225","v":115559308},{"$f":"A2A!H225","v":115559308},{"$f":"A2A!I225","v":133548362},{"$f":"A2A!J225","v":152882869},{"$f":"A2A!K225","v":146481485}]
["Waste water management",null,{"$f":"A2A!C229","v":13103503.57},{"$f":"A2A!D229","v":28639091.75},{"$f":"A2A!E229","v":29548603.859999999},{"$f":"A2A!F229","v":35675658},{"$f":"A2A!G229","v":39128999},{"$f":"A2A!H229","v":39128999},{"$f":"A2A!I229","v":34507422},{"$f":"A2A!J229","v":35813043},{"$f":"A2A!K229","v":37586563}]
["Waste management",null,{"$f":"A2A!C234","v":24195836.48},{"$f":"A2A!D234","v":25414655.579999998},{"$f":"A2A!E234","v":22164829.219999999},{"$f":"A2A!F234","v":23899638},{"$f":"A2A!G234","v":31294452},{"$f":"A2A!H234","v":31294452},{"$f":"A2A!I234","v":23727664},{"$f":"A2A!J234","v":24695051},{"$f":"A2A!K234","v":26510610}]
["Other",4,{"$f":"A2A!C239","v":0},{"$f":"A2A!D239","v":0},{"$f":"A2A!E239","v":0},{"$f":"A2A!F239","v":0},{"$f":"A2A!G239","v":0},{"$f":"A2A!H239","v":0},{"$f":"A2A!I239","v":0},{"$f":"A2A!J239","v":0},{"$f":"A2A!K239","v":0}]
[{"$f":"\"Total \"&A27","v":"Total Expenditure - Functional"},3,{"$f":"C28+C32+C38+C42+C47","v":688244243.58999991},{"$f":"D28+D32+D38+D42+D47","v":706940867.82999992},{"$f":"E28+E32+E38+E42+E47","v":796142060.74000013},{"$f":"F28+F32+F38+F42+F47","v":835635023},832066686,832066686,901405109,942630452,978994640]
[{"$f":"result","v":"Surplus/(Deficit) for the year"},null,{"$f":"C25-C48","v":-103420383.28999996},{"$f":"D25-D48","v":-63716979.909999967},72789437.239999771,196816938,200391552,200391552,120042157,144453827,152403121]
[{"$f":"head27a","v":"References"}]
["1. Government Finance Statistics Functions and Sub-functions are standardised to assist the compilation of national and international accounts for comparison purposes"]
["2. Total Revenue by functional classification must reconcile to Total Operating Revenue shown in Budgeted Financial Performance (revenue and expenditure)"]
["3. Total Expenditure by Functional Classification must reconcile to Total Operating Expenditure shown in Budgeted Financial Performance (revenue and expenditure)"]
["4. All amounts must be classified under a functional classification . The GFS function 'Other' is only for Abbatoirs, Air Transport,  Forestry, Licensing and Regulation, Markets and Tourism - and if used must be supported by footnotes. Nothing else may be placed under 'Other'. Assign associate share to relevant classification."]

{"sheet":"A2A","index":8,"n_rows":252,"n_cols":11,"rows_kept":252,"cut":false,"hidden":false,"merged":[[1,5,1,7],[1,8,1,10],[251,0,251,10]]}
[{"$f":"muni&\" - \"&Approve3","v":"Choose name from list - Table A2 Budgeted Financial Performance (revenue and expenditure by functional classification)"}]
[{"$f":"\"Functional Classification \"&desc","v":"Functional Classification Description"},{"$f":"head27","v":"Ref"},{"$f":"head1b","v":"2021/22"},{"$f":"head1A","v":"2022/23"},{"$f":"Head1","v":"2023/24"},{"$f":"Head2","v":"Current Year 2024/25"},null,null,{"$f":"Head3","v":"2025/26 Medium Term Revenue & Expenditure Framework"}]
["R thousand",1,{"$f":"Head5","v":"Audited Outcome"},{"$f":"Head5","v":"Audited Outcome"},{"$f":"Head5","v":"Audited Outcome"},{"$f":"Head6","v":"Original Budget"},{"$f":"Head7","v":"Adjusted Budget"},{"$f":"Head8","v":"Full Year Forecast"},{"$f":"Head9","v":"Budget Year 2025/26"},{"$f":"Head10","v":"Budget Year +1 2026/27"},{"$f":"Head11","v":"Budget Year +2 2027/28"}]
["Revenue - Functional"]
["Municipal governance and administration",null,{"$f":"C6+C9+C23","v":210987299.49000001},{"$f":"D6+D9+D23","v":253375213.89000002},381089387.70999998,408879817,420710370,420710370,425174063,443073487,462982598]
["Executive and council",null,{"$f":"SUM(C7:C8)","v":8950379.8300000001},{"$f":"SUM(D7:D8)","v":3383174.84},9763928.25,9290567,9290573,9290573,769885,774991,302260]
["Mayor and Council",null,534861.88,555330.97,414047.86,708387,708387,708387,769885,774991,302259]
["Municipal Manager, Town Secretary and Chief Executive",null,8415517.9499999993,2827843.87,9349880.3900000006,8582180,8582186,8582186,0,0,1]
["Finance and administration",null,{"$f":"SUM(C10:C22)","v":202036919.66},{"$f":"SUM(D10:D22)","v":249992039.05000001},371325459.45999998,399589250,411419797,411419797,424404178,442298496,462680338]
["Administrative and Corporate Support",null,0,0,0,0,0,0,0,0,0]
["Asset Management",null,0,0,0,0,0,0,0,0,0]
["Finance",null,202036919.66,249992039.05000001,371325459.45999998,399056604,410887151,410887151,424404178,442298496,462680338]
["Fleet Management",null,0,0,0,0,0,0,0,0,0]
["Human Resources",null,0,0,0,532646,532646,532646,0,0,0]
["Information Technology",null,0,0,0,0,0,0,0,0,0]
["Legal Services",null,0,0,0,0,0,0,0,0,0]
["Marketing, Customer Relations, Publicity and Media Co-ordination",null,0,0,0,0,0,0,0,0,0]
["Property Services",null,0,0,0,0,0,0,0,0,0]
["Risk Management",null,0,0,0,0,0,0,0,0,0]
["Security Services",null,0,0,0,0,0,0,0,0,0]
["Supply Chain Management ",null,0,0,0,0,0,0,0,0,0]
["Valuation Service",null,0,0,0,0,0,0,0,0,0]
["Internal audit",null,{"$f":"SUM(C24:C24)","v":0},{"$f":"SUM(D24:D24)","v":0},0,0,0,0,0,0,0]
["Governance Function",null,0,0,0,0,0,0,0,0,0]
["Community and public safety",null,{"$f":"C26+C48+C54+C63+C66","v":10850549.699999999},{"$f":"D26+D48+D54+D63+D66","v":27654928.899999999},1127208.3900000001,866877,3264951,3264951,6013087,6287549,6644815]
["Community and social services",null,{"$f":"SUM(C27:C47)","v":-160364.56000000006},{"$f":"SUM(D27:D47)","v":20717776.509999998},483533.39,201682,201682,201682,219193,226773,300636]
["Aged Care",null,0,0,0,0,0,0,0,0,0]
["Agricultural",null,0,0,0,0,0,0,0,0,0]
["Animal Care and Diseases",null,0,0,0,0,0,0,0,0,0]
["Cemeteries, Funeral Parlours and Crematoriums",null,0,0,0,0,0,0,0,0,0]
["Child Care Facilities",null,0,0,0,0,0,0,0,0,0]
["Community Halls and Facilities",null,553815.47,67242.539999999994,115367.78,159944,159944,159944,174495,181127,149567]
["Consumer Protection",null,0,0,0,0,0,0,0,0,0]
["Cultural Matters",null,0,0,0,0,0,0,0,0,0]
["Disaster Management",null,0,0,0,0,0,0,0,0,0]
["Education",null,0,0,0,0,0,0,0,0,0]
["Indigenous and Customary Law",null,0,0,0,0,0,0,0,0,0]
["Industrial Promotion",null,0,0,0,0,0,0,0,0,0]
["Language Policy",null,0,0,0,0,0,0,0,0,0]
["Libraries and Archives",null,-714180.03,20650533.969999999,368165.61,41738,41738,41738,44698,45646,151069]
["Literacy Programmes",null,0,0,0,0,0,0,0,0,0]
["Media Services",null,0,0,0,0,0,0,0,0,0]
["Museums and Art Galleries",null,0,0,0,0,0,0,0,0,0]
["Population Development",null,0,0,0,0,0,0,0,0,0]
["Provincial Cultural Matters",null,0,0,0,0,0,0,0,0,0]
["Theatres",null,0,0,0,0,0,0,0,0,0]
["Zoo's",null,0,0,0,0,0,0,0,0,0]
["Sport and recreation",null,{"$f":"SUM(C49:C53)","v":0},{"$f":"SUM(D49:D53)","v":0},0,0,0,0,0,0,0]
["Beaches and Jetties ",null,0,0,0,0,0,0,0,0,0]
["Casinos, Racing, Gambling, Wagering",null,0,0,0,0,0,0,0,0,0]
["Community Parks (including Nurseries)",null,0,0,0,0,0,0,0,0,0]
["Recreational Facilities",null,0,0,0,0,0,0,0,0,0]
["Sports Grounds and Stadiums",null,0,0,0,0,0,0,0,0,0]
["Public safety",null,{"$f":"SUM(C55:C62)","v":10962299.75},{"$f":"SUM(D55:D62)","v":6371547.9800000004},643675,665195,3063269,3063269,5793894,6060776,6344179]
["Civil Defence",null,0,0,0,0,0,0,0,0,0]
["Cleansing",null,0,0,0,0,0,0,0,0,0]
["Control of Public Nuisances",null,0,0,0,0,0,0,0,0,0]
["Fencing and Fences ",null,0,0,0,0,0,0,0,0,0]
["Fire Fighting and Protection",null,0,0,0,0,0,0,0,0,0]
["Licensing and Control of Animals",null,10372971.98,5906347.6600000001,0,0,0,0,0,0,0]
["Police Forces, Traffic and Street Parking Control",null,589327.77,465200.32,643675,665195,3063269,3063269,5793894,6060776,6344179]
["Pounds",null,0,0,0,0,0,0,0,0,0]
["Housing",null,{"$f":"SUM(C64:C65)","v":48614.51},{"$f":"SUM(D64:D65)","v":565604.41},0,0,0,0,0,0,0]
["Housing",null,48614.51,565604.41,0,0,0,0,0,0,0]
["Informal Settlements",null,0,0,0,0,0,0,0,0,0]
["Health",null,{"$f":"SUM(C67:C73)","v":0},{"$f":"SUM(D67:D73)","v":0},0,0,0,0,0,0,0]
["Ambulance",null,0,0,0,0,0,0,0,0,0]
["Health Services",null,0,0,0,0,0,0,0,0,0]
["Laboratory Services",null,0,0,0,0,0,0,0,0,0]
["Food Control",null,0,0,0,0,0,0,0,0,0]
["Health Surveillance and Prevention of Communicable Diseases including immunizations",null,0,0,0,0,0,0,0,0,0]
["Vector Control",null,0,0,0,0,0,0,0,0,0]
["Chemical Safety",null,0,0,0,0,0,0,0,0,0]
["Economic and environmental services",null,{"$f":"C75+C86+C91","v":45783783.100000001},{"$f":"D75+D86+D91","v":6886481.0599999996},66349281.729999997,50444601,52842676,52842676,52617395,56929312,59456470]
["Planning and development",null,{"$f":"SUM(C76:C85)","v":1022346.52},{"$f":"SUM(D76:D85)","v":1264829.5900000001},918058.15,1290897,3688972,3688972,1337896,1438502,1525400]
["Billboards",null,0,0,0,0,0,0,0,0,0]
["Corporate Wide Strategic Planning (IDPs, LEDs)",null,0,0,0,0,0,0,0,0,0]
["Central City Improvement District",null,0,0,0,0,0,0,0,0,0]
["Development Facilitation",null,0,0,0,0,0,0,0,0,0]
["Economic Development/Planning",null,0,0,0,0,0,0,0,0,0]
["Regional Planning and Development",null,0,0,0,0,0,0,0,0,0]
["Town Planning, Building Regulations and Enforcement, and City Engineer",null,1022346.52,1264829.5900000001,918058.15,1290897,3688972,3688972,1337896,1438502,1525400]
["Project Management Unit",null,0,0,0,0,0,0,0,0,0]
["Provincial Planning",null,0,0,0,0,0,0,0,0,0]
["Support to Local Municipalities",null,0,0,0,0,0,0,0,0,0]
["Road transport",null,{"$f":"SUM(C87:C90)","v":44761436.579999998},{"$f":"SUM(D87:D90)","v":5621651.4699999997},65431223.579999998,49153704,49153704,49153704,51279499,55490810,57931070]
["Public Transport",null,0,0,0,0,0,0,0,0,0]
["Road and Traffic Regulation",null,0,0,0,0,0,0,0,0,0]
["Roads",null,44761436.579999998,5621651.4699999997,65431223.579999998,49153704,49153704,49153704,51279499,55490810,57931070]
["Taxi Ranks",null,0,0,0,0,0,0,0,0,0]
["Environmental protection",null,{"$f":"SUM(C92:C97)","v":0},{"$f":"SUM(D92:D97)","v":0},0,0,0,0,0,0,0]
["Biodiversity and Landscape",null,0,0,0,0,0,0,0,0,0]
["Coastal Protection",null,0,0,0,0,0,0,0,0,0]
["Indigenous Forests",null,0,0,0,0,0,0,0,0,0]
["Nature Conservation",null,0,0,0,0,0,0,0,0,0]
["Pollution Control",null,0,0,0,0,0,0,0,0,0]
["Soil Conservation",null,0,0,0,0,0,0,0,0,0]
["Trading services",null,{"$f":"C99+C103+C107+C112","v":317202228.00999999},{"$f":"D99+D103+D107+D112","v":352397136.64999998},411311232.77999997,562637878,543480199,543480199,524753076,567311363,{"$f":"K99+K103+K107+K112","v":588238076}]
["Energy sources",null,{"$f":"SUM(C100:C102)","v":164880991},{"$f":"SUM(D100:D102)","v":184594819.09},210037946.46000001,283716948,263681746,263681746,317041024,338660144,357980277]
["Electricity ",null,164880991,184594819.09,210037946.46000001,283716948,263681746,263681746,317041024,338660144,357980277]
["Street Lighting and Signal Systems",null,0,0,0,0,0,0,0,0,0]
["Nonelectric Energy",null,0,0,0,0,0,0,0,0,0]
["Water management",null,{"$f":"SUM(C104:C106)","v":100863110.23999999},{"$f":"SUM(D104:D106)","v":108439078.03999999},135150794.66999999,215575923,213575923,213575923,139040465,156832806,154616671]
["Water Treatment",null,271895,204802.1,0,0,0,0,0,0,0]
["Water Distribution",null,100591215.23999999,108234275.94,135150794.66999999,215575923,213575923,213575923,139040465,156832806,154616671]
["Water Storage",null,0,0,0,0,0,0,0,0,0]
["Waste water management",null,{"$f":"SUM(C108:C111)","v":28318532.43},{"$f":"SUM(D108:D111)","v":30665950.550000001},33436368.890000001,34898848,36032283,36032283,38113894,39859123,42462197]
["Public Toilets",null,0,0,0,0,0,0,0,0,0]
["Sewerage",null,28318532.43,30665950.550000001,33436368.890000001,34898848,36032283,36032283,38113894,39859123,42462197]
["Storm Water Management",null,0,0,0,0,0,0,0,0,0]
["Waste Water Treatment",null,0,0,0,0,0,0,0,0,0]
["Waste management",null,{"$f":"SUM(C113:C116)","v":23139594.34},{"$f":"SUM(D113:D116)","v":28697288.969999999},32686122.760000002,28446159,30190247,30190247,30557693,31959290,33178931]
["Recycling",null,0,0,0,0,0,0,0,0,0]
["Solid Waste Disposal (Landfill Sites)",null,0,0,0,0,0,0,0,0,0]
["Solid Waste Removal",null,23139594.34,28697288.969999999,32686122.760000002,28446159,30190247,30190247,30557693,31959290,33178931]
["Street Cleaning",null,0,0,0,0,0,0,0,0,0]
["Other",null,{"$f":"SUM(C118:C123)","v":0},{"$f":"SUM(D118:D123)","v":2910127.42},9054387.3699999992,9622788,12160042,12160042,12889645,13482568,14075802]
["Abattoirs",null,0,0,0,0,0,0,0,0,0]
["Air Transport",null,0,0,0,0,0,0,0,0,0]
["Forestry ",null,0,0,0,0,0,0,0,0,0]
["Licensing and Regulation",null,0,2910127.42,9054387.3699999992,9622788,12160042,12160042,12889645,13482568,14075802]
["Markets",null,0,0,0,0,0,0,0,0,0]
["Tourism",null,0,0,0,0,0,0,0,0,0]
[{"$f":"\"Total \"&A4","v":"Total Revenue - Functional"},2,{"$f":"C5+C25+C74+C98+C117","v":584823860.29999995},{"$f":"D5+D25+D74+D98+D117","v":643223887.91999996},868931497.9799999,1032451961,1032458238,1032458238,1021447266,1087084279,1131397761]
[]
["Expenditure - Functional"]
[{"$f":"A5","v":"Municipal governance and administration"},null,{"$f":"C128+C131+C145","v":328488658.31},{"$f":"D128+D131+D145","v":311291838.40999997},228773679.25000003,262950489,285417572,285417572,328405394,332473494,355322268]
["Executive and council",null,{"$f":"SUM(C129:C130)","v":197182964.75},{"$f":"SUM(D129:D130)","v":130033032.11999999},44135856.510000005,69366072,78270302,78270302,68039607,57280304,58557856]
["Mayor and Council",null,162213407.53999999,101941916.95999999,25746599.920000002,44593972,56213202,56213202,54738354,44686883,44997786]
["Municipal Manager, Town Secretary and Chief Executive",null,34969557.210000001,28091115.16,18389256.59,24772100,22057100,22057100,13301253,12593421,13560070]
["Finance and administration",null,{"$f":"SUM(C132:C144)","v":129082090.17999999},{"$f":"SUM(D132:D144)","v":175025751.02999997},181648899.51000002,190613414,204176267,204176267,256217033,270853591,292253773]
["Administrative and Corporate Support",null,25873495.260000002,20664555.710000001,29198713.789999999,33061677,32711677,32711677,34212252,35650784,34044882]
["Asset Management",null,0,0,-1191953,17929734,17929734,17929734,11024025,12387737,13484309]
["Finance",null,52001537.329999998,89102519.769999996,81575292.939999998,48081396,64116947,64116947,126974347,134704241,149621762]
["Fleet Management",null,0,0,0,11477529,11437529,11437529,6645814,7762951,7999659]
["Human Resources",null,9680266.2899999991,11756603.52,10365799.710000001,16323681,16850681,16850681,17354133,17652978,21896444]
["Information Technology",null,3968788.39,19424655.300000001,24500866.870000001,24503147,22427230,22427230,20841271,23706627,23602641]
["Legal Services",null,15151194.92,7025061.8899999997,6115998.8300000001,7496253,9666253,9666253,7930430,8954096,9939846]
["Marketing, Customer Relations, Publicity and Media Co-ordination",null,0,0,0,0,0,0,0,0,0]
["Property Services",null,0,0,0,600000,1500000,1500000,825800,854586,883388]
["Risk Management",null,852841.41,2436010.23,5118104.18,1923617,1923617,1923617,3783264,2117091,2138357]
["Security Services",null,16627606.140000001,19141423.420000002,20242133.030000001,21681112,18097331,18097331,18328714,18373278,18337545]
["Supply Chain Management ",null,4926360.4400000004,5474921.1900000004,5723943.1600000001,7535268,7515268,7515268,8296983,8689222,10304940]
["Valuation Service",null,0,0,0,0,0,0,0,0,0]
["Internal audit",null,{"$f":"SUM(C146:C146)","v":2223603.38},{"$f":"SUM(D146:D146)","v":6233055.2599999998},2988923.23,2971003,2971003,2971003,4148754,4339599,4510639]
["Governance Function",null,2223603.38,6233055.2599999998,2988923.23,2971003,2971003,2971003,4148754,4339599,4510639]
["Community and public safety",null,{"$f":"C148+C170+C176+C185+C188","v":52762824.569999993},{"$f":"D148+D170+D176+D185+D188","v":40324286.810000002},59999578.259999998,61210286,60909286,60909286,62558140,64275927,69517632]
["Community and social services",null,{"$f":"SUM(C149:C169)","v":29168667.899999999},{"$f":"SUM(D149:D169)","v":23047232.34},33670880.369999997,30941634,31140634,31140634,33700335,34776198,39501525]
["Aged Care",null,0,0,0,0,0,0,0,0,0]
["Agricultural",null,0,0,0,0,0,0,0,0,0]
["Animal Care and Diseases",null,0,0,0,0,0,0,0,0,0]
["Cemeteries, Funeral Parlours and Crematoriums",null,17271079.390000001,14252781.99,15108288.32,15824409,15823409,15823409,16793896,17357814,19804427]
["Child Care Facilities",null,0,0,0,0,0,0,0,0,0]
["Community Halls and Facilities",null,590762.31999999995,550162.14,9410833.1899999995,3939903,4139903,4139903,5165943,5313418,5309237]
["Consumer Protection",null,0,0,0,0,0,0,0,0,0]
["Cultural Matters",null,0,0,0,0,0,0,0,0,0]
["Disaster Management",null,187120,0,34383.199999999997,400000,400000,400000,436391,455638,436810]
["Education",null,0,0,0,0,0,0,0,0,0]
[{"$f":"A37","v":"Indigenous and Customary Law"},null,0,0,0,0,0,0,0,0,0]
["Industrial Promotion",null,0,0,0,0,0,0,0,0,0]
["Language Policy",null,0,0,0,0,0,0,0,0,0]
["Libraries and Archives",null,11119706.189999999,8244288.21,9117375.6600000001,10777322,10777322,10777322,11304105,11649328,13951051]
["Literacy Programmes",null,0,0,0,0,0,0,0,0,0]
["Media Services",null,0,0,0,0,0,0,0,0,0]
["Museums and Art Galleries",null,0,0,0,0,0,0,0,0,0]
["Population Development",null,0,0,0,0,0,0,0,0,0]
["Provincial Cultural Matters",null,0,0,0,0,0,0,0,0,0]
["Theatres",null,0,0,0,0,0,0,0,0,0]
["Zoo's",null,0,0,0,0,0,0,0,0,0]
["Sport and recreation",null,{"$f":"SUM(C171:C175)","v":129064.58},{"$f":"SUM(D171:D175)","v":324744.71999999997},2471400.89,505034,505034,505034,531368,552110,551966]
["Beaches and Jetties ",null,0,0,0,0,0,0,0,0,0]
["Casinos, Racing, Gambling, Wagering",null,0,0,0,0,0,0,0,0,0]
["Community Parks (including Nurseries)",null,0,0,0,0,0,0,0,0,0]
["Recreational Facilities",null,0,0,0,436044,436044,436044,456102,476626,476626]
["Sports Grounds and Stadiums",null,129064.58,324744.71999999997,2471400.89,68990,68990,68990,75266,75484,75340]
["Public safety",null,{"$f":"SUM(C177:C184)","v":19680571},{"$f":"SUM(D177:D184)","v":13674779.689999999},20141554.619999997,25306341,24806341,24806341,23573467,24061809,24455414]
["Civil Defence",null,0,0,0,0,0,0,0,0,0]
["Cleansing",null,0,0,0,0,0,0,0,0,0]
[{"$f":"A57","v":"Control of Public Nuisances"},null,0,0,0,0,0,0,0,0,0]
["Fencing and Fences ",null,0,0,0,0,0,0,0,0,0]
["Fire Fighting and Protection",null,0,0,0,0,0,0,0,0,0]
["Licensing and Control of Animals",null,9738786.6300000008,4194706.08,9005595.1099999994,12543020,12483020,12483020,13214325,13669887,14085790]
["Police Forces, Traffic and Street Parking Control",null,9941784.3699999992,9480073.6099999994,11135959.51,12763321,12323321,12323321,10359142,10391922,10369624]
["Pounds",null,0,0,0,0,0,0,0,0,0]
[{"$f":"A63","v":"Housing"},null,{"$f":"SUM(C186:C187)","v":3784521.09},{"$f":"SUM(D186:D187)","v":3277530.06},3715742.38,4457277,4457277,4457277,4752970,4885810,5008727]
["Housing",null,3784521.09,3277530.06,3715742.38,4457277,4457277,4457277,4752970,4885810,5008727]
["Informal Settlements",null,0,0,0,0,0,0,0,0,0]
["Health",null,{"$f":"SUM(C189:C195)","v":0},{"$f":"SUM(D189:D195)","v":0},0,0,0,0,0,0,0]
["Ambulance",null,0,0,0,0,0,0,0,0,0]
["Health Services",null,0,0,0,0,0,0,0,0,0]
["Laboratory Services",null,0,0,0,0,0,0,0,0,0]
["Food Control",null,0,0,0,0,0,0,0,0,0]
["Health Surveillance and Prevention of Communicable Diseases including immunizations",null,0,0,0,0,0,0,0,0,0]
["Vector Control",null,0,0,0,0,0,0,0,0,0]
["Chemical Safety",null,0,0,0,0,0,0,0,0,0]
["Economic and environmental services",null,{"$f":"C197+C208+C213","v":31041454.149999999},{"$f":"D197+D208+D213","v":39815422.57},33757302.299999997,76824868,75534903,75534903,77485056,80806999,82803017]
["Planning and development",null,{"$f":"SUM(C198:C207)","v":16365242.720000001},{"$f":"SUM(D198:D207)","v":16123735.439999999},14435661.32,20995599,19435994,19435994,24360290,25704003,24959058]
["Billboards",null,0,0,0,0,0,0,0,0,0]
["Corporate Wide Strategic Planning (IDPs, LEDs)",null,0,0,0,0,0,0,0,0,0]
["Central City Improvement District",null,0,0,0,0,0,0,0,0,0]
["Development Facilitation",null,0,0,0,0,0,0,0,0,0]
["Economic Development/Planning",null,3469005.22,1940045.1,2915306.55,4423226,4423226,4423226,4756199,4848197,4926146]
["Regional Planning and Development",null,0,0,0,0,0,0,0,0,0]
["Town Planning, Building Regulations and Enforcement, and City Engineer",null,10561888.359999999,12030504.189999999,9990584.0899999999,13812321,12237713,12237713,15066704,16304284,15491172]
["Project Management Unit",null,2334349.14,2153186.15,1529770.68,2760052,2775055,2775055,4537387,4551522,4541740]
["Provincial Planning",null,0,0,0,0,0,0,0,0,0]
["Support to Local Municipalities",null,0,0,0,0,0,0,0,0,0]
["Road transport",null,{"$f":"SUM(C209:C212)","v":14676211.43},{"$f":"SUM(D209:D212)","v":23691687.129999999},19321640.98,55829269,56098909,56098909,53124766,55102996,57843959]
["Public Transport",null,0,1799254.61,2540484.44,0,0,0,0,0,1]
["Road and Traffic Regulation",null,0,0,0,0,0,0,0,0,0]
["Roads",null,14676211.43,21892432.52,16781156.539999999,55829269,56098909,56098909,53124766,55102996,57843958]
["Taxi Ranks",null,0,0,0,0,0,0,0,0,0]
["Environmental protection",null,{"$f":"SUM(C214:C219)","v":0},{"$f":"SUM(D214:D219)","v":0},0,0,0,0,0,0,0]
["Biodiversity and Landscape",null,0,0,0,0,0,0,0,0,0]
["Coastal Protection",null,0,0,0,0,0,0,0,0,0]
["Indigenous Forests",null,0,0,0,0,0,0,0,0,0]
[{"$f":"A95","v":"Nature Conservation"},null,0,0,0,0,0,0,0,0,0]
["Pollution Control",null,0,0,0,0,0,0,0,0,0]
["Soil Conservation",null,0,0,0,0,0,0,0,0,0]
["Trading services",null,{"$f":"C221+C225+C229+C234","v":275951306.56},{"$f":"D221+D225+D229+D234","v":315509320.03999996},473611500.93000007,434649380,410204925,410204925,432956519,465074032,471351723]
["Energy sources",null,{"$f":"SUM(C222:C224)","v":149723065.16},{"$f":"SUM(D222:D224)","v":167221066.88},214995149.31999999,227118574,224222166,224222166,241173071,251683069,260773065]
["Electricity ",null,149723065.16,167221066.88,214995149.31999999,227118574,224222166,224222166,241173071,251683069,260773065]
["Street Lighting and Signal Systems",null,0,0,0,0,0,0,0,0,0]
["Nonelectric Energy",null,0,0,0,0,0,0,0,0,0]
["Water management",null,{"$f":"SUM(C226:C228)","v":88928901.349999994},{"$f":"SUM(D226:D228)","v":94234505.829999998},206902918.53,147955510,115559308,115559308,133548362,152882869,146481485]
["Water Treatment",null,1935080.53,0,0,0,0,0,0,0,0]
["Water Distribution",null,86993820.819999993,94234505.829999998,206902918.53,147955510,115559308,115559308,133548362,152882869,146481485]
["Water Storage",null,0,0,0,0,0,0,0,0,0]
["Waste water management",null,{"$f":"SUM(C230:C233)","v":13103503.57},{"$f":"SUM(D230:D233)","v":28639091.75},29548603.859999999,35675658,39128999,39128999,34507422,35813043,37586563]
["Public Toilets",null,0,0,0,600000,600000,600000,0,0,1]
["Sewerage",null,13103503.57,28639091.75,29548603.859999999,33103092,36556433,36556433,33803918,35077881,36851399]
["Storm Water Management",null,0,0,0,672566,672566,672566,703504,735162,735162]
["Waste Water Treatment",null,0,0,0,1300000,1300000,1300000,0,0,1]
["Waste management",null,{"$f":"SUM(C235:C238)","v":24195836.48},{"$f":"SUM(D235:D238)","v":25414655.579999998},22164829.219999999,23899638,31294452,31294452,23727664,24695051,26510610]
["Recycling",null,0,0,0,0,0,0,0,0,0]
["Solid Waste Disposal (Landfill Sites)",null,0,0,0,352118,352118,352118,368315,384888,384888]
["Solid Waste Removal",null,24195836.48,25414655.579999998,22164829.219999999,23547520,30942334,30942334,23359349,24310163,26125722]
["Street Cleaning",null,0,0,0,0,0,0,0,0,0]
["Other",null,{"$f":"SUM(C240:C245)","v":0},{"$f":"SUM(D240:D245)","v":0},0,0,0,0,0,0,0]
["Abattoirs",null,0,0,0,0,0,0,0,0,0]
["Air Transport",null,0,0,0,0,0,0,0,0,0]
["Forestry ",null,0,0,0,0,0,0,0,0,0]
["Licensing and Regulation",null,0,0,0,0,0,0,0,0,0]
["Markets",null,0,0,0,0,0,0,0,0,0]
["Tourism",null,0,0,0,0,0,0,0,0,0]
[{"$f":"\"Total \"&A126","v":"Total Expenditure - Functional"},3,{"$f":"C127+C147+C196+C220+C239","v":688244243.58999991},{"$f":"D127+D147+D196+D220+D239","v":706940867.82999992},796142060.74000013,835635023,832066686,832066686,901405109,942630452,978994640]
[{"$f":"result","v":"Surplus/(Deficit) for the year"},null,{"$f":"C124-C246","v":-103420383.28999996},{"$f":"D124-D246","v":-63716979.909999967},72789437.239999771,196816938,200391552,200391552,120042157,144453827,152403121]
[{"$f":"head27a","v":"References"}]
["1. Government Finance Statistics Functions and Sub-functions are standardised to assist national and international accounts and comparison"]
["2. Total Revenue by Functional Classification must reconcile to total operating revenue shown in Financial Performance (revenue and expenditure)"]
["3. Total Expenditure by Functional Classification must reconcile to total operating expenditure shown in Financial Performance (revenue and expenditure)"]
["4. All amounts must be classified under a Functional classification. The GFS function 'Other' is only for Abbatoirs, Air Transport,  Forestry, Licensing and Regulation, Markets and Tourism - and if used must be supported by footnotes. Nothing else may be placed under 'Other'. Assign associate share to relevant classification"]

{"sheet":"A3-FinPerf V","index":9,"n_rows":43,"n_cols":23,"rows_kept":43,"cut":false,"hidden":false,"merged":[[1,5,1,7],[1,8,1,10],[1,11,1,22]]}
[{"$f":"muni&\" - \"&Approve2","v":"Choose name from list - Table A3 Budgeted Financial Performance (revenue and expenditure by municipal vote)"}]
[{"$f":"Vdesc","v":"Vote Description"},{"$f":"head27","v":"Ref"},{"$f":"head1b","v":"2021/22"},{"$f":"head1A","v":"2022/23"},{"$f":"Head1","v":"2023/24"},{"$f":"Head2","v":"Current Year 2024/25"},null,null,{"$f":"Head3","v":"2025/26 Medium Term Revenue & Expenditure Framework"},null,null,{"$f":"Head4","v":"LTFS"}]
["R thousand",null,{"$f":"Head5","v":"Audited Outcome"},{"$f":"Head5","v":"Audited Outcome"},{"$f":"Head5","v":"Audited Outcome"},{"$f":"Head6","v":"Original Budget"},{"$f":"Head7","v":"Adjusted Budget"},{"$f":"Head8","v":"Full Year Forecast"},{"$f":"Head9","v":"Budget Year 2025/26"},{"$f":"Head10","v":"Budget Year +1 2026/27"},{"$f":"Head11","v":"Budget Year +2 2027/28"},{"$f":"Head12","v":"Forecast 2028/29"},{"$f":"Head13","v":"Forecast 2029/30"},{"$f":"Head14","v":"Forecast 2030/31"},{"$f":"Head15","v":"Forecast 2031/32"},{"$f":"Head16","v":"Forecast 2032/33"},{"$f":"Head17","v":"Forecast 2033/34"},{"$f":"Head18","v":"Forecast 2034/35"},{"$f":"Head19","v":"Forecast 2035/36"},{"$f":"Head20","v":"Forecast 2036/37"},{"$f":"Head21","v":"Forecast 2037/38"},{"$f":"Head22","v":"Forecast 2038/39"},{"$f":"Head23","v":"Forecast 2039/40"}]
["Revenue by Vote",1]
[{"$f":"A3A!A5","v":"Vote 1 - Office of Municipal Manager"},null,{"$f":"A3A!C5","v":2605227.44},{"$f":"A3A!D5","v":9265607.9700000007},{"$f":"A3A!E5","v":414076.98},{"$f":"A3A!F5","v":708417},{"$f":"A3A!G5","v":708423},{"$f":"A3A!H5","v":708423},{"$f":"A3A!I5","v":769885},{"$f":"A3A!J5","v":774991},{"$f":"A3A!K5","v":302260}]
[{"$f":"A3A!A16","v":"Vote 2 - Budget and Treasury"},null,{"$f":"A3A!C16","v":204140720.84999999},{"$f":"A3A!D16","v":243263829.88},{"$f":"A3A!E16","v":379166916.26999998},{"$f":"A3A!F16","v":405650150},{"$f":"A3A!G16","v":409880696},{"$f":"A3A!H16","v":409880696},{"$f":"A3A!I16","v":421775878},{"$f":"A3A!J16","v":439437347},{"$f":"A3A!K16","v":459819187}]
[{"$f":"A3A!A27","v":"Vote 3 - Corporate Services"},null,{"$f":"A3A!C27","v":0},{"$f":"A3A!D27","v":0},{"$f":"A3A!E27","v":0},{"$f":"A3A!F27","v":0},{"$f":"A3A!G27","v":0},{"$f":"A3A!H27","v":0},{"$f":"A3A!I27","v":0},{"$f":"A3A!J27","v":0},{"$f":"A3A!K27","v":0}]
[{"$f":"A3A!A38","v":"Vote 4 - Social Service"},null,{"$f":"A3A!C38","v":33941529.530000001},{"$f":"A3A!D38","v":58696740.880000003},{"$f":"A3A!E38","v":42867718.520000003},{"$f":"A3A!F38","v":39033376},{"$f":"A3A!G38","v":45712792},{"$f":"A3A!H38","v":45712792},{"$f":"A3A!I38","v":49562464},{"$f":"A3A!J38","v":51836038},{"$f":"A3A!K38","v":54006179}]
[{"$f":"A3A!A49","v":"Vote 5 - Technical and Engineering Services"},null,{"$f":"A3A!C49","v":343114035.95999998},{"$f":"A3A!D49","v":330732879.60000002},{"$f":"A3A!E49","v":445564728.06},{"$f":"A3A!F49","v":585866673},{"$f":"A3A!G49","v":572564907},{"$f":"A3A!H49","v":572564907},{"$f":"A3A!I49","v":548103182},{"$f":"A3A!J49","v":593704032},{"$f":"A3A!K49","v":615851366}]
[{"$f":"A3A!A60","v":"Vote 6 - Property, Planning & Development"},null,{"$f":"A3A!C60","v":1022346.52},{"$f":"A3A!D60","v":1264829.5900000001},{"$f":"A3A!E60","v":918058.15},{"$f":"A3A!F60","v":1290897},{"$f":"A3A!G60","v":3688972},{"$f":"A3A!H60","v":3688972},{"$f":"A3A!I60","v":1337896},{"$f":"A3A!J60","v":1438502},{"$f":"A3A!K60","v":1525400}]
[{"$f":"A3A!A71","v":"Vote 7 - Office of the Mayor/Strategic Office"},null,{"$f":"A3A!C71","v":0},{"$f":"A3A!D71","v":0},{"$f":"A3A!E71","v":0},{"$f":"A3A!F71","v":0},{"$f":"A3A!G71","v":0},{"$f":"A3A!H71","v":0},{"$f":"A3A!I71","v":0},{"$f":"A3A!J71","v":0},{"$f":"A3A!K71","v":0}]
[{"$f":"A3A!A82","v":"Vote 8 - COMMUNITY & SOCIAL SERVICES"},null,{"$f":"A3A!C82","v":0},{"$f":"A3A!D82","v":0},{"$f":"A3A!E82","v":0},{"$f":"A3A!F82","v":-97552},{"$f":"A3A!G82","v":-97552},{"$f":"A3A!H82","v":-97552},{"$f":"A3A!I82","v":-102039},{"$f":"A3A!J82","v":-106631},{"$f":"A3A!K82","v":-106631}]
[{"$f":"A3A!A93","v":"Vote 9 - [NAME OF VOTE 9]"},null,{"$f":"A3A!C93","v":0},{"$f":"A3A!D93","v":0},{"$f":"A3A!E93","v":0},{"$f":"A3A!F93","v":0},{"$f":"A3A!G93","v":0},{"$f":"A3A!H93","v":0},{"$f":"A3A!I93","v":0},{"$f":"A3A!J93","v":0},{"$f":"A3A!K93","v":0}]
[{"$f":"A3A!A104","v":"Vote 10 - [NAME OF VOTE 10]"},null,{"$f":"A3A!C104","v":0},{"$f":"A3A!D104","v":0},{"$f":"A3A!E104","v":0},{"$f":"A3A!F104","v":0},{"$f":"A3A!G104","v":0},{"$f":"A3A!H104","v":0},{"$f":"A3A!I104","v":0},{"$f":"A3A!J104","v":0},{"$f":"A3A!K104","v":0}]
[{"$f":"A3A!A115","v":"Vote 11 - [NAME OF VOTE 11]"},null,{"$f":"A3A!C115","v":0},{"$f":"A3A!D115","v":0},{"$f":"A3A!E115","v":0},{"$f":"A3A!F115","v":0},{"$f":"A3A!G115","v":0},{"$f":"A3A!H115","v":0},{"$f":"A3A!I115","v":0},{"$f":"A3A!J115","v":0},{"$f":"A3A!K115","v":0},{"$f":"A5A!L115","v":0}]
[{"$f":"A3A!A126","v":"Vote 12 - [NAME OF VOTE 12]"},null,{"$f":"A3A!C126","v":0},{"$f":"A3A!D126","v":0},{"$f":"A3A!E126","v":0},{"$f":"A3A!F126","v":0},{"$f":"A3A!G126","v":0},{"$f":"A3A!H126","v":0},{"$f":"A3A!I126","v":0},{"$f":"A3A!J126","v":0},{"$f":"A3A!K126","v":0},{"$f":"A5A!L126","v":0}]
[{"$f":"A3A!A137","v":"Vote 13 - [NAME OF VOTE 13]"},null,{"$f":"A3A!C137","v":0},{"$f":"A3A!D137","v":0},{"$f":"A3A!E137","v":0},{"$f":"A3A!F137","v":0},{"$f":"A3A!G137","v":0},{"$f":"A3A!H137","v":0},{"$f":"A3A!I137","v":0},{"$f":"A3A!J137","v":0},{"$f":"A3A!K137","v":0},{"$f":"A5A!L137","v":0}]
[{"$f":"A3A!A148","v":"Vote 14 - [NAME OF VOTE 14]"},null,{"$f":"A3A!C148","v":0},{"$f":"A3A!D148","v":0},{"$f":"A3A!E148","v":0},{"$f":"A3A!F148","v":0},{"$f":"A3A!G148","v":0},{"$f":"A3A!H148","v":0},{"$f":"A3A!I148","v":0},{"$f":"A3A!J148","v":0},{"$f":"A3A!K148","v":0},{"$f":"A5A!L148","v":0}]
[{"$f":"A3A!A159","v":"Vote 15 - [NAME OF VOTE 15]"},null,{"$f":"A3A!C159","v":0},{"$f":"A3A!D159","v":0},{"$f":"A3A!E159","v":0},{"$f":"A3A!F159","v":0},{"$f":"A3A!G159","v":0},{"$f":"A3A!H159","v":0},{"$f":"A3A!I159","v":0},{"$f":"A3A!J159","v":0},{"$f":"A3A!K159","v":0},{"$f":"A5A!L159","v":0}]
["Total Revenue by Vote",2,{"$f":"SUM(C5:C19)","v":584823860.29999995},{"$f":"SUM(D5:D19)","v":643223887.92000008},868931497.9799999,1032451961,1032458238,1032458238,1021447266,1087084279,1131397761]
[]
["Expenditure by Vote to be appropriated",1]
[{"$f":"A3A!A173","v":"Vote 1 - Office of Municipal Manager"},null,{"$f":"A3A!C173","v":202902576.13},{"$f":"A3A!D173","v":116606663.19},{"$f":"A3A!E173","v":37726476.520000003},{"$f":"A3A!F173","v":55062226},{"$f":"A3A!G173","v":65681456},{"$f":"A3A!H173","v":65681456},{"$f":"A3A!I173","v":63102902},{"$f":"A3A!J173","v":62242764},{"$f":"A3A!K173","v":63753452}]
[{"$f":"A3A!A184","v":"Vote 2 - Budget and Treasury"},null,{"$f":"A3A!C184","v":64161801.490000002},{"$f":"A3A!D184","v":117023702.65000001},{"$f":"A3A!E184","v":100922356.94},{"$f":"A3A!F184","v":79416307},{"$f":"A3A!G184","v":113785502},{"$f":"A3A!H184","v":113785502},{"$f":"A3A!I184","v":137185341},{"$f":"A3A!J184","v":145380590},{"$f":"A3A!K184","v":161942420}]
[{"$f":"A3A!A195","v":"Vote 3 - Corporate Services"},null,{"$f":"A3A!C195","v":40728746.289999999},{"$f":"A3A!D195","v":51482707.990000002},{"$f":"A3A!E195","v":57342665.880000003},{"$f":"A3A!F195","v":64471563},{"$f":"A3A!G195","v":64247646},{"$f":"A3A!H195","v":64247646},{"$f":"A3A!I195","v":59705104},{"$f":"A3A!J195","v":63970211},{"$f":"A3A!K195","v":69047889}]
[{"$f":"A3A!A206","v":"Vote 4 - Social Service"},null,{"$f":"A3A!C206","v":87597798.170000002},{"$f":"A3A!D206","v":78660506.400000006},{"$f":"A3A!E206","v":96468303.730000004},{"$f":"A3A!F206","v":99525421},{"$f":"A3A!G206","v":95840640},{"$f":"A3A!H206","v":95840640},{"$f":"A3A!I206","v":100036508},{"$f":"A3A!J206","v":102598511},{"$f":"A3A!K206","v":109496864}]
[{"$f":"A3A!A217","v":"Vote 5 - Technical and Engineering Services"},null,{"$f":"A3A!C217","v":271223381.44999999},{"$f":"A3A!D217","v":317484410.89999998},{"$f":"A3A!E217","v":474240077.17000002},{"$f":"A3A!F217","v":472156947},{"$f":"A3A!G217","v":429143491},{"$f":"A3A!H217","v":429143491},{"$f":"A3A!I217","v":468492679},{"$f":"A3A!J217","v":501641397},{"$f":"A3A!K217","v":508830671}]
[{"$f":"A3A!A228","v":"Vote 6 - Property, Planning & Development"},null,{"$f":"A3A!C228","v":14358075.310000001},{"$f":"A3A!D228","v":15330472.15},{"$f":"A3A!E228","v":13742649.550000001},{"$f":"A3A!F228","v":20000315},{"$f":"A3A!G228","v":18420707},{"$f":"A3A!H228","v":18420707},{"$f":"A3A!I228","v":20106210},{"$f":"A3A!J228","v":21484245},{"$f":"A3A!K228","v":20786708}]
[{"$f":"A3A!A239","v":"Vote 7 - Office of the Mayor/Strategic Office"},null,{"$f":"A3A!C239","v":7271864.75},{"$f":"A3A!D239","v":10352404.550000001},{"$f":"A3A!E239","v":15699530.949999999},{"$f":"A3A!F239","v":25066045},{"$f":"A3A!G239","v":25051045},{"$f":"A3A!H239","v":25051045},{"$f":"A3A!I239","v":36194737},{"$f":"A3A!J239","v":26294587},{"$f":"A3A!K239","v":24784998}]
[{"$f":"A3A!A250","v":"Vote 8 - COMMUNITY & SOCIAL SERVICES"},null,{"$f":"A3A!C250","v":0},{"$f":"A3A!D250","v":0},{"$f":"A3A!E250","v":0},{"$f":"A3A!F250","v":0},{"$f":"A3A!G250","v":0},{"$f":"A3A!H250","v":0},{"$f":"A3A!I250","v":0},{"$f":"A3A!J250","v":0},{"$f":"A3A!K250","v":0}]
[{"$f":"A3A!A261","v":"Vote 9 - [NAME OF VOTE 9]"},null,{"$f":"A3A!C261","v":0},{"$f":"A3A!D261","v":0},{"$f":"A3A!E261","v":0},{"$f":"A3A!F261","v":0},{"$f":"A3A!G261","v":0},{"$f":"A3A!H261","v":0},{"$f":"A3A!I261","v":0},{"$f":"A3A!J261","v":0},{"$f":"A3A!K261","v":0}]
[{"$f":"A3A!A272","v":"Vote 10 - [NAME OF VOTE 10]"},null,{"$f":"A3A!C272","v":0},{"$f":"A3A!D272","v":0},{"$f":"A3A!E272","v":0},{"$f":"A3A!F272","v":0},{"$f":"A3A!G272","v":0},{"$f":"A3A!H272","v":0},{"$f":"A3A!I272","v":0},{"$f":"A3A!J272","v":0},{"$f":"A3A!K272","v":0}]
[{"$f":"A3A!A283","v":"Vote 11 - [NAME OF VOTE 11]"},null,{"$f":"A3A!C283","v":0},{"$f":"A3A!D283","v":0},{"$f":"A3A!E283","v":0},{"$f":"A3A!F283","v":0},{"$f":"A3A!G283","v":0},{"$f":"A3A!H283","v":0},{"$f":"A3A!I283","v":0},{"$f":"A3A!J283","v":0},{"$f":"A3A!K283","v":0},{"$f":"A3A!L284","v":0}]
[{"$f":"A3A!A294","v":"Vote 12 - [NAME OF VOTE 12]"},null,{"$f":"A3A!C294","v":0},{"$f":"A3A!D294","v":0},{"$f":"A3A!E294","v":0},{"$f":"A3A!F294","v":0},{"$f":"A3A!G294","v":0},{"$f":"A3A!H294","v":0},{"$f":"A3A!I294","v":0},{"$f":"A3A!J294","v":0},{"$f":"A3A!K294","v":0},{"$f":"A3A!L295","v":0}]
[{"$f":"A3A!A305","v":"Vote 13 - [NAME OF VOTE 13]"},null,{"$f":"A3A!C305","v":0},{"$f":"A3A!D305","v":0},{"$f":"A3A!E305","v":0},{"$f":"A3A!F305","v":0},{"$f":"A3A!G305","v":0},{"$f":"A3A!H305","v":0},{"$f":"A3A!I305","v":0},{"$f":"A3A!J305","v":0},{"$f":"A3A!K305","v":0},{"$f":"A3A!L306","v":0}]
[{"$f":"A3A!A316","v":"Vote 14 - [NAME OF VOTE 14]"},null,{"$f":"A3A!C316","v":0},{"$f":"A3A!D316","v":0},{"$f":"A3A!E316","v":0},{"$f":"A3A!F316","v":0},{"$f":"A3A!G316","v":0},{"$f":"A3A!H316","v":0},{"$f":"A3A!I316","v":0},{"$f":"A3A!J316","v":0},{"$f":"A3A!K316","v":0},{"$f":"A3A!L317","v":0}]
[{"$f":"A3A!A327","v":"Vote 15 - [NAME OF VOTE 15]"},null,{"$f":"A3A!C327","v":0},{"$f":"A3A!D327","v":0},{"$f":"A3A!E327","v":0},{"$f":"A3A!F327","v":0},{"$f":"A3A!G327","v":0},{"$f":"A3A!H327","v":0},{"$f":"A3A!I327","v":0},{"$f":"A3A!J327","v":0},{"$f":"A3A!K327","v":0},{"$f":"A3A!L328","v":0}]
["Total Expenditure by Vote",2,{"$f":"SUM(C23:C37)","v":688244243.58999991},{"$f":"SUM(D23:D37)","v":706940867.82999992},{"$f":"SUM(E23:E37)","v":796142060.74000001},815698824,812170487,812170487,884823481,923612305,958643002,{"$f":"SUM(L23:L29)","v":0},0,0,0,0,0,0,0,0,0,0,0]
[{"$f":"result","v":"Surplus/(Deficit) for the year"},2,{"$f":"C20-C38","v":-103420383.28999996},{"$f":"D20-D38","v":-63716979.909999847},72789437.23999989,216753137,220287751,220287751,136623785,163471974,172754759,0,0,0,0,0,0,0,0,0,0,0,0]
[{"$f":"head27a","v":"References"}]
["1. Insert 'Vote'; e.g. department, if different to functional classification structure"]
["2. Must reconcile to Budgeted Financial Performance (revenue and expenditure)"]
["3. Assign share in 'associate' to relevant Vote"]

{"sheet":"A3A","index":10,"n_rows":344,"n_cols":23,"rows_kept":344,"cut":false,"hidden":false,"merged":[[1,11,1,22],[1,5,1,7],[1,8,1,10]]}
[{"$f":"muni&\" - \"&Approve2&\"A\"","v":"Choose name from list - Table A3 Budgeted Financial Performance (revenue and expenditure by municipal vote)A"}]
[{"$f":"Vdesc","v":"Vote Description"},{"$f":"head27","v":"Ref"},{"$f":"head1b","v":"2021/22"},{"$f":"head1A","v":"2022/23"},{"$f":"Head1","v":"2023/24"},{"$f":"Head2","v":"Current Year 2024/25"},null,null,{"$f":"Head3","v":"2025/26 Medium Term Revenue & Expenditure Framework"},null,null,{"$f":"Head4","v":"LTFS"}]
["R thousand",null,{"$f":"Head5","v":"Audited Outcome"},{"$f":"Head5","v":"Audited Outcome"},{"$f":"Head5","v":"Audited Outcome"},{"$f":"Head6","v":"Original Budget"},{"$f":"Head7","v":"Adjusted Budget"},{"$f":"Head8","v":"Full Year Forecast"},{"$f":"Head9","v":"Budget Year 2025/26"},{"$f":"Head10","v":"Budget Year +1 2026/27"},{"$f":"Head11","v":"Budget Year +2 2027/28"},{"$f":"Head12","v":"Forecast 2028/29"},{"$f":"Head13","v":"Forecast 2029/30"},{"$f":"Head14","v":"Forecast 2030/31"},{"$f":"Head15","v":"Forecast 2031/32"},{"$f":"Head16","v":"Forecast 2032/33"},{"$f":"Head17","v":"Forecast 2033/34"},{"$f":"Head18","v":"Forecast 2034/35"},{"$f":"Head19","v":"Forecast 2035/36"},{"$f":"Head20","v":"Forecast 2036/37"},{"$f":"Head21","v":"Forecast 2037/38"},{"$f":"Head22","v":"Forecast 2038/39"},{"$f":"Head23","v":"Forecast 2039/40"}]
["Revenue by Vote",1]
[{"$f":"'Org structure'!A2","v":"Vote 1 - Office of Municipal Manager"},null,2605227.44,9265607.9700000007,414076.98,708417,708423,708423,769885,774991,302260]
[{"$f":"'Org structure'!E3","v":"1.1 - [Name of sub-vote]"}]
[{"$f":"'Org structure'!E4","v":0}]
[{"$f":"'Org structure'!E5","v":0}]
[{"$f":"'Org structure'!E6","v":0}]
[{"$f":"'Org structure'!E7","v":0}]
[{"$f":"'Org structure'!E8","v":0}]
[{"$f":"'Org structure'!E9","v":0}]
[{"$f":"'Org structure'!E10","v":0}]
[{"$f":"'Org structure'!E11","v":0}]
[{"$f":"'Org structure'!E12","v":0}]
[{"$f":"'Org structure'!A3","v":"Vote 2 - Budget and Treasury"},null,204140720.84999999,243263829.88,379166916.26999998,405650150,409880696,409880696,421775878,439437347,459819187]
[{"$f":"'Org structure'!E14","v":"2.1 - [Name of sub-vote]"}]
[{"$f":"'Org structure'!E15","v":0}]
[{"$f":"'Org structure'!E16","v":0}]
[{"$f":"'Org structure'!E17","v":0}]
[{"$f":"'Org structure'!E18","v":0}]
[{"$f":"'Org structure'!E19","v":0}]
[{"$f":"'Org structure'!E20","v":0}]
[{"$f":"'Org structure'!E21","v":0}]
[{"$f":"'Org structure'!E22","v":0}]
[{"$f":"'Org structure'!E23","v":0}]
[{"$f":"'Org structure'!A4","v":"Vote 3 - Corporate Services"},null,0,0,0,0,0,0,0,0,0]
[{"$f":"'Org structure'!E25","v":"3.1 - [Name of sub-vote]"}]
[{"$f":"'Org structure'!E26","v":0}]
[{"$f":"'Org structure'!E27","v":0}]
[{"$f":"'Org structure'!E28","v":0}]
[{"$f":"'Org structure'!E29","v":0}]
[{"$f":"'Org structure'!E30","v":0}]
[{"$f":"'Org structure'!E31","v":0}]
[{"$f":"'Org structure'!E32","v":0}]
[{"$f":"'Org structure'!E33","v":0}]
[{"$f":"'Org structure'!E34","v":0}]
[{"$f":"'Org structure'!A5","v":"Vote 4 - Social Service"},null,33941529.530000001,58696740.880000003,42867718.520000003,39033376,45712792,45712792,49562464,51836038,54006179]
[{"$f":"'Org structure'!E36","v":"4.1 - [Name of sub-vote]"}]
[{"$f":"'Org structure'!E37","v":0}]
[{"$f":"'Org structure'!E38","v":0}]
[{"$f":"'Org structure'!E39","v":0}]
[{"$f":"'Org structure'!E40","v":0}]
[{"$f":"'Org structure'!E41","v":0}]
[{"$f":"'Org structure'!E42","v":0}]
[{"$f":"'Org structure'!E43","v":0}]
[{"$f":"'Org structure'!E44","v":0}]
[{"$f":"'Org structure'!E45","v":0}]
[{"$f":"'Org structure'!A6","v":"Vote 5 - Technical and Engineering Services"},null,343114035.95999998,330732879.60000002,445564728.06,585866673,572564907,572564907,548103182,593704032,615851366]
[{"$f":"'Org structure'!E47","v":"5.1 - [Name of sub-vote]"}]
[{"$f":"'Org structure'!E48","v":0}]
[{"$f":"'Org structure'!E49","v":0}]
[{"$f":"'Org structure'!E50","v":0}]
[{"$f":"'Org structure'!E51","v":0}]
[{"$f":"'Org structure'!E52","v":0}]
[{"$f":"'Org structure'!E53","v":0}]
[{"$f":"'Org structure'!E54","v":0}]
[{"$f":"'Org structure'!E55","v":0}]
[{"$f":"'Org structure'!E56","v":0}]
[{"$f":"'Org structure'!A7","v":"Vote 6 - Property, Planning & Development"},null,1022346.52,1264829.5900000001,918058.15,1290897,3688972,3688972,1337896,1438502,1525400]
[{"$f":"'Org structure'!E58","v":"6.1 - [Name of sub-vote]"}]
[{"$f":"'Org structure'!E59","v":0}]
[{"$f":"'Org structure'!E60","v":0}]
[{"$f":"'Org structure'!E61","v":0}]
[{"$f":"'Org structure'!E62","v":0}]
[{"$f":"'Org structure'!E63","v":0}]
[{"$f":"'Org structure'!E64","v":0}]
[{"$f":"'Org structure'!E65","v":0}]
[{"$f":"'Org structure'!E66","v":0}]
[{"$f":"'Org structure'!E67","v":0}]
[{"$f":"'Org structure'!A8","v":"Vote 7 - Office of the Mayor/Strategic Office"},null,0,0,0,0,0,0,0,0,0]
[{"$f":"'Org structure'!E69","v":"7.1 - [Name of sub-vote]"}]
[{"$f":"'Org structure'!E70","v":0}]
[{"$f":"'Org structure'!E71","v":0}]
[{"$f":"'Org structure'!E72","v":0}]
[{"$f":"'Org structure'!E73","v":0}]
[{"$f":"'Org structure'!E74","v":0}]
[{"$f":"'Org structure'!E75","v":0}]
[{"$f":"'Org structure'!E76","v":0}]
[{"$f":"'Org structure'!E77","v":0}]
[{"$f":"'Org structure'!E78","v":0}]
[{"$f":"'Org structure'!A9","v":"Vote 8 - COMMUNITY & SOCIAL SERVICES"},null,0,0,0,-97552,-97552,-97552,-102039,-106631,-106631]
[{"$f":"'Org structure'!E80","v":"8.1 - [Name of sub-vote]"}]
[{"$f":"'Org structure'!E81","v":0}]
[{"$f":"'Org structure'!E82","v":0}]
[{"$f":"'Org structure'!E83","v":0}]
[{"$f":"'Org structure'!E84","v":0}]
[{"$f":"'Org structure'!E85","v":0}]
[{"$f":"'Org structure'!E86","v":0}]
[{"$f":"'Org structure'!E87","v":0}]
[{"$f":"'Org structure'!E88","v":0}]
[{"$f":"'Org structure'!E89","v":0}]
[{"$f":"'Org structure'!A10","v":"Vote 9 - [NAME OF VOTE 9]"},null,{"$f":"SUM(C94:C103)","v":0},{"$f":"SUM(D94:D103)","v":0},0,0,0,0,0,0,0]
[{"$f":"'Org structure'!E91","v":"9.1 - [Name of sub-vote]"}]
[{"$f":"'Org structure'!E92","v":0}]
[{"$f":"'Org structure'!E93","v":0}]
[{"$f":"'Org structure'!E94","v":0}]
[{"$f":"'Org structure'!E95","v":0}]
[{"$f":"'Org structure'!E96","v":0}]
[{"$f":"'Org structure'!E97","v":0}]
[{"$f":"'Org structure'!E98","v":0}]
[{"$f":"'Org structure'!E99","v":0}]
[{"$f":"'Org structure'!E100","v":0}]
[{"$f":"'Org structure'!A11","v":"Vote 10 - [NAME OF VOTE 10]"},null,{"$f":"SUM(C105:C114)","v":0},{"$f":"SUM(D105:D114)","v":0},0,0,0,0,0,0,0]
[{"$f":"'Org structure'!E102","v":"10.1 - [Name of sub-vote]"}]
[{"$f":"'Org structure'!E103","v":0}]
[{"$f":"'Org structure'!E104","v":0}]
[{"$f":"'Org structure'!E105","v":0}]
[{"$f":"'Org structure'!E106","v":0}]
[{"$f":"'Org structure'!E107","v":0}]
[{"$f":"'Org structure'!E108","v":0}]
[{"$f":"'Org structure'!E109","v":0}]
[{"$f":"'Org structure'!E110","v":0}]
[{"$f":"'Org structure'!E111","v":0}]
[{"$f":"'Org structure'!A12","v":"Vote 11 - [NAME OF VOTE 11]"},null,{"$f":"SUM(C116:C125)","v":0},{"$f":"SUM(D116:D125)","v":0},0,0,0,0,0,0,0]
[{"$f":"'Org structure'!E113","v":"11.1 - [Name of sub-vote]"}]
[{"$f":"'Org structure'!E114","v":0}]
[{"$f":"'Org structure'!E115","v":0}]
[{"$f":"'Org structure'!E116","v":0}]
[{"$f":"'Org structure'!E117","v":0}]
[{"$f":"'Org structure'!E118","v":0}]
[{"$f":"'Org structure'!E119","v":0}]
[{"$f":"'Org structure'!E120","v":0}]
[{"$f":"'Org structure'!E121","v":0}]
[{"$f":"'Org structure'!E122","v":0}]
[{"$f":"'Org structure'!A13","v":"Vote 12 - [NAME OF VOTE 12]"},null,{"$f":"SUM(C127:C136)","v":0},{"$f":"SUM(D127:D136)","v":0},0,0,0,0,0,0,0]
[{"$f":"'Org structure'!E124","v":"12.1 - [Name of sub-vote]"}]
[{"$f":"'Org structure'!E125","v":0}]
[{"$f":"'Org structure'!E126","v":0}]
[{"$f":"'Org structure'!E127","v":0}]
[{"$f":"'Org structure'!E128","v":0}]
[{"$f":"'Org structure'!E129","v":0}]
[{"$f":"'Org structure'!E130","v":0}]
[{"$f":"'Org structure'!E131","v":0}]
[{"$f":"'Org structure'!E132","v":0}]
[{"$f":"'Org structure'!E133","v":0}]
[{"$f":"'Org structure'!A14","v":"Vote 13 - [NAME OF VOTE 13]"},null,{"$f":"SUM(C138:C147)","v":0},{"$f":"SUM(D138:D147)","v":0},0,0,0,0,0,0,0]
[{"$f":"'Org structure'!E135","v":"13.1 - [Name of sub-vote]"}]
[{"$f":"'Org structure'!E136","v":0}]
[{"$f":"'Org structure'!E137","v":0}]
[{"$f":"'Org structure'!E138","v":0}]
[{"$f":"'Org structure'!E139","v":0}]
[{"$f":"'Org structure'!E140","v":0}]
[{"$f":"'Org structure'!E141","v":0}]
[{"$f":"'Org structure'!E142","v":0}]
[{"$f":"'Org structure'!E143","v":0}]
[{"$f":"'Org structure'!E144","v":0}]
[{"$f":"'Org structure'!A15","v":"Vote 14 - [NAME OF VOTE 14]"},null,{"$f":"SUM(C149:C158)","v":0},{"$f":"SUM(D149:D158)","v":0},0,0,0,0,0,0,0]
[{"$f":"'Org structure'!E146","v":"14.1 - [Name of sub-vote]"}]
[{"$f":"'Org structure'!E147","v":0}]
[{"$f":"'Org structure'!E148","v":0}]
[{"$f":"'Org structure'!E149","v":0}]
[{"$f":"'Org structure'!E150","v":0}]
[{"$f":"'Org structure'!E151","v":0}]
[{"$f":"'Org structure'!E152","v":0}]
[{"$f":"'Org structure'!E153","v":0}]
[{"$f":"'Org structure'!E154","v":0}]
[{"$f":"'Org structure'!E155","v":0}]
[{"$f":"'Org structure'!A16","v":"Vote 15 - [NAME OF VOTE 15]"},null,{"$f":"SUM(C160:C169)","v":0},{"$f":"SUM(D160:D169)","v":0},0,0,0,0,0,0,0]
[{"$f":"'Org structure'!E157","v":"15.1 - [Name of sub-vote]"}]
[{"$f":"'Org structure'!E158","v":0}]
[{"$f":"'Org structure'!E159","v":0}]
[{"$f":"'Org structure'!E160","v":0}]
[{"$f":"'Org structure'!E161","v":0}]
[{"$f":"'Org structure'!E162","v":0}]
[{"$f":"'Org structure'!E163","v":0}]
[{"$f":"'Org structure'!E164","v":0}]
[{"$f":"'Org structure'!E165","v":0}]
[{"$f":"'Org structure'!E166","v":0}]
["Total Revenue by Vote",2,{"$f":"C5+C16+C27+C38+C49+C60+C71+C82+C93+C104+C115+C126+C137+C148+C159","v":584823860.29999995},{"$f":"D5+D16+D27+D38+D49+D60+D71+D82+D93+D104+D115+D126+D137+D148+D159","v":643223887.92000008},{"$f":"E5+E16+E27+E38+E49+E60+E71+E82+E93+E104+E115+E126+E137+E148+E159","v":868931497.9799999},1032451961,1032458238,1032458238,{"$f":"I5+I16+I27+I38+I49+I60+I71+I82+I93+I104+I115+I126+I137+I148+I159","v":1021447266},1087084279,1131397761,{"$f":"SUM(L78:L81)","v":0},0,0,0,0,0,0,0,0,0,0,0]
[]
["Expenditure by Vote",1]
[{"$f":"A5","v":"Vote 1 - Office of Municipal Manager"},null,202902576.13,116606663.19,37726476.520000003,55062226,65681456,65681456,63102902,62242764,63753452]
[{"$f":"A6","v":"1.1 - [Name of sub-vote]"}]
[0]
[0]
[0]
[0]
[0]
[0]
[0]
[0]
[0]
[{"$f":"A16","v":"Vote 2 - Budget and Treasury"},null,64161801.490000002,117023702.65000001,100922356.94,79416307,113785502,113785502,137185341,145380590,161942420]
[{"$f":"A17","v":"2.1 - [Name of sub-vote]"}]
[0]
[0]
[0]
[0]
[0]
[0]
[0]
[0]
[0]
[{"$f":"A27","v":"Vote 3 - Corporate Services"},null,40728746.289999999,51482707.990000002,57342665.880000003,64471563,64247646,64247646,59705104,63970211,69047889]
["3.1 - [Name of sub-vote]"]
[0]
[0]
[0]
[0]
[0]
[0]
[0]
[0]
[0]
["Vote 4 - Social Service",null,87597798.170000002,78660506.400000006,96468303.730000004,99525421,95840640,95840640,100036508,102598511,109496864]
[{"$f":"A39","v":"4.1 - [Name of sub-vote]"}]
[0]
[0]
[0]
[0]
[0]
[0]
[0]
[0]
[0]
[{"$f":"A49","v":"Vote 5 - Technical and Engineering Services"},null,271223381.44999999,317484410.89999998,474240077.17000002,472156947,429143491,429143491,468492679,501641397,508830671]
[{"$f":"A50","v":"5.1 - [Name of sub-vote]"}]
[0]
[0]
[0]
[0]
[0]
[0]
[0]
[0]
[0]
[{"$f":"A60","v":"Vote 6 - Property, Planning & Development"},null,14358075.310000001,15330472.15,13742649.550000001,20000315,18420707,18420707,20106210,21484245,20786708]
[{"$f":"A61","v":"6.1 - [Name of sub-vote]"}]
[0]
[0]
[0]
[0]
[0]
[0]
[0]
[0]
[0]
[{"$f":"A71","v":"Vote 7 - Office of the Mayor/Strategic Office"},null,7271864.75,10352404.550000001,15699530.949999999,25066045,25051045,25051045,36194737,26294587,24784998]
[{"$f":"A72","v":"7.1 - [Name of sub-vote]"}]
[0]
[0]
[0]
[0]
[0]
[0]
[0]
[0]
[0]
[{"$f":"A82","v":"Vote 8 - COMMUNITY & SOCIAL SERVICES"},null,0,0,0,0,0,0,0,0,0]
[{"$f":"A83","v":"8.1 - [Name of sub-vote]"}]
[0]
[0]
[0]
[0]
[0]
[0]
[0]
[0]
[0]
["Vote 9 - [NAME OF VOTE 9]",null,{"$f":"SUM(C262:C271)","v":0},0,0,0,0,0,0,0,0]
["9.1 - [Name of sub-vote]"]
[0]
[0]
[0]
[0]
[0]
[0]
[0]
[0]
[0]
[{"$f":"A104","v":"Vote 10 - [NAME OF VOTE 10]"},null,{"$f":"SUM(C273:C282)","v":0},0,0,0,0,0,0,0,0]
[{"$f":"A105","v":"10.1 - [Name of sub-vote]"}]
[{"$f":"A106","v":0}]
[0]
[0]
[0]
[0]
[0]
[0]
[0]
[{"$f":"A114","v":0}]
[{"$f":"A115","v":"Vote 11 - [NAME OF VOTE 11]"},null,{"$f":"SUM(C284:C293)","v":0},0,0,0,0,0,0,0,0]
[{"$f":"A116","v":"11.1 - [Name of sub-vote]"}]
[{"$f":"A117","v":0}]
[0]
[0]
[0]
[0]
[0]
[0]
[0]
[0]
["Vote 12 - [NAME OF VOTE 12]",null,{"$f":"SUM(C295:C304)","v":0},0,0,0,0,0,0,0,0]
["12.1 - [Name of sub-vote]"]
[0]
[0]
[0]
[0]
[0]
[0]
[0]
[0]
[0]
["Vote 13 - [NAME OF VOTE 13]",null,{"$f":"SUM(C306:C315)","v":0},0,0,0,0,0,0,0,0]
["13.1 - [Name of sub-vote]"]
[0]
[0]
[0]
[0]
[0]
[0]
[0]
[0]
[0]
["Vote 14 - [NAME OF VOTE 14]",null,{"$f":"SUM(C317:C326)","v":0},0,0,0,0,0,0,0,0]
["14.1 - [Name of sub-vote]"]
[0]
[0]
[0]
[0]
[0]
[0]
[0]
[0]
[0]
["Vote 15 - [NAME OF VOTE 15]",null,{"$f":"SUM(C328:C337)","v":0},0,0,0,0,0,0,0,0]
["15.1 - [Name of sub-vote]"]
[0]
[0]
[0]
[0]
[0]
[0]
[0]
[0]
[0]
["Total Expenditure by Vote",2,{"$f":"C173+C184+C195+C206+C217+C228+C239+C250+C261+C283+C294+C305+C316+C327+C272","v":688244243.58999991},{"$f":"D173+D184+D195+D206+D217+D228+D239+D250+D261+D283+D294+D305+D316+D327+D272","v":706940867.82999992},{"$f":"E173+E184+E195+E206+E217+E228+E239+E250+E261+E283+E294+E305+E316+E327+E272","v":796142060.74000001},815698824,812170487,812170487,884823481,923612305,958643002,{"$f":"SUM(L173:L249)","v":0},0,0,0,0,0,0,0,0,0,0,0]
[]
[{"$f":"result","v":"Surplus/(Deficit) for the year"},2,{"$f":"C170-C338","v":-103420383.28999996},{"$f":"D170-D338","v":-63716979.909999847},72789437.23999989,216753137,220287751,220287751,136623785,163471974,172754759,0,0,0,0,0,0,0,0,0,0,0,0]
[{"$f":"head27a","v":"References"}]
["1. Insert 'Vote'; e.g. Department, if different to Functional structure"]
["2. Must reconcile to Financial Performance ('Revenue and Expenditure by Functional Classification' and 'Revenue and Expenditure')"]
["3. Assign share in 'associate' to relevant Vote"]

{"sheet":"A4-FinPerf RE","index":11,"n_rows":70,"n_cols":24,"rows_kept":70,"cut":false,"hidden":false,"merged":[[1,12,1,23],[1,9,1,11],[1,5,1,8]]}
[{"$f":"muni&\" - \"&Approve4","v":"Choose name from list - Table A4 Budgeted Financial Performance (revenue and expenditure)"}]
[{"$f":"desc","v":"Description"},{"$f":"head27","v":"Ref"},{"$f":"head1b","v":"2021/22"},{"$f":"head1A","v":"2022/23"},{"$f":"Head1","v":"2023/24"},{"$f":"Head2","v":"Current Year 2024/25"},null,null,null,{"$f":"Head3","v":"2025/26 Medium Term Revenue & Expenditure Framework"},null,null,{"$f":"Head4","v":"LTFS"}]
["R thousand",1,{"$f":"Head5","v":"Audited Outcome"},{"$f":"Head5","v":"Audited Outcome"},{"$f":"Head5","v":"Audited Outcome"},{"$f":"Head6","v":"Original Budget"},{"$f":"Head7","v":"Adjusted Budget"},{"$f":"Head8","v":"Full Year Forecast"},{"$f":"Head5b","v":"Pre-audit outcome"},{"$f":"Head9","v":"Budget Year 2025/26"},{"$f":"Head10","v":"Budget Year +1 2026/27"},{"$f":"Head11","v":"Budget Year +2 2027/28"},{"$f":"Head12","v":"Forecast 2028/29"},{"$f":"Head13","v":"Forecast 2029/30"},{"$f":"Head14","v":"Forecast 2030/31"},{"$f":"Head15","v":"Forecast 2031/32"},{"$f":"Head16","v":"Forecast 2032/33"},{"$f":"Head17","v":"Forecast 2033/34"},{"$f":"Head18","v":"Forecast 2034/35"},{"$f":"Head19","v":"Forecast 2035/36"},{"$f":"Head20","v":"Forecast 2036/37"},{"$f":"Head21","v":"Forecast 2037/38"},{"$f":"Head22","v":"Forecast 2038/39"},{"$f":"Head23","v":"Forecast 2039/40"}]
["Revenue"," "]
["Exchange Revenue"," "]
["Service charges - Electricity","2",{"$f":"'SA1'!C17","v":133509511.39},{"$f":"'SA1'!D17","v":190626203.63999999},{"$f":"'SA1'!E17","v":193634481.16},{"$f":"'SA1'!F17","v":265322302},{"$f":"'SA1'!G17","v":235322302},{"$f":"'SA1'!H17","v":235322302},{"$f":"'SA1'!I17","v":256960469},{"$f":"'SA1'!J17","v":270620645},{"$f":"'SA1'!K17","v":283069194},{"$f":"'SA1'!L17","v":295524243}]
["Service charges - Water","2",{"$f":"'SA1'!C23","v":44188577.859999999},{"$f":"'SA1'!D23","v":53500837.979999997},{"$f":"'SA1'!E23","v":64880991.450000003},{"$f":"'SA1'!F23","v":71769989},{"$f":"'SA1'!G23","v":69769989},{"$f":"'SA1'!H23","v":69769989},{"$f":"'SA1'!I23","v":69837688},{"$f":"'SA1'!J23","v":73956187},{"$f":"'SA1'!K23","v":77358172},{"$f":"'SA1'!L23","v":80761932}]
["Service charges - Waste Water Management","2",{"$f":"'SA1'!C29","v":22765552.48},{"$f":"'SA1'!D29","v":23728163.420000002},{"$f":"'SA1'!E29","v":25107941.600000001},{"$f":"'SA1'!F29","v":29030643},{"$f":"'SA1'!G29","v":30164078},{"$f":"'SA1'!H29","v":30164078},{"$f":"'SA1'!I29","v":30252087},{"$f":"'SA1'!J29","v":31973923},{"$f":"'SA1'!K29","v":33444723},{"$f":"'SA1'!L29","v":34916291}]
["Service charges - Waste Management","2",{"$f":"'SA1'!C36","v":15408530.800000001},{"$f":"'SA1'!D36","v":19120942.149999999},{"$f":"'SA1'!E36","v":20740700.609999999},{"$f":"'SA1'!F36","v":23255986},{"$f":"'SA1'!G36","v":25000074},{"$f":"'SA1'!H36","v":25000074},{"$f":"'SA1'!I36","v":25097626},{"$f":"'SA1'!J36","v":26500078},{"$f":"'SA1'!K36","v":27719082},{"$f":"'SA1'!L36","v":28938722}]
["Sale of Goods and Rendering of Services"," ",1031623.77,895671.84,780693.75,1806212,1806212,1806212,1806212,1914585,2002656,2090772]
["Agency services"," ",0,2910127.42,7643774.9500000002,9622787,12160042,12160042,12160042,12889645,13482568,14075801]
["Interest"," ",0,0,0,0,0,0,0,0,0,0]
["Interest earned from Receivables"," ",37301456.140000001,41910457.460000001,51680315.850000001,37192843,51157646,51157646,51157646,54227098,56721545,59217296]
["Interest earned from Current and Non Current Assets"," ",4193328.89,9010901.5700000003,8679930.25,7162122,7162122,7162122,7162122,7591849,7941074,8290483]
["Dividends"," ",0,0,0,0,0,0,0,0,0,0]
["Rent on Land"," ",0,0,0,0,0,0,0,0,0,0]
["Rental from Fixed Assets"," ",155910.82,195487.32,233380.25,791056,791056,791056,791056,838519,877091,915683]
["Licence and permits"," ",10372971.98,5906347.6600000001,1410612.42,1,0,0,0,0,0,1]
["Special rating levies",null,0,0,0,0,0,0,0,0,0,0]
["Operational Revenue"," ",6278753.4100000001,2527525.96,1031083.96,2619024,2619024,2619024,2619024,2776165,2903869,3031639]
["Non-Exchange Revenue"," "]
["Property rates","2",{"$f":"'SA1'!C10","v":0},{"$f":"'SA1'!D10","v":-8243475.9000000004},{"$f":"'SA1'!E10","v":114403880},{"$f":"'SA1'!F10","v":126113439},{"$f":"'SA1'!G10","v":126113439},{"$f":"'SA1'!H10","v":126113439},{"$f":"'SA1'!I10","v":126113439},{"$f":"'SA1'!J10","v":133680245},{"$f":"'SA1'!K10","v":139829537},{"$f":"'SA1'!L10","v":145982036}]
["Surcharges and Taxes"," ",0,0,4750809,1,0,0,0,0,0,1]
["Fines, penalties and forfeits"," ",513879.52,22024918.510000002,1615376.95,1013035,5809184,5809184,5809184,6157735,6440991,6724394]
["Licences or permits"," ",0,0,0,0,0,0,0,0,0,0]
["Transfer and subsidies - Operational"," ",187503322.71000001,206836438.09999999,230565261.46000001,247286250,247286250,247286250,247286250,260209300,270519300,282880901]
["Interest"," ",7960191.4800000004,12659877.32,21880928.559999999,15461521,19692068,19692068,19692068,20873592,21833777,22794464]
["Fuel Levy"," ",0,0,0,0,0,0,0,0,0,0]
["Operational Revenue"," ",0,0,0,0,0,0,0,0,0,0]
["Gains on disposal of Assets"," ",0,0,0,0,0,0,0,0,0,0]
["Other Gains"," ",0,0,0,0,0,0,0,0,0,0]
["Discontinued Operations"," ",0,0,0,0,0,0,0,0,0,0]
["Total Revenue (excluding capital transfers and contributions)"," ",{"$f":"SUM(C6:C20)+SUM(C22:C32)","v":471183611.25},{"$f":"SUM(D6:D20)+SUM(D22:D32)","v":583610424.44999993},749040162.22000003,838447211,834853486,834853486,856744913,904209566,944143579,986144659]
["Expenditure"," "]
["Employee related costs","2",{"$f":"'SA1'!C71","v":206453565.32999995},{"$f":"'SA1'!D71","v":208879531.67000002},{"$f":"'SA1'!E71","v":233561213.38},{"$f":"'SA1'!F71","v":265297876},{"$f":"'SA1'!G71","v":255043194},{"$f":"'SA1'!H71","v":255043194},{"$f":"'SA1'!I71","v":255043194},{"$f":"'SA1'!J71","v":273856903},{"$f":"'SA1'!K71","v":286454318},{"$f":"'SA1'!L71","v":299058309},{"$f":"'SA1'!M71","v":0},{"$f":"'SA1'!N71","v":0},{"$f":"'SA1'!O71","v":0},{"$f":"'SA1'!P71","v":0},{"$f":"'SA1'!Q71","v":0},{"$f":"'SA1'!R71","v":0},{"$f":"'SA1'!S71","v":0},{"$f":"'SA1'!T71","v":0}]
["Remuneration of councillors"," ",12077627.939999999,13304794.01,14066021.140000001,15400984,15400984,15400984,15400984,16063226,16786070,17524658]
["Bulk purchases - electricity","2",{"$f":"'SA1'!C88","v":124063032.92},{"$f":"'SA1'!D88","v":139206923.66},{"$f":"'SA1'!E88","v":161357686.97999999},{"$f":"'SA1'!F88","v":193203577},{"$f":"'SA1'!G88","v":184166362},{"$f":"'SA1'!H88","v":184166362},{"$f":"'SA1'!I88","v":184166362},{"$f":"'SA1'!J88","v":205013994},{"$f":"'SA1'!K88","v":214444638},{"$f":"'SA1'!L88","v":223880202}]
["Inventory consumed","8",{"$f":"'SA1'!C169","v":44344506.969999999},{"$f":"'SA1'!D169","v":46622835.109999999},{"$f":"'SA1'!E169","v":48506903.009999998},{"$f":"'SA1'!F169","v":53430639},{"$f":"'SA1'!G169","v":55465639},{"$f":"'SA1'!H169","v":55465639},{"$f":"'SA1'!I169","v":55465639},{"$f":"'SA1'!J169","v":58350661},{"$f":"'SA1'!K169","v":61034792},{"$f":"'SA1'!L169","v":63720323}]
["Debt impairment","3",0,0,95127990.329999998,33725773,38725772,38725772,38725772,52322826,54488335,51775049]
["Depreciation and amortisation"," ",{"$f":"'SA1'!C83","v":87197833.969999999},{"$f":"'SA1'!D83","v":87737832.680000007},{"$f":"'SA1'!E83","v":94711817.649999991},{"$f":"'SA1'!F83","v":94726306},{"$f":"'SA1'!G83","v":91726306},{"$f":"'SA1'!H83","v":91726306},{"$f":"'SA1'!I83","v":91726306},{"$f":"'SA1'!J83","v":95670536},{"$f":"'SA1'!K83","v":100089500},{"$f":"'SA1'!L83","v":104492645}]
["Interest"," ",28468903.640000001,22435386.82,19716635.100000001,19600559,20603884,20603884,20603884,21489851,22478384,23467433]
["Contracted services"," ",{"$f":"'SA1'!C127","v":45247554.590000004},{"$f":"'SA1'!D127","v":47486622.259999998},{"$f":"'SA1'!E127","v":52864548.260000005},{"$f":"'SA1'!F127","v":76103061},{"$f":"'SA1'!G127","v":78082003},{"$f":"'SA1'!H127","v":78082003},{"$f":"'SA1'!I127","v":78082003},{"$f":"'SA1'!J127","v":83589531},{"$f":"'SA1'!K127","v":87434648},{"$f":"'SA1'!L127","v":91281779}]
["Transfers and subsidies"," ",{"$f":"'SA1'!C93","v":553239.06000000006},{"$f":"'SA1'!D93","v":581154},{"$f":"'SA1'!E93","v":-1658973.04},{"$f":"'SA1'!F93","v":1054137},{"$f":"'SA1'!G93","v":2054137},{"$f":"'SA1'!H93","v":2054137},{"$f":"'SA1'!I93","v":2054137},{"$f":"'SA1'!J93","v":2142467},{"$f":"'SA1'!K93","v":2241018},{"$f":"'SA1'!L93","v":2339622}]
["Irrecoverable debts written off"," ",60012220.350000001,63070552.219999999,6870116.5199999996,6000006,16584488,16584488,16584488,15500000,16213000,16926375]
["Operational costs"," ",{"$f":"'SA1'!C157","v":79825758.820000008},{"$f":"'SA1'!D157","v":77615235.400000006},{"$f":"'SA1'!E157","v":71018101.409999996},{"$f":"'SA1'!F157","v":77092104},{"$f":"'SA1'!G157","v":74213916},{"$f":"'SA1'!H157","v":74213916},{"$f":"'SA1'!I157","v":74213916},{"$f":"'SA1'!J157","v":77405114},{"$f":"'SA1'!K157","v":80965749},{"$f":"'SA1'!L157","v":84528245}]
["Losses on disposal of Assets"," ",0,0,0,0,0,0,0,0,0,0]
["Other Losses"," ",0,0,0,0,0,0,0,0,0,0]
["Total Expenditure"," ",{"$f":"SUM(C35:C47)","v":688244243.59000003},{"$f":"SUM(D35:D47)","v":706940867.83000004},796142060.74000001,835635022,832066685,832066685,832066685,901405109,942630452,978994640,{"$f":"SUM(M35:M47)","v":0},0,0,0,0,0,0,0,0,0,0,0]
["Surplus/(Deficit)",null,{"$f":"C33-C48","v":-217060632.34000003},{"$f":"D33-D48","v":-123330443.38000011},-47101898.519999981,2812189,2786801,2786801,24678228,2804457,1513127,7150019,{"$f":"M33+M48","v":0},0,0,0,0,0,0,0,0,0,0,0]
["Transfers and subsidies - capital (monetary allocations)","6",113640249.05,51369987.57,119891335.76000001,194004750,197604752,197604752,197604752,117237700,142940700,145253102]
["Transfers and subsidies - capital (in-kind)","6",0,0,0,0,0,0,0,0,0,0]
["Surplus/(Deficit) after capital transfers & contributions",null,{"$f":"SUM(C49:C51)","v":-103420383.29000004},{"$f":"SUM(D49:D51)","v":-71960455.810000122},72789437.240000024,196816939,200391553,200391553,222282980,120042157,144453827,152403121]
["Income Tax",null,0,0,0,0,0,0,0,0,0,0]
["Surplus/(Deficit) after income tax",null,{"$f":"+C52-C53","v":-103420383.29000004},{"$f":"+D52-D53","v":-71960455.810000122},72789437.240000024,196816939,200391553,200391553,222282980,120042157,144453827,152403121,0,0,0,0,0]
["Share of Surplus/Deficit attributable to Joint Venture",null,0,0,0,0,0,0,0,0,0,0]
["Share of Surplus/Deficit attributable to Minorities",null,0,0,0,0,0,0,0,0,0,0]
["Surplus/(Deficit) attributable to municipality",null,{"$f":"SUM(C54:C56)","v":-103420383.29000004},{"$f":"SUM(D54:D56)","v":-71960455.810000122},72789437.240000024,196816939,200391553,200391553,222282980,120042157,144453827,152403121,0,0,0,0,0]
["Share of Surplus/Deficit attributable to Associate",7,0,0,0,0,0,0,0,0,0,0]
["Intercompany/Parent subsidiary transactions",null,0,0,0,0,0,0,0,0,0,0]
[{"$f":"result","v":"Surplus/(Deficit) for the year"},1,{"$f":"SUM(C57:C59)","v":-103420383.29000004},{"$f":"SUM(D57:D59)","v":-71960455.810000122},72789437.240000024,196816939,200391553,200391553,222282980,120042157,144453827,152403121,0,0,0,0,0,{"$f":"R36+R59","v":0},0,0,0,0,0,0]
["References"]
["1. Classifications are revenue sources and expenditure type"]
["2. Detail to be provided in Table SA1",null,null,null,null,null,null,null,null,null,null,null,null,null,{"$f":"O60-'A4-FinPerf RE'!J60","v":-120042157},{"$f":"P60-'A4-FinPerf RE'!K60","v":-144453827},{"$f":"Q60-'A4-FinPerf RE'!L60","v":-152403121}]
["3. Debt impairment includes Impairment and Reversal of Impairment Losses"]
["4. Expenditure type components previously shown under repairs and maintenance should be allocated back to the originating expenditure group/item; e.g. employee costs"]
["5. Repairs & maintenance detailed in Table A9 and Table SA34c"]
["6. Contributions are funds provided by external organisations to assist with infrastructure development; e.g. developer contributions (detail to be provided in Table SA1)"]
["7. Equity method ( Includes Joint Ventures)"]
["8. All materials consumed including water consumed and materials used in operations."]
["9 Operational revenue is a summary of imatereial item that are on the chart not on the face of the A4 due to imateriality."]

{"sheet":"A4 Funding","index":12,"n_rows":311,"n_cols":14,"rows_kept":311,"cut":false,"hidden":true,"merged":[[1,7,1,10],[1,11,1,13],[0,0,0,13]]}
["Western Cape: Saldanha Bay (WC014) - Table A4 Funding Tool Summary for 4th Quarter ended 30 June 2024"]
["A4 Code","A4 Description","Type","Classification",{"$f":"head1b","v":"2021/22"},{"$f":"head1A","v":"2022/23"},{"$f":"Head1","v":"2023/24"},{"$f":"Head2","v":"Current Year 2024/25"},null,null,null,{"$f":"Head3","v":"2025/26 Medium Term Revenue & Expenditure Framework"}]
["R thousands","","","",{"$f":"Head5","v":"Audited Outcome"},{"$f":"Head5","v":"Audited Outcome"},{"$f":"Head5","v":"Audited Outcome"},{"$f":"Head6","v":"Original Budget"},{"$f":"Head7","v":"Adjusted Budget"},{"$f":"Head8","v":"Full Year Forecast"},{"$f":"Head5b","v":"Pre-audit outcome"},{"$f":"Head9","v":"Budget Year 2025/26"},{"$f":"Head10","v":"Budget Year +1 2026/27"},{"$f":"Head11","v":"Budget Year +2 2027/28"}]
["0300","Exchange Revenue / Service charges - Electricity","Non-Cash","Debtor accrual - service charges electricity accrued through exchange receivables",{"$f":"'SA3'!C8","v":80398523.109999999},{"$f":"'SA3'!D8","v":114531052.54000001},{"$f":"'SA3'!E8","v":151394263.96000001},{"$f":"'SA3'!F8","v":383496725},{"$f":"'SA3'!G8","v":171533633},{"$f":"'SA3'!H8","v":171533633},{"$f":"'SA3'!I8","v":171533633},{"$f":"'SA3'!J8","v":172581256},{"$f":"'SA3'!K8","v":174533198},{"$f":"'SA3'!L8","v":175911756}]
["","","","Non-Cash Total",{"$f":"SUM(E4)","v":80398523.109999999},{"$f":"SUM(F4)","v":114531052.54000001},151394263.96000001,383496725,171533633,171533633,171533633,172581256,174533198,175911756]
["","Exchange Revenue / Service charges - Electricity Total","",""]
["0400","Exchange Revenue / Service charges - Water","Non-Cash","Debtor accrual - service charges water accrued through exchange receivables",{"$f":"'SA3'!C9","v":121180540.53},{"$f":"'SA3'!D9","v":148170872.15000001},{"$f":"'SA3'!E9","v":186561899.80000001},{"$f":"'SA3'!F9","v":208395849},{"$f":"'SA3'!G9","v":163608528},{"$f":"'SA3'!H9","v":163608528},{"$f":"'SA3'!I9","v":163608528},{"$f":"'SA3'!J9","v":163997071},{"$f":"'SA3'!K9","v":165355262},{"$f":"'SA3'!L9","v":166138125}]
["","","","Non-Cash Total"]
["","Exchange Revenue / Service charges - Water Total","",""]
["0500","Exchange Revenue / Service charges - Waste Water Management","Non-Cash","Debtor accrual - service charges waste water management accrued through exchange receivables",{"$f":"'SA3'!C11","v":60200154.039999999},{"$f":"'SA3'!D11","v":72962032.150000006},{"$f":"'SA3'!E11","v":92506814.069999993},{"$f":"'SA3'!F11","v":107397289},{"$f":"'SA3'!G11","v":79628983},{"$f":"'SA3'!H11","v":79628983},{"$f":"'SA3'!I11","v":79628983},{"$f":"'SA3'!J11","v":79816180},{"$f":"'SA3'!K11","v":80040417},{"$f":"'SA3'!L11","v":80263878}]
["","","","Non-Cash Total"]
["","Exchange Revenue / Service charges - Waste Water Management Total","",""]
["0600","Exchange Revenue / Service charges - Waste Management","Non-Cash","Debtor accrual - service charges waste management accrued through exchange receivables",{"$f":"'SA3'!C10","v":67230678.560000002},{"$f":"'SA3'!D10","v":94551630.120000005},{"$f":"'SA3'!E10","v":109882143.93000001},{"$f":"'SA3'!F10","v":124345724},{"$f":"'SA3'!G10","v":100193514},{"$f":"'SA3'!H10","v":100193514},{"$f":"'SA3'!I10","v":100193514},{"$f":"'SA3'!J10","v":99964547},{"$f":"'SA3'!K10","v":100130975},{"$f":"'SA3'!L10","v":100296491}]
["","","","Non-Cash Total"]
["","Exchange Revenue / Service charges - Waste Management Total","",""]
["0700","Exchange Revenue / Sale of Goods and Rendering of Services","Cash","Cash sales of goods and rendering of services",{"$f":"'SA3'!C138","v":1544594319.7699997},0,0,0,0,0,0,0,0,0]
[null,null,null,"Proceeds sale of PPE",0,0,0,0,0,0,0,0,0,0]
["","","","Cash Total",0,0,0,0,0,0,0,0,0,0]
["","Exchange Revenue / Sale of Goods and Rendering of Services Total","","",0,0,0,0,0,0,0,0,0,0]
["0800","Exchange Revenue / Agency services","Cash","Cash - agency services",0,0,0,0,0,0,0,0,0,0]
["","","","Cash Total",0,0,0,0,0,0,0,0,0,0]
["","Exchange Revenue / Agency services Total","","",0,0,0,0,0,0,0,0,0,0]
["0900","Exchange Revenue / Interest","Non-Cash","Deemed interest",0,0,0,0,0,0,0,0,0,0]
["","","","Non-Cash Total"]
["","Exchange Revenue / Interest Total","",""]
["1000","Exchange Revenue / Interest earned from Receivables","Non-Cash","Affiliates/related parties/associated companies",0,0,0,0,0,0,0,0,0,0]
[null,null,null,"Debtor accrual - interest outstanding debtors accrued through exchange receivables",0,0,0,0,0,0,0,0,0,0]
[null,null,null,"SARS",0,0,0,0,0,0,0,0,0,0]
["","","","Non-Cash Total",0,0,0,0,0,0,0,0,0,0]
["","Exchange Revenue / Interest earned from Receivables Total","","",0,0,0,0,0,0,0,0,0,0]
["1100","Exchange Revenue / Interest earned from Current and Non Current Assets","Cash","Cash - interest external investments",0,0,0,0,0,0,0,0,0,0]
["","","","Cash Total",0,0,0,0,0,0,0,0,0,0]
["","Exchange Revenue / Interest earned from Current and Non Current Assets Total","","",0,0,0,0,0,0,0,0,0,0]
["1200","Exchange Revenue / Dividends","Cash","Cash - dividends received",0,0,0,0,0,0,0,0,0,0]
["","","","Cash Total",0,0,0,0,0,0,0,0,0,0]
["","Exchange Revenue / Dividends Total","","",0,0,0,0,0,0,0,0,0,0]
["1300","Exchange Revenue / Rent on Land","Cash","Cash - rent on land",0,0,0,0,0,0,0,0,0,0]
["","","","Cash Total",0,0,0,0,0,0,0,0,0,0]
["","Exchange Revenue / Rent on Land Total","","",0,0,0,0,0,0,0,0,0,0]
["1400","Exchange Revenue / Rental from Fixed Assets","Cash","Cash - rental from fixed assets",0,0,0,0,0,0,0,0,0,0]
["","","","Cash Total",0,0,0,0,0,0,0,0,0,0]
["","Exchange Revenue / Rental from Fixed Assets Total","","",0,0,0,0,0,0,0,0,0,0]
["1500","Exchange Revenue / Licence and permits","Cash","Cash - licence and permits",0,0,0,0,0,0,0,0,0,0]
["","","","Cash Total",0,0,0,0,0,0,0,0,0,0]
["","Exchange Revenue / Licence and permits Total","","",0,0,0,0,0,0,0,0,0,0]
[1550,"Exchange Revenue / Special rating levies","Cash","Cash - Special rating levies",0,0,0,0,0,0,0,0,0,0]
[null,null,null,"Cash Total",0,0,0,0,0,0,0,0,0,0]
[null,"Exchange Revenue / Special rating levies Total",null,null,0,0,0,0,0,0,0,0,0,0]
[1600,"Exchange Revenue / Operational Revenue","Cash","Cash - Operating revenue",0,0,0,0,0,0,0,0,0,0]
["","","","Cash Total",0,0,0,0,0,0,0,0,0,0]
["","Exchange Revenue / Operational Revenue Total","","",0,0,0,0,0,0,0,0,0,0]
["1800","Non-Exchange Revenue / Property rates","Non-Cash","Debtor accrual - property rates accrued through non-exchange receivables",0,0,0,0,0,0,0,0,0,0]
["","","","Non-Cash Total",0,0,0,0,0,0,0,0,0,0]
["","Non-Exchange Revenue / Property rates Total","","",0,0,0,0,0,0,0,0,0,0]
["1900","Non-Exchange Revenue / Surcharges and Taxes","Non-Cash","Debtor accrual - surcharges & taxes accrued through non-exchange receivables",0,0,0,0,0,0,0,0,0,0]
["","","","Non-Cash Total",0,0,0,0,0,0,0,0,0,0]
["","Non-Exchange Revenue / Surcharges and Taxes Total","","",0,0,0,0,0,0,0,0,0,0]
["2000","Non-Exchange Revenue / Fines, penalties and forfeits","Non-Cash","Debtor accrual - Fines, penalties and forfeits revenue accrued through non-exchanges receivables",0,0,0,0,0,0,0,0,0,0]
["","","","Non-Cash Total",0,0,0,0,0,0,0,0,0,0]
["","Non-Exchange Revenue / Fines, penalties and forfeits Total","","",0,0,0,0,0,0,0,0,0,0]
["2100","Non-Exchange Revenue / Licences or permits","Cash","Cash - licences or permits",0,0,0,0,0,0,0,0,0,0]
["","","","Cash Total",0,0,0,0,0,0,0,0,0,0]
["","Non-Exchange Revenue / Licences or permits Total","","",0,0,0,0,0,0,0,0,0,0]
["2200","Non-Exchange Revenue / Transfer and subsidies - Operational","Cash","Cash - Operational transfers and subsidies",0,0,0,0,0,0,0,0,0,0]
["","","","Cash Total",0,0,0,0,0,0,0,0,0,0]
[null,null,"Non-Cash","Operational allocation in-kind",0,0,0,0,0,0,0,0,0,0]
["","","","Non-Cash Total",0,0,0,0,0,0,0,0,0,0]
["","Non-Exchange Revenue / Transfer and subsidies - Operational Total","","",0,0,0,0,0,0,0,0,0,0]
["2300","Non-Exchange Revenue / Interest","Non-Cash","Debtor accrual - interest outstanding property rates accrued through non-exchange receivables",0,0,0,0,0,0,0,0,0,0]
[null,null,null,"Debtor accrual - interest outstanding service charges electricity accrued through exchange receivables",0,0,0,0,0,0,0,0,0,0]
[null,null,null,"Debtor accrual - interest outstanding service charges waste management accrued through exchange receivables",0,0,0,0,0,0,0,0,0,0]
[null,null,null,"Debtor accrual - interest outstanding service charges waste water management accrued through exchange receivables",0,0,0,0,0,0,0,0,0,0]
[null,null,null,"Debtor accrual - interest outstanding service charges water accrued through exchange receivables",0,0,0,0,0,0,0,0,0,0]
["","","","Non-Cash Total",0,0,0,0,0,0,0,0,0,0]
["","Non-Exchange Revenue / Interest Total","","",0,0,0,0,0,0,0,0,0,0]
["2400","Non-Exchange Revenue / Fuel Levy","Cash","Cash collection fuel levy",0,0,0,0,0,0,0,0,0,0]
["","","","Cash Total",0,0,0,0,0,0,0,0,0,0]
["","Non-Exchange Revenue / Fuel Levy Total","","",0,0,0,0,0,0,0,0,0,0]
["2500","Non-Exchange Revenue / Operational Revenue","Non-Cash","Debtor accrual - availability charges electricity accrued through non-exchange receivables",0,0,0,0,0,0,0,0,0,0]
[null,null,null,"Debtor accrual - availability charges waste management accrued through non-exchange receivables",0,0,0,0,0,0,0,0,0,0]
[null,null,null,"Debtor accrual - availability charges waste water management  accrued through non-exchange receivables",0,0,0,0,0,0,0,0,0,0]
[null,null,null,"Debtor accrual - availability charges water accrued through non-exchange receivables",0,0,0,0,0,0,0,0,0,0]
["","","","Non-Cash Total",0,0,0,0,0,0,0,0,0,0]
["","Non-Exchange Revenue / Operational Revenue Total","","",0,0,0,0,0,0,0,0,0,0]
["2600","Non-Exchange Revenue / Gains on disposal of Assets","Non-Cash","Biological assets",0,0,0,0,0,0,0,0,0,0]
[null,null,null,"Discontinued operations",0,0,0,0,0,0,0,0,0,0]
[null,null,null,"Heritage assets",0,0,0,0,0,0,0,0,0,0]
[null,null,null,"Intangible assets",0,0,0,0,0,0,0,0,0,0]
[null,null,null,"Investment property",0,0,0,0,0,0,0,0,0,0]
[null,null,null,"Land",0,0,0,0,0,0,0,0,0,0]
[null,null,null,"Living resources",0,0,0,0,0,0,0,0,0,0]
[null,null,null,"Other assets",0,0,0,0,0,0,0,0,0,0]
[null,null,null,"PPE",0,0,0,0,0,0,0,0,0,0]
["","","","Non-Cash Total",0,0,0,0,0,0,0,0,0,0]
["","Non-Exchange Revenue / Gains on disposal of Assets Total","","",0,0,0,0,0,0,0,0,0,0]
["2700","Non-Exchange Revenue / Other Gains","Non-Cash","Fair value adjustment actuarial assesments - leave gratuity",0,0,0,0,0,0,0,0,0,0]
[null,null,null,"Fair value adjustment actuarial assesments - long service awards",0,0,0,0,0,0,0,0,0,0]
[null,null,null,"Fair value adjustment actuarial assesments - medical aid",0,0,0,0,0,0,0,0,0,0]
[null,null,null,"Fair value adjustment actuarial assesments - pension funds",0,0,0,0,0,0,0,0,0,0]
[null,null,null,"Fair value adjustment biological assets",0,0,0,0,0,0,0,0,0,0]
[null,null,null,"Fair value adjustment heritage assets",0,0,0,0,0,0,0,0,0,0]
[null,null,null,"Fair value adjustment interest rate swap",0,0,0,0,0,0,0,0,0,0]
[null,null,null,"Fair value adjustment investment property",0,0,0,0,0,0,0,0,0,0]
[null,null,null,"Fair value adjustment investments",0,0,0,0,0,0,0,0,0,0]
[null,null,null,"Fair value adjustment living resources",0,0,0,0,0,0,0,0,0,0]
[null,null,null,"Foreign exchange",0,0,0,0,0,0,0,0,0,0]
[null,null,null,"Inventory - fair value assessment",0,0,0,0,0,0,0,0,0,0]
[null,null,null,"Inventory - increase in net realisable value",0,0,0,0,0,0,0,0,0,0]
[null,null,null,"Debt Waived",0,0,0,0,0,0,0,0,0,0]
["","","","Non-Cash Total",0,0,0,0,0,0,0,0,0,0]
["","Non-Exchange Revenue / Other Gains Total","","",0,0,0,0,0,0,0,0,0,0]
["2800","Revenue / Discontinued Operations","Non-Cash","Discontinued operations",0,0,0,0,0,0,0,0,0,0]
["","","","Non-Cash Total",0,0,0,0,0,0,0,0,0,0]
["","Revenue / Discontinued Operations Total","","",0,0,0,0,0,0,0,0,0,0]
["3100","Expenditure / Employee related costs","Non-Cash","Cost capitalised to PPE (credit account)",0,0,0,0,0,0,0,0,0,0]
[null,null,null,"Creditor accrual - Employee related expenditure accrued through payables from non-exchange transactions",0,0,0,0,0,0,0,0,0,0]
[null,null,null,"In-kind benefits",0,0,0,0,0,0,0,0,0,0]
[null,null,null,"In-kind benefits - cost capitalised to PPE (credit account)",0,0,0,0,0,0,0,0,0,0]
[null,null,null,"Post-retirement benefit: medical",0,0,0,0,0,0,0,0,0,0]
[null,null,null,"Post-retirement benefit: pension",0,0,0,0,0,0,0,0,0,0]
["","","","Non-Cash Total",0,0,0,0,0,0,0,0,0,0]
["","Expenditure / Employee related costs Total","","",0,0,0,0,0,0,0,0,0,0]
["3200","Expenditure / Remuneration of councillors","Non-Cash","Creditor Accrual - councillor remuneration accrued through payables from non-exchange transactions",0,0,0,0,0,0,0,0,0,0]
[null,null,null,"In-kind benefits to councillors",0,0,0,0,0,0,0,0,0,0]
[null,null,null,"Use of personal facilities",0,0,0,0,0,0,0,0,0,0]
["","","","Non-Cash Total",0,0,0,0,0,0,0,0,0,0]
["","Expenditure / Remuneration of councillors Total","","",0,0,0,0,0,0,0,0,0,0]
["3300","Expenditure / Bulk purchases - electricity","Non-Cash","Creditor accrual - bulk purchases electricity accrued through payables from exchange transactions",0,0,0,0,0,0,0,0,0,0]
["","","","Non-Cash Total",0,0,0,0,0,0,0,0,0,0]
["","Expenditure / Bulk purchases - electricity Total","","",0,0,0,0,0,0,0,0,0,0]
["3400","Expenditure / Inventory consumed","Non-Cash","Creditor accrual - bulk purchases water accrued through payables from exchange transactions",0,0,0,0,0,0,0,0,0,0]
[null,null,null,"Inventory consumed - agricultural",0,0,0,0,0,0,0,0,0,0]
[null,null,null,"Inventory consumed - capitalisation of inventory consumed",0,0,0,0,0,0,0,0,0,0]
[null,null,null,"Inventory consumed - finished Goods",0,0,0,0,0,0,0,0,0,0]
[null,null,null,"Inventory consumed - housing stock",0,0,0,0,0,0,0,0,0,0]
[null,null,null,"Inventory consumed - land",0,0,0,0,0,0,0,0,0,0]
[null,null,null,"Inventory consumed - materials and supplies",0,0,0,0,0,0,0,0,0,0]
[null,null,null,"Inventory consumed - standard rated",0,0,0,0,0,0,0,0,0,0]
[null,null,null,"Inventory consumed - water",0,0,0,0,0,0,0,0,0,0]
[null,null,null,"Inventory consumed - zero rated",0,0,0,0,0,0,0,0,0,0]
["","","","Non-Cash Total",0,0,0,0,0,0,0,0,0,0]
["","Expenditure / Inventory consumed Total","","",0,0,0,0,0,0,0,0,0,0]
["3500","Expenditure / Debt impairment","Non-Cash","Impairment loss - exchange revenue - electricity",0,0,0,0,0,0,0,0,0,0]
[null,null,null,"Impairment loss - exchange revenue - other",0,0,0,0,0,0,0,0,0,0]
[null,null,null,"Impairment loss - exchange revenue - waste management",0,0,0,0,0,0,0,0,0,0]
[null,null,null,"Impairment loss - exchange revenue - waste water management",0,0,0,0,0,0,0,0,0,0]
[null,null,null,"Impairment loss - exchange revenue - water",0,0,0,0,0,0,0,0,0,0]
[null,null,null,"Impairment loss - non-exchange revenue - other",0,0,0,0,0,0,0,0,0,0]
[null,null,null,"Impairment loss - non-exchange revenue - prop rates",0,0,0,0,0,0,0,0,0,0]
[null,null,null,"Impairment loss - non-exchange revenue - serv charges",0,0,0,0,0,0,0,0,0,0]
[null,null,null,"Impairment loss - non-exchange revenue - serv charges - electricity",0,0,0,0,0,0,0,0,0,0]
[null,null,null,"Impairment loss - non-exchange revenue - serv charges - waste management",0,0,0,0,0,0,0,0,0,0]
[null,null,null,"Impairment loss - non-exchange revenue - serv charges - waste water management",0,0,0,0,0,0,0,0,0,0]
[null,null,null,"Impairment loss - non-exchange revenue - serv charges - water",0,0,0,0,0,0,0,0,0,0]
[null,null,null,"Reversal of Impairment loss - exchange revenue - electricity",0,0,0,0,0,0,0,0,0,0]
[null,null,null,"Reversal of Impairment loss - non-exchange revenue - other",0,0,0,0,0,0,0,0,0,0]
[null,null,null,"Reversal of Impairment loss - non-exchange revenue - prop rates",0,0,0,0,0,0,0,0,0,0]
[null,null,null,"Reversal of Impairment loss - non-exchange revenue - serv charges",0,0,0,0,0,0,0,0,0,0]
[null,null,null,"Reversal of Impairment loss - non-exchange revenue - serv charges - electricity",0,0,0,0,0,0,0,0,0,0]
[null,null,null,"Reversal of Impairment loss - non-exchange revenue - serv charges - waste management",0,0,0,0,0,0,0,0,0,0]
[null,null,null,"Reversal of Impairment loss - non-exchange revenue - serv charges - waste water mangement",0,0,0,0,0,0,0,0,0,0]
[null,null,null,"Reversal of Impairment loss - non-exchange revenue - serv charges - water",0,0,0,0,0,0,0,0,0,0]
[null,null,null,"Reversal of Impairment loss - exchange revenue - waste management",0,0,0,0,0,0,0,0,0,0]
[null,null,null,"Reversal of Impairment loss - exchange revenue - waste water management",0,0,0,0,0,0,0,0,0,0]
[null,null,null,"Reversal of Impairment loss - exchange revenue - water",0,0,0,0,0,0,0,0,0,0]
[null,null,null,"Reversal of Impairment loss - exchange revenue - other",0,0,0,0,0,0,0,0,0,0]
["","","","Non-Cash Total",0,0,0,0,0,0,0,0,0,0]
["","Expenditure / Debt impairment Total","","",0,0,0,0,0,0,0,0,0,0]
["3600","Expenditure / Depreciation and amortisation","Non-Cash","Amortisation - intangible assets",0,0,0,0,0,0,0,0,0,0]
[null,null,null,"Depreciation - biological or cultivated assets",0,0,0,0,0,0,0,0,0,0]
[null,null,null,"Depreciation - heritage assets",0,0,0,0,0,0,0,0,0,0]
[null,null,null,"Depreciation - intangible assets",0,0,0,0,0,0,0,0,0,0]
[null,null,null,"Depreciation - investment property",0,0,0,0,0,0,0,0,0,0]
[null,null,null,"Depreciation - living resources",0,0,0,0,0,0,0,0,0,0]
[null,null,null,"Depreciation - PPE",0,0,0,0,0,0,0,0,0,0]
[null,null,null,"Depreciation - Land",0,0,0,0,0,0,0,0,0,0]
[null,null,null,"Impairment loss - biological or cultivated assets",0,0,0,0,0,0,0,0,0,0]
[null,null,null,"Impairment loss - heritage assets",0,0,0,0,0,0,0,0,0,0]
[null,null,null,"Impairment loss - intangible assets",0,0,0,0,0,0,0,0,0,0]
[null,null,null,"Impairment loss - investment property",0,0,0,0,0,0,0,0,0,0]
[null,null,null,"Impairment loss - living resources",0,0,0,0,0,0,0,0,0,0]
[null,null,null,"Impairment loss - PPE",0,0,0,0,0,0,0,0,0,0]
[null,null,null,"Impairment loss - PPE - construction WIP",0,0,0,0,0,0,0,0,0,0]
[null,null,null,"Reversal impairment loss - biological or cultivated assets",0,0,0,0,0,0,0,0,0,0]
[null,null,null,"Reversal impairment loss - investment property",0,0,0,0,0,0,0,0,0,0]
[null,null,null,"Reversal impairment loss - living resources",0,0,0,0,0,0,0,0,0,0]
[null,null,null,"Reversal impairment loss - PPE",0,0,0,0,0,0,0,0,0,0]
[null,null,null,"Reversal impairment loss - PPE - construction WIP",0,0,0,0,0,0,0,0,0,0]
[null,null,null,"Reversal of impairment loss - heritage assets",0,0,0,0,0,0,0,0,0,0]
[null,null,null,"Reversal of impairment loss - intangible assets",0,0,0,0,0,0,0,0,0,0]
["","","","Non-Cash Total",0,0,0,0,0,0,0,0,0,0]
["","Expenditure / Depreciation and amortisation Total","","",0,0,0,0,0,0,0,0,0,0]
["3700","Expenditure / Interest","Cash","Direct cash payment",0,0,0,0,0,0,0,0,0,0]
["","","","Cash Total",0,0,0,0,0,0,0,0,0,0]
[null,null,"Non-Cash","Accrual of finance charges - discounting of financial instruments",0,0,0,0,0,0,0,0,0,0]
[null,null,null,"Accrual of finance charges - interest costs intercompany/parentsubsidiary transactions",0,0,0,0,0,0,0,0,0,0]
[null,null,null,"Accrual of finance charges - interest costs long service awards",0,0,0,0,0,0,0,0,0,0]
[null,null,null,"Accrual of finance charges - interest costs non-current provisions",0,0,0,0,0,0,0,0,0,0]
["","","","Non-Cash Total",0,0,0,0,0,0,0,0,0,0]
["","Expenditure / Interest Total","","",0,0,0,0,0,0,0,0,0,0]
["3800","Expenditure / Contracted services","Non-Cash","Creditor Accrual - contracted services accrued through payables from exchange transactions",0,0,0,0,0,0,0,0,0,0]
["","","","Non-Cash Total",0,0,0,0,0,0,0,0,0,0]
["","Expenditure / Contracted services Total","","",0,0,0,0,0,0,0,0,0,0]
["3900","Expenditure / Transfers and subsidies","Cash","Capital monetary allocation",0,0,0,0,0,0,0,0,0,0]
[null,null,null,"Capital monetary allocation made to municipal entities.",0,0,0,0,0,0,0,0,0,0]
[null,null,null,"Operational monetary allocations",0,0,0,0,0,0,0,0,0,0]
[null,null,null,"Operational monetary allocations made to municipal entities.",0,0,0,0,0,0,0,0,0,0]
["","","","Cash Total",0,0,0,0,0,0,0,0,0,0]
[null,null,"Non-Cash","Capital allocation in-kind",0,0,0,0,0,0,0,0,0,0]
[null,null,null,"Capital allocation in-kind made to municipal entities.",0,0,0,0,0,0,0,0,0,0]
[null,null,null,"Operational allocation in-kind",0,0,0,0,0,0,0,0,0,0]
[null,null,null,"Operational allocation in-kind made to municipal entities.",0,0,0,0,0,0,0,0,0,0]
["","","","Non-Cash Total",0,0,0,0,0,0,0,0,0,0]
["","Expenditure / Transfers and subsidies Total","","",0,0,0,0,0,0,0,0,0,0]
["4000","Expenditure / Irrecoverable debts written off","Non-Cash","Bad debt written off",0,0,0,0,0,0,0,0,0,0]
[null,null,null,"Irrecoverable debt written off - receivables exchange revenue - electricity",0,0,0,0,0,0,0,0,0,0]
[null,null,null,"Irrecoverable debt written off - receivables exchange revenue - other",0,0,0,0,0,0,0,0,0,0]
[null,null,null,"Irrecoverable debt written off - receivables exchange revenue - waste management",0,0,0,0,0,0,0,0,0,0]
[null,null,null,"Irrecoverable debt written off - receivables exchange revenue - waste water management",0,0,0,0,0,0,0,0,0,0]
[null,null,null,"Irrecoverable debt written off - receivables exchange revenue - water",0,0,0,0,0,0,0,0,0,0]
[null,null,null,"Irrecoverable debt written off - receivables non-exchange revenue - other",0,0,0,0,0,0,0,0,0,0]
[null,null,null,"Irrecoverable debt written off - receivables non-exchange revenue - property rates",0,0,0,0,0,0,0,0,0,0]
[null,null,null,"Irrecoverable debt written off - receivables non-exchange revenue - service charges",0,0,0,0,0,0,0,0,0,0]
[null,null,null,"Irrecoverable debt written off - receivables non-exchange revenue - service charges - electricity",0,0,0,0,0,0,0,0,0,0]
[null,null,null,"Irrecoverable debt written off - receivables non-exchange revenue - service charges - waste management",0,0,0,0,0,0,0,0,0,0]
[null,null,null,"Irrecoverable debt written off - receivables non-exchange revenue - service charges - waste water management",0,0,0,0,0,0,0,0,0,0]
[null,null,null,"Irrecoverable debt written off - receivables non-exchange revenue - service charges - water",0,0,0,0,0,0,0,0,0,0]
["","","","Non-Cash Total",0,0,0,0,0,0,0,0,0,0]
["","Expenditure / Irrecoverable debts written off Total","","",0,0,0,0,0,0,0,0,0,0]
["4100","Expenditure / Operational costs","Cash","Direct cash payment",0,0,0,0,0,0,0,0,0,0]
["","","","Cash Total",0,0,0,0,0,0,0,0,0,0]
[null,null,"Non-Cash","Contribution to provisions",0,0,0,0,0,0,0,0,0,0]
[null,null,null,"Creditor accrual - expenditure: discontinued operations",0,0,0,0,0,0,0,0,0,0]
[null,null,null,"Creditor accrual - operational costs accrued through payables from exchange transactions",0,0,0,0,0,0,0,0,0,0]
[null,null,null,"Creditor accrual - operational costs accrued through payables from non-exchange transactions",0,0,0,0,0,0,0,0,0,0]
["","","","Non-Cash Total",0,0,0,0,0,0,0,0,0,0]
["","Expenditure / Operational costs Total","","",0,0,0,0,0,0,0,0,0,0]
["4200","Expenditure / Losses on disposal of Assets","Non-Cash","Losses - discontinued operations",0,0,0,0,0,0,0,0,0,0]
[null,null,null,"Losses - disposal biological assets",0,0,0,0,0,0,0,0,0,0]
[null,null,null,"Losses - disposal heritage assets",0,0,0,0,0,0,0,0,0,0]
[null,null,null,"Losses - disposal intangible assets",0,0,0,0,0,0,0,0,0,0]
[null,null,null,"Losses - disposal investment property",0,0,0,0,0,0,0,0,0,0]
[null,null,null,"Losses - disposal living resources",0,0,0,0,0,0,0,0,0,0]
[null,null,null,"Losses - disposal PPE",0,0,0,0,0,0,0,0,0,0]
["","","","Non-Cash Total",0,0,0,0,0,0,0,0,0,0]
["","Expenditure / Losses on disposal of Assets Total","","",0,0,0,0,0,0,0,0,0,0]
["4300","Expenditure / Other Losses","Non-Cash","Inventory - decrease in net realisable value",0,0,0,0,0,0,0,0,0,0]
[null,null,null,"Inventory - water losses:apparent losses:customer meter inaccuracies",0,0,0,0,0,0,0,0,0,0]
[null,null,null,"Inventory - water losses:apparent losses:unauthoried consumption",0,0,0,0,0,0,0,0,0,0]
[null,null,null,"Inventory - water losses:data transfer and management errors",0,0,0,0,0,0,0,0,0,0]
[null,null,null,"Inventory - water losses:real losses:leakage and overflows at storage tanks/reservoirs",0,0,0,0,0,0,0,0,0,0]
[null,null,null,"Inventory - water Losses:real losses:leakage on service connections up to the point of customer meter",0,0,0,0,0,0,0,0,0,0]
[null,null,null,"Inventory - water losses:real losses:leakage on transmission and distribution mains",0,0,0,0,0,0,0,0,0,0]
[null,null,null,"Inventory - water losses:unavoidable annual real losses",0,0,0,0,0,0,0,0,0,0]
[null,null,null,"Losses - disposal PPE",0,0,0,0,0,0,0,0,0,0]
[null,null,null,"Losses - foreign exchange",0,0,0,0,0,0,0,0,0,0]
[null,null,null,"Losses fair value adjustments - actuarial assesments - leave gratuity",0,0,0,0,0,0,0,0,0,0]
[null,null,null,"Losses fair value adjustments - actuarial assesments - long service awards",0,0,0,0,0,0,0,0,0,0]
[null,null,null,"Losses fair value adjustments - actuarial assesments - medical aid",0,0,0,0,0,0,0,0,0,0]
[null,null,null,"Losses fair value adjustments - actuarial assesments - pension funds",0,0,0,0,0,0,0,0,0,0]
[null,null,null,"Losses fair value adjustments - heritage assets",0,0,0,0,0,0,0,0,0,0]
[null,null,null,"Losses fair value adjustments - interest rate swaps",0,0,0,0,0,0,0,0,0,0]
[null,null,null,"Losses fair value adjustments - investment property",0,0,0,0,0,0,0,0,0,0]
[null,null,null,"Losses fair value adjustments - investments",0,0,0,0,0,0,0,0,0,0]
[null,null,null,"Losses fair value adjustments - living resources",0,0,0,0,0,0,0,0,0,0]
["","","","Non-Cash Total",0,0,0,0,0,0,0,0,0,0]
["","Expenditure / Other Losses Total","","",0,0,0,0,0,0,0,0,0,0]
["4600","Non-Exchange Revenue / Transfers and subsidies - capital (monetary allocations)","Cash","Cash - transfers and subsidies - capital (monetary allocations) - departmental agencies and accounts",0,0,0,0,0,0,0,0,0,0]
[null,null,null,"Cash - transfers and subsidies - capital (monetary allocations) - district municipalities",0,0,0,0,0,0,0,0,0,0]
[null,null,null,"Cash - transfers and subsidies - capital (monetary allocations) - foreign gov & international organisations",0,0,0,0,0,0,0,0,0,0]
[null,null,null,"Cash - transfers and subsidies - capital (monetary allocations) - higher education institutions",0,0,0,0,0,0,0,0,0,0]
[null,null,null,"Cash - transfers and subsidies - capital (monetary allocations) - households",0,0,0,0,0,0,0,0,0,0]
[null,null,null,"Cash - transfers and subsidies - capital (monetary allocations) - national government",0,0,0,0,0,0,0,0,0,0]
[null,null,null,"Cash - transfers and subsidies - capital (monetary allocations) - non-profit institutions",0,0,0,0,0,0,0,0,0,0]
[null,null,null,"Cash - transfers and subsidies - capital (monetary allocations) - parent municipality",0,0,0,0,0,0,0,0,0,0]
[null,null,null,"Cash - transfers and subsidies - capital (monetary allocations) - private enterprises",0,0,0,0,0,0,0,0,0,0]
[null,null,null,"Cash - transfers and subsidies - capital (monetary allocations) - provincial governments",0,0,0,0,0,0,0,0,0,0]
[null,null,null,"Cash - transfers and subsidies - capital (monetary allocations) - public corporations",0,0,0,0,0,0,0,0,0,0]
["","","","Cash Total",0,0,0,0,0,0,0,0,0,0]
["","Non-Exchange Revenue / Transfers and subsidies - capital (monetary allocations) Total","","",0,0,0,0,0,0,0,0,0,0]
["4700","Non-Exchange Revenue / Transfers and subsidies - capital (in-kind)","Non-Cash","Allocations in-kind (donated assets) - departmental agencies and accounts",0,0,0,0,0,0,0,0,0,0]
[null,null,null,"Allocations in-kind (donated assets) - district municipalities",0,0,0,0,0,0,0,0,0,0]
[null,null,null,"Allocations in-kind (donated assets) - foreign gov & international organisation",0,0,0,0,0,0,0,0,0,0]
[null,null,null,"Allocations in-kind (donated assets) - higher educational institutions",0,0,0,0,0,0,0,0,0,0]
[null,null,null,"Allocations in-kind (donated assets) - households",0,0,0,0,0,0,0,0,0,0]
[null,null,null,"Allocations in-kind (donated assets) - national government",0,0,0,0,0,0,0,0,0,0]
[null,null,null,"Allocations in-kind (donated assets) - non-profit institutions",0,0,0,0,0,0,0,0,0,0]
[null,null,null,"Allocations in-kind (donated assets) - parent municipality",0,0,0,0,0,0,0,0,0,0]
[null,null,null,"Allocations in-kind (donated assets) - private enterprises",0,0,0,0,0,0,0,0,0,0]
[null,null,null,"Allocations in-kind (donated assets) - provincial government",0,0,0,0,0,0,0,0,0,0]
[null,null,null,"Allocations in-kind (donated assets) - public corporations",0,0,0,0,0,0,0,0,0,0]
[null,null,null,"Allocations in-kind (donated assets) - local municipalities",0,0,0,0,0,0,0,0,0,0]
["","","","Non-Cash Total",0,0,0,0,0,0,0,0,0,0]
["","Non-Exchange Revenue / Transfers and subsidies - capital (in-kind) Total","","",0,0,0,0,0,0,0,0,0,0]
["4900","Expenditure / Income Tax","Non-Cash","Taxation - continuing operations",0,0,0,0,0,0,0,0,0,0]
[null,null,null,"Taxation - discontinued operations",0,0,0,0,0,0,0,0,0,0]
["","","","Non-Cash Total",0,0,0,0,0,0,0,0,0,0]
["","Expenditure / Income Tax Total","","",0,0,0,0,0,0,0,0,0,0]
["5100","Expenditure / Share of Surplus/Deficit attributable to Joint Venture","Non-Cash","Expenditure - accrual share of surplus/deficit attributable to joint venture",0,0,0,0,0,0,0,0,0,0]
["","","","Non-Cash Total",0,0,0,0,0,0,0,0,0,0]
["","Expenditure / Share of Surplus/Deficit attributable to Joint Venture Total","","",0,0,0,0,0,0,0,0,0,0]
["5200","Expenditure / Share of Surplus/Deficit attributable to Minorities","Non-Cash","Expenditure - accrual share of surplus/deficit attributable to minorities",0,0,0,0,0,0,0,0,0,0]
["","","","Non-Cash Total",0,0,0,0,0,0,0,0,0,0]
["","Expenditure / Share of Surplus/Deficit attributable to Minorities Total","","",0,0,0,0,0,0,0,0,0,0]
["5400","Expenditure / Share of Surplus/Deficit attributable to Associate","Non-Cash","Expenditure - accrual share of surplus/deficit attributable to associate",0,0,0,0,0,0,0,0,0,0]
["","","","Non-Cash Total",0,0,0,0,0,0,0,0,0,0]
["","Expenditure / Share of Surplus/Deficit attributable to Associate Total","","",0,0,0,0,0,0,0,0,0,0]
["5500","Expenditure / Intercompany/Parent subsidiary transactions","Non-Cash","Expenditure - intercompany/parent-subsidiary transactions",0,0,0,0,0,0,0,0,0,0]
["","","","Non-Cash Total",0,0,0,0,0,0,0,0,0,0]
["","Expenditure / Intercompany/Parent subsidiary transactions Total","","",0,0,0,0,0,0,0,0,0,0]
["Grand Total","","","",0,0,0,0,0,0,0,0,0,0]

{"sheet":"A5-Capex","index":13,"n_rows":83,"n_cols":12,"rows_kept":83,"cut":false,"hidden":false,"merged":[[1,9,1,11],[1,5,1,8],[82,0,82,11],[77,0,77,11],[76,0,76,11],[78,0,78,11]]}
[" "]
[{"$f":"Vdesc","v":"Vote Description"},{"$f":"head27","v":"Ref"},{"$f":"head1b","v":"2021/22"},{"$f":"head1A","v":"2022/23"},{"$f":"Head1","v":"2023/24"},{"$f":"Head2","v":"Current Year 2024/25"},null,null,null,{"$f":"Head3","v":"2025/26 Medium Term Revenue & Expenditure Framework"}]
["R thousand",1,{"$f":"Head5","v":"Audited Outcome"},{"$f":"Head5","v":"Audited Outcome"},{"$f":"Head5","v":"Audited Outcome"},{"$f":"Head6","v":"Original Budget"},{"$f":"Head7","v":"Adjusted Budget"},{"$f":"Head8","v":"Full Year Forecast"},{"$f":"Head5b","v":"Pre-audit outcome"},{"$f":"Head9","v":"Budget Year 2025/26"},{"$f":"Head10","v":"Budget Year +1 2026/27"},{"$f":"Head11","v":"Budget Year +2 2027/28"}]
["Capital expenditure - Vote"]
["Multi-year expenditure  to be appropriated",2]
[{"$f":"A5A!A6","v":"Vote 1 - Office of Municipal Manager"},null,{"$f":"A5A!C6","v":0},{"$f":"A5A!D6","v":0},{"$f":"A5A!E6","v":0},{"$f":"A5A!F6","v":700000},{"$f":"A5A!G6","v":700000},{"$f":"A5A!H6","v":700000},{"$f":"A5A!I6","v":700000},{"$f":"A5A!J6","v":0},{"$f":"A5A!K6","v":0},{"$f":"A5A!L6","v":1}]
[{"$f":"A5A!A17","v":"Vote 2 - Budget and Treasury"},null,{"$f":"A5A!C17","v":0},{"$f":"A5A!D17","v":0},{"$f":"A5A!E17","v":0},{"$f":"A5A!F17","v":0},{"$f":"A5A!G17","v":0},{"$f":"A5A!H17","v":0},{"$f":"A5A!I17","v":0},{"$f":"A5A!J17","v":0},{"$f":"A5A!K17","v":0},{"$f":"A5A!L17","v":0}]
[{"$f":"A5A!A28","v":"Vote 3 - Corporate Services"},null,{"$f":"A5A!C28","v":18400.009999999998},{"$f":"A5A!D28","v":0},{"$f":"A5A!E28","v":557840.75},{"$f":"A5A!F28","v":0},{"$f":"A5A!G28","v":0},{"$f":"A5A!H28","v":0},{"$f":"A5A!I28","v":0},{"$f":"A5A!J28","v":3500000},{"$f":"A5A!K28","v":3500000},{"$f":"A5A!L28","v":0}]
[{"$f":"A5A!A39","v":"Vote 4 - Social Service"},null,{"$f":"A5A!C39","v":1333821.48},{"$f":"A5A!D39","v":0},{"$f":"A5A!E39","v":30084940.789999999},{"$f":"A5A!F39","v":0},{"$f":"A5A!G39","v":0},{"$f":"A5A!H39","v":0},{"$f":"A5A!I39","v":0},{"$f":"A5A!J39","v":1000000},{"$f":"A5A!K39","v":0},{"$f":"A5A!L39","v":0}]
[{"$f":"A5A!A50","v":"Vote 5 - Technical and Engineering Services"},null,{"$f":"A5A!C50","v":22288994.579999998},{"$f":"A5A!D50","v":33911453.969999999},{"$f":"A5A!E50","v":62725172.68},{"$f":"A5A!F50","v":129730649},{"$f":"A5A!G50","v":128342851},{"$f":"A5A!H50","v":128342851},{"$f":"A5A!I50","v":128342851},{"$f":"A5A!J50","v":88778311},{"$f":"A5A!K50","v":111519785},{"$f":"A5A!L50","v":96114041}]
[{"$f":"A5A!A61","v":"Vote 6 - Property, Planning & Development"},null,{"$f":"A5A!C61","v":0},{"$f":"A5A!D61","v":0},{"$f":"A5A!E61","v":0},{"$f":"A5A!F61","v":0},{"$f":"A5A!G61","v":0},{"$f":"A5A!H61","v":0},{"$f":"A5A!I61","v":0},{"$f":"A5A!J61","v":2000000},{"$f":"A5A!K61","v":0},{"$f":"A5A!L61","v":0}]
[{"$f":"A5A!A72","v":"Vote 7 - Office of the Mayor/Strategic Office"},null,{"$f":"A5A!C72","v":0},{"$f":"A5A!D72","v":0},{"$f":"A5A!E72","v":0},{"$f":"A5A!F72","v":0},{"$f":"A5A!G72","v":0},{"$f":"A5A!H72","v":0},{"$f":"A5A!I72","v":0},{"$f":"A5A!J72","v":0},{"$f":"A5A!K72","v":0},{"$f":"A5A!L72","v":0}]
[{"$f":"A5A!A83","v":"Vote 8 - COMMUNITY & SOCIAL SERVICES"},null,{"$f":"A5A!C83","v":0},{"$f":"A5A!D83","v":0},{"$f":"A5A!E83","v":0},{"$f":"A5A!F83","v":0},{"$f":"A5A!G83","v":0},{"$f":"A5A!H83","v":0},{"$f":"A5A!I83","v":0},{"$f":"A5A!J83","v":0},{"$f":"A5A!K83","v":0},{"$f":"A5A!L83","v":0}]
[{"$f":"A5A!A94","v":"Vote 9 - [NAME OF VOTE 9]"},null,{"$f":"A5A!C94","v":0},{"$f":"A5A!D94","v":0},{"$f":"A5A!E94","v":0},{"$f":"A5A!F94","v":0},{"$f":"A5A!G94","v":0},{"$f":"A5A!H94","v":0},{"$f":"A5A!I94","v":0},{"$f":"A5A!J94","v":0},{"$f":"A5A!K94","v":0},{"$f":"A5A!L94","v":0}]
[{"$f":"A5A!A105","v":"Vote 10 - [NAME OF VOTE 10]"},null,{"$f":"A5A!C105","v":0},{"$f":"A5A!D105","v":0},{"$f":"A5A!E105","v":0},{"$f":"A5A!F105","v":0},{"$f":"A5A!G105","v":0},{"$f":"A5A!H105","v":0},{"$f":"A5A!I105","v":0},{"$f":"A5A!J105","v":0},{"$f":"A5A!K105","v":0},{"$f":"A5A!L105","v":0}]
[{"$f":"A5A!A116","v":"Vote 11 - [NAME OF VOTE 11]"},null,{"$f":"A5A!C116","v":0},{"$f":"A5A!D116","v":0},{"$f":"A5A!E116","v":0},{"$f":"A5A!F116","v":0},{"$f":"A5A!G116","v":0},{"$f":"A5A!H116","v":0},{"$f":"A5A!I116","v":0},{"$f":"A5A!J116","v":0},{"$f":"A5A!K116","v":0},{"$f":"A5A!L116","v":0}]
[{"$f":"A5A!A127","v":"Vote 12 - [NAME OF VOTE 12]"},null,{"$f":"A5A!C127","v":0},{"$f":"A5A!D127","v":0},{"$f":"A5A!E127","v":0},{"$f":"A5A!F127","v":0},{"$f":"A5A!G127","v":0},{"$f":"A5A!H127","v":0},{"$f":"A5A!I127","v":0},{"$f":"A5A!J127","v":0},{"$f":"A5A!K127","v":0},{"$f":"A5A!L127","v":0}]
[{"$f":"A5A!A138","v":"Vote 13 - [NAME OF VOTE 13]"},null,{"$f":"A5A!C138","v":0},{"$f":"A5A!D138","v":0},{"$f":"A5A!E138","v":0},{"$f":"A5A!F138","v":0},{"$f":"A5A!G138","v":0},{"$f":"A5A!H138","v":0},{"$f":"A5A!I138","v":0},{"$f":"A5A!J138","v":0},{"$f":"A5A!K138","v":0},{"$f":"A5A!L138","v":0}]
[{"$f":"A5A!A149","v":"Vote 14 - [NAME OF VOTE 14]"},null,{"$f":"A5A!C149","v":0},{"$f":"A5A!D149","v":0},{"$f":"A5A!E149","v":0},{"$f":"A5A!F149","v":0},{"$f":"A5A!G149","v":0},{"$f":"A5A!H149","v":0},{"$f":"A5A!I149","v":0},{"$f":"A5A!J149","v":0},{"$f":"A5A!K149","v":0},{"$f":"A5A!L149","v":0}]
[{"$f":"A5A!A160","v":"Vote 15 - [NAME OF VOTE 15]"},null,{"$f":"A5A!C160","v":0},{"$f":"A5A!D160","v":0},{"$f":"A5A!E160","v":0},{"$f":"A5A!F160","v":0},{"$f":"A5A!G160","v":0},{"$f":"A5A!H160","v":0},{"$f":"A5A!I160","v":0},{"$f":"A5A!J160","v":0},{"$f":"A5A!K160","v":0},{"$f":"A5A!L160","v":0}]
["Capital multi-year expenditure sub-total",7,{"$f":"SUM(C6:C20)","v":23641216.069999997},{"$f":"SUM(D6:D20)","v":33911453.969999999},93367954.219999999,130430649,129042851,{"$f":"SUM(H6:H20)","v":129042851},129042851,95278311,115019785,96114042]
[]
["Single-year expenditure to be appropriated",2]
[{"$f":"A6","v":"Vote 1 - Office of Municipal Manager"},null,{"$f":"A5A!C175","v":0},{"$f":"A5A!D175","v":5060},{"$f":"A5A!E175","v":0},{"$f":"A5A!F175","v":200000},{"$f":"A5A!G175","v":458743},{"$f":"A5A!H175","v":458743},{"$f":"A5A!I175","v":458743},{"$f":"A5A!J175","v":0},{"$f":"A5A!K175","v":0},{"$f":"A5A!L175","v":2}]
[{"$f":"A7","v":"Vote 2 - Budget and Treasury"},null,{"$f":"A5A!C186","v":0},{"$f":"A5A!D186","v":0},{"$f":"A5A!E186","v":260030.84},{"$f":"A5A!F186","v":0},{"$f":"A5A!G186","v":0},{"$f":"A5A!H186","v":0},{"$f":"A5A!I186","v":0},{"$f":"A5A!J186","v":0},{"$f":"A5A!K186","v":0},{"$f":"A5A!L186","v":0}]
["Vote 3 - Corporate Services",null,{"$f":"A5A!C197","v":682904},{"$f":"A5A!D197","v":910379.84},{"$f":"A5A!E197","v":1088127.33},{"$f":"A5A!F197","v":2100000},{"$f":"A5A!G197","v":3233399},{"$f":"A5A!H197","v":3233399},{"$f":"A5A!I197","v":3233399},{"$f":"A5A!J197","v":1020000},{"$f":"A5A!K197","v":800000},{"$f":"A5A!L197","v":800004}]
["Vote 4 - Social Service",null,{"$f":"A5A!C208","v":7761101.1100000003},{"$f":"A5A!D208","v":2294286.52},{"$f":"A5A!E208","v":6033059.4500000002},{"$f":"A5A!F208","v":1908000},{"$f":"A5A!G208","v":2058000},{"$f":"A5A!H208","v":2058000},{"$f":"A5A!I208","v":2058000},{"$f":"A5A!J208","v":5446347},{"$f":"A5A!K208","v":0},{"$f":"A5A!L208","v":6}]
["Vote 5 - Technical and Engineering Services",null,{"$f":"A5A!C219","v":80773781.75},{"$f":"A5A!D219","v":17876416},{"$f":"A5A!E219","v":11166023.460000001},{"$f":"A5A!F219","v":83030301},{"$f":"A5A!G219","v":122623680},{"$f":"A5A!H219","v":122623680},{"$f":"A5A!I219","v":122623680},{"$f":"A5A!J219","v":50459389},{"$f":"A5A!K219","v":38220917},{"$f":"A5A!L219","v":37420100}]
["Vote 6 - Property, Planning & Development",null,{"$f":"A5A!C230","v":0},{"$f":"A5A!D230","v":1457933.78},{"$f":"A5A!E230","v":1685341.5},{"$f":"A5A!F230","v":6425000},{"$f":"A5A!G230","v":8225000},{"$f":"A5A!H230","v":8225000},{"$f":"A5A!I230","v":8225000},{"$f":"A5A!J230","v":0},{"$f":"A5A!K230","v":0},{"$f":"A5A!L230","v":4}]
["Vote 7 - Office of the Mayor/Strategic Office",null,{"$f":"A5A!C241","v":0},{"$f":"A5A!D241","v":0},{"$f":"A5A!E241","v":362244},{"$f":"A5A!F241","v":0},{"$f":"A5A!G241","v":0},{"$f":"A5A!H241","v":0},{"$f":"A5A!I241","v":0},{"$f":"A5A!J241","v":100000},{"$f":"A5A!K241","v":0},{"$f":"A5A!L241","v":0}]
["Vote 8 - COMMUNITY & SOCIAL SERVICES",null,{"$f":"A5A!C252","v":0},{"$f":"A5A!D252","v":0},{"$f":"A5A!E252","v":0},{"$f":"A5A!F252","v":0},{"$f":"A5A!G252","v":0},{"$f":"A5A!H252","v":0},{"$f":"A5A!I252","v":0},{"$f":"A5A!J252","v":0},{"$f":"A5A!K252","v":0},{"$f":"A5A!L252","v":0}]
["Vote 9 - [NAME OF VOTE 9]",null,{"$f":"A5A!C263","v":0},{"$f":"A5A!D263","v":0},{"$f":"A5A!E263","v":0},{"$f":"A5A!F263","v":0},{"$f":"A5A!G263","v":0},{"$f":"A5A!H263","v":0},{"$f":"A5A!I263","v":0},{"$f":"A5A!J263","v":0},{"$f":"A5A!K263","v":0},{"$f":"A5A!L263","v":0}]
["Vote 10 - [NAME OF VOTE 10]",null,{"$f":"A5A!C274","v":0},{"$f":"A5A!D274","v":0},{"$f":"A5A!E274","v":0},{"$f":"A5A!F274","v":0},{"$f":"A5A!G274","v":0},{"$f":"A5A!H274","v":0},{"$f":"A5A!I274","v":0},{"$f":"A5A!J274","v":0},{"$f":"A5A!K274","v":0},{"$f":"A5A!L274","v":0}]
["Vote 11 - [NAME OF VOTE 11]",null,{"$f":"A5A!C285","v":0},{"$f":"A5A!D285","v":0},{"$f":"A5A!E285","v":0},{"$f":"A5A!F285","v":0},{"$f":"A5A!G285","v":0},{"$f":"A5A!H285","v":0},{"$f":"A5A!I285","v":0},{"$f":"A5A!J285","v":0},{"$f":"A5A!K285","v":0},{"$f":"A5A!L285","v":0}]
["Vote 12 - [NAME OF VOTE 12]",null,{"$f":"A5A!C296","v":0},{"$f":"A5A!D296","v":0},{"$f":"A5A!E296","v":0},{"$f":"A5A!F296","v":0},{"$f":"A5A!G296","v":0},{"$f":"A5A!H296","v":0},{"$f":"A5A!I296","v":0},{"$f":"A5A!J296","v":0},{"$f":"A5A!K296","v":0},{"$f":"A5A!L296","v":0}]
["Vote 13 - [NAME OF VOTE 13]",null,{"$f":"A5A!C307","v":0},{"$f":"A5A!D307","v":0},{"$f":"A5A!E307","v":0},{"$f":"A5A!F307","v":0},{"$f":"A5A!G307","v":0},{"$f":"A5A!H307","v":0},{"$f":"A5A!I307","v":0},{"$f":"A5A!J307","v":0},{"$f":"A5A!K307","v":0},{"$f":"A5A!L307","v":0}]
["Vote 14 - [NAME OF VOTE 14]",null,{"$f":"A5A!C318","v":0},{"$f":"A5A!D318","v":0},{"$f":"A5A!E318","v":0},{"$f":"A5A!F318","v":0},{"$f":"A5A!G318","v":0},{"$f":"A5A!H318","v":0},{"$f":"A5A!I318","v":0},{"$f":"A5A!J318","v":0},{"$f":"A5A!K318","v":0},{"$f":"A5A!L318","v":0}]
[{"$f":"A20","v":"Vote 15 - [NAME OF VOTE 15]"},null,{"$f":"A5A!C329","v":0},{"$f":"A5A!D329","v":0},{"$f":"A5A!E329","v":0},{"$f":"A5A!F329","v":0},{"$f":"A5A!G329","v":0},{"$f":"A5A!H329","v":0},{"$f":"A5A!I329","v":0},{"$f":"A5A!J329","v":0},{"$f":"A5A!K329","v":0},{"$f":"A5A!L329","v":0}]
["Capital single-year expenditure sub-total",null,{"$f":"SUM(C24:C38)","v":89217786.859999999},{"$f":"SUM(D24:D38)","v":22544076.140000001},20594826.580000002,93663301,136598822,136598822,136598822,57025736,39020917,38220116]
["Total Capital Expenditure - Vote",null,{"$f":"C39+C21","v":112859002.92999999},{"$f":"D39+D21","v":56455530.109999999},113962780.8,224093950,265641673,265641673,265641673,152304047,154040702,134334158]
[]
["Capital Expenditure - Functional"]
["Governance and administration",null,{"$f":"SUM(C44:C46)","v":14541304.01},{"$f":"SUM(D44:D46)","v":915439.84},1905998.9200000002,3000000,4392142,4392142,4392142,6790000,4300000,800007]
["Executive and council",null,0,0,1645968.08,1250000,1250000,1250000,1250000,0,0,3]
["Finance and administration",null,14541304.01,915439.84,260030.84,1750000,3142142,3142142,3142142,6790000,4300000,800004]
["Internal audit",null,0,0,0,0,0,0,0,0,0,0]
["Community and public safety",null,{"$f":"SUM(C48:C52)","v":2926851.45},{"$f":"SUM(D48:D52)","v":1585930},294894,10408000,10558000,10558000,10558000,2386347,8137689,14755856]
["Community and social services",null,2926851.45,1585930,294894,0,0,0,0,1586347,0,0]
["Sport and recreation",null,0,0,0,10378000,10528000,10528000,10528000,0,8137689,14755855]
["Public safety",null,0,0,0,30000,30000,30000,30000,800000,0,1]
["Housing",null,0,0,0,0,0,0,0,0,0,0]
["Health",null,0,0,0,0,0,0,0,0,0,0]
["Economic and environmental services",null,{"$f":"SUM(C54:C56)","v":2573995.62},{"$f":"SUM(D54:D56)","v":2417318.67},10903987.449999999,29128750,63084467,63084467,63084467,55157838,26930305,23132061]
["Planning and development",null,0,1457933.78,2047585.5,6425000,8225000,8225000,8225000,2000000,0,4]
["Road transport",null,2573995.62,959384.89,8713180.6699999999,22703750,54859467,54859467,54859467,53157838,26930305,23132057]
["Environmental protection",null,0,0,143221.28,0,0,0,0,0,0,0]
["Trading services",null,{"$f":"SUM(C58:C61)","v":106656851.85000001},{"$f":"SUM(D58:D61)","v":51319485.079999998},100857900.43000001,181557200,187607064,187607064,187607064,93579862,114672708,95646234]
["Energy sources",null,30826398.989999998,10291289.369999999,10772936.939999999,26206200,20306855,20306855,20306855,9503017,26755333,18000006]
["Water management",null,40564137.009999998,33075620.190000001,58386022.700000003,137340440,126172039,126172039,126172039,68583075,72883075,58300012]
["Waste water management",null,29098244.710000001,7461575.5199999996,1064000,16510560,39628170,39628170,39628170,12993770,15034300,19346216]
["Waste management",null,6168071.1399999997,491000,30634940.789999999,1500000,1500000,1500000,1500000,2500000,0,0]
["Other",null,0,217356.52,0,0,0,0,0,0,0,0]
["Total Capital Expenditure - Functional",3,{"$f":"C43+C47+C53+C57+C62","v":126699002.93000001},{"$f":"D43+D47+D53+D57+D62","v":56455530.109999999},113962780.80000001,224093950,265641673,265641673,265641673,157914047,154040702,{"$f":"L43+L47+L53+L57+L62","v":134334158}]
[]
["Funded by:"]
["National Government",null,101440103.81999999,46418809,96388604.879999995,194004750,221079752,221079752,221079752,117237700,142940700,133534118]
["Provincial Government",null,0,0,0,0,0,0,0,0,0,0]
["District Municipality",null,0,0,0,0,0,0,0,0,0,0]
["Transfers and subsidies - capital (monetary allocations) (Nat / Prov Departm Agencies, Households, Non-profit Institutions, Private Enterprises, Public Corporatons, Higher Educ Institutions)",null,0,0,0,0,0,0,0,0,0,0]
["Transfers recognised - capital",4,{"$f":"SUM(C66:C69)","v":101440103.81999999},46418809,96388604.879999995,194004750,221079752,221079752,221079752,117237700,142940700,133534118]
[]
["Borrowing",6,0,0,0,0,0,0,0,0,0,0]
["Internally generated funds",null,21994213.52,10036721.109999999,17574175.920000002,30089200,44561921,44561921,44561921,40676347,11100002,800040]
["Total Capital Funding",7,{"$f":"+C70+C72+C73","v":123434317.33999999},{"$f":"+D70+D72+D73","v":56455530.109999999},113962780.8,224093950,265641673,265641673,265641673,157914047,154040702,134334158]
[{"$f":"head27a","v":"References"}]
["1. Municipalities may choose to appropriate for capital expenditure for three years or for one year (if one year appropriation projected expenditure required for yr2 and yr3)."]
["2. Include capital component of PPP unitary payment. Note that capital transfers are only appropriated to municipalities for the budget year"]
["3. Capital expenditure by functional classification must reconcile to the appropriations by vote"]
["4. Must reconcile to supporting table SA20 and to Budgeted Financial Performance (revenue and expenditure)"]
[]
["6. Include finance leases and PPP capital funding component of unitary payment - total borrowing/repayments to reconcile to changes in Table SA17"]
["7. Total Capital Funding must balance with Total Capital Expenditure"]
["8. Include any capitalised interest (MFMA section 46) as part of relevant capital budget"]

{"sheet":"A5A","index":14,"n_rows":341,"n_cols":24,"rows_kept":341,"cut":false,"hidden":false,"merged":[[1,5,1,8],[1,9,1,11],[1,13,1,16],[1,17,1,20],[1,21,1,23]]}
[{"$f":"muni&\" - \"&Approve5","v":"Choose name from list - Table A5 Budgeted Capital Expenditure by vote, functional classification and funding"}]
[{"$f":"Vdesc","v":"Vote Description"},{"$f":"head27","v":"Ref"},{"$f":"head1b","v":"2021/22"},{"$f":"head1A","v":"2022/23"},{"$f":"Head1","v":"2023/24"},{"$f":"Head2","v":"Current Year 2024/25"},null,null,null,{"$f":"Head3","v":"2025/26 Medium Term Revenue & Expenditure Framework"},null,null,null,{"$f":"\"Multi-year appropriation for \"&Head9&\n\"\n in the \"&Head2A&\" Annual Budget\"","v":"Multi-year appropriation for Budget Year 2025/26\n in the 2024/25 Annual Budget"},null,null,null,{"$f":"\"Multi-year appropriation for \"&RIGHT(Head10,7)&\n\"\n in the \"&Head2A&\" Annual Budget\"","v":"Multi-year appropriation for 2026/27\n in the 2024/25 Annual Budget"},null,null,null,"New multi-year appropriations \n(funds for new and existing projects) "]
["R thousand",1,{"$f":"Head5","v":"Audited Outcome"},{"$f":"Head5","v":"Audited Outcome"},{"$f":"Head5","v":"Audited Outcome"},{"$f":"Head6","v":"Original Budget"},{"$f":"Head7","v":"Adjusted Budget"},{"$f":"Head8","v":"Full Year Forecast"},{"$f":"Head5b","v":"Pre-audit outcome"},{"$f":"Head9","v":"Budget Year 2025/26"},{"$f":"Head10","v":"Budget Year +1 2026/27"},{"$f":"Head11","v":"Budget Year +2 2027/28"},null,{"$f":"\"Appropriation for \"&RIGHT(Head9,7)","v":"Appropriation for 2025/26"},{"$f":"\"Adjustments in \"&Head2A","v":"Adjustments in 2024/25"},{"$f":"\"Downward adjustments for \"&RIGHT(Head9,7)","v":"Downward adjustments for 2025/26"},"Appropriation carried forward",{"$f":"\"Appropriation for \"&RIGHT(Head9,7)","v":"Appropriation for 2025/26"},{"$f":"\"Adjustments in \"&Head2A","v":"Adjustments in 2024/25"},{"$f":"\"Downward adjustments for \"&RIGHT(Head9,7)","v":"Downward adjustments for 2025/26"},"Appropriation carried forward",{"$f":"Head9","v":"Budget Year 2025/26"},{"$f":"Head10","v":"Budget Year +1 2026/27"},{"$f":"Head11","v":"Budget Year +2 2027/28"}]
["Capital expenditure - Municipal Vote"]
["Multi-year expenditure appropriation",2]
[{"$f":"'Org structure'!A2","v":"Vote 1 - Office of Municipal Manager"},null,0,0,0,700000,700000,700000,700000,0,0,1,null,{"$f":"SUM(N7:N16)","v":0},0,0,0,0,0,0,0,{"$f":"SUM(V7:V16)","v":0},{"$f":"SUM(W7:W16)","v":0},{"$f":"SUM(X7:X16)","v":0}]
[{"$f":"'Org structure'!E3","v":"1.1 - [Name of sub-vote]"},null,null,null,null,null,null,null,null,{"$f":"Q7+V7","v":0},{"$f":"U7+W7","v":0},{"$f":"X7","v":0},null,null,null,null,{"$f":"SUM(N7:P7)","v":0},null,null,null,{"$f":"SUM(R7:T7)","v":0}]
[{"$f":"'Org structure'!E4","v":0},null,null,null,null,null,null,null,null,{"$f":"Q8+V8","v":0},{"$f":"U8+W8","v":0},{"$f":"X8","v":0},null,null,null,null,{"$f":"SUM(N8:P8)","v":0},null,null,null,{"$f":"SUM(R8:T8)","v":0}]
[{"$f":"'Org structure'!E5","v":0},null,null,null,null,null,null,null,null,{"$f":"Q9+V9","v":0},{"$f":"U9+W9","v":0},0,null,null,null,null,0,null,null,null,0]
[{"$f":"'Org structure'!E6","v":0},null,null,null,null,null,null,null,null,0,0,0,null,null,null,null,0,null,null,null,0]
[{"$f":"'Org structure'!E7","v":0},null,null,null,null,null,null,null,null,0,0,{"$f":"X11","v":0},null,null,null,null,0,null,null,null,0]
[{"$f":"'Org structure'!E8","v":0},null,null,null,null,null,null,null,null,0,0,0,null,null,null,null,0,null,null,null,0]
[{"$f":"'Org structure'!E9","v":0},null,null,null,null,null,null,null,null,0,0,0,null,null,null,null,0,null,null,null,0]
[{"$f":"'Org structure'!E10","v":0},null,null,null,null,null,null,null,null,0,0,0,null,null,null,null,0,null,null,null,0]
[{"$f":"'Org structure'!E11","v":0},null,null,null,null,null,null,null,null,0,0,0,null,null,null,null,0,null,null,null,0]
[{"$f":"'Org structure'!E12","v":0},null,null,null,null,null,null,null,null,0,0,0,null,null,null,null,0,null,null,null,0]
[{"$f":"'Org structure'!A3","v":"Vote 2 - Budget and Treasury"},null,0,0,0,0,0,0,0,0,0,0,null,{"$f":"SUM(N18:N27)","v":0},0,0,0,0,0,0,0,0,0,0]
[{"$f":"'Org structure'!E14","v":"2.1 - [Name of sub-vote]"},null,null,null,null,null,null,null,null,{"$f":"Q18+V18","v":0},{"$f":"U18+W18","v":0},{"$f":"X18","v":0},null,null,null,null,{"$f":"SUM(N18:P18)","v":0},null,null,null,0]
[{"$f":"'Org structure'!E15","v":0},null,null,null,null,null,null,null,null,{"$f":"Q19+V19","v":0},{"$f":"U19+W19","v":0},0,null,null,null,null,0,null,null,null,0]
[{"$f":"'Org structure'!E16","v":0},null,null,null,null,null,null,null,null,0,0,0,null,null,null,null,0,null,null,null,0]
[{"$f":"'Org structure'!E17","v":0},null,null,null,null,null,null,null,null,0,{"$f":"U21+W21","v":0},0,null,null,null,null,0,null,null,null,0]
[{"$f":"'Org structure'!E18","v":0},null,null,null,null,null,null,null,null,0,0,0,null,null,null,null,0,null,null,null,0]
[{"$f":"'Org structure'!E19","v":0},null,null,null,null,null,null,null,null,0,0,0,null,null,null,null,0,null,null,null,0]
[{"$f":"'Org structure'!E20","v":0},null,null,null,null,null,null,null,null,0,0,0,null,null,null,null,0,null,null,null,0]
[{"$f":"'Org structure'!E21","v":0},null,null,null,null,null,null,null,null,0,0,0,null,null,null,null,0,null,null,null,0]
[{"$f":"'Org structure'!E22","v":0},null,null,null,null,null,null,null,null,0,0,0,null,null,null,null,0,null,null,null,0]
[{"$f":"'Org structure'!E23","v":0},null,null,null,null,null,null,null,null,0,0,0,null,null,null,null,0,null,null,null,0]
[{"$f":"'Org structure'!A4","v":"Vote 3 - Corporate Services"},null,18400.009999999998,0,557840.75,0,0,0,0,3500000,3500000,0,null,{"$f":"SUM(N29:N38)","v":0},0,0,0,0,0,0,0,0,0,0]
[{"$f":"'Org structure'!E25","v":"3.1 - [Name of sub-vote]"},null,null,null,null,null,null,null,null,{"$f":"Q29+V29","v":0},{"$f":"U29+W29","v":0},{"$f":"X29","v":0},null,null,null,null,{"$f":"SUM(N29:P29)","v":0},null,null,null,0]
[{"$f":"'Org structure'!E26","v":0},null,null,null,null,null,null,null,null,0,0,0,null,null,null,null,0,null,null,null,0]
[{"$f":"'Org structure'!E27","v":0},null,null,null,null,null,null,null,null,0,0,0,null,null,null,null,0,null,null,null,{"$f":"SUM(R31:T31)","v":0}]
[{"$f":"'Org structure'!E28","v":0},null,null,null,null,null,null,null,null,0,{"$f":"U32+W32","v":0},0,null,null,null,null,0,null,null,null,0]
[{"$f":"'Org structure'!E29","v":0},null,null,null,null,null,null,null,null,{"$f":"Q33+V33","v":0},0,0,null,null,null,null,0,null,null,null,0]
[{"$f":"'Org structure'!E30","v":0},null,null,null,null,null,null,null,null,0,0,0,null,null,null,null,0,null,null,null,0]
[{"$f":"'Org structure'!E31","v":0},null,null,null,null,null,null,null,null,0,0,0,null,null,null,null,0,null,null,null,0]
[{"$f":"'Org structure'!E32","v":0},null,null,null,null,null,null,null,null,0,0,0,null,null,null,null,0,null,null,null,0]
[{"$f":"'Org structure'!E33","v":0},null,null,null,null,null,null,null,null,0,0,0,null,null,null,null,0,null,null,null,0]
[{"$f":"'Org structure'!E34","v":0},null,null,null,null,null,null,null,null,0,0,0,null,null,null,null,0,null,null,null,0]
[{"$f":"'Org structure'!A5","v":"Vote 4 - Social Service"},null,1333821.48,0,30084940.789999999,0,0,0,0,1000000,0,0,null,{"$f":"SUM(N40:N49)","v":0},0,0,0,0,0,0,0,0,0,0]
[{"$f":"'Org structure'!E36","v":"4.1 - [Name of sub-vote]"},null,null,null,null,null,null,null,null,{"$f":"Q40+V40","v":0},{"$f":"U40+W40","v":0},{"$f":"X40","v":0},null,null,null,null,{"$f":"SUM(N40:P40)","v":0},null,null,null,0]
[{"$f":"'Org structure'!E37","v":0},null,null,null,null,null,null,null,null,0,0,0,null,null,null,null,0,null,null,null,0]
[{"$f":"'Org structure'!E38","v":0},null,null,null,null,null,null,null,null,0,0,0,null,null,null,null,0,null,null,null,0]
[{"$f":"'Org structure'!E39","v":0},null,null,null,null,null,null,null,null,0,0,0,null,null,null,null,0,null,null,null,0]
[{"$f":"'Org structure'!E40","v":0},null,null,null,null,null,null,null,null,0,0,0,null,null,null,null,0,null,null,null,0]
[{"$f":"'Org structure'!E41","v":0},null,null,null,null,null,null,null,null,0,0,0,null,null,null,null,0,null,null,null,0]
[{"$f":"'Org structure'!E42","v":0},null,null,null,null,null,null,null,null,0,0,0,null,null,null,null,0,null,null,null,0]
[{"$f":"'Org structure'!E43","v":0},null,null,null,null,null,null,null,null,0,0,0,null,null,null,null,0,null,null,null,0]
[{"$f":"'Org structure'!E44","v":0},null,null,null,null,null,null,null,null,0,0,0,null,null,null,null,0,null,null,null,0]
[{"$f":"'Org structure'!E45","v":0},null,null,null,null,null,null,null,null,0,0,0,null,null,null,null,0,null,null,null,0]
[{"$f":"'Org structure'!A6","v":"Vote 5 - Technical and Engineering Services"},null,22288994.579999998,33911453.969999999,62725172.68,129730649,128342851,128342851,128342851,88778311,111519785,96114041,null,{"$f":"SUM(N51:N60)","v":0},0,0,0,0,0,0,0,0,0,0]
[{"$f":"'Org structure'!E47","v":"5.1 - [Name of sub-vote]"},null,null,null,null,null,null,null,null,{"$f":"Q51+V51","v":0},{"$f":"U51+W51","v":0},{"$f":"X51","v":0},null,null,null,null,{"$f":"SUM(N51:P51)","v":0},null,null,null,0]
[{"$f":"'Org structure'!E48","v":0},null,null,null,null,null,null,null,null,0,0,0,null,null,null,null,0,null,null,null,0]
[{"$f":"'Org structure'!E49","v":0},null,null,null,null,null,null,null,null,0,0,0,null,null,null,null,0,null,null,null,0]
[{"$f":"'Org structure'!E50","v":0},null,null,null,null,null,null,null,null,0,0,0,null,null,null,null,0,null,null,null,0]
[{"$f":"'Org structure'!E51","v":0},null,null,null,null,null,null,null,null,0,0,0,null,null,null,null,0,null,null,null,0]
[{"$f":"'Org structure'!E52","v":0},null,null,null,null,null,null,null,null,0,0,0,null,null,null,null,0,null,null,null,0]
[{"$f":"'Org structure'!E53","v":0},null,null,null,null,null,null,null,null,0,0,0,null,null,null,null,0,null,null,null,0]
[{"$f":"'Org structure'!E54","v":0},null,null,null,null,null,null,null,null,0,0,0,null,null,null,null,0,null,null,null,0]
[{"$f":"'Org structure'!E55","v":0},null,null,null,null,null,null,null,null,0,0,0,null,null,null,null,0,null,null,null,0]
[{"$f":"'Org structure'!E56","v":0},null,null,null,null,null,null,null,null,0,0,0,null,null,null,null,0,null,null,null,0]
[{"$f":"'Org structure'!A7","v":"Vote 6 - Property, Planning & Development"},null,0,0,0,0,0,0,0,2000000,0,0,null,{"$f":"SUM(N62:N71)","v":0},0,0,0,0,0,0,0,0,0,0]
[{"$f":"'Org structure'!E58","v":"6.1 - [Name of sub-vote]"},null,null,null,null,null,null,null,null,{"$f":"Q62+V62","v":0},{"$f":"U62+W62","v":0},{"$f":"X62","v":0},null,null,null,null,{"$f":"SUM(N62:P62)","v":0},null,null,null,0]
[{"$f":"'Org structure'!E59","v":0},null,null,null,null,null,null,null,null,0,0,0,null,null,null,null,0,null,null,null,0]
[{"$f":"'Org structure'!E60","v":0},null,null,null,null,null,null,null,null,0,0,0,null,null,null,null,0,null,null,null,0]
[{"$f":"'Org structure'!E61","v":0},null,null,null,null,null,null,null,null,0,0,0,null,null,null,null,0,null,null,null,0]
[{"$f":"'Org structure'!E62","v":0},null,null,null,null,null,null,null,null,0,0,0,null,null,null,null,0,null,null,null,0]
[{"$f":"'Org structure'!E63","v":0},null,null,null,null,null,null,null,null,0,0,0,null,null,null,null,0,null,null,null,0]
[{"$f":"'Org structure'!E64","v":0},null,null,null,null,null,null,null,null,0,0,0,null,null,null,null,0,null,null,null,0]
[{"$f":"'Org structure'!E65","v":0},null,null,null,null,null,null,null,null,0,0,0,null,null,null,null,0,null,null,null,0]
[{"$f":"'Org structure'!E66","v":0},null,null,null,null,null,null,null,null,0,0,0,null,null,null,null,0,null,null,null,0]
[{"$f":"'Org structure'!E67","v":0},null,null,null,null,null,null,null,null,0,0,0,null,null,null,null,0,null,null,null,0]
[{"$f":"'Org structure'!A8","v":"Vote 7 - Office of the Mayor/Strategic Office"},null,0,0,0,0,0,0,0,0,0,0,null,{"$f":"SUM(N73:N82)","v":0},0,0,0,0,0,0,0,0,0,0]
[{"$f":"'Org structure'!E69","v":"7.1 - [Name of sub-vote]"},null,null,null,null,null,null,null,null,{"$f":"Q73+V73","v":0},{"$f":"U73+W73","v":0},{"$f":"X73","v":0},null,null,null,null,{"$f":"SUM(N73:P73)","v":0},null,null,null,{"$f":"SUM(R73:T73)","v":0}]
[{"$f":"'Org structure'!E70","v":0},null,null,null,null,null,null,null,null,0,0,0,null,null,null,null,0,null,null,null,0]
[{"$f":"'Org structure'!E71","v":0},null,null,null,null,null,null,null,null,0,0,0,null,null,null,null,0,null,null,null,0]
[{"$f":"'Org structure'!E72","v":0},null,null,null,null,null,null,null,null,0,0,0,null,null,null,null,0,null,null,null,0]
[{"$f":"'Org structure'!E73","v":0},null,null,null,null,null,null,null,null,0,0,0,null,null,null,null,0,null,null,null,0]
[{"$f":"'Org structure'!E74","v":0},null,null,null,null,null,null,null,null,0,0,0,null,null,null,null,0,null,null,null,0]
[{"$f":"'Org structure'!E75","v":0},null,null,null,null,null,null,null,null,0,0,0,null,null,null,null,0,null,null,null,0]
[{"$f":"'Org structure'!E76","v":0},null,null,null,null,null,null,null,null,0,0,0,null,null,null,null,0,null,null,null,0]
[{"$f":"'Org structure'!E77","v":0},null,null,null,null,null,null,null,null,0,0,0,null,null,null,null,0,null,null,null,0]
[{"$f":"'Org structure'!E78","v":0},null,null,null,null,null,null,null,null,0,0,0,null,null,null,null,0,null,null,null,0]
[{"$f":"'Org structure'!A9","v":"Vote 8 - COMMUNITY & SOCIAL SERVICES"},null,0,0,0,0,0,0,0,0,0,0,null,{"$f":"SUM(N84:N93)","v":0},0,0,0,0,0,0,0,0,0,0]
[{"$f":"'Org structure'!E80","v":"8.1 - [Name of sub-vote]"},null,null,null,null,null,null,null,null,{"$f":"Q84+V84","v":0},{"$f":"U84+W84","v":0},{"$f":"X84","v":0},null,null,null,null,{"$f":"SUM(N84:P84)","v":0},null,null,null,0]
[{"$f":"'Org structure'!E81","v":0},null,null,null,null,null,null,null,null,0,0,0,null,null,null,null,0,null,null,null,0]
[{"$f":"'Org structure'!E82","v":0},null,null,null,null,null,null,null,null,0,0,0,null,null,null,null,0,null,null,null,0]
[{"$f":"'Org structure'!E83","v":0},null,null,null,null,null,null,null,null,0,0,0,null,null,null,null,0,null,null,null,0]
[{"$f":"'Org structure'!E84","v":0},null,null,null,null,null,null,null,null,0,0,0,null,null,null,null,0,null,null,null,0]
[{"$f":"'Org structure'!E85","v":0},null,null,null,null,null,null,null,null,0,0,0,null,null,null,null,0,null,null,null,0]
[{"$f":"'Org structure'!E86","v":0},null,null,null,null,null,null,null,null,0,0,0,null,null,null,null,0,null,null,null,0]
[{"$f":"'Org structure'!E87","v":0},null,null,null,null,null,null,null,null,0,0,0,null,null,null,null,0,null,null,null,0]
[{"$f":"'Org structure'!E88","v":0},null,null,null,null,null,null,null,null,0,0,0,null,null,null,null,0,null,null,null,0]
[{"$f":"'Org structure'!E89","v":0},null,null,null,null,null,null,null,null,0,0,0,null,null,null,null,0,null,null,null,0]
[{"$f":"'Org structure'!A10","v":"Vote 9 - [NAME OF VOTE 9]"},null,{"$f":"SUM(C95:C104)","v":0},{"$f":"SUM(D95:D104)","v":0},0,0,0,0,0,0,0,0,null,{"$f":"SUM(N95:N104)","v":0},0,0,0,0,0,0,0,0,0,0]
[{"$f":"'Org structure'!E91","v":"9.1 - [Name of sub-vote]"},null,null,null,null,null,null,null,null,{"$f":"Q95+V95","v":0},{"$f":"U95+W95","v":0},{"$f":"X95","v":0},null,null,null,null,{"$f":"SUM(N95:P95)","v":0},null,null,null,0]
[{"$f":"'Org structure'!E92","v":0},null,null,null,null,null,null,null,null,0,0,0,null,null,null,null,0,null,null,null,0]
[{"$f":"'Org structure'!E93","v":0},null,null,null,null,null,null,null,null,0,0,0,null,null,null,null,0,null,null,null,0]
[{"$f":"'Org structure'!E94","v":0},null,null,null,null,null,null,null,null,0,0,0,null,null,null,null,0,null,null,null,0]
[{"$f":"'Org structure'!E95","v":0},null,null,null,null,null,null,null,null,0,0,0,null,null,null,null,0,null,null,null,0]
[{"$f":"'Org structure'!E96","v":0},null,null,null,null,null,null,null,null,0,0,0,null,null,null,null,0,null,null,null,0]
[{"$f":"'Org structure'!E97","v":0},null,null,null,null,null,null,null,null,0,0,0,null,null,null,null,0,null,null,null,0]
[{"$f":"'Org structure'!E98","v":0},null,null,null,null,null,null,null,null,0,0,0,null,null,null,null,0,null,null,null,0]
[{"$f":"'Org structure'!E99","v":0},null,null,null,null,null,null,null,null,0,0,0,null,null,null,null,0,null,null,null,0]
[{"$f":"'Org structure'!E100","v":0},null,null,null,null,null,null,null,null,0,0,0,null,null,null,null,0,null,null,null,0]
[{"$f":"'Org structure'!A11","v":"Vote 10 - [NAME OF VOTE 10]"},null,{"$f":"SUM(C106:C115)","v":0},{"$f":"SUM(D106:D115)","v":0},0,0,0,0,0,0,0,0,null,{"$f":"SUM(N106:N115)","v":0},0,0,0,0,0,0,0,0,0,0]
[{"$f":"'Org structure'!E102","v":"10.1 - [Name of sub-vote]"},null,null,null,null,null,null,null,null,{"$f":"Q106+V106","v":0},{"$f":"U106+W106","v":0},{"$f":"X106","v":0},null,null,null,null,{"$f":"SUM(N106:P106)","v":0},null,null,null,0]
[{"$f":"'Org structure'!E103","v":0},null,null,null,null,null,null,null,null,0,0,0,null,null,null,null,0,null,null,null,0]
[{"$f":"'Org structure'!E104","v":0},null,null,null,null,null,null,null,null,0,0,0,null,null,null,null,0,null,null,null,0]
[{"$f":"'Org structure'!E105","v":0},null,null,null,null,null,null,null,null,0,0,0,null,null,null,null,0,null,null,null,0]
[{"$f":"'Org structure'!E106","v":0},null,null,null,null,null,null,null,null,0,0,0,null,null,null,null,0,null,null,null,0]
[{"$f":"'Org structure'!E107","v":0},null,null,null,null,null,null,null,null,0,0,0,null,null,null,null,0,null,null,null,0]
[{"$f":"'Org structure'!E108","v":0},null,null,null,null,null,null,null,null,0,0,0,null,null,null,null,0,null,null,null,0]
[{"$f":"'Org structure'!E109","v":0},null,null,null,null,null,null,null,null,0,0,0,null,null,null,null,0,null,null,null,0]
[{"$f":"'Org structure'!E110","v":0},null,null,null,null,null,null,null,null,0,0,0,null,null,null,null,0,null,null,null,0]
[{"$f":"'Org structure'!E111","v":0},null,null,null,null,null,null,null,null,0,0,0,null,null,null,null,0,null,null,null,0]
[{"$f":"'Org structure'!A12","v":"Vote 11 - [NAME OF VOTE 11]"},null,{"$f":"SUM(C117:C126)","v":0},0,0,0,0,0,0,0,0,0,null,{"$f":"SUM(N117:N126)","v":0},0,0,0,0,0,0,0,0,0,0]
[{"$f":"'Org structure'!E113","v":"11.1 - [Name of sub-vote]"},null,null,null,null,null,null,null,null,{"$f":"Q117+V117","v":0},{"$f":"U117+W117","v":0},{"$f":"X117","v":0},null,null,null,null,{"$f":"SUM(N117:P117)","v":0},null,null,null,0]
[{"$f":"'Org structure'!E114","v":0},null,null,null,null,null,null,null,null,0,0,0,null,null,null,null,0,null,null,null,0]
[{"$f":"'Org structure'!E115","v":0},null,null,null,null,null,null,null,null,0,0,0,null,null,null,null,0,null,null,null,0]
[{"$f":"'Org structure'!E116","v":0},null,null,null,null,null,null,null,null,0,0,0,null,null,null,null,0,null,null,null,0]
[{"$f":"'Org structure'!E117","v":0},null,null,null,null,null,null,null,null,0,0,0,null,null,null,null,0,null,null,null,0]
[{"$f":"'Org structure'!E118","v":0},null,null,null,null,null,null,null,null,0,0,0,null,null,null,null,0,null,null,null,0]
[{"$f":"'Org structure'!E119","v":0},null,null,null,null,null,null,null,null,0,0,0,null,null,null,null,0,null,null,null,0]
[{"$f":"'Org structure'!E120","v":0},null,null,null,null,null,null,null,null,0,0,0,null,null,null,null,0,null,null,null,0]
[{"$f":"'Org structure'!E121","v":0},null,null,null,null,null,null,null,null,0,0,0,null,null,null,null,0,null,null,null,0]
[{"$f":"'Org structure'!E122","v":0},null,null,null,null,null,null,null,null,0,0,0,null,null,null,null,0,null,null,null,0]
[{"$f":"'Org structure'!A13","v":"Vote 12 - [NAME OF VOTE 12]"},null,{"$f":"SUM(C128:C137)","v":0},0,0,0,0,0,0,0,0,0,null,{"$f":"SUM(N128:N137)","v":0},0,0,0,0,0,0,0,0,0,0]
[{"$f":"'Org structure'!E124","v":"12.1 - [Name of sub-vote]"},null,null,null,null,null,null,null,null,{"$f":"Q128+V128","v":0},{"$f":"U128+W128","v":0},{"$f":"X128","v":0},null,null,null,null,{"$f":"SUM(N128:P128)","v":0},null,null,null,0]
[{"$f":"'Org structure'!E125","v":0},null,null,null,null,null,null,null,null,0,0,0,null,null,null,null,0,null,null,null,0]
[{"$f":"'Org structure'!E126","v":0},null,null,null,null,null,null,null,null,0,0,0,null,null,null,null,0,null,null,null,0]
[{"$f":"'Org structure'!E127","v":0},null,null,null,null,null,null,null,null,0,0,0,null,null,null,null,0,null,null,null,0]
[{"$f":"'Org structure'!E128","v":0},null,null,null,null,null,null,null,null,0,0,0,null,null,null,null,0,null,null,null,0]
[{"$f":"'Org structure'!E129","v":0},null,null,null,null,null,null,null,null,{"$f":"Q133+V133","v":0},0,0,null,null,null,null,0,null,null,null,0]
[{"$f":"'Org structure'!E130","v":0},null,null,null,null,null,null,null,null,0,0,0,null,null,null,null,0,null,null,null,0]
[{"$f":"'Org structure'!E131","v":0},null,null,null,null,null,null,null,null,0,0,0,null,null,null,null,0,null,null,null,0]
[{"$f":"'Org structure'!E132","v":0},null,null,null,null,null,null,null,null,0,0,0,null,null,null,null,0,null,null,null,{"$f":"SUM(R136:T136)","v":0}]
[{"$f":"'Org structure'!E133","v":0},null,null,null,null,null,null,null,null,0,0,0,null,null,null,null,0,null,null,null,0]
[{"$f":"'Org structure'!A14","v":"Vote 13 - [NAME OF VOTE 13]"},null,{"$f":"SUM(C139:C148)","v":0},0,0,0,0,0,0,0,0,0,null,{"$f":"SUM(N139:N148)","v":0},0,0,0,0,0,0,0,0,0,0]
[{"$f":"'Org structure'!E135","v":"13.1 - [Name of sub-vote]"},null,null,null,null,null,null,null,null,{"$f":"Q139+V139","v":0},{"$f":"U139+W139","v":0},{"$f":"X139","v":0},null,null,null,null,{"$f":"SUM(N139:P139)","v":0},null,null,null,0]
[{"$f":"'Org structure'!E136","v":0},null,null,null,null,null,null,null,null,0,0,0,null,null,null,null,0,null,null,null,0]
[{"$f":"'Org structure'!E137","v":0},null,null,null,null,null,null,null,null,0,0,0,null,null,null,null,0,null,null,null,0]
[{"$f":"'Org structure'!E138","v":0},null,null,null,null,null,null,null,null,0,0,0,null,null,null,null,0,null,null,null,0]
[{"$f":"'Org structure'!E139","v":0},null,null,null,null,null,null,null,null,0,0,0,null,null,null,null,0,null,null,null,0]
[{"$f":"'Org structure'!E140","v":0},null,null,null,null,null,null,null,null,0,0,0,null,null,null,null,0,null,null,null,0]
[{"$f":"'Org structure'!E141","v":0},null,null,null,null,null,null,null,null,0,0,0,null,null,null,null,0,null,null,null,0]
[{"$f":"'Org structure'!E142","v":0},null,null,null,null,null,null,null,null,0,0,0,null,null,null,null,0,null,null,null,0]
[{"$f":"'Org structure'!E143","v":0},null,null,null,null,null,null,null,null,0,0,0,null,null,null,null,0,null,null,null,0]
[{"$f":"'Org structure'!E144","v":0},null,null,null,null,null,null,null,null,0,0,0,null,null,null,null,0,null,null,null,0]
[{"$f":"'Org structure'!A15","v":"Vote 14 - [NAME OF VOTE 14]"},null,{"$f":"SUM(C150:C159)","v":0},0,0,0,0,0,0,0,0,0,null,{"$f":"SUM(N150:N159)","v":0},0,0,0,0,0,0,0,0,0,0]
[{"$f":"'Org structure'!E146","v":"14.1 - [Name of sub-vote]"},null,null,null,null,null,null,null,null,{"$f":"Q150+V150","v":0},{"$f":"U150+W150","v":0},{"$f":"X150","v":0},null,null,null,null,{"$f":"SUM(N150:P150)","v":0},null,null,null,0]
[{"$f":"'Org structure'!E147","v":0},null,null,null,null,null,null,null,null,0,0,0,null,null,null,null,0,null,null,null,0]
[{"$f":"'Org structure'!E148","v":0},null,null,null,null,null,null,null,null,0,0,0,null,null,null,null,0,null,null,null,0]
[{"$f":"'Org structure'!E149","v":0},null,null,null,null,null,null,null,null,0,0,0,null,null,null,null,0,null,null,null,0]
[{"$f":"'Org structure'!E150","v":0},null,null,null,null,null,null,null,null,0,0,0,null,null,null,null,0,null,null,null,0]
[{"$f":"'Org structure'!E151","v":0},null,null,null,null,null,null,null,null,0,0,0,null,null,null,null,0,null,null,null,0]
[{"$f":"'Org structure'!E152","v":0},null,null,null,null,null,null,null,null,0,0,0,null,null,null,null,0,null,null,null,0]
[{"$f":"'Org structure'!E153","v":0},null,null,null,null,null,null,null,null,0,0,0,null,null,null,null,0,null,null,null,0]
[{"$f":"'Org structure'!E154","v":0},null,null,null,null,null,null,null,null,0,0,0,null,null,null,null,0,null,null,null,0]
[{"$f":"'Org structure'!E155","v":0},null,null,null,null,null,null,null,null,0,0,0,null,null,null,null,0,null,null,null,0]
[{"$f":"'Org structure'!A16","v":"Vote 15 - [NAME OF VOTE 15]"},null,{"$f":"SUM(C161:C170)","v":0},0,0,0,0,0,0,0,0,0,null,{"$f":"SUM(N161:N170)","v":0},0,0,0,0,0,0,0,0,0,0]
[{"$f":"'Org structure'!E157","v":"15.1 - [Name of sub-vote]"},null,null,null,null,null,null,null,null,{"$f":"Q161+V161","v":0},{"$f":"U161+W161","v":0},{"$f":"X161","v":0},null,null,null,null,{"$f":"SUM(N161:P161)","v":0},null,null,null,0]
[{"$f":"'Org structure'!E158","v":0},null,null,null,null,null,null,null,null,0,0,0,null,null,null,null,0,null,null,null,0]
[{"$f":"'Org structure'!E159","v":0},null,null,null,null,null,null,null,null,0,0,0,null,null,null,null,0,null,null,null,0]
[{"$f":"'Org structure'!E160","v":0},null,null,null,null,null,null,null,null,0,0,0,null,null,null,null,0,null,null,null,0]
[{"$f":"'Org structure'!E161","v":0},null,null,null,null,null,null,null,null,0,0,0,null,null,null,null,0,null,null,null,0]
[{"$f":"'Org structure'!E162","v":0},null,null,null,null,null,null,null,null,0,0,0,null,null,null,null,0,null,null,null,0]
[{"$f":"'Org structure'!E163","v":0},null,null,null,null,null,null,null,null,0,0,0,null,null,null,null,0,null,null,null,0]
[{"$f":"'Org structure'!E164","v":0},null,null,null,null,null,null,null,null,0,0,0,null,null,null,null,0,null,null,null,0]
[{"$f":"'Org structure'!E165","v":0},null,null,null,null,null,null,null,null,0,0,0,null,null,null,null,0,null,null,null,0]
[{"$f":"'Org structure'!E166","v":0},null,null,null,null,null,null,null,null,0,0,0,null,null,null,null,0,null,null,null,0]
["Capital multi-year expenditure sub-total",null,{"$f":"C6+C17+C28+C39+C50+C61+C72+C83+C94+C105+C116+C127+C138+C149+C160","v":23641216.069999997},{"$f":"D6+D17+D28+D39+D50+D61+D72+D83+D94+D105+D116+D127+D138+D149+D160","v":33911453.969999999},93367954.219999999,130430649,129042851,129042851,129042851,95278311,115019785,96114042,null,{"$f":"N6+N17+N28+N39+N50+N61+N72+N83+N94+N105+N116+N127+N138+N149+N160","v":0},0,0,0,0,0,0,0,{"$f":"V6+V17+V28+V39+V50+V61+V72+V83+V94+V105+V116+V127+V138+V149+V160","v":0},{"$f":"W6+W17+W28+W39+W50+W61+W72+W83+W94+W105+W116+W127+W138+W149+W160","v":0},{"$f":"X6+X17+X28+X39+X50+X61+X72+X83+X94+X105+X116+X127+X138+X149+X160","v":0}]
[]
["Capital expenditure - Municipal Vote"]
["Single-year expenditure appropriation",2]
[{"$f":"A6","v":"Vote 1 - Office of Municipal Manager"},null,0,5060,0,200000,458743,458743,458743,0,0,2]
[{"$f":"A7","v":"1.1 - [Name of sub-vote]"}]
[0]
[0]
[0]
[0]
[0]
[0]
[0]
[0]
[0]
["Vote 2 - Budget and Treasury",null,0,0,260030.84,0,0,0,0,0,0,0]
["2.1 - [Name of sub-vote]"]
[0]
[0]
[0]
[0]
[0]
[0]
[0]
[0]
[0]
["Vote 3 - Corporate Services",null,682904,910379.84,1088127.33,2100000,3233399,3233399,3233399,1020000,800000,800004]
["3.1 - [Name of sub-vote]"]
[0]
[0]
[0]
[0]
[0]
[0]
[0]
[0]
[0]
["Vote 4 - Social Service",null,7761101.1100000003,2294286.52,6033059.4500000002,1908000,2058000,2058000,2058000,5446347,0,6]
["4.1 - [Name of sub-vote]"]
[0]
[0]
[0]
[0]
[0]
[0]
[0]
[0]
[0]
["Vote 5 - Technical and Engineering Services",null,80773781.75,17876416,11166023.460000001,83030301,122623680,122623680,122623680,50459389,38220917,37420100]
["5.1 - [Name of sub-vote]"]
[0]
[0]
[0]
[0]
[0]
[0]
[0]
[0]
[0]
["Vote 6 - Property, Planning & Development",null,0,1457933.78,1685341.5,6425000,8225000,8225000,8225000,0,0,4]
["6.1 - [Name of sub-vote]"]
[0]
[0]
[0]
[0]
[0]
[0]
[0]
[0]
[{"$f":"A71","v":0}]
["Vote 7 - Office of the Mayor/Strategic Office",null,0,0,362244,0,0,0,0,100000,0,0]
["7.1 - [Name of sub-vote]"]
[0]
[0]
[0]
[0]
[0]
[0]
[0]
[0]
[0]
["Vote 8 - COMMUNITY & SOCIAL SERVICES",null,0,0,0,0,0,0,0,0,0,0]
["8.1 - [Name of sub-vote]"]
[0]
[0]
[0]
[0]
[0]
[0]
[0]
[0]
[0]
["Vote 9 - [NAME OF VOTE 9]",null,{"$f":"SUM(C264:C273)","v":0},0,0,0,0,0,0,0,0,0]
["9.1 - [Name of sub-vote]"]
[0]
[0]
[0]
[0]
[0]
[0]
[0]
[0]
[0]
["Vote 10 - [NAME OF VOTE 10]",null,{"$f":"SUM(C275:C284)","v":0},0,0,0,0,0,0,0,0,0]
["10.1 - [Name of sub-vote]"]
[0]
[0]
[0]
[0]
[0]
[0]
[0]
[0]
[0]
["Vote 11 - [NAME OF VOTE 11]",null,{"$f":"SUM(C286:C295)","v":0},0,0,0,0,0,0,0,0,0]
["11.1 - [Name of sub-vote]"]
[0]
[0]
[0]
[0]
[0]
[0]
[0]
[0]
[0]
["Vote 12 - [NAME OF VOTE 12]",null,{"$f":"SUM(C297:C306)","v":0},0,0,0,0,0,0,0,0,0]
["12.1 - [Name of sub-vote]"]
[0]
[0]
[0]
[0]
[0]
[0]
[{"$f":"A135","v":0}]
[0]
[0]
["Vote 13 - [NAME OF VOTE 13]",null,{"$f":"SUM(C308:C317)","v":0},0,0,0,0,0,0,0,0,0]
["13.1 - [Name of sub-vote]"]
[0]
[0]
[0]
[0]
[0]
[0]
[0]
[0]
[0]
["Vote 14 - [NAME OF VOTE 14]",null,{"$f":"SUM(C319:C328)","v":0},0,0,0,0,0,0,0,0,0]
["14.1 - [Name of sub-vote]"]
[0]
[0]
[0]
[0]
[0]
[0]
[0]
[0]
[0]
["Vote 15 - [NAME OF VOTE 15]",null,{"$f":"SUM(C330:C339)","v":0},0,0,0,0,0,0,0,0,0]
["15.1 - [Name of sub-vote]"]
[0]
[0]
[0]
[0]
[0]
[0]
[0]
[0]
[0]
["Capital single-year expenditure sub-total",null,{"$f":"C175+C186+C197+C208+C219+C230+C241+C252+C263+C274+C285+C296+C307+C318+C329","v":89217786.859999999},{"$f":"D175+D186+D197+D208+D219+D230+D241+D252+D263+D274+D285+D296+D307+D318+D329","v":22544076.140000001},20594826.580000002,93663301,136598822,136598822,136598822,57025736,39020917,38220116]
["Total Capital Expenditure",null,{"$f":"C171+C340","v":112859002.92999999},{"$f":"D171+D340","v":56455530.109999999},113962780.8,224093950,265641673,265641673,265641673,152304047,154040702,134334158]

{"sheet":"A6-FinPos","index":15,"n_rows":61,"n_cols":12,"rows_kept":61,"cut":false,"hidden":false,"merged":[[1,9,1,11],[1,5,1,8]]}
[{"$f":"muni&\" - \"&Approve6","v":"Choose name from list - Table A6 Budgeted Financial Position"}]
[{"$f":"desc","v":"Description"},{"$f":"head27","v":"Ref"},{"$f":"head1b","v":"2021/22"},{"$f":"head1A","v":"2022/23"},{"$f":"Head1","v":"2023/24"},{"$f":"Head2","v":"Current Year 2024/25"},null,null,null,{"$f":"Head3","v":"2025/26 Medium Term Revenue & Expenditure Framework"}]
["R thousand",null,{"$f":"Head5","v":"Audited Outcome"},{"$f":"Head5","v":"Audited Outcome"},{"$f":"Head5","v":"Audited Outcome"},{"$f":"Head6","v":"Original Budget"},{"$f":"Head7","v":"Adjusted Budget"},{"$f":"Head8","v":"Full Year Forecast"},{"$f":"Head5b","v":"Pre-audit outcome"},{"$f":"Head9","v":"Budget Year 2025/26"},{"$f":"Head10","v":"Budget Year +1 2026/27"},{"$f":"Head11","v":"Budget Year +2 2027/28"}]
["ASSETS"]
["Current assets"]
["Cash and cash equivalents",null,47731681.229999997,92968112.379999995,60711469.060000002,57830112,26088140,26088140,26088140,65824481,99940115,119308001]
["Trade and other receivables from exchange transactions",1,{"$f":"'SA3'!C20","v":94465041.950000048},{"$f":"'SA3'!D20","v":141638030.25000006},{"$f":"'SA3'!E20","v":175842210.12999994},{"$f":"'SA3'!F20","v":518517738},{"$f":"'SA3'!G20","v":139253806},{"$f":"'SA3'!H20","v":139253806},{"$f":"'SA3'!I20","v":139253806},{"$f":"'SA3'!J20","v":129823812},{"$f":"'SA3'!K20","v":129018815},{"$f":"'SA3'!L20","v":127063802}]
["Receivables from non-exchange transactions",1,{"$f":"'SA3'!C29","v":11376776.689999999},{"$f":"'SA3'!D29","v":6108085.5},{"$f":"'SA3'!E29","v":112873896.86999999},{"$f":"'SA3'!F29","v":22098534},{"$f":"'SA3'!G29","v":78784016},{"$f":"'SA3'!H29","v":78784016},{"$f":"'SA3'!I29","v":78784016},{"$f":"'SA3'!J29","v":89461171},{"$f":"'SA3'!K29","v":89446228},{"$f":"'SA3'!L29","v":90580838}]
["Current portion of non-current receivables",null,0,0,0,0,0,0,0,0,0,0]
["Inventory",2,7870601.6799999997,9178302.8399999999,5482418.9299999997,9000000,58508980,58508980,58508980,0,2,19]
["VAT",null,24168049.149999999,34820523.619999997,6014541.2000000002,34820524,34820534,34820534,34820534,34738706,34738469,34738657]
["Other current assets",null,137161.22,-28382.33,-553266.89,1476073,3287,3287,3287,34954,34954,34961]
["Total current assets",null,{"$f":"SUM(C6:C12)","v":185749311.92000005},{"$f":"SUM(D6:D12)","v":284684672.26000005},360371269.29999995,643742981,337458763,337458763,337458763,319883124,353178583,371726278]
["Non current assets"]
["Investments",null,0,0,0,0,0,0,0,0,0,0]
["Investment property",null,0,17631000,17870867,17631000,17631000,17631000,17631000,17631000,17631000,17631000]
["Property, plant and equipment",3,{"$f":"'SA3'!C138","v":1544594319.7699997},{"$f":"'SA3'!D138","v":1405417326.4299998},{"$f":"'SA3'!E138","v":1437855175.5699999},{"$f":"'SA3'!F138","v":1650968655},{"$f":"'SA3'!G138","v":1709516381},{"$f":"'SA3'!H138","v":1709516381},{"$f":"'SA3'!I138","v":1709516381},{"$f":"'SA3'!J138","v":1570898177},{"$f":"'SA3'!K138","v":1562692702},{"$f":"'SA3'!L138","v":1538582958}]
["Biological assets",null,0,0,0,0,0,0,0,0,0,0]
["Living and non-living resources",null,0,0,0,0,0,0,0,0,0,0]
["Heritage assets",null,77000,77000,77000,77000,77000,77000,77000,77000,77000,76999]
["Intangible assets",null,-63880096.609999999,1699207.58,1780177.56,2000000,1999999,1999999,1999999,1915160,1828346,1828344]
["Trade and other receivables from exchange transactions",null,0,0,0,0,0,0,0,0,0,0]
["Non-current receivables from non-exchange transactions",null,0,0,0,0,0,0,0,0,0,0]
["Other non-current assets",null,0,0,0,0,0,0,0,0,0,0]
["Total non current assets",null,{"$f":"SUM(C15:C24)","v":1480791223.1599998},{"$f":"SUM(D15:D24)","v":1424824534.0099998},1457583220.1299999,1670676655,1729224380,1729224380,1729224380,1590521337,1582229048,1558119301]
["TOTAL ASSETS",null,{"$f":"C13+C25","v":1666540535.0799999},{"$f":"D13+D25","v":1709509206.2699997},{"$f":"E13+E25","v":1817954489.4299998},{"$f":"F13+F25","v":2314419636},2066683143,2066683143,2066683143,1910404461,1935407631,1929845579]
["LIABILITIES"]
["Current liabilities"]
["Bank overdraft",null,0,0,0,0,0,0,0,0,0,0]
["Financial liabilities",null,{"$f":"'SA3'!C144","v":8884605.8699999992},{"$f":"'SA3'!D144","v":29966770.559999999},{"$f":"'SA3'!E144","v":40809562.640000001},{"$f":"'SA3'!F144","v":42694371},{"$f":"'SA3'!G144","v":29966771},{"$f":"'SA3'!H144","v":29966771},{"$f":"'SA3'!I144","v":29966771},{"$f":"'SA3'!J144","v":29966771},{"$f":"'SA3'!K144","v":29966769},{"$f":"'SA3'!L144","v":29966770}]
["Consumer deposits",null,10392209.77,12194643.24,12011891.18,10949088,10949086,10949086,10949086,10949086,10949085,10949087]
["Trade and other payables from exchange transactions",4,242656645.81,118324770.72,137702439.63,218734923,92615176,92615176,92615176,120718344,120218851,119718527]
["Trade and other payables from non-exchange transactions",5,2653838,21249999.57,12907487.35,19769738,21251000,21251000,21251000,21252000,21251996,21251990]
["Provision",null,3362000,4249000,4497000,4249000,4249000,4249000,4249000,4249000,4249000,4249000]
["VAT",null,-3379093.19,4533070.37,5596409.0199999996,4533179,-2697918,-2697918,-2697918,-2708429,-3041451,-3371085]
["Other current liabilities",null,0,0,0,0,0,0,0,0,0,0]
["Total current liabilities",null,{"$f":"SUM(C29:C36)","v":264570206.25999999},{"$f":"SUM(D29:D36)","v":190518254.45999998},213524789.81999999,300930299,156333115,156333115,156333115,184426772,183594250,182764289]
["Non current liabilities"]
["Financial liabilities",6,{"$f":"'SA3'!C156","v":45963232.119999997},{"$f":"'SA3'!D156","v":118618328.45999999},{"$f":"'SA3'!E156","v":77818465.340000004},{"$f":"'SA3'!F156","v":118618328},{"$f":"'SA3'!G156","v":118618328},{"$f":"'SA3'!H156","v":118618328},{"$f":"'SA3'!I156","v":118618328},{"$f":"'SA3'!J156","v":118618328},{"$f":"'SA3'!K156","v":118618328},{"$f":"'SA3'!L156","v":118618328}]
["Provision",7,128950836,104896162,113818168,104896162,104896162,104896162,104896162,104896162,104896174,104896174]
["Long term portion of trade payables",null,0,0,0,0,0,0,0,0,0,0]
["Other non-current liabilities",null,0,0,0,0,0,0,0,0,0,0]
["Total non current liabilities",null,{"$f":"SUM(C39:C42)","v":174914068.12},{"$f":"SUM(D39:D42)","v":223514490.45999998},191636633.34,223514490,223514490,223514490,223514490,223514490,223514502,223514502]
["TOTAL LIABILITIES",null,{"$f":"C37+C43","v":439484274.38},{"$f":"D37+D43","v":414032744.91999996},{"$f":"E37+E43","v":405161423.15999997},{"$f":"F37+F43","v":524444789},379847605,379847605,379847605,407941262,{"$f":"K37+K43","v":407108752},406278791]
["NET ASSETS",null,{"$f":"C26-C44","v":1227056260.6999998},1295476461.3499999,1412793066.27,1789974847,1686835538,1686835538,1686835538,1502463199,1528298879,1523566788]
["COMMUNITY WEALTH/EQUITY"]
["Accumulated surplus/(deficit)",8,1196402653.71,1252503123.23,1412793066.27,1815606371,1320954908,1320954908,1320954908,649251079,847656740,855606035]
["Reserves and funds",9,{"$f":"'SA3'!C189","v":0},{"$f":"'SA3'!D189","v":0},{"$f":"'SA3'!E189","v":0},{"$f":"'SA3'!F189","v":-25000000},{"$f":"'SA3'!G189","v":0},{"$f":"'SA3'!H189","v":0},{"$f":"'SA3'!I189","v":0},{"$f":"'SA3'!J189","v":0},{"$f":"'SA3'!K189","v":0},{"$f":"'SA3'!L189","v":-1}]
["Other"]
["TOTAL COMMUNITY WEALTH/EQUITY",10,{"$f":"SUM(C47:C49)","v":1196402653.71},{"$f":"SUM(D47:D49)","v":1252503123.23},1412793066.27,1790606371,1320954908,1320954908,1320954908,649251079,847656740,855606034]
[{"$f":"head27a","v":"References"}]
["1. Detail breakdown in Table SA3 for Trade receivables from Exchange and Non-exchange transactions"]
["2. Include completed low cost housing to be transferred to beneficiaries within 12 months detail provided in Table SA3"]
["3. Include 'Construction-work-in-progress' (disclosed separately in annual financial statements) detail in SA3"]
["4. Detail breakdown in Table SA3. "]
["5. Detail breakdown in Table SA3. "]
["6. Detail breakdown in Table SA3. "]
["7 Detail breakdown in Table SA3. "]
["8. Detail breakdown in Table SA3. "]
["9. Detail breakdown in Table SA3. Includes reserves to be funded by statute."]
["10. Net assets must balance with Total Community Wealth/Equity"]

{"sheet":"A6 Inventory","index":16,"n_rows":78,"n_cols":12,"rows_kept":78,"cut":false,"hidden":false,"merged":[[0,0,0,11],[1,5,1,8],[1,9,1,11]]}
[]
["Store Type","Classification",{"$f":"head1b","v":"2021/22"},{"$f":"head1A","v":"2022/23"},{"$f":"Head1","v":"2023/24"},{"$f":"Head2","v":"Current Year 2024/25"},null,null,null,{"$f":"Head3","v":"2025/26 Medium Term Revenue & Expenditure Framework"}]
["R thousands","",{"$f":"Head5","v":"Audited Outcome"},{"$f":"Head5","v":"Audited Outcome"},{"$f":"Head5","v":"Audited Outcome"},{"$f":"Head6","v":"Original Budget"},{"$f":"Head7","v":"Adjusted Budget"},{"$f":"Head8","v":"Full Year Forecast"},{"$f":"Head5b","v":"Pre-audit outcome"},{"$f":"Head9","v":"Budget Year 2025/26"},{"$f":"Head10","v":"Budget Year +1 2026/27"},{"$f":"Head11","v":"Budget Year +2 2027/28"}]
["Agricultural","Opening balance - Agricultural",{"$f":"'SA3'!C66","v":0},{"$f":"'SA3'!D66","v":0},{"$f":"'SA3'!E66","v":736282.89},{"$f":"'SA3'!F66","v":736283},{"$f":"'SA3'!G66","v":736283},{"$f":"'SA3'!H66","v":736283},{"$f":"'SA3'!I66","v":736283},{"$f":"'SA3'!J66","v":0},{"$f":"'SA3'!K66","v":0},{"$f":"'SA3'!L66","v":1}]
[null,"Acquisitions - Agricultural",{"$f":"'SA3'!C67","v":485410},{"$f":"'SA3'!D67","v":736282.89},{"$f":"'SA3'!E67","v":0},{"$f":"'SA3'!F67","v":0},{"$f":"'SA3'!G67","v":0},{"$f":"'SA3'!H67","v":0},{"$f":"'SA3'!I67","v":0},{"$f":"'SA3'!J67","v":0},{"$f":"'SA3'!K67","v":0},{"$f":"'SA3'!L67","v":1}]
[null,"Adjustments - Agricultural",{"$f":"'SA3'!C68","v":0},{"$f":"'SA3'!D68","v":0},{"$f":"'SA3'!E68","v":0},{"$f":"'SA3'!F68","v":0},{"$f":"'SA3'!G68","v":736283},{"$f":"'SA3'!H68","v":736283},{"$f":"'SA3'!I68","v":736283},{"$f":"'SA3'!J68","v":0},{"$f":"'SA3'!K68","v":0},{"$f":"'SA3'!L68","v":1}]
[null,"Issues - Agricultural",{"$f":"'SA3'!C69","v":0},{"$f":"'SA3'!D69","v":0},{"$f":"'SA3'!E69","v":0},{"$f":"'SA3'!F69","v":0},{"$f":"'SA3'!G69","v":0},{"$f":"'SA3'!H69","v":0},{"$f":"'SA3'!I69","v":0},{"$f":"'SA3'!J69","v":0},{"$f":"'SA3'!K69","v":0},{"$f":"'SA3'!L69","v":0}]
[null,"Write Off - Agricultural",{"$f":"'SA3'!C70","v":0},{"$f":"'SA3'!D70","v":0},{"$f":"'SA3'!E70","v":0},{"$f":"'SA3'!F70","v":0},{"$f":"'SA3'!G70","v":0},{"$f":"'SA3'!H70","v":0},{"$f":"'SA3'!I70","v":0},{"$f":"'SA3'!J70","v":0},{"$f":"'SA3'!K70","v":0},{"$f":"'SA3'!L70","v":0}]
[null,"Correction of Prior period errors - Agricultural",{"$f":"'SA3'!C71","v":0},{"$f":"'SA3'!D71","v":0},{"$f":"'SA3'!E71","v":0},{"$f":"'SA3'!F71","v":0},{"$f":"'SA3'!G71","v":0},{"$f":"'SA3'!H71","v":0},{"$f":"'SA3'!I71","v":0},{"$f":"'SA3'!J71","v":0},{"$f":"'SA3'!K71","v":0},{"$f":"'SA3'!L71","v":0}]
["Agricultural Total","",{"$f":"SUM(C4:C9)","v":485410},{"$f":"SUM(D4:D9)","v":736282.89},736282.89,736283,1472566,1472566,1472566,0,0,3]
["Consumables Standard Rated","Opening balance - Consumables Standard Rated",{"$f":"'SA3'!C76","v":0},{"$f":"'SA3'!D76","v":517206},{"$f":"'SA3'!E76","v":576780.54},{"$f":"'SA3'!F76","v":0},{"$f":"'SA3'!G76","v":0},{"$f":"'SA3'!H76","v":0},{"$f":"'SA3'!I76","v":0},{"$f":"'SA3'!J76","v":0},{"$f":"'SA3'!K76","v":1},{"$f":"'SA3'!L76","v":1}]
[null,"Acquisitions - Consumables Standard Rated",{"$f":"'SA3'!C77","v":-212987.12},{"$f":"'SA3'!D77","v":1059413.76},{"$f":"'SA3'!E77","v":1435900.27},{"$f":"'SA3'!F77","v":0},{"$f":"'SA3'!G77","v":5477015},{"$f":"'SA3'!H77","v":5477015},{"$f":"'SA3'!I77","v":5477015},{"$f":"'SA3'!J77","v":5921806},{"$f":"'SA3'!K77","v":6113340},{"$f":"'SA3'!L77","v":5866168}]
[null,"Adjustments - Consumables Standard Rated",{"$f":"'SA3'!C78","v":0},{"$f":"'SA3'!D78","v":-999501.51},{"$f":"'SA3'!E78","v":-1299535.3400000001},{"$f":"'SA3'!F78","v":-950000},{"$f":"'SA3'!G78","v":-3890732},{"$f":"'SA3'!H78","v":-3890732},{"$f":"'SA3'!I78","v":-3890732},{"$f":"'SA3'!J78","v":-5921806},{"$f":"'SA3'!K78","v":-6113340},{"$f":"'SA3'!L78","v":-5866167}]
[null,"Issues - Consumables Standard Rated",{"$f":"'SA3'!C79","v":256.95},{"$f":"'SA3'!D79","v":-337.71},{"$f":"'SA3'!E79","v":0},{"$f":"'SA3'!F79","v":0},{"$f":"'SA3'!G79","v":0},{"$f":"'SA3'!H79","v":0},{"$f":"'SA3'!I79","v":0},{"$f":"'SA3'!J79","v":0},{"$f":"'SA3'!K79","v":0},{"$f":"'SA3'!L79","v":0}]
[null,"Write Off - Consumables Standard Rated",{"$f":"'SA3'!C80","v":0},{"$f":"'SA3'!D80","v":0},{"$f":"'SA3'!E80","v":0},{"$f":"'SA3'!F80","v":0},{"$f":"'SA3'!G80","v":0},{"$f":"'SA3'!H80","v":0},{"$f":"'SA3'!I80","v":0},{"$f":"'SA3'!J80","v":0},{"$f":"'SA3'!K80","v":0},{"$f":"'SA3'!L80","v":0}]
[null,"Correction of Prior period errors - Consumables Standard Rated",{"$f":"'SA3'!C81","v":0},{"$f":"'SA3'!D81","v":0},{"$f":"'SA3'!E81","v":0},{"$f":"'SA3'!F81","v":0},{"$f":"'SA3'!G81","v":0},{"$f":"'SA3'!H81","v":0},{"$f":"'SA3'!I81","v":0},{"$f":"'SA3'!J81","v":0},{"$f":"'SA3'!K81","v":0},{"$f":"'SA3'!L81","v":0}]
["Consumables Standard Rated Total","",{"$f":"SUM(C11:C16)","v":-212730.16999999998},{"$f":"SUM(D11:D16)","v":576780.54},713145.47,-950000,1586283,1586283,1586283,0,1,2]
["Consumables Zero Rated","Opening balance - Consumables Zero Rated",{"$f":"'SA3'!C84","v":0},{"$f":"'SA3'!D84","v":0},{"$f":"'SA3'!E84","v":0},{"$f":"'SA3'!F84","v":0},{"$f":"'SA3'!G84","v":0},{"$f":"'SA3'!H84","v":0},{"$f":"'SA3'!I84","v":0},{"$f":"'SA3'!J84","v":0},{"$f":"'SA3'!K84","v":0},{"$f":"'SA3'!L84","v":0}]
[null,"Acquisitions - Consumables Zero Rated",{"$f":"'SA3'!C85","v":0},{"$f":"'SA3'!D85","v":0},{"$f":"'SA3'!E85","v":0},{"$f":"'SA3'!F85","v":0},{"$f":"'SA3'!G85","v":45731},{"$f":"'SA3'!H85","v":45731},{"$f":"'SA3'!I85","v":45731},{"$f":"'SA3'!J85","v":49891},{"$f":"'SA3'!K85","v":52091},{"$f":"'SA3'!L85","v":49940}]
[null,"Adjustments - Consumables Zero Rated",{"$f":"'SA3'!C86","v":0},{"$f":"'SA3'!D86","v":0},{"$f":"'SA3'!E86","v":0},{"$f":"'SA3'!F86","v":0},{"$f":"'SA3'!G86","v":690552},{"$f":"'SA3'!H86","v":690552},{"$f":"'SA3'!I86","v":690552},{"$f":"'SA3'!J86","v":-49891},{"$f":"'SA3'!K86","v":-52091},{"$f":"'SA3'!L86","v":-49938}]
[null,"Issues - Consumables Zero Rated",{"$f":"'SA3'!C87","v":0},{"$f":"'SA3'!D87","v":0},{"$f":"'SA3'!E87","v":0},{"$f":"'SA3'!F87","v":0},{"$f":"'SA3'!G87","v":0},{"$f":"'SA3'!H87","v":0},{"$f":"'SA3'!I87","v":0},{"$f":"'SA3'!J87","v":0},{"$f":"'SA3'!K87","v":0},{"$f":"'SA3'!L87","v":0}]
[null,"Write Off - Consumables Zero Rated",{"$f":"'SA3'!C88","v":0},{"$f":"'SA3'!D88","v":0},{"$f":"'SA3'!E88","v":0},{"$f":"'SA3'!F88","v":0},{"$f":"'SA3'!G88","v":0},{"$f":"'SA3'!H88","v":0},{"$f":"'SA3'!I88","v":0},{"$f":"'SA3'!J88","v":0},{"$f":"'SA3'!K88","v":0},{"$f":"'SA3'!L88","v":0}]
[null,"Correction of Prior period errors - Consumables Zero Rated",{"$f":"'SA3'!C89","v":0},{"$f":"'SA3'!D89","v":0},{"$f":"'SA3'!E89","v":0},{"$f":"'SA3'!F89","v":0},{"$f":"'SA3'!G89","v":0},{"$f":"'SA3'!H89","v":0},{"$f":"'SA3'!I89","v":0},{"$f":"'SA3'!J89","v":0},{"$f":"'SA3'!K89","v":0},{"$f":"'SA3'!L89","v":0}]
["Consumables Zero Rated Total","",{"$f":"SUM(C18:C23)","v":0},{"$f":"SUM(D18:D23)","v":0},0,0,736283,736283,736283,0,0,2]
["Finished Goods","Opening balance - Finished Goods",{"$f":"'SA3'!C102","v":2149236},{"$f":"'SA3'!D102","v":7836220.04},{"$f":"'SA3'!E102","v":7359585.6799999997},{"$f":"'SA3'!F102","v":0},{"$f":"'SA3'!G102","v":0},{"$f":"'SA3'!H102","v":0},{"$f":"'SA3'!I102","v":0},{"$f":"'SA3'!J102","v":0},{"$f":"'SA3'!K102","v":1},{"$f":"'SA3'!L102","v":1}]
[null,"Acquisitions - Finished Goods",{"$f":"'SA3'!C103","v":0},{"$f":"'SA3'!D103","v":5360451.22},{"$f":"'SA3'!E103","v":5296794.0599999996},{"$f":"'SA3'!F103","v":23508063},{"$f":"'SA3'!G103","v":15240890},{"$f":"'SA3'!H103","v":15240890},{"$f":"'SA3'!I103","v":15240890},{"$f":"'SA3'!J103","v":13592337},{"$f":"'SA3'!K103","v":14084303},{"$f":"'SA3'!L103","v":14648864}]
[null,"Adjustments - Finished Goods",{"$f":"'SA3'!C104","v":5445591.1100000003},{"$f":"'SA3'!D104","v":0},{"$f":"'SA3'!E104","v":0},{"$f":"'SA3'!F104","v":0},{"$f":"'SA3'!G104","v":0},{"$f":"'SA3'!H104","v":0},{"$f":"'SA3'!I104","v":0},{"$f":"'SA3'!J104","v":0},{"$f":"'SA3'!K104","v":0},{"$f":"'SA3'!L104","v":0}]
[null,"Issues -Finished Goods",{"$f":"'SA3'!C105","v":0},{"$f":"'SA3'!D105","v":0},{"$f":"'SA3'!E105","v":0},{"$f":"'SA3'!F105","v":0},{"$f":"'SA3'!G105","v":0},{"$f":"'SA3'!H105","v":0},{"$f":"'SA3'!I105","v":0},{"$f":"'SA3'!J105","v":0},{"$f":"'SA3'!K105","v":0},{"$f":"'SA3'!L105","v":0}]
[null,"Write Off - Finished Goods",{"$f":"'SA3'!C106","v":0},{"$f":"'SA3'!D106","v":0},{"$f":"'SA3'!E106","v":0},{"$f":"'SA3'!F106","v":0},{"$f":"'SA3'!G106","v":0},{"$f":"'SA3'!H106","v":0},{"$f":"'SA3'!I106","v":0},{"$f":"'SA3'!J106","v":0},{"$f":"'SA3'!K106","v":0},{"$f":"'SA3'!L106","v":0}]
[null,"Correction of Prior period errors - Finished Goods",{"$f":"'SA3'!C98","v":0},{"$f":"'SA3'!D98","v":0},{"$f":"'SA3'!E98","v":0},{"$f":"'SA3'!F98","v":0},{"$f":"'SA3'!G98","v":0},{"$f":"'SA3'!H98","v":0},{"$f":"'SA3'!I98","v":0},{"$f":"'SA3'!J98","v":0},{"$f":"'SA3'!K98","v":0},{"$f":"'SA3'!L98","v":0}]
["Finished Goods Total","",{"$f":"SUM(C25:C30)","v":7594827.1100000003},{"$f":"SUM(D25:D30)","v":13196671.26},12656379.739999998,23508063,15240890,15240890,15240890,13592337,14084304,14648865]
["Housing Stock","Opening balance - Housing Stock",{"$f":"'SA3'!C117","v":0},{"$f":"'SA3'!D117","v":0},{"$f":"'SA3'!E117","v":0},{"$f":"'SA3'!F117","v":0},{"$f":"'SA3'!G117","v":0},{"$f":"'SA3'!H117","v":0},{"$f":"'SA3'!I117","v":0},{"$f":"'SA3'!J117","v":736283},{"$f":"'SA3'!K117","v":736283},{"$f":"'SA3'!L117","v":736283}]
[null,"Acquisitions - Housing Stock",{"$f":"'SA3'!C118","v":0},{"$f":"'SA3'!D118","v":0},{"$f":"'SA3'!E118","v":0},{"$f":"'SA3'!F118","v":0},{"$f":"'SA3'!G118","v":0},{"$f":"'SA3'!H118","v":0},{"$f":"'SA3'!I118","v":0},{"$f":"'SA3'!J118","v":0},{"$f":"'SA3'!K118","v":0},{"$f":"'SA3'!L118","v":1}]
[null,"Sales - Housing Stock",{"$f":"'SA3'!C119","v":0},{"$f":"'SA3'!D119","v":0},{"$f":"'SA3'!E119","v":0},{"$f":"'SA3'!F119","v":0},{"$f":"'SA3'!G119","v":0},{"$f":"'SA3'!H119","v":0},{"$f":"'SA3'!I119","v":0},{"$f":"'SA3'!J119","v":0},{"$f":"'SA3'!K119","v":0},{"$f":"'SA3'!L119","v":0}]
[null,"Transfer - Housing stock",{"$f":"'SA3'!C120","v":0},{"$f":"'SA3'!D120","v":0},{"$f":"'SA3'!E120","v":0},{"$f":"'SA3'!F120","v":0},{"$f":"'SA3'!G120","v":736283},{"$f":"'SA3'!H120","v":736283},{"$f":"'SA3'!I120","v":736283},{"$f":"'SA3'!J120","v":0},{"$f":"'SA3'!K120","v":0},{"$f":"'SA3'!L120","v":1}]
[null,"Correction of Prior period errors - Housing stock",{"$f":"'SA3'!C121","v":0},{"$f":"'SA3'!D121","v":0},{"$f":"'SA3'!E121","v":0},{"$f":"'SA3'!F121","v":0},{"$f":"'SA3'!G121","v":0},{"$f":"'SA3'!H121","v":0},{"$f":"'SA3'!I121","v":0},{"$f":"'SA3'!J121","v":0},{"$f":"'SA3'!K121","v":0},{"$f":"'SA3'!L121","v":0}]
["Housing Stock Total","",{"$f":"SUM(C32:C36)","v":0},{"$f":"SUM(D32:D36)","v":0},0,0,736283,736283,736283,736283,736283,736285]
["Land","Opening balance - Land",{"$f":"'SA3'!C125","v":0},{"$f":"'SA3'!D125","v":0},{"$f":"'SA3'!E125","v":0},{"$f":"'SA3'!F125","v":0},{"$f":"'SA3'!G125","v":0},{"$f":"'SA3'!H125","v":0},{"$f":"'SA3'!I125","v":0},{"$f":"'SA3'!J125","v":0},{"$f":"'SA3'!K125","v":0},{"$f":"'SA3'!L125","v":0}]
[null,"Acquisitions - Land",{"$f":"'SA3'!C126","v":3094.74},{"$f":"'SA3'!D126","v":0},{"$f":"'SA3'!E126","v":0},{"$f":"'SA3'!F126","v":0},{"$f":"'SA3'!G126","v":0},{"$f":"'SA3'!H126","v":0},{"$f":"'SA3'!I126","v":0},{"$f":"'SA3'!J126","v":0},{"$f":"'SA3'!K126","v":0},{"$f":"'SA3'!L126","v":1}]
[null,"Sales - land",{"$f":"'SA3'!C127","v":0},{"$f":"'SA3'!D127","v":0},{"$f":"'SA3'!E127","v":0},{"$f":"'SA3'!F127","v":0},{"$f":"'SA3'!G127","v":736283},{"$f":"'SA3'!H127","v":736283},{"$f":"'SA3'!I127","v":736283},{"$f":"'SA3'!J127","v":0},{"$f":"'SA3'!K127","v":0},{"$f":"'SA3'!L127","v":1}]
[null,"Adjustments - Land",{"$f":"'SA3'!C128","v":0},{"$f":"'SA3'!D128","v":0},{"$f":"'SA3'!E128","v":0},{"$f":"'SA3'!F128","v":0},{"$f":"'SA3'!G128","v":0},{"$f":"'SA3'!H128","v":0},{"$f":"'SA3'!I128","v":0},{"$f":"'SA3'!J128","v":0},{"$f":"'SA3'!K128","v":0},{"$f":"'SA3'!L128","v":0}]
[null,"Correction of Prior period errors - Land",{"$f":"'SA3'!C129","v":0},{"$f":"'SA3'!D129","v":0},{"$f":"'SA3'!E129","v":0},{"$f":"'SA3'!F129","v":0},{"$f":"'SA3'!G129","v":0},{"$f":"'SA3'!H129","v":0},{"$f":"'SA3'!I129","v":0},{"$f":"'SA3'!J129","v":0},{"$f":"'SA3'!K129","v":0},{"$f":"'SA3'!L129","v":0}]
[null,"Transfers - Land",{"$f":"'SA3'!C130","v":0},{"$f":"'SA3'!D130","v":0},{"$f":"'SA3'!E130","v":0},{"$f":"'SA3'!F130","v":0},{"$f":"'SA3'!G130","v":0},{"$f":"'SA3'!H130","v":0},{"$f":"'SA3'!I130","v":0},{"$f":"'SA3'!J130","v":0},{"$f":"'SA3'!K130","v":0},{"$f":"'SA3'!L130","v":0}]
["Land Total","",{"$f":"SUM(C38:C43)","v":3094.74},{"$f":"SUM(D38:D43)","v":0},0,0,736283,736283,736283,0,0,2]
["Materials and Supplies","Opening balance - Materials and Supplies",{"$f":"'SA3'!C102","v":2149236},{"$f":"'SA3'!D102","v":7836220.04},{"$f":"'SA3'!E102","v":7359585.6799999997},{"$f":"'SA3'!F102","v":0},{"$f":"'SA3'!G102","v":0},{"$f":"'SA3'!H102","v":0},{"$f":"'SA3'!I102","v":0},{"$f":"'SA3'!J102","v":0},{"$f":"'SA3'!K102","v":1},{"$f":"'SA3'!L102","v":1}]
[null,"Acquisitions - Materials and Supplies",{"$f":"'SA3'!C103","v":0},{"$f":"'SA3'!D103","v":5360451.22},{"$f":"'SA3'!E103","v":5296794.0599999996},{"$f":"'SA3'!F103","v":23508063},{"$f":"'SA3'!G103","v":15240890},{"$f":"'SA3'!H103","v":15240890},{"$f":"'SA3'!I103","v":15240890},{"$f":"'SA3'!J103","v":13592337},{"$f":"'SA3'!K103","v":14084303},{"$f":"'SA3'!L103","v":14648864}]
[null,"Adjustments - Materials and Supplies",{"$f":"'SA3'!C104","v":5445591.1100000003},{"$f":"'SA3'!D104","v":0},{"$f":"'SA3'!E104","v":0},{"$f":"'SA3'!F104","v":0},{"$f":"'SA3'!G104","v":0},{"$f":"'SA3'!H104","v":0},{"$f":"'SA3'!I104","v":0},{"$f":"'SA3'!J104","v":0},{"$f":"'SA3'!K104","v":0},{"$f":"'SA3'!L104","v":0}]
[null,"Issues - Materials and Supplies",{"$f":"'SA3'!C105","v":0},{"$f":"'SA3'!D105","v":0},{"$f":"'SA3'!E105","v":0},{"$f":"'SA3'!F105","v":0},{"$f":"'SA3'!G105","v":0},{"$f":"'SA3'!H105","v":0},{"$f":"'SA3'!I105","v":0},{"$f":"'SA3'!J105","v":0},{"$f":"'SA3'!K105","v":0},{"$f":"'SA3'!L105","v":0}]
[null,"Write Off - Materials and Supplies",{"$f":"'SA3'!C106","v":0},{"$f":"'SA3'!D106","v":0},{"$f":"'SA3'!E106","v":0},{"$f":"'SA3'!F106","v":0},{"$f":"'SA3'!G106","v":0},{"$f":"'SA3'!H106","v":0},{"$f":"'SA3'!I106","v":0},{"$f":"'SA3'!J106","v":0},{"$f":"'SA3'!K106","v":0},{"$f":"'SA3'!L106","v":0}]
[null,"Correction of Prior period errors - Materials and Supplies",{"$f":"'SA3'!C107","v":0},{"$f":"'SA3'!D107","v":0},{"$f":"'SA3'!E107","v":0},{"$f":"'SA3'!F107","v":0},{"$f":"'SA3'!G107","v":0},{"$f":"'SA3'!H107","v":0},{"$f":"'SA3'!I107","v":0},{"$f":"'SA3'!J107","v":0},{"$f":"'SA3'!K107","v":0},{"$f":"'SA3'!L107","v":0}]
["Materials and Supplies Total","",{"$f":"SUM(C45:C50)","v":7594827.1100000003},{"$f":"SUM(D45:D50)","v":13196671.26},12656379.739999998,23508063,15240890,15240890,15240890,13592337,14084304,14648865]
["Water","Opening balance - Water",{"$f":"'SA3'!C33","v":0},{"$f":"'SA3'!D33","v":90850},{"$f":"'SA3'!E33","v":93810.73},{"$f":"'SA3'!F33","v":168629},{"$f":"'SA3'!G33","v":168629},{"$f":"'SA3'!H33","v":168629},{"$f":"'SA3'!I33","v":168629},{"$f":"'SA3'!J33","v":0},{"$f":"'SA3'!K33","v":0},{"$f":"'SA3'!L33","v":1}]
[null,"Acquisitions - Water bulk purchases",{"$f":"'SA3'!C36","v":18505725.969999999},{"$f":"'SA3'!D36","v":13582003.84},{"$f":"'SA3'!E36","v":36092255.75},{"$f":"'SA3'!F36","v":35000000},{"$f":"'SA3'!G36","v":51263062},{"$f":"'SA3'!H36","v":51263062},{"$f":"'SA3'!I36","v":51263062},{"$f":"'SA3'!J36","v":0},{"$f":"'SA3'!K36","v":0},{"$f":"'SA3'!L36","v":1}]
[null,"Acquisitions - Water natural sources",{"$f":"'SA3'!C37","v":0},{"$f":"'SA3'!D37","v":0},{"$f":"'SA3'!E37","v":0},{"$f":"'SA3'!F37","v":0},{"$f":"'SA3'!G37","v":0},{"$f":"'SA3'!H37","v":0},{"$f":"'SA3'!I37","v":0},{"$f":"'SA3'!J37","v":0},{"$f":"'SA3'!K37","v":0},{"$f":"'SA3'!L37","v":0}]
[null,"Acquisitions - Water treatment works",{"$f":"'SA3'!C35","v":0},{"$f":"'SA3'!D35","v":0},{"$f":"'SA3'!E35","v":0},{"$f":"'SA3'!F35","v":0},{"$f":"'SA3'!G35","v":0},{"$f":"'SA3'!H35","v":0},{"$f":"'SA3'!I35","v":0},{"$f":"'SA3'!J35","v":0},{"$f":"'SA3'!K35","v":0},{"$f":"'SA3'!L35","v":0}]
[null,"Billed Authorised Consumption:Billed Metered Consumption:Free Basic Water",{"$f":"'SA3'!C41","v":0},{"$f":"'SA3'!D41","v":0},{"$f":"'SA3'!E41","v":0},{"$f":"'SA3'!F41","v":0},{"$f":"'SA3'!G41","v":0},{"$f":"'SA3'!H41","v":0},{"$f":"'SA3'!I41","v":0},{"$f":"'SA3'!J41","v":0},{"$f":"'SA3'!K41","v":0},{"$f":"'SA3'!L41","v":0}]
[null,"Billed Authorised Consumption:Billed Metered Consumption:Revenue Water",{"$f":"'SA3'!C43","v":-18505725.969999999},{"$f":"'SA3'!D43","v":-13504225.109999999},{"$f":"'SA3'!E43","v":-38125497.18},{"$f":"'SA3'!F43","v":-34800000},{"$f":"'SA3'!G43","v":0},{"$f":"'SA3'!H43","v":0},{"$f":"'SA3'!I43","v":0},{"$f":"'SA3'!J43","v":0},{"$f":"'SA3'!K43","v":0},{"$f":"'SA3'!L43","v":-1}]
[null,"Billed Authorised Consumption:Billed Metered Consumption:Subsidised Water",{"$f":"'SA3'!C42","v":0},{"$f":"'SA3'!D42","v":0},{"$f":"'SA3'!E42","v":2033242.47},{"$f":"'SA3'!F42","v":0},{"$f":"'SA3'!G42","v":0},{"$f":"'SA3'!H42","v":0},{"$f":"'SA3'!I42","v":0},{"$f":"'SA3'!J42","v":0},{"$f":"'SA3'!K42","v":0},{"$f":"'SA3'!L42","v":0}]
[null,"Billed Authorised Consumption:Billed Unmetered Consumption:Free Basic Water",{"$f":"'SA3'!C45","v":0},{"$f":"'SA3'!D45","v":0},{"$f":"'SA3'!E45","v":0},{"$f":"'SA3'!F45","v":0},{"$f":"'SA3'!G45","v":0},{"$f":"'SA3'!H45","v":0},{"$f":"'SA3'!I45","v":0},{"$f":"'SA3'!J45","v":0},{"$f":"'SA3'!K45","v":0},{"$f":"'SA3'!L45","v":0}]
[null,"Billed Authorised Consumption:Billed Unmetered Consumption:Revenue Water",{"$f":"'SA3'!C47","v":0},{"$f":"'SA3'!D47","v":0},{"$f":"'SA3'!E47","v":0},{"$f":"'SA3'!F47","v":0},{"$f":"'SA3'!G47","v":0},{"$f":"'SA3'!H47","v":0},{"$f":"'SA3'!I47","v":0},{"$f":"'SA3'!J47","v":0},{"$f":"'SA3'!K47","v":0},{"$f":"'SA3'!L47","v":1}]
[null,"Billed Authorised Consumption:Billed Unmetered Consumption:Subsidised Water",{"$f":"'SA3'!C46","v":0},{"$f":"'SA3'!D46","v":0},{"$f":"'SA3'!E46","v":0},{"$f":"'SA3'!F46","v":0},{"$f":"'SA3'!G46","v":0},{"$f":"'SA3'!H46","v":0},{"$f":"'SA3'!I46","v":0},{"$f":"'SA3'!J46","v":0},{"$f":"'SA3'!K46","v":0},{"$f":"'SA3'!L46","v":0}]
[null,"Data Transfer and Management Errors",{"$f":"'SA3'!C59","v":0},{"$f":"'SA3'!D59","v":0},{"$f":"'SA3'!E59","v":0},{"$f":"'SA3'!F59","v":0},{"$f":"'SA3'!G59","v":0},{"$f":"'SA3'!H59","v":0},{"$f":"'SA3'!I59","v":0},{"$f":"'SA3'!J59","v":0},{"$f":"'SA3'!K59","v":0},{"$f":"'SA3'!L59","v":0}]
[null,"Non-revenue Water",{"$f":"'SA3'!C61","v":0},{"$f":"'SA3'!D61","v":0},{"$f":"'SA3'!E61","v":0},{"$f":"'SA3'!F61","v":0},{"$f":"'SA3'!G61","v":0},{"$f":"'SA3'!H61","v":0},{"$f":"'SA3'!I61","v":0},{"$f":"'SA3'!J61","v":0},{"$f":"'SA3'!K61","v":0},{"$f":"'SA3'!L61","v":0}]
[null,"Unavoidable Annual Real Losses",{"$f":"'SA3'!C60","v":0},{"$f":"'SA3'!D60","v":0},{"$f":"'SA3'!E60","v":0},{"$f":"'SA3'!F60","v":0},{"$f":"'SA3'!G60","v":0},{"$f":"'SA3'!H60","v":0},{"$f":"'SA3'!I60","v":0},{"$f":"'SA3'!J60","v":0},{"$f":"'SA3'!K60","v":0},{"$f":"'SA3'!L60","v":0}]
[null,"Unbilled Authorised Consumption:Unbilled Metered Consumption",{"$f":"'SA3'!C49","v":0},{"$f":"'SA3'!D49","v":0},{"$f":"'SA3'!E49","v":0},{"$f":"'SA3'!F49","v":0},{"$f":"'SA3'!G49","v":0},{"$f":"'SA3'!H49","v":0},{"$f":"'SA3'!I49","v":0},{"$f":"'SA3'!J49","v":0},{"$f":"'SA3'!K49","v":0},{"$f":"'SA3'!L49","v":0}]
[null,"Unbilled Authorised Consumption:Unbilled Unmetered Consumption",{"$f":"'SA3'!C50","v":0},{"$f":"'SA3'!D50","v":0},{"$f":"'SA3'!E50","v":0},{"$f":"'SA3'!F50","v":0},{"$f":"'SA3'!G50","v":0},{"$f":"'SA3'!H50","v":0},{"$f":"'SA3'!I50","v":0},{"$f":"'SA3'!J50","v":0},{"$f":"'SA3'!K50","v":0},{"$f":"'SA3'!L50","v":0}]
[null,"Water Losses:Apparent Losses:Customer Meter Inaccuracies",{"$f":"'SA3'!C54","v":0},{"$f":"'SA3'!D54","v":0},{"$f":"'SA3'!E54","v":0},{"$f":"'SA3'!F54","v":0},{"$f":"'SA3'!G54","v":0},{"$f":"'SA3'!H54","v":0},{"$f":"'SA3'!I54","v":0},{"$f":"'SA3'!J54","v":0},{"$f":"'SA3'!K54","v":0},{"$f":"'SA3'!L54","v":0}]
[null,"Water Losses:Apparent Losses:Unauthorised Consumption",{"$f":"'SA3'!C53","v":0},{"$f":"'SA3'!D53","v":0},{"$f":"'SA3'!E53","v":0},{"$f":"'SA3'!F53","v":0},{"$f":"'SA3'!G53","v":0},{"$f":"'SA3'!H53","v":0},{"$f":"'SA3'!I53","v":0},{"$f":"'SA3'!J53","v":0},{"$f":"'SA3'!K53","v":0},{"$f":"'SA3'!L53","v":0}]
[null,"Water Losses:Real Losses:Leakage and Overflows at Storage Tanks/Reservoirs",{"$f":"'SA3'!C57","v":0},{"$f":"'SA3'!D57","v":0},{"$f":"'SA3'!E57","v":0},{"$f":"'SA3'!F57","v":0},{"$f":"'SA3'!G57","v":0},{"$f":"'SA3'!H57","v":0},{"$f":"'SA3'!I57","v":0},{"$f":"'SA3'!J57","v":0},{"$f":"'SA3'!K57","v":0},{"$f":"'SA3'!L57","v":0}]
[null,"Water Losses:Real Losses:Leakage on Service Connections up to the point of Customer Meter",{"$f":"'SA3'!C58","v":0},{"$f":"'SA3'!D58","v":0},{"$f":"'SA3'!E58","v":0},{"$f":"'SA3'!F58","v":0},{"$f":"'SA3'!G58","v":0},{"$f":"'SA3'!H58","v":0},{"$f":"'SA3'!I58","v":0},{"$f":"'SA3'!J58","v":0},{"$f":"'SA3'!K58","v":0},{"$f":"'SA3'!L58","v":0}]
[null,"Water Losses:Real Losses:Leakage on Transmission and Distribution Mains",{"$f":"'SA3'!C56","v":0},{"$f":"'SA3'!D56","v":0},{"$f":"'SA3'!E56","v":0},{"$f":"'SA3'!F56","v":0},{"$f":"'SA3'!G56","v":0},{"$f":"'SA3'!H56","v":0},{"$f":"'SA3'!I56","v":0},{"$f":"'SA3'!J56","v":0},{"$f":"'SA3'!K56","v":0},{"$f":"'SA3'!L56","v":0}]
[null,"Correction of Prior period errors - Water",{"$f":"'SA3'!C62","v":0},{"$f":"'SA3'!D62","v":0},{"$f":"'SA3'!E62","v":0},{"$f":"'SA3'!F62","v":0},{"$f":"'SA3'!G62","v":0},{"$f":"'SA3'!H62","v":0},{"$f":"'SA3'!I62","v":0},{"$f":"'SA3'!J62","v":0},{"$f":"'SA3'!K62","v":0},{"$f":"'SA3'!L62","v":0}]
["Water Total","",{"$f":"SUM(C52:C72)","v":0},{"$f":"SUM(D52:D72)","v":168628.73000000045},93811.769999996992,368629,51431691,51431691,51431691,0,0,2]
["Work-in-progress","Opening balance - WIP",{"$f":"'SA3'!C111","v":0},{"$f":"'SA3'!D111","v":0},{"$f":"'SA3'!E111","v":0},{"$f":"'SA3'!F111","v":337025},{"$f":"'SA3'!G111","v":337025},{"$f":"'SA3'!H111","v":337025},{"$f":"'SA3'!I111","v":337025},{"$f":"'SA3'!J111","v":0},{"$f":"'SA3'!K111","v":0},{"$f":"'SA3'!L111","v":1}]
[null,"Materials - WIP",{"$f":"'SA3'!C112","v":0},0,0,0,0,0,0,0,0,0]
[null,"Transfer - WIP",{"$f":"'SA3'!C113","v":0},{"$f":"'SA3'!D113","v":0},{"$f":"'SA3'!E113","v":0},{"$f":"'SA3'!F113","v":0},{"$f":"'SA3'!G113","v":0},{"$f":"'SA3'!H113","v":0},{"$f":"'SA3'!I113","v":0},{"$f":"'SA3'!J113","v":0},{"$f":"'SA3'!K113","v":0},{"$f":"'SA3'!L113","v":0}]
["Work-in-progress Total","",{"$f":"SUM(C74:C76)","v":0},{"$f":"SUM(D74:D76)","v":0},0,337025,337025,337025,337025,0,0,1]
["Grand Total","",{"$f":"+C73+C51+C44+C37+C31+C24+C17+C10","v":15465428.790000001},{"$f":"+D73+D51+D44+D37+D31+D24+D17+D10","v":27875034.68},26855999.609999992,47171038,87181169,87181169,87181169,27920957,28904892,30034026]

{"sheet":"A7-CFlow","index":17,"n_rows":51,"n_cols":12,"rows_kept":51,"cut":false,"hidden":false,"merged":[[1,9,1,11],[1,5,1,8]]}
[{"$f":"muni&\" - \"&Approve7","v":"Choose name from list - Table A7 Budgeted Cash Flows"}]
[{"$f":"desc","v":"Description"},{"$f":"head27","v":"Ref"},{"$f":"head1b","v":"2021/22"},{"$f":"head1A","v":"2022/23"},{"$f":"Head1","v":"2023/24"},{"$f":"Head2","v":"Current Year 2024/25"},null,null,null,{"$f":"Head3","v":"2025/26 Medium Term Revenue & Expenditure Framework"}]
["R thousand",null,{"$f":"Head5","v":"Audited Outcome"},{"$f":"Head5","v":"Audited Outcome"},{"$f":"Head5","v":"Audited Outcome"},{"$f":"Head6","v":"Original Budget"},{"$f":"Head7","v":"Adjusted Budget"},{"$f":"Head8","v":"Full Year Forecast"},{"$f":"Head5b","v":"Pre-audit outcome"},{"$f":"Head9","v":"Budget Year 2025/26"},{"$f":"Head10","v":"Budget Year +1 2026/27"},{"$f":"Head11","v":"Budget Year +2 2027/28"}]
["CASH FLOW FROM OPERATING ACTIVITIES"]
["Receipts"]
["Property rates",null,0,0,0,101128701,86734809,86734809,86734809,{"$f":"'SA30'!N5","v":96081677},{"$f":"'SA30'!O5","v":101780198},{"$f":"'SA30'!P5","v":107253549}]
["Service charges",null,0,0,0,353600684,363087035,363087035,363087035,{"$f":"'SA30'!N6+'SA30'!N7+'SA30'!N8+'SA30'!N9","v":419890727},{"$f":"'SA30'!O6+'SA30'!O7+'SA30'!O8+'SA30'!O9","v":439201079},{"$f":"'SA30'!P6+'SA30'!P7+'SA30'!P8+'SA30'!P9","v":458519576}]
["Other revenue",null,0,20000000,1526934123.9200001,78448743,120939319,120939319,120939319,{"$f":"'SA30'!N11+'SA30'!N15+'SA30'!N16+'SA30'!N17+'SA30'!N19+'SA30'!N29","v":111384527},{"$f":"'SA30'!O11+'SA30'!O15+'SA30'!O16+'SA30'!O17+'SA30'!O19+'SA30'!O29","v":114658187},{"$f":"'SA30'!P11+'SA30'!P15+'SA30'!P16+'SA30'!P17+'SA30'!P19+'SA30'!P29","v":115679335}]
["Transfers and Subsidies - Operational",1,0,649898044.41999996,0,247286250,247286250,247286250,247286250,{"$f":"'SA30'!N18","v":260209300},{"$f":"'SA30'!O18","v":270519300},{"$f":"'SA30'!P18","v":282880915}]
["Transfers and Subsidies - Capital",1,0,0,0,190004750,190004750,190004750,190004750,{"$f":"'SA30'!N23+'SA30'!N24","v":113237700},{"$f":"'SA30'!O23+'SA30'!O24","v":142940700},{"$f":"'SA30'!P23+'SA30'!P24","v":140253106}]
["Interest",null,0,0,0,0,0,0,0,{"$f":"'SA30'!N12+'SA30'!N13","v":7591849},{"$f":"'SA30'!O12+'SA30'!O13","v":7941074},{"$f":"'SA30'!P12+'SA30'!P13","v":8290489}]
["Dividends",null,0,0,0,0,0,0,0,{"$f":"'SA30'!N14","v":0},{"$f":"'SA30'!O14","v":0},{"$f":"'SA30'!P14","v":0}]
["Payments"]
["Suppliers and employees",null,-143615761.94,-288001704.87,-747427448.62,-513313208,-654040554,-654040554,-654040554,{"$f":"('SA30'!N35+'SA30'!N36+'SA30'!N38+'SA30'!N39+'SA30'!N40+'SA30'!N41+'SA30'!N44+'SA30'!N50)","v":-830623380},{"$f":"('SA30'!O35+'SA30'!O36+'SA30'!O38+'SA30'!O39+'SA30'!O40+'SA30'!O41+'SA30'!O44+'SA30'!O50)","v":-868612299},{"$f":"('SA30'!P35+'SA30'!P36+'SA30'!P38+'SA30'!P39+'SA30'!P40+'SA30'!P41+'SA30'!P44+'SA30'!P50)","v":-906748408}]
["Interest",null,0,0,0,-18684994,-20603884,-20603884,-20603884,{"$f":"('SA30'!N37)","v":-21489851},{"$f":"('SA30'!O37)","v":-22478384},{"$f":"('SA30'!P37)","v":-23467435}]
["Transfers and Subsidies",1,0,0,0,-1078364,-125689,-125689,-125689,{"$f":"('SA30'!N42+'SA30'!N43)","v":-131094},{"$f":"('SA30'!O42+'SA30'!O43)","v":-137124},{"$f":"('SA30'!P42+'SA30'!P43)","v":-143159}]
["NET CASH FROM/(USED) OPERATING ACTIVITIES",null,{"$f":"SUM(C6:C12)+SUM(C14:C16)","v":-143615761.94},{"$f":"SUM(D6:D12)+SUM(D14:D16)","v":381896339.54999995},779506675.30000007,437392562,333282036,333282036,{"$f":"SUM(I6:I12)+SUM(I14:I16)","v":333282036},156151455,185812731,182517968]
[]
["CASH FLOWS FROM INVESTING ACTIVITIES"]
["Receipts"]
["Proceeds on disposal of PPE",null,0,0,0,0,0,0,0,{"$f":"'SA30'!N25","v":0},{"$f":"'SA30'!O25","v":0},{"$f":"'SA30'!P25","v":0}]
[]
["Decrease (increase) in non-current receivables",null,0,0,0,0,0,0,0,{"$f":"'SA30'!N30","v":0},{"$f":"'SA30'!O30","v":0},{"$f":"'SA30'!P30","v":0}]
["Decrease (increase) in non-current investments",null,0,0,0,0,0,0,0,{"$f":"'SA30'!N31","v":0},{"$f":"'SA30'!O31","v":0},{"$f":"'SA30'!P31","v":0}]
["Payments"]
["Capital assets",null,0,0,0,0,0,0,0,{"$f":"('SA30'!N48)","v":-181601156},{"$f":"('SA30'!O48)","v":-177146807},{"$f":"('SA30'!P48)","v":-154484280}]
["NET CASH FROM/(USED) INVESTING ACTIVITIES",null,{"$f":"+C21+C23+C24+C26","v":0},{"$f":"+D21+D23+D24+D26","v":0},0,0,0,0,0,-181601156,-177146807,-154484280]
[]
["CASH FLOWS FROM FINANCING ACTIVITIES"]
["Receipts"]
["Short term loans",null,0,0,0,0,0,0,0,{"$f":"'SA30'!N26","v":0},{"$f":"'SA30'!O26","v":0},{"$f":"'SA30'!P26","v":0}]
["Borrowing long term/refinancing",null,0,0,0,0,0,0,0,{"$f":"'SA30'!N27","v":0},{"$f":"'SA30'!O27","v":0},{"$f":"'SA30'!P27","v":0}]
["Increase (decrease) in consumer deposits",null,0,0,0,0,0,0,0,{"$f":"'SA30'!N28","v":0},{"$f":"'SA30'!O28","v":0},{"$f":"'SA30'!P28","v":0}]
["Payments"]
["Repayment of borrowing",null,0,-7246029.79,0,-9422400,0,0,0,{"$f":"('SA30'!N49)","v":0},{"$f":"('SA30'!O49)","v":0},{"$f":"('SA30'!P49)","v":-2}]
["NET CASH FROM/(USED) FINANCING ACTIVITIES",null,{"$f":"SUM(C31:C33)+C35","v":0},{"$f":"SUM(D31:D33)+D35","v":-7246029.79},0,-9422400,0,0,0,0,0,-2]
[]
["NET INCREASE/ (DECREASE) IN CASH HELD",null,{"$f":"C17+C27+C36","v":-143615761.94},374650309.75999993,779506675.30000007,427970162,333282036,333282036,333282036,-25449701,8665924,28033686]
["Cash/cash equivalents at the year begin:",2,94824641,94055280.719999999,91260172,91267277,91267277,91267277,91267277,{"$f":"'SA30'!N54","v":91274182},{"$f":"J40","v":65824481},{"$f":"K40","v":74490405}]
["Cash/cash equivalents at the year end:",2,{"$f":"C38+C39","v":-48791120.939999998},{"$f":"D38+D39","v":468705590.4799999},{"$f":"E38+E39","v":870766847.30000007},{"$f":"F38+F39","v":519237439},424549313,424549313,424549313,65824481,74490405,102524091]
[{"$f":"head27a","v":"References"}]
["1. Local/District municipalities to include transfers from/to District/Local Municipalities"]
["2. Cash equivalents includes investments with maturities of 3 months or less"]
["3. The MTREF is populated directly from SA30."]
["Total receipts",null,{"$f":"SUM(C6:C12)+SUM(C21:C23)","v":0},669898044.41999996,1526934123.9200001,970469128,1008052163,1008052163,1008052163,1008395780,1077040538,1112876970]
["Total payments",null,{"$f":"SUM(C14:C16)+C26","v":-143615761.94},-288001704.87,-747427448.62,-533076566,-674770127,-674770127,-674770127,-1033845481,-1068374614,-1084843282]
[null,null,{"$f":"C45+C46","v":-143615761.94},{"$f":"D45+D46","v":381896339.54999995},779506675.30000007,437392562,333282036,333282036,333282036,-25449701,8665924,28033688]
["Borrowings & investments & c.deposits",null,{"$f":"C24+C32+C33","v":0},{"$f":"D24+D32+D33","v":0},0,0,0,0,0,0,0,0]
[{"$f":"A35","v":"Repayment of borrowing"},null,{"$f":"C35","v":0},{"$f":"D35","v":-7246029.79},0,-9422400,0,0,{"$f":"I35","v":0},0,0,-2]
[null,null,{"$f":"C47+C48+C49","v":-143615761.94},{"$f":"D47+D48+D49","v":374650309.75999993},779506675.30000007,427970162,333282036,333282036,333282036,-25449701,8665924,28033686]
[null,null,{"$f":"C38-C50","v":0},0,0,0,0,0,0,0,0,0]

{"sheet":"A8-ResRecon","index":18,"n_rows":67,"n_cols":12,"rows_kept":67,"cut":false,"hidden":false,"merged":[[1,9,1,11],[1,5,1,8]]}
[{"$f":"muni&\" - \"&Approve8","v":"Choose name from list - Table A8 Cash backed reserves/accumulated surplus reconciliation"}]
[{"$f":"desc","v":"Description"},{"$f":"head27","v":"Ref"},{"$f":"head1b","v":"2021/22"},{"$f":"head1A","v":"2022/23"},{"$f":"Head1","v":"2023/24"},{"$f":"Head2","v":"Current Year 2024/25"},null,null,null,{"$f":"Head3","v":"2025/26 Medium Term Revenue & Expenditure Framework"}]
["R thousand",null,{"$f":"Head5","v":"Audited Outcome"},{"$f":"Head5","v":"Audited Outcome"},{"$f":"Head5","v":"Audited Outcome"},{"$f":"Head6","v":"Original Budget"},{"$f":"Head7","v":"Adjusted Budget"},{"$f":"Head8","v":"Full Year Forecast"},{"$f":"Head5b","v":"Pre-audit outcome"},{"$f":"Head9","v":"Budget Year 2025/26"},{"$f":"Head10","v":"Budget Year +1 2026/27"},{"$f":"Head11","v":"Budget Year +2 2027/28"}]
["Cash and investments available"]
[{"$f":"LEFT('A7-CFlow'!A40,37)","v":"Cash/cash equivalents at the year end"},1,{"$f":"'A7-CFlow'!C40","v":-48791120.939999998},{"$f":"'A7-CFlow'!D40","v":468705590.4799999},{"$f":"'A7-CFlow'!E40","v":870766847.30000007},{"$f":"'A7-CFlow'!F40","v":519237439},{"$f":"'A7-CFlow'!G40","v":424549313},{"$f":"'A7-CFlow'!H40","v":424549313},{"$f":"'A7-CFlow'!I40","v":424549313},{"$f":"'A7-CFlow'!J40","v":65824481},{"$f":"'A7-CFlow'!K40","v":74490405},{"$f":"'A7-CFlow'!L40","v":102524091}]
["Other current investments  > 90 days",null,{"$f":"'A6-FinPos'!C6-'A6-FinPos'!C29-'A8-ResRecon'!C5","v":96522802.169999987},{"$f":"'A6-FinPos'!D6-'A6-FinPos'!D29-'A8-ResRecon'!D5","v":-375737478.0999999},{"$f":"'A6-FinPos'!E6-'A6-FinPos'!E29-'A8-ResRecon'!E5","v":-810055378.24000001},{"$f":"'A6-FinPos'!F6-'A6-FinPos'!F29-'A8-ResRecon'!F5","v":-461407327},{"$f":"'A6-FinPos'!G6-'A6-FinPos'!G29-'A8-ResRecon'!G5","v":-398461173},{"$f":"'A6-FinPos'!H6-'A6-FinPos'!H29-'A8-ResRecon'!H5","v":-398461173},{"$f":"'A6-FinPos'!I6-'A6-FinPos'!I29-'A8-ResRecon'!I5","v":-398461173},{"$f":"'A6-FinPos'!J6-'A6-FinPos'!J29-'A8-ResRecon'!J5","v":0},{"$f":"'A6-FinPos'!K6-'A6-FinPos'!K29-'A8-ResRecon'!K5","v":25449710},{"$f":"'A6-FinPos'!L6-'A6-FinPos'!L29-'A8-ResRecon'!L5","v":16783910}]
["Non current Investments",1,{"$f":"'A6-FinPos'!C15","v":0},{"$f":"'A6-FinPos'!D15","v":0},{"$f":"'A6-FinPos'!E15","v":0},{"$f":"'A6-FinPos'!F15","v":0},{"$f":"'A6-FinPos'!G15","v":0},{"$f":"'A6-FinPos'!H15","v":0},{"$f":"'A6-FinPos'!I15","v":0},{"$f":"'A6-FinPos'!J15","v":0},{"$f":"'A6-FinPos'!K15","v":0},{"$f":"'A6-FinPos'!L15","v":0}]
["Cash and investments available:",null,{"$f":"SUM(C5:C7)","v":47731681.229999989},{"$f":"SUM(D5:D7)","v":92968112.379999995},60711469.060000062,57830112,26088140,26088140,26088140,65824481,99940115,119308001]
[]
["Application of cash and investments"]
["Unspent conditional transfers",null,{"$f":"'SA3'!C149","v":2653838},{"$f":"'SA3'!D149","v":21249999.57},{"$f":"'SA3'!E149","v":12907487.35},{"$f":"'SA3'!F149","v":19919657},{"$f":"'SA3'!G149","v":21251000},{"$f":"'SA3'!H149","v":21251000},{"$f":"'SA3'!I149","v":21251000},{"$f":"'SA3'!J149","v":21252000},{"$f":"'SA3'!K149","v":21251996},{"$f":"'SA3'!L149","v":21251990}]
["Unspent borrowing",null,0,0,0,0,0,0,0,0,0,0]
["Statutory requirements",2,-27547142.34,-30287453.25,-418132.18,-30287345,-37518452,-37518452,-37518452,-37447135,-37779920,-38109742]
["Other working capital requirements",3,{"$f":"-C34","v":242656645.81},{"$f":"-D34","v":111356770.72},-281333560.37,{"$f":"-F34","v":-25689077},-12717824,-12717824,-10800824,-124736656,-124104149,-122607473]
["Other provisions",null,3362000,4249000,4497000,4249000,4249000,4249000,4249000,4249000,4249000,4249000]
["Long term investments committed",4,{"$f":"C54","v":0},{"$f":"D54","v":0},0,0,0,0,0,0,0,0]
["Reserves to be backed by cash/investments",5,0,0,0,-25000000,0,0,0,0,0,-1]
["Total Application of cash and investments:",null,{"$f":"SUM(C11:C17)","v":221125341.47},{"$f":"SUM(D11:D17)","v":106568317.03999999},-264347205.19999999,-56807765,-24736276,-24736276,-22819276,-136682791,-136383073,-135216226]
["Surplus(shortfall) - Excluding Non-Current Creditors Trf to Debt Relief Benefits",null,{"$f":"C8-C18","v":-173393660.24000001},{"$f":"D8-D18","v":-13600204.659999996},325058674.26000005,114637877,50824416,50824416,48907416,202507272,236323188,254524227]
["Creditors transferred to Debt Relief - Non-Current portion",null,{"$f":"'SA3'!C162","v":0},{"$f":"'SA3'!D162","v":0},{"$f":"'SA3'!E162","v":0},{"$f":"'SA3'!F162","v":0},{"$f":"'SA3'!G162","v":0},{"$f":"'SA3'!H162","v":0},{"$f":"'SA3'!I162","v":0},{"$f":"'SA3'!J162","v":0},{"$f":"'SA3'!K162","v":0},{"$f":"'SA3'!L162","v":0}]
["Surplus(shortfall) - Including Non-Current Creditors Trf to Debt Relief Benefits",null,{"$f":"SUM(C19:C20)","v":-173393660.24000001},{"$f":"SUM(D19:D20)","v":-13600204.659999996},325058674.26000005,114637877,50824416,50824416,48907416,202507272,236323188,254524227]
[{"$f":"head27a","v":"References"}]
["1. Must reconcile with Budgeted Cash Flows"]
["2. For example: VAT, taxation"]
["3. Council approval for policy required - include sufficient working capital (e.g. allowing for a % of current debtors > 90 days as uncollectable)"]
["4. For example: sinking fund requirements for borrowing"]
["5. Council approval required for each reserve created and basis of cash backing of reserves - Total Reserves to be backed by cash/investments excl Valuation reserve"]
[]
[]
["Other working capital requirements"]
["Debtors",null,{"$f":"IF(ISERROR(ROUND(C37*C38,-3)),0,(ROUND(C37*C38,-3)))","v":0},{"$f":"IF(ISERROR(ROUND(D37*D38,-3)),0,(ROUND(D37*D38,-3)))","v":6968000},419036000,244424000,105333000,105333000,103416000,245455000,244323000,242326000]
[]
["Creditors due",null,{"$f":"'SA3'!C147+'SA3'!C148","v":242656645.81},{"$f":"'SA3'!D147+'SA3'!D148","v":118324770.72},{"$f":"'SA3'!E147+'SA3'!E148","v":137702439.63},{"$f":"'SA3'!F147+'SA3'!F148","v":218734923},{"$f":"'SA3'!G147+'SA3'!G148","v":92615176},{"$f":"'SA3'!H147+'SA3'!H148","v":92615176},{"$f":"'SA3'!I147+'SA3'!I148","v":92615176},{"$f":"'SA3'!J147+'SA3'!J148","v":120718344},{"$f":"'SA3'!K147+'SA3'!K148","v":120218851},{"$f":"'SA3'!L147+'SA3'!L148","v":119718527}]
["Total",null,{"$f":"C31-C33","v":-242656645.81},{"$f":"D31-D33","v":-111356770.72},281333560.37,25689077,12717824,12717824,10800824,124736656,124104149,122607473]
[]
["Debtors collection assumptions"]
["Balance outstanding - debtors",null,{"$f":"'A6-FinPos'!C7+'A6-FinPos'!C8+'A6-FinPos'!C9+'A6-FinPos'!C22+'A6-FinPos'!C23","v":105841818.64000005},{"$f":"'A6-FinPos'!D7+'A6-FinPos'!D8+'A6-FinPos'!D9+'A6-FinPos'!D22+'A6-FinPos'!D23","v":147746115.75000006},{"$f":"'A6-FinPos'!E7+'A6-FinPos'!E8+'A6-FinPos'!E9+'A6-FinPos'!E22+'A6-FinPos'!E23","v":288716106.99999994},{"$f":"'A6-FinPos'!F7+'A6-FinPos'!F8+'A6-FinPos'!F9+'A6-FinPos'!F22+'A6-FinPos'!F23","v":540616272},{"$f":"'A6-FinPos'!G7+'A6-FinPos'!G8+'A6-FinPos'!G9+'A6-FinPos'!G22+'A6-FinPos'!G23","v":218037822},{"$f":"'A6-FinPos'!H7+'A6-FinPos'!H8+'A6-FinPos'!H9+'A6-FinPos'!H22+'A6-FinPos'!H23","v":218037822},{"$f":"'A6-FinPos'!I7+'A6-FinPos'!I8+'A6-FinPos'!I9+'A6-FinPos'!I22+'A6-FinPos'!I23","v":218037822},{"$f":"'A6-FinPos'!J7+'A6-FinPos'!J8+'A6-FinPos'!J9+'A6-FinPos'!J22+'A6-FinPos'!J23","v":219284983},{"$f":"'A6-FinPos'!K7+'A6-FinPos'!K8+'A6-FinPos'!K9+'A6-FinPos'!K22+'A6-FinPos'!K23","v":218465043},{"$f":"'A6-FinPos'!L7+'A6-FinPos'!L8+'A6-FinPos'!L9+'A6-FinPos'!L22+'A6-FinPos'!L23","v":217644640}]
["Estimate of debtors collection rate",null,{"$f":"IF(ISERROR('SA10'!D10),0,('SA10'!D10))","v":0},{"$f":"IF(ISERROR('SA10'!E10),0,('SA10'!E10))","v":4.7161597658018903E-2},{"$f":"IF(ISERROR('SA10'!F10),0,('SA10'!F10))","v":1.4513766769051673},{"$f":"IF(ISERROR('SA10'!G10),0,('SA10'!G10))","v":0.45212138974666138},{"$f":"IF(ISERROR('SA10'!H10),0,('SA10'!H10))","v":0.48309302572480611},{"$f":"IF(ISERROR('SA10'!I10),0,('SA10'!I10))","v":0.48309302572480611},{"$f":"IF(ISERROR('SA10'!J10),0,('SA10'!J10))","v":0.47430466604798882},{"$f":"IF(ISERROR('SA10'!K10),0,('SA10'!K10))","v":1.1193423689388482},{"$f":"IF(ISERROR('SA10'!L10),0,('SA10'!L10))","v":1.1183600482027152},{"$f":"IF(ISERROR('SA10'!M10),0,('SA10'!M10))","v":1.1134010303986517}]
[]
[]
[null,null,null,null,null,null,null,null,null,null,"`"]
[{"$f":"A16","v":"Long term investments committed"}]
["Balance (Insert description; eg sinking fund)",null,0,0,0,0,0,0,0,0,0,0]
[]
[]
[]
[]
[]
[]
[]
[]
[]
[]
[null,null,{"$f":"SUM(C43:C53)","v":0},{"$f":"SUM(D43:D53)","v":0},0,0,0,0,0,0,0,0]
[{"$f":"A17","v":"Reserves to be backed by cash/investments"}]
["Housing Development Fund",null,{"$f":"'SA3'!C184","v":0},{"$f":"'SA3'!D184","v":0},{"$f":"'SA3'!E184","v":0},{"$f":"'SA3'!F184","v":0},{"$f":"'SA3'!G184","v":0},{"$f":"'SA3'!H184","v":0},{"$f":"'SA3'!I184","v":0},{"$f":"'SA3'!J184","v":0},{"$f":"'SA3'!K184","v":0},{"$f":"'SA3'!L184","v":0}]
["Capital replacement",null,{"$f":"'SA3'!C185","v":0},{"$f":"'SA3'!D185","v":0},{"$f":"'SA3'!E185","v":0},{"$f":"'SA3'!F185","v":-25000000},{"$f":"'SA3'!G185","v":0},{"$f":"'SA3'!H185","v":0},{"$f":"'SA3'!I185","v":0},{"$f":"'SA3'!J185","v":0},{"$f":"'SA3'!K185","v":0},{"$f":"'SA3'!L185","v":-1}]
["Self-insurance",null,{"$f":"'SA3'!C186","v":0},{"$f":"'SA3'!D186","v":0},{"$f":"'SA3'!E186","v":0},{"$f":"'SA3'!F186","v":0},{"$f":"'SA3'!G186","v":0},{"$f":"'SA3'!H186","v":0},{"$f":"'SA3'!I186","v":0},{"$f":"'SA3'!J186","v":0},{"$f":"'SA3'!K186","v":0},{"$f":"'SA3'!L186","v":0}]
["Compensation for Occupational Injuries and Diseases"]
["Employee Benefit reserve"]
["Non-current Provisions reserve"]
["Valuation roll reserve"]
["Investment in associate account"]
["Capitalisation"]
[null,6,{"$f":"SUM(C56:C64)","v":0},{"$f":"SUM(D56:D64)","v":0},0,-25000000,0,0,0,0,0,-1]
["Note:"]
["6. Above reserves do not include Revaluation reserve. Revaluation reserve not required to be cash backed"]

{"sheet":"A9-Asset","index":19,"n_rows":234,"n_cols":11,"rows_kept":234,"cut":false,"hidden":false,"merged":[[1,5,1,7],[1,8,1,10]]}
[{"$f":"muni&\" - \"&Approve9","v":"Choose name from list - Table A9 Asset Management"}]
[{"$f":"desc","v":"Description"},{"$f":"head27","v":"Ref"},{"$f":"head1b","v":"2021/22"},{"$f":"head1A","v":"2022/23"},{"$f":"Head1","v":"2023/24"},{"$f":"Head2","v":"Current Year 2024/25"},null,null,{"$f":"Head3","v":"2025/26 Medium Term Revenue & Expenditure Framework"}]
["R thousand",null,{"$f":"Head5","v":"Audited Outcome"},{"$f":"Head5","v":"Audited Outcome"},{"$f":"Head5","v":"Audited Outcome"},{"$f":"Head6","v":"Original Budget"},{"$f":"Head7","v":"Adjusted Budget"},{"$f":"Head8","v":"Full Year Forecast"},{"$f":"Head9","v":"Budget Year 2025/26"},{"$f":"Head10","v":"Budget Year +1 2026/27"},{"$f":"Head11","v":"Budget Year +2 2027/28"}]
["CAPITAL EXPENDITURE"]
["Total New Assets",1,{"$f":"C15+C18+C19+C22+C25+C26+SUM(C29:C35)+C38","v":112859002.93000001},{"$f":"D15+D18+D19+D22+D25+D26+SUM(D29:D35)+D38","v":55964530.110000014},90041609.320000008,170748761,204571534,204571534,156420081,144040702,122563965]
["Roads Infrastructure",null,{"$f":"SA34a!C7","v":1677962.37},{"$f":"SA34a!D7","v":871384.89},{"$f":"SA34a!E7","v":3365336.5},{"$f":"SA34a!F7","v":22353750},{"$f":"SA34a!G7","v":54373673},{"$f":"SA34a!H7","v":54373673},{"$f":"SA34a!I7","v":34863872},{"$f":"SA34a!J7","v":16930305},{"$f":"SA34a!K7","v":11361865}]
["Storm water Infrastructure",null,{"$f":"SA34a!C12","v":0},{"$f":"SA34a!D12","v":0},{"$f":"SA34a!E12","v":0},{"$f":"SA34a!F12","v":0},{"$f":"SA34a!G12","v":0},{"$f":"SA34a!H12","v":0},{"$f":"SA34a!I12","v":0},{"$f":"SA34a!J12","v":0},{"$f":"SA34a!K12","v":0}]
["Electrical Infrastructure",null,{"$f":"SA34a!C16","v":28077070.939999998},{"$f":"SA34a!D16","v":9565217.4100000001},{"$f":"SA34a!E16","v":10778537.129999999},{"$f":"SA34a!F16","v":24806200},{"$f":"SA34a!G16","v":18906855},{"$f":"SA34a!H16","v":18906855},{"$f":"SA34a!I16","v":10703017},{"$f":"SA34a!J16","v":24955333},{"$f":"SA34a!K16","v":18000005}]
["Water Supply Infrastructure",null,{"$f":"SA34a!C26","v":40687190.719999999},{"$f":"SA34a!D26","v":32917641.020000003},{"$f":"SA34a!E26","v":34205765.240000002},{"$f":"SA34a!F26","v":83995251},{"$f":"SA34a!G26","v":65237694},{"$f":"SA34a!H26","v":65237694},{"$f":"SA34a!I26","v":66883075},{"$f":"SA34a!J26","v":72883075},{"$f":"SA34a!K26","v":58300009}]
["Sanitation Infrastructure",null,{"$f":"SA34a!C37","v":28975191},{"$f":"SA34a!D37","v":7461575.5200000005},{"$f":"SA34a!E37","v":0},{"$f":"SA34a!F37","v":15960560},{"$f":"SA34a!G37","v":39078170},{"$f":"SA34a!H37","v":39078170},{"$f":"SA34a!I37","v":11493770},{"$f":"SA34a!J37","v":15034300},{"$f":"SA34a!K37","v":19346213}]
["Solid Waste Infrastructure",null,{"$f":"SA34a!C44","v":1681647.55},{"$f":"SA34a!D44","v":0},{"$f":"SA34a!E44","v":-0.4},{"$f":"SA34a!F44","v":0},{"$f":"SA34a!G44","v":0},{"$f":"SA34a!H44","v":0},{"$f":"SA34a!I44","v":0},{"$f":"SA34a!J44","v":0},{"$f":"SA34a!K44","v":0}]
["Rail Infrastructure",null,{"$f":"SA34a!C52","v":0},{"$f":"SA34a!D52","v":0},{"$f":"SA34a!E52","v":0},{"$f":"SA34a!F52","v":0},{"$f":"SA34a!G52","v":0},{"$f":"SA34a!H52","v":0},{"$f":"SA34a!I52","v":0},{"$f":"SA34a!J52","v":0},{"$f":"SA34a!K52","v":0}]
["Coastal Infrastructure",null,{"$f":"SA34a!C62","v":0},{"$f":"SA34a!D62","v":0},{"$f":"SA34a!E62","v":0},{"$f":"SA34a!F62","v":0},{"$f":"SA34a!G62","v":0},{"$f":"SA34a!H62","v":0},{"$f":"SA34a!I62","v":0},{"$f":"SA34a!J62","v":0},{"$f":"SA34a!K62","v":0}]
["Information and Communication Infrastructure",null,{"$f":"SA34a!C68","v":0},{"$f":"SA34a!D68","v":0},{"$f":"SA34a!E68","v":622274.84},{"$f":"SA34a!F68","v":0},{"$f":"SA34a!G68","v":1292142},{"$f":"SA34a!H68","v":1292142},{"$f":"SA34a!I68","v":4060000},{"$f":"SA34a!J68","v":3500000},{"$f":"SA34a!K68","v":2}]
["Infrastructure",null,{"$f":"SUM(C6:C14)","v":101099062.58},{"$f":"SUM(D6:D14)","v":50815818.840000011},48971913.31000001,147115761,178888534,178888534,128003734,133303013,107008094]
["Community Facilities",null,{"$f":"SA34a!C75","v":2926851.45},{"$f":"SA34a!D75","v":1395930},{"$f":"SA34a!E75","v":294894},{"$f":"SA34a!F75","v":0},{"$f":"SA34a!G75","v":0},{"$f":"SA34a!H75","v":0},{"$f":"SA34a!I75","v":0},{"$f":"SA34a!J75","v":0},{"$f":"SA34a!K75","v":0}]
["Sport and Recreation Facilities",null,{"$f":"SA34a!C98","v":0},{"$f":"SA34a!D98","v":0},{"$f":"SA34a!E98","v":0},{"$f":"SA34a!F98","v":10000000},{"$f":"SA34a!G98","v":10000000},{"$f":"SA34a!H98","v":10000000},{"$f":"SA34a!I98","v":500000},{"$f":"SA34a!J98","v":8137689},{"$f":"SA34a!K98","v":14755850}]
["Community Assets",null,{"$f":"SUM(C16:C17)","v":2926851.45},{"$f":"SUM(D16:D17)","v":1395930},294894,10000000,10000000,10000000,500000,8137689,14755850]
["Heritage Assets",null,{"$f":"SA34a!C103","v":0},{"$f":"SA34a!D103","v":0},{"$f":"SA34a!E103","v":0},{"$f":"SA34a!F103","v":0},{"$f":"SA34a!G103","v":0},{"$f":"SA34a!H103","v":0},{"$f":"SA34a!I103","v":0},{"$f":"SA34a!J103","v":0},{"$f":"SA34a!K103","v":0}]
["Revenue Generating",null,{"$f":"SA34a!C111","v":0},{"$f":"SA34a!D111","v":0},{"$f":"SA34a!E111","v":0},{"$f":"SA34a!F111","v":0},{"$f":"SA34a!G111","v":0},{"$f":"SA34a!H111","v":0},{"$f":"SA34a!I111","v":0},{"$f":"SA34a!J111","v":0},{"$f":"SA34a!K111","v":0}]
["Non-revenue Generating",null,{"$f":"SA34a!C114","v":0},{"$f":"SA34a!D114","v":0},{"$f":"SA34a!E114","v":0},{"$f":"SA34a!F114","v":0},{"$f":"SA34a!G114","v":0},{"$f":"SA34a!H114","v":0},{"$f":"SA34a!I114","v":0},{"$f":"SA34a!J114","v":0},{"$f":"SA34a!K114","v":0}]
["Investment properties",null,{"$f":"SUM(C20:C21)","v":0},{"$f":"SUM(D20:D21)","v":0},0,0,0,0,0,0,0]
["Operational Buildings",null,{"$f":"SA34a!C119","v":0},{"$f":"SA34a!D119","v":157979.17000000001},{"$f":"SA34a!E119","v":104439.98},{"$f":"SA34a!F119","v":1000000},{"$f":"SA34a!G119","v":2200000},{"$f":"SA34a!H119","v":2200000},{"$f":"SA34a!I119","v":500000},{"$f":"SA34a!J119","v":0},{"$f":"SA34a!K119","v":2}]
["Housing",null,{"$f":"SA34a!C131","v":0},{"$f":"SA34a!D131","v":0},{"$f":"SA34a!E131","v":0},{"$f":"SA34a!F131","v":0},{"$f":"SA34a!G131","v":0},{"$f":"SA34a!H131","v":0},{"$f":"SA34a!I131","v":0},{"$f":"SA34a!J131","v":0},{"$f":"SA34a!K131","v":0}]
["Other Assets",null,{"$f":"SUM(C23:C24)","v":0},{"$f":"SUM(D23:D24)","v":157979.17000000001},104439.98,1000000,2200000,2200000,500000,0,2]
["Biological or Cultivated Assets",null,{"$f":"SA34a!C136","v":0},{"$f":"SA34a!D136","v":0},{"$f":"SA34a!E136","v":0},{"$f":"SA34a!F136","v":0},{"$f":"SA34a!G136","v":0},{"$f":"SA34a!H136","v":0},{"$f":"SA34a!I136","v":0},{"$f":"SA34a!J136","v":0},{"$f":"SA34a!K136","v":0}]
["Servitudes",null,{"$f":"SA34a!C140","v":0},{"$f":"SA34a!D140","v":0},{"$f":"SA34a!E140","v":0},{"$f":"SA34a!F140","v":0},{"$f":"SA34a!G140","v":0},{"$f":"SA34a!H140","v":0},{"$f":"SA34a!I140","v":0},{"$f":"SA34a!J140","v":0},{"$f":"SA34a!K140","v":0}]
["Licences and Rights",null,{"$f":"SA34a!C141","v":0},{"$f":"SA34a!D141","v":1457933.78},{"$f":"SA34a!E141","v":1685341.5},{"$f":"SA34a!F141","v":0},{"$f":"SA34a!G141","v":0},{"$f":"SA34a!H141","v":0},{"$f":"SA34a!I141","v":0},{"$f":"SA34a!J141","v":0},{"$f":"SA34a!K141","v":0}]
["Intangible Assets",null,{"$f":"SUM(C27:C28)","v":0},{"$f":"SUM(D27:D28)","v":1457933.78},1685341.5,0,0,0,0,0,0]
["Computer Equipment",null,{"$f":"SA34a!C149","v":528400.01},{"$f":"SA34a!D149","v":891710.04},{"$f":"SA34a!E149","v":472072},{"$f":"SA34a!F149","v":1000000},{"$f":"SA34a!G149","v":1300000},{"$f":"SA34a!H149","v":1300000},{"$f":"SA34a!I149","v":1000000},{"$f":"SA34a!J149","v":500000},{"$f":"SA34a!K149","v":500000}]
["Furniture and Office Equipment",null,{"$f":"SA34a!C152","v":172904},{"$f":"SA34a!D152","v":18669.8},{"$f":"SA34a!E152","v":1173896.08},{"$f":"SA34a!F152","v":1100000},{"$f":"SA34a!G152","v":1100000},{"$f":"SA34a!H152","v":1100000},{"$f":"SA34a!I152","v":300000},{"$f":"SA34a!J152","v":300000},{"$f":"SA34a!K152","v":300003}]
["Machinery and Equipment",null,{"$f":"SA34a!C155","v":48000},{"$f":"SA34a!D155","v":500416.52},{"$f":"SA34a!E155","v":2065945.81},{"$f":"SA34a!F155","v":3708000},{"$f":"SA34a!G155","v":3658000},{"$f":"SA34a!H155","v":3658000},{"$f":"SA34a!I155","v":10255147},{"$f":"SA34a!J155","v":1800000},{"$f":"SA34a!K155","v":11}]
["Transport Assets",null,{"$f":"SA34a!C158","v":8083784.8899999997},{"$f":"SA34a!D158","v":726071.96},{"$f":"SA34a!E158","v":35273106.640000001},{"$f":"SA34a!F158","v":1400000},{"$f":"SA34a!G158","v":1400000},{"$f":"SA34a!H158","v":1400000},{"$f":"SA34a!I158","v":13861200},{"$f":"SA34a!J158","v":0},{"$f":"SA34a!K158","v":3}]
["Land",null,{"$f":"SA34a!C161","v":0},{"$f":"SA34a!D161","v":0},{"$f":"SA34a!E161","v":0},{"$f":"SA34a!F161","v":5425000},{"$f":"SA34a!G161","v":6025000},{"$f":"SA34a!H161","v":6025000},{"$f":"SA34a!I161","v":2000000},{"$f":"SA34a!J161","v":0},{"$f":"SA34a!K161","v":2}]
["Zoo's, Marine and Non-biological Animals",null,{"$f":"SA34a!C164","v":0},{"$f":"SA34a!D164","v":0},{"$f":"SA34a!E164","v":0},{"$f":"SA34a!F164","v":0},{"$f":"SA34a!G164","v":0},{"$f":"SA34a!H164","v":0},{"$f":"SA34a!I164","v":0},{"$f":"SA34a!J164","v":0},{"$f":"SA34a!K164","v":0}]
["Mature"," ",{"$f":"SA34a!C168","v":0},{"$f":"SA34a!D168","v":0},{"$f":"SA34a!E168","v":0},{"$f":"SA34a!F168","v":0},{"$f":"SA34a!G168","v":0},{"$f":"SA34a!H168","v":0},{"$f":"SA34a!I168","v":0},{"$f":"SA34a!J168","v":0},{"$f":"SA34a!K168","v":0}]
["Immature"," ",{"$f":"SA34a!C171","v":0},{"$f":"SA34a!D171","v":0},{"$f":"SA34a!E171","v":0},{"$f":"SA34a!F171","v":0},{"$f":"SA34a!G171","v":0},{"$f":"SA34a!H171","v":0},{"$f":"SA34a!I171","v":0},{"$f":"SA34a!J171","v":0},{"$f":"SA34a!K171","v":0}]
["Living Resources","",{"$f":"SUM(C36:C37)","v":0},{"$f":"SUM(D36:D37)","v":0},0,0,0,0,0,0,0]
[]
["Total Renewal of Existing Assets",2,{"$f":"C50+C53+C54+C57+C60+C61+SUM(C64:C70)+C73","v":0},{"$f":"D50+D53+D54+D57+D60+D61+SUM(D64:D70)+D73","v":491000},23921171.48,45445189,53170139,53170139,493966,10000000,11770192]
["Roads Infrastructure",null,{"$f":"SA34b!C7","v":0},{"$f":"SA34b!D7","v":0},{"$f":"SA34b!E7","v":0},{"$f":"SA34b!F7","v":0},{"$f":"SA34b!G7","v":135794},{"$f":"SA34b!H7","v":135794},{"$f":"SA34b!I7","v":493966},{"$f":"SA34b!J7","v":10000000},{"$f":"SA34b!K7","v":11770190}]
["Storm water Infrastructure",null,{"$f":"SA34b!C12","v":0},{"$f":"SA34b!D12","v":0},{"$f":"SA34b!E12","v":0},{"$f":"SA34b!F12","v":0},{"$f":"SA34b!G12","v":0},{"$f":"SA34b!H12","v":0},{"$f":"SA34b!I12","v":0},{"$f":"SA34b!J12","v":0},{"$f":"SA34b!K12","v":0}]
["Electrical Infrastructure",null,{"$f":"SA34b!C16","v":0},{"$f":"SA34b!D16","v":0},{"$f":"SA34b!E16","v":0},{"$f":"SA34b!F16","v":0},{"$f":"SA34b!G16","v":0},{"$f":"SA34b!H16","v":0},{"$f":"SA34b!I16","v":0},{"$f":"SA34b!J16","v":0},{"$f":"SA34b!K16","v":0}]
["Water Supply Infrastructure",null,{"$f":"SA34b!C26","v":0},{"$f":"SA34b!D26","v":0},{"$f":"SA34b!E26","v":23921171.48},{"$f":"SA34b!F26","v":45445189},{"$f":"SA34b!G26","v":53034345},{"$f":"SA34b!H26","v":53034345},{"$f":"SA34b!I26","v":0},{"$f":"SA34b!J26","v":0},{"$f":"SA34b!K26","v":2}]
["Sanitation Infrastructure",null,{"$f":"SA34b!C37","v":0},{"$f":"SA34b!D37","v":0},{"$f":"SA34b!E37","v":0},{"$f":"SA34b!F37","v":0},{"$f":"SA34b!G37","v":0},{"$f":"SA34b!H37","v":0},{"$f":"SA34b!I37","v":0},{"$f":"SA34b!J37","v":0},{"$f":"SA34b!K37","v":0}]
["Solid Waste Infrastructure",null,{"$f":"SA34b!C44","v":0},{"$f":"SA34b!D44","v":0},{"$f":"SA34b!E44","v":0},{"$f":"SA34b!F44","v":0},{"$f":"SA34b!G44","v":0},{"$f":"SA34b!H44","v":0},{"$f":"SA34b!I44","v":0},{"$f":"SA34b!J44","v":0},{"$f":"SA34b!K44","v":0}]
["Rail Infrastructure",null,{"$f":"SA34b!C52","v":0},{"$f":"SA34b!D52","v":0},{"$f":"SA34b!E52","v":0},{"$f":"SA34b!F52","v":0},{"$f":"SA34b!G52","v":0},{"$f":"SA34b!H52","v":0},{"$f":"SA34b!I52","v":0},{"$f":"SA34b!J52","v":0},{"$f":"SA34b!K52","v":0}]
["Coastal Infrastructure",null,{"$f":"SA34b!C62","v":0},{"$f":"SA34b!D62","v":0},{"$f":"SA34b!E62","v":0},{"$f":"SA34b!F62","v":0},{"$f":"SA34b!G62","v":0},{"$f":"SA34b!H62","v":0},{"$f":"SA34b!I62","v":0},{"$f":"SA34b!J62","v":0},{"$f":"SA34b!K62","v":0}]
["Information and Communication Infrastructure",null,{"$f":"SA34b!C68","v":0},{"$f":"SA34b!D68","v":0},{"$f":"SA34b!E68","v":0},{"$f":"SA34b!F68","v":0},{"$f":"SA34b!G68","v":0},{"$f":"SA34b!H68","v":0},{"$f":"SA34b!I68","v":0},{"$f":"SA34b!J68","v":0},{"$f":"SA34b!K68","v":0}]
["Infrastructure",null,{"$f":"SUM(C41:C49)","v":0},{"$f":"SUM(D41:D49)","v":0},23921171.48,45445189,53170139,53170139,493966,10000000,11770192]
["Community Facilities",null,{"$f":"SA34b!C75","v":0},{"$f":"SA34b!D75","v":0},{"$f":"SA34b!E75","v":0},{"$f":"SA34b!F75","v":0},{"$f":"SA34b!G75","v":0},{"$f":"SA34b!H75","v":0},{"$f":"SA34b!I75","v":0},{"$f":"SA34b!J75","v":0},{"$f":"SA34b!K75","v":0}]
["Sport and Recreation Facilities",null,{"$f":"SA34b!C98","v":0},{"$f":"SA34b!D98","v":0},{"$f":"SA34b!E98","v":0},{"$f":"SA34b!F98","v":0},{"$f":"SA34b!G98","v":0},{"$f":"SA34b!H98","v":0},{"$f":"SA34b!I98","v":0},{"$f":"SA34b!J98","v":0},{"$f":"SA34b!K98","v":0}]
["Community Assets",null,{"$f":"SUM(C51:C52)","v":0},{"$f":"SUM(D51:D52)","v":0},0,0,0,0,0,0,0]
["Heritage Assets",null,{"$f":"SA34b!C103","v":0},{"$f":"SA34b!D103","v":0},{"$f":"SA34b!E103","v":0},{"$f":"SA34b!F103","v":0},{"$f":"SA34b!G103","v":0},{"$f":"SA34b!H103","v":0},{"$f":"SA34b!I103","v":0},{"$f":"SA34b!J103","v":0},{"$f":"SA34b!K103","v":0}]
["Revenue Generating",null,{"$f":"SA34b!C111","v":0},{"$f":"SA34b!D111","v":0},{"$f":"SA34b!E111","v":0},{"$f":"SA34b!F111","v":0},{"$f":"SA34b!G111","v":0},{"$f":"SA34b!H111","v":0},{"$f":"SA34b!I111","v":0},{"$f":"SA34b!J111","v":0},{"$f":"SA34b!K111","v":0}]
["Non-revenue Generating",null,{"$f":"SA34b!C114","v":0},{"$f":"SA34b!D114","v":0},{"$f":"SA34b!E114","v":0},{"$f":"SA34b!F114","v":0},{"$f":"SA34b!G114","v":0},{"$f":"SA34b!H114","v":0},{"$f":"SA34b!I114","v":0},{"$f":"SA34b!J114","v":0},{"$f":"SA34b!K114","v":0}]
["Investment properties",null,{"$f":"SUM(C55:C56)","v":0},{"$f":"SUM(D55:D56)","v":0},0,0,0,0,0,0,0]
["Operational Buildings",null,{"$f":"SA34b!C119","v":0},{"$f":"SA34b!D119","v":0},{"$f":"SA34b!E119","v":0},{"$f":"SA34b!F119","v":0},{"$f":"SA34b!G119","v":0},{"$f":"SA34b!H119","v":0},{"$f":"SA34b!I119","v":0},{"$f":"SA34b!J119","v":0},{"$f":"SA34b!K119","v":0}]
["Housing",null,{"$f":"SA34b!C131","v":0},{"$f":"SA34b!D131","v":0},{"$f":"SA34b!E131","v":0},{"$f":"SA34b!F131","v":0},{"$f":"SA34b!G131","v":0},{"$f":"SA34b!H131","v":0},{"$f":"SA34b!I131","v":0},{"$f":"SA34b!J131","v":0},{"$f":"SA34b!K131","v":0}]
["Other Assets",null,{"$f":"SUM(C58:C59)","v":0},{"$f":"SUM(D58:D59)","v":0},0,0,0,0,0,0,0]
["Biological or Cultivated Assets",null,{"$f":"SA34b!C136","v":0},{"$f":"SA34b!D136","v":0},{"$f":"SA34b!E136","v":0},{"$f":"SA34b!F136","v":0},{"$f":"SA34b!G136","v":0},{"$f":"SA34b!H136","v":0},{"$f":"SA34b!I136","v":0},{"$f":"SA34b!J136","v":0},{"$f":"SA34b!K136","v":0}]
["Servitudes",null,{"$f":"SA34b!C140","v":0},{"$f":"SA34b!D140","v":0},{"$f":"SA34b!E140","v":0},{"$f":"SA34b!F140","v":0},{"$f":"SA34b!G140","v":0},{"$f":"SA34b!H140","v":0},{"$f":"SA34b!I140","v":0},{"$f":"SA34b!J140","v":0},{"$f":"SA34b!K140","v":0}]
["Licences and Rights",null,{"$f":"SA34b!C141","v":0},{"$f":"SA34b!D141","v":0},{"$f":"SA34b!E141","v":0},{"$f":"SA34b!F141","v":0},{"$f":"SA34b!G141","v":0},{"$f":"SA34b!H141","v":0},{"$f":"SA34b!I141","v":0},{"$f":"SA34b!J141","v":0},{"$f":"SA34b!K141","v":0}]
["Intangible Assets",null,{"$f":"SUM(C62:C63)","v":0},{"$f":"SUM(D62:D63)","v":0},0,0,0,0,0,0,0]
["Computer Equipment",null,{"$f":"SA34b!C149","v":0},{"$f":"SA34b!D149","v":0},{"$f":"SA34b!E149","v":0},{"$f":"SA34b!F149","v":0},{"$f":"SA34b!G149","v":0},{"$f":"SA34b!H149","v":0},{"$f":"SA34b!I149","v":0},{"$f":"SA34b!J149","v":0},{"$f":"SA34b!K149","v":0}]
["Furniture and Office Equipment",null,{"$f":"SA34b!C152","v":0},{"$f":"SA34b!D152","v":0},{"$f":"SA34b!E152","v":0},{"$f":"SA34b!F152","v":0},{"$f":"SA34b!G152","v":0},{"$f":"SA34b!H152","v":0},{"$f":"SA34b!I152","v":0},{"$f":"SA34b!J152","v":0},{"$f":"SA34b!K152","v":0}]
["Machinery and Equipment",null,{"$f":"SA34b!C155","v":0},{"$f":"SA34b!D155","v":491000},{"$f":"SA34b!E155","v":0},{"$f":"SA34b!F155","v":0},{"$f":"SA34b!G155","v":0},{"$f":"SA34b!H155","v":0},{"$f":"SA34b!I155","v":0},{"$f":"SA34b!J155","v":0},{"$f":"SA34b!K155","v":0}]
["Transport Assets",null,{"$f":"SA34b!C158","v":0},{"$f":"SA34b!D158","v":0},{"$f":"SA34b!E158","v":0},{"$f":"SA34b!F158","v":0},{"$f":"SA34b!G158","v":0},{"$f":"SA34b!H158","v":0},{"$f":"SA34b!I158","v":0},{"$f":"SA34b!J158","v":0},{"$f":"SA34b!K158","v":0}]
["Land",null,{"$f":"SA34b!C161","v":0},{"$f":"SA34b!D161","v":0},{"$f":"SA34b!E161","v":0},{"$f":"SA34b!F161","v":0},{"$f":"SA34b!G161","v":0},{"$f":"SA34b!H161","v":0},{"$f":"SA34b!I161","v":0},{"$f":"SA34b!J161","v":0},{"$f":"SA34b!K161","v":0}]
["Zoo's, Marine and Non-biological Animals",null,{"$f":"SA34b!C164","v":0},{"$f":"SA34b!D164","v":0},{"$f":"SA34b!E164","v":0},{"$f":"SA34b!F164","v":0},{"$f":"SA34b!G164","v":0},{"$f":"SA34b!H164","v":0},{"$f":"SA34b!I164","v":0},{"$f":"SA34b!J164","v":0},{"$f":"SA34b!K164","v":0}]
["Mature"," ",{"$f":"SA34b!C168","v":0},{"$f":"SA34b!D168","v":0},{"$f":"SA34b!E168","v":0},{"$f":"SA34b!F168","v":0},{"$f":"SA34b!G168","v":0},{"$f":"SA34b!H168","v":0},{"$f":"SA34b!I168","v":0},{"$f":"SA34b!J168","v":0},{"$f":"SA34b!K168","v":0}]
["Immature"," ",{"$f":"SA34b!C171","v":0},{"$f":"SA34b!D171","v":0},{"$f":"SA34b!E171","v":0},{"$f":"SA34b!F171","v":0},{"$f":"SA34b!G171","v":0},{"$f":"SA34b!H171","v":0},{"$f":"SA34b!I171","v":0},{"$f":"SA34b!J171","v":0},{"$f":"SA34b!K171","v":0}]
["Living Resources","",{"$f":"SUM(C71:C72)","v":0},0,0,0,0,0,0,0,0]
[]
["Total Upgrading of Existing Assets",6,{"$f":"C85+C88+C89+C92+C95+C96+SUM(C99:C105)+C108","v":0},{"$f":"D85+D88+D89+D92+D95+D96+SUM(D99:D105)+D108","v":0},0,7900000,7900000,7900000,1000000,0,1]
["Roads Infrastructure",null,{"$f":"SA34e!C7","v":0},{"$f":"SA34e!D7","v":0},{"$f":"SA34e!E7","v":0},{"$f":"SA34e!F7","v":0},{"$f":"SA34e!G7","v":0},{"$f":"SA34e!H7","v":0},{"$f":"SA34e!I7","v":0},{"$f":"SA34e!J7","v":0},{"$f":"SA34e!K7","v":0}]
["Storm water Infrastructure",null,{"$f":"SA34e!C12","v":0},{"$f":"SA34e!D12","v":0},{"$f":"SA34e!E12","v":0},{"$f":"SA34e!F12","v":0},{"$f":"SA34e!G12","v":0},{"$f":"SA34e!H12","v":0},{"$f":"SA34e!I12","v":0},{"$f":"SA34e!J12","v":0},{"$f":"SA34e!K12","v":0}]
["Electrical Infrastructure",null,{"$f":"SA34e!C16","v":0},{"$f":"SA34e!D16","v":0},{"$f":"SA34e!E16","v":0},{"$f":"SA34e!F16","v":0},{"$f":"SA34e!G16","v":0},{"$f":"SA34e!H16","v":0},{"$f":"SA34e!I16","v":0},{"$f":"SA34e!J16","v":0},{"$f":"SA34e!K16","v":0}]
["Water Supply Infrastructure",null,{"$f":"SA34e!C26","v":0},{"$f":"SA34e!D26","v":0},{"$f":"SA34e!E26","v":0},{"$f":"SA34e!F26","v":7900000},{"$f":"SA34e!G26","v":7900000},{"$f":"SA34e!H26","v":7900000},{"$f":"SA34e!I26","v":0},{"$f":"SA34e!J26","v":0},{"$f":"SA34e!K26","v":1}]
["Sanitation Infrastructure",null,{"$f":"SA34e!C37","v":0},{"$f":"SA34e!D37","v":0},{"$f":"SA34e!E37","v":0},{"$f":"SA34e!F37","v":0},{"$f":"SA34e!G37","v":0},{"$f":"SA34e!H37","v":0},{"$f":"SA34e!I37","v":0},{"$f":"SA34e!J37","v":0},{"$f":"SA34e!K37","v":0}]
["Solid Waste Infrastructure",null,{"$f":"SA34e!C44","v":0},{"$f":"SA34e!D44","v":0},{"$f":"SA34e!E44","v":0},{"$f":"SA34e!F44","v":0},{"$f":"SA34e!G44","v":0},{"$f":"SA34e!H44","v":0},{"$f":"SA34e!I44","v":1000000},{"$f":"SA34e!J44","v":0},{"$f":"SA34e!K44","v":0}]
["Rail Infrastructure",null,{"$f":"SA34e!C52","v":0},{"$f":"SA34e!D52","v":0},{"$f":"SA34e!E52","v":0},{"$f":"SA34e!F52","v":0},{"$f":"SA34e!G52","v":0},{"$f":"SA34e!H52","v":0},{"$f":"SA34e!I52","v":0},{"$f":"SA34e!J52","v":0},{"$f":"SA34e!K52","v":0}]
["Coastal Infrastructure",null,{"$f":"SA34e!C62","v":0},{"$f":"SA34e!D62","v":0},{"$f":"SA34e!E62","v":0},{"$f":"SA34e!F62","v":0},{"$f":"SA34e!G62","v":0},{"$f":"SA34e!H62","v":0},{"$f":"SA34e!I62","v":0},{"$f":"SA34e!J62","v":0},{"$f":"SA34e!K62","v":0}]
["Information and Communication Infrastructure",null,{"$f":"SA34e!C68","v":0},{"$f":"SA34e!D68","v":0},{"$f":"SA34e!E68","v":0},{"$f":"SA34e!F68","v":0},{"$f":"SA34e!G68","v":0},{"$f":"SA34e!H68","v":0},{"$f":"SA34e!I68","v":0},{"$f":"SA34e!J68","v":0},{"$f":"SA34e!K68","v":0}]
["Infrastructure",null,{"$f":"SUM(C76:C84)","v":0},0,0,7900000,7900000,7900000,1000000,0,1]
["Community Facilities",null,{"$f":"SA34e!C75","v":0},{"$f":"SA34e!D75","v":0},{"$f":"SA34e!E75","v":0},{"$f":"SA34e!F75","v":0},{"$f":"SA34e!G75","v":0},{"$f":"SA34e!H75","v":0},{"$f":"SA34e!I75","v":0},{"$f":"SA34e!J75","v":0},{"$f":"SA34e!K75","v":0}]
["Sport and Recreation Facilities",null,{"$f":"SA34e!C98","v":0},{"$f":"SA34e!D98","v":0},{"$f":"SA34e!E98","v":0},{"$f":"SA34e!F98","v":0},{"$f":"SA34e!G98","v":0},{"$f":"SA34e!H98","v":0},{"$f":"SA34e!I98","v":0},{"$f":"SA34e!J98","v":0},{"$f":"SA34e!K98","v":0}]
["Community Assets",null,{"$f":"SUM(C86:C87)","v":0},0,0,0,0,0,0,0,0]
["Heritage Assets",null,{"$f":"SA34e!C103","v":0},{"$f":"SA34e!D103","v":0},{"$f":"SA34e!E103","v":0},{"$f":"SA34e!F103","v":0},{"$f":"SA34e!G103","v":0},{"$f":"SA34e!H103","v":0},{"$f":"SA34e!I103","v":0},{"$f":"SA34e!J103","v":0},{"$f":"SA34e!K103","v":0}]
["Revenue Generating",null,{"$f":"SA34e!C111","v":0},{"$f":"SA34e!D111","v":0},{"$f":"SA34e!E111","v":0},{"$f":"SA34e!F111","v":0},{"$f":"SA34e!G111","v":0},{"$f":"SA34e!H111","v":0},{"$f":"SA34e!I111","v":0},{"$f":"SA34e!J111","v":0},{"$f":"SA34e!K111","v":0}]
["Non-revenue Generating",null,{"$f":"SA34e!C114","v":0},{"$f":"SA34e!D114","v":0},{"$f":"SA34e!E114","v":0},{"$f":"SA34e!F114","v":0},{"$f":"SA34e!G114","v":0},{"$f":"SA34e!H114","v":0},{"$f":"SA34e!I114","v":0},{"$f":"SA34e!J114","v":0},{"$f":"SA34e!K114","v":0}]
["Investment properties",null,{"$f":"SUM(C90:C91)","v":0},0,0,0,0,0,0,0,0]
["Operational Buildings",null,{"$f":"SA34e!C119","v":0},{"$f":"SA34e!D119","v":0},{"$f":"SA34e!E119","v":0},{"$f":"SA34e!F119","v":0},{"$f":"SA34e!G119","v":0},{"$f":"SA34e!H119","v":0},{"$f":"SA34e!I119","v":0},{"$f":"SA34e!J119","v":0},{"$f":"SA34e!K119","v":0}]
["Housing",null,{"$f":"SA34e!C131","v":0},{"$f":"SA34e!D131","v":0},{"$f":"SA34e!E131","v":0},{"$f":"SA34e!F131","v":0},{"$f":"SA34e!G131","v":0},{"$f":"SA34e!H131","v":0},{"$f":"SA34e!I131","v":0},{"$f":"SA34e!J131","v":0},{"$f":"SA34e!K131","v":0}]
["Other Assets",null,{"$f":"SUM(C93:C94)","v":0},0,0,0,0,0,0,0,0]
["Biological or Cultivated Assets",null,{"$f":"SA34e!C136","v":0},{"$f":"SA34e!D136","v":0},{"$f":"SA34e!E136","v":0},{"$f":"SA34e!F136","v":0},{"$f":"SA34e!G136","v":0},{"$f":"SA34e!H136","v":0},{"$f":"SA34e!I136","v":0},{"$f":"SA34e!J136","v":0},{"$f":"SA34e!K136","v":0}]
["Servitudes",null,{"$f":"SA34e!C140","v":0},{"$f":"SA34e!D140","v":0},{"$f":"SA34e!E140","v":0},{"$f":"SA34e!F140","v":0},{"$f":"SA34e!G140","v":0},{"$f":"SA34e!H140","v":0},{"$f":"SA34e!I140","v":0},{"$f":"SA34e!J140","v":0},{"$f":"SA34e!K140","v":0}]
["Licences and Rights",null,{"$f":"SA34e!C141","v":0},{"$f":"SA34e!D141","v":0},{"$f":"SA34e!E141","v":0},{"$f":"SA34e!F141","v":0},{"$f":"SA34e!G141","v":0},{"$f":"SA34e!H141","v":0},{"$f":"SA34e!I141","v":0},{"$f":"SA34e!J141","v":0},{"$f":"SA34e!K141","v":0}]
["Intangible Assets",null,{"$f":"SUM(C97:C98)","v":0},0,0,0,0,0,0,0,0]
["Computer Equipment",null,{"$f":"SA34e!C149","v":0},{"$f":"SA34e!D149","v":0},{"$f":"SA34e!E149","v":0},{"$f":"SA34e!F149","v":0},{"$f":"SA34e!G149","v":0},{"$f":"SA34e!H149","v":0},{"$f":"SA34e!I149","v":0},{"$f":"SA34e!J149","v":0},{"$f":"SA34e!K149","v":0}]
["Furniture and Office Equipment",null,{"$f":"SA34e!C152","v":0},{"$f":"SA34e!D152","v":0},{"$f":"SA34e!E152","v":0},{"$f":"SA34e!F152","v":0},{"$f":"SA34e!G152","v":0},{"$f":"SA34e!H152","v":0},{"$f":"SA34e!I152","v":0},{"$f":"SA34e!J152","v":0},{"$f":"SA34e!K152","v":0}]
["Machinery and Equipment",null,{"$f":"SA34e!C155","v":0},{"$f":"SA34e!D155","v":0},{"$f":"SA34e!E155","v":0},{"$f":"SA34e!F155","v":0},{"$f":"SA34e!G155","v":0},{"$f":"SA34e!H155","v":0},{"$f":"SA34e!I155","v":0},{"$f":"SA34e!J155","v":0},{"$f":"SA34e!K155","v":0}]
["Transport Assets",null,{"$f":"SA34e!C158","v":0},{"$f":"SA34e!D158","v":0},{"$f":"SA34e!E158","v":0},{"$f":"SA34e!F158","v":0},{"$f":"SA34e!G158","v":0},{"$f":"SA34e!H158","v":0},{"$f":"SA34e!I158","v":0},{"$f":"SA34e!J158","v":0},{"$f":"SA34e!K158","v":0}]
["Land",null,{"$f":"SA34e!C161","v":0},{"$f":"SA34e!D161","v":0},{"$f":"SA34e!E161","v":0},{"$f":"SA34e!F161","v":0},{"$f":"SA34e!G161","v":0},{"$f":"SA34e!H161","v":0},{"$f":"SA34e!I161","v":0},{"$f":"SA34e!J161","v":0},{"$f":"SA34e!K161","v":0}]
["Zoo's, Marine and Non-biological Animals",null,{"$f":"SA34e!C164","v":0},{"$f":"SA34e!D164","v":0},{"$f":"SA34e!E164","v":0},{"$f":"SA34e!F164","v":0},{"$f":"SA34e!G164","v":0},{"$f":"SA34e!H164","v":0},{"$f":"SA34e!I164","v":0},{"$f":"SA34e!J164","v":0},{"$f":"SA34e!K164","v":0}]
["Mature"," ",{"$f":"SA34e!C168","v":0},{"$f":"SA34e!D168","v":0},{"$f":"SA34e!E168","v":0},{"$f":"SA34e!F168","v":0},{"$f":"SA34e!G168","v":0},{"$f":"SA34e!H168","v":0},{"$f":"SA34e!I168","v":0},{"$f":"SA34e!J168","v":0},{"$f":"SA34e!K168","v":0}]
["Immature"," ",{"$f":"SA34b!C171","v":0},{"$f":"SA34b!D171","v":0},{"$f":"SA34b!E171","v":0},{"$f":"SA34b!F171","v":0},{"$f":"SA34b!G171","v":0},{"$f":"SA34b!H171","v":0},{"$f":"SA34b!I171","v":0},{"$f":"SA34b!J171","v":0},{"$f":"SA34b!K171","v":0}]
["Living Resources","",{"$f":"SUM(C106:C107)","v":0},{"$f":"SUM(D106:D107)","v":0},0,0,0,0,0,0,0]
[]
["Total Capital Expenditure",4,{"$f":"+C5+C40+C75","v":112859002.93000001},{"$f":"+D5+D40+D75","v":56455530.110000014},113962780.80000001,224093950,265641673,265641673,157914047,154040702,134334158]
["Roads Infrastructure",null,{"$f":"+C6+C41+C76","v":1677962.37},871384.89,3365336.5,22353750,54509467,54509467,35357838,26930305,23132055]
["Storm water Infrastructure",null,{"$f":"+C7+C42+C77","v":0},0,0,0,0,0,0,0,0]
["Electrical Infrastructure",null,{"$f":"+C8+C43+C78","v":28077070.939999998},9565217.4100000001,10778537.129999999,24806200,18906855,18906855,10703017,24955333,18000005]
["Water Supply Infrastructure",null,{"$f":"+C9+C44+C79","v":40687190.719999999},32917641.020000003,58126936.719999999,137340440,126172039,126172039,66883075,72883075,58300012]
["Sanitation Infrastructure",null,{"$f":"+C10+C45+C80","v":28975191},7461575.5200000005,0,15960560,39078170,39078170,11493770,15034300,19346213]
["Solid Waste Infrastructure",null,{"$f":"+C11+C46+C81","v":1681647.55},0,-0.4,0,0,0,1000000,0,0]
["Rail Infrastructure",null,{"$f":"+C12+C47+C82","v":0},0,0,0,0,0,0,0,0]
["Coastal Infrastructure",null,{"$f":"+C13+C48+C83","v":0},0,0,0,0,0,0,0,0]
["Information and Communication Infrastructure",null,{"$f":"+C14+C49+C84","v":0},0,622274.84,0,1292142,1292142,4060000,3500000,2]
["Infrastructure",null,{"$f":"SUM(C111:C119)","v":101099062.58},{"$f":"SUM(D111:D119)","v":50815818.840000011},72893084.789999992,200460950,239958673,239958673,129497700,143303013,118778287]
["Community Facilities",null,{"$f":"+C16+C51+C86","v":2926851.45},1395930,294894,0,0,0,0,0,0]
["Sport and Recreation Facilities",null,{"$f":"+C17+C52+C87","v":0},0,0,10000000,10000000,10000000,500000,8137689,14755850]
["Community Assets",null,{"$f":"SUM(C121:C122)","v":2926851.45},{"$f":"SUM(D121:D122)","v":1395930},294894,10000000,10000000,10000000,500000,8137689,14755850]
["Heritage Assets",null,{"$f":"+C19+C54+C89","v":0},0,0,0,0,0,0,0,0]
["Revenue Generating",null,{"$f":"+C20+C55+C90","v":0},0,0,0,0,0,0,0,0]
["Non-revenue Generating",null,{"$f":"+C21+C56+C91","v":0},0,0,0,0,0,0,0,0]
["Investment properties",null,{"$f":"SUM(C125:C126)","v":0},{"$f":"SUM(D125:D126)","v":0},0,0,0,0,0,0,0]
["Operational Buildings",null,{"$f":"+C23+C58+C93","v":0},157979.17000000001,104439.98,1000000,2200000,2200000,500000,0,2]
["Housing",null,{"$f":"+C24+C59+C94","v":0},0,0,0,0,0,0,0,0]
["Other Assets",null,{"$f":"SUM(C128:C129)","v":0},157979.17000000001,104439.98,1000000,2200000,2200000,500000,0,2]
["Biological or Cultivated Assets",null,{"$f":"+C26+C61+C96","v":0},0,0,0,0,0,0,0,0]
["Servitudes",null,{"$f":"+C27+C62+C97","v":0},0,0,0,0,0,0,0,0]
["Licences and Rights",null,{"$f":"+C28+C63+C98","v":0},1457933.78,1685341.5,0,0,0,0,0,0]
["Intangible Assets",null,{"$f":"SUM(C132:C133)","v":0},{"$f":"SUM(D132:D133)","v":1457933.78},1685341.5,0,0,0,0,0,0]
["Computer Equipment",null,{"$f":"+C30+C65+C100","v":528400.01},891710.04,472072,1000000,1300000,1300000,1000000,500000,500000]
["Furniture and Office Equipment",null,{"$f":"+C31+C66+C101","v":172904},18669.8,1173896.08,1100000,1100000,1100000,300000,300000,300003]
["Machinery and Equipment",null,{"$f":"+C32+C67+C102","v":48000},991416.52,2065945.81,3708000,3658000,3658000,10255147,1800000,11]
["Transport Assets",null,{"$f":"+C33+C68+C103","v":8083784.8899999997},726071.96,35273106.640000001,1400000,1400000,1400000,13861200,0,3]
["Land",null,{"$f":"+C34+C69+C104","v":0},0,0,5425000,6025000,6025000,2000000,0,2]
["Zoo's, Marine and Non-biological Animals",null,{"$f":"+C35+C70+C105","v":0},0,0,0,0,0,0,0,0]
["Mature"," ",{"$f":"+C36+C71+C106","v":0},{"$f":"+D36+D71+D106","v":0},0,0,0,0,0,0,0]
["Immature"," ",{"$f":"+C37+C72+C107","v":0},{"$f":"+D37+D72+D107","v":0},0,0,0,0,0,0,0]
["Living Resources","",{"$f":"SUM(C141:C142)","v":0},0,0,0,0,0,0,0,0]
["TOTAL CAPITAL EXPENDITURE - Asset class",null,{"$f":"+C5+C40+C75","v":112859002.93000001},{"$f":"+D5+D40+D75","v":56455530.110000014},113962780.80000001,224093950,265641673,265641673,157914047,154040702,134334158]
[]
["ASSET REGISTER SUMMARY - PPE (WDV)",5,{"$f":"C156+C159+C160+C163+C166+C167+C170+C171+C172+C173+C174+C175+C176+C179","v":1312931549.3499999},{"$f":"D156+D159+D160+D163+D166+D167+D170+D171+D172+D173+D174+D175+D176+D179","v":1201548977.5299997},1284600741.7799997,1441911155,1498200137,1498200137,1380174149,1371881861,1347772114]
["Roads Infrastructure",null,1677962.37,-29395757.27,-27203455.469999999,-42211838,-11746122,-11746122,-14912382,-37629306,-43934140]
["Storm water Infrastructure",null,0,-582223.69999999995,-584626.51,-672567,-672566,-672566,-1285728,-1317386,-1317391]
["Electrical Infrastructure",null,1020864361.76,1025973995.5700001,1061788418.64,1046549496,1040650153,1040650153,1029767641,1045718036,1036962693]
["Water Supply Infrastructure",null,40564137.009999998,6493244.0599999996,33091828.719999999,136428455,122551969,122551969,36941698,41494033,25014396]
["Sanitation Infrastructure",null,27739473.710000001,3068899,-3896452.16,13321373,42147069,42147069,15062669,18103198,22415111]
["Solid Waste Infrastructure",null,1681647.55,491000,30084940.789999999,-1,-338023,-338023,646428,-369481,-369481]
["Rail Infrastructure",null,0,0,0,0,0,0,0,0,-1]
["Coastal Infrastructure",null,0,0,0,0,0,0,0,0,0]
["Information and Communication Infrastructure",null,13840000,0,622274.84,0,0,0,5200000,3500001,1]
["Infrastructure",null,{"$f":"SUM(C147:C155)","v":1106367582.3999999},{"$f":"SUM(D147:D155)","v":1006049157.66},1093902928.8499999,1153414918,1192592480,1192592480,1071420326,1069499095,1038771188]
[]
[]
["Community Assets",null,90306322.450000003,68689901.829999998,63148593,104464079,112302100,112302100,105174155,110059519,116677674]
["Heritage Assets",null,77000,77000,77000,77000,77000,77000,77000,77000,76999]
[]
[]
["Investment properties",null,0,17631000,17870867,17631000,17631000,17631000,17631000,17631000,17631000]
[]
[]
["Other Assets",null,0,0,0,0,0,0,11950297,11906283,11906284]
["Biological or Cultivated Assets",null,0,0,0,0,0,0,0,0,0]
[]
[]
["Intangible Assets",null,-63880096.609999999,1699207.58,1780177.56,2000000,1999999,1999999,1915160,1828346,1828344]
["Computer Equipment",null,96005905.010000005,-64662102.969999999,-70540494.180000007,-5670123,129877,129877,-588147,-726822,-726824]
["Furniture and Office Equipment",null,172904,-1003247.97,-29520.54,-270182,-270181,-270181,-2155987,-2239473,-2239472]
["Machinery and Equipment",null,48000,106742189.78,111086713.78,108948393,111421792,111421792,108619383,106169577,106169585]
["Transport Assets",null,10364056.1,-1776277.38,-2280802.02,-5786079,-5786079,-5786079,-1971187,-10424813,-10424812]
["Land",null,73469876,68102149,69585278.329999998,67102149,68102149,68102149,68102149,68102149,68102148]
["Zoo's, Marine and Non-biological Animals",null,0,0,0,0,0,0,0,0,0]
[]
[]
["Living Resources",null,0,0,0,0,0,0,0,0,0]
["TOTAL ASSET REGISTER SUMMARY - PPE (WDV)",5,{"$f":"C156+C159+C160+C163+C166+C167+C170+C171+C172+C173+C174+C175+C176+C179","v":1312931549.3499999},{"$f":"D156+D159+D160+D163+D166+D167+D170+D171+D172+D173+D174+D175+D176+D179","v":1201548977.5299997},1284600741.7799997,{"$f":"F156+F159+F160+F163+F166+F167+F170+F171+F172+F173+F174+F175+F176+F179","v":1441911155},{"$f":"G156+G159+G160+G163+G166+G167+G170+G171+G172+G173+G174+G175+G176+G179","v":1498200137},1498200137,1380174149,1371881861,1347772114]
[]
["EXPENDITURE OTHER ITEMS",null,{"$f":"SUM(C183:C184)","v":96805426.579999998},{"$f":"SUM(D183:D184)","v":100413080.01000002},113230524.44,110683813,111869113,111869113,110951873,115567049,119921480]
["Depreciation",7,{"$f":"SA34d!C175","v":87197833.969999999},{"$f":"SA34d!D175","v":87737832.680000022},{"$f":"SA34d!E175","v":94711817.650000006},{"$f":"SA34d!F175","v":94726306},{"$f":"SA34d!G175","v":91726306},{"$f":"SA34d!H175","v":91726306},{"$f":"SA34d!I175","v":95670536},{"$f":"SA34d!J175","v":100089486},{"$f":"SA34d!K175","v":104492631}]
["Repairs and Maintenance by Asset Class",3,{"$f":"C194+C197+C198+C201+C204+C205+SUM(C208:C214)+C217","v":9607592.6099999994},{"$f":"D194+D197+D198+D201+D204+D205+SUM(D208:D214)+D217","v":12675247.329999998},18518706.789999999,15957507,20142807,20142807,15281337,15477563,15428849]
["Roads Infrastructure",null,{"$f":"SA34c!C7","v":-3003243.52},{"$f":"SA34c!D7","v":1140024.08},{"$f":"SA34c!E7","v":1690054.8},{"$f":"SA34c!F7","v":1409384},{"$f":"SA34c!G7","v":3909384},{"$f":"SA34c!H7","v":3909384},{"$f":"SA34c!I7","v":1926030},{"$f":"SA34c!J7","v":1593811},{"$f":"SA34c!K7","v":1550413}]
["Storm water Infrastructure",null,{"$f":"SA34c!C12","v":151176.29},{"$f":"SA34c!D12","v":240908.88},{"$f":"SA34c!E12","v":165831},{"$f":"SA34c!F12","v":333059},{"$f":"SA34c!G12","v":333059},{"$f":"SA34c!H12","v":333059},{"$f":"SA34c!I12","v":358360},{"$f":"SA34c!J12","v":374372},{"$f":"SA34c!K12","v":368600}]
["Electrical Infrastructure",null,{"$f":"SA34c!C16","v":1617643.48},{"$f":"SA34c!D16","v":1348577.5},{"$f":"SA34c!E16","v":1605005.55},{"$f":"SA34c!F16","v":2078461},{"$f":"SA34c!G16","v":2078461},{"$f":"SA34c!H16","v":2078461},{"$f":"SA34c!I16","v":2205827},{"$f":"SA34c!J16","v":2305658},{"$f":"SA34c!K16","v":2330144}]
["Water Supply Infrastructure",null,{"$f":"SA34c!C26","v":691444.7},{"$f":"SA34c!D26","v":1084903.3799999999},{"$f":"SA34c!E26","v":2874095.2},{"$f":"SA34c!F26","v":3480969},{"$f":"SA34c!G26","v":6480969},{"$f":"SA34c!H26","v":6480969},{"$f":"SA34c!I26","v":3785280},{"$f":"SA34c!J26","v":3952734},{"$f":"SA34c!K26","v":3813418}]
["Sanitation Infrastructure",null,{"$f":"SA34c!C37","v":2759387.54},{"$f":"SA34c!D37","v":7241659.7000000002},{"$f":"SA34c!E37","v":5673803.2000000002},{"$f":"SA34c!F37","v":6505589},{"$f":"SA34c!G37","v":4940889},{"$f":"SA34c!H37","v":4940889},{"$f":"SA34c!I37","v":4621309},{"$f":"SA34c!J37","v":4886967},{"$f":"SA34c!K37","v":4958549}]
["Solid Waste Infrastructure",null,{"$f":"SA34c!C44","v":0},{"$f":"SA34c!D44","v":0},{"$f":"SA34c!E44","v":0},{"$f":"SA34c!F44","v":0},{"$f":"SA34c!G44","v":0},{"$f":"SA34c!H44","v":0},{"$f":"SA34c!I44","v":0},{"$f":"SA34c!J44","v":0},{"$f":"SA34c!K44","v":0}]
["Rail Infrastructure",null,{"$f":"SA34c!C52","v":0},{"$f":"SA34c!D52","v":0},{"$f":"SA34c!E52","v":0},{"$f":"SA34c!F52","v":0},{"$f":"SA34c!G52","v":0},{"$f":"SA34c!H52","v":0},{"$f":"SA34c!I52","v":0},{"$f":"SA34c!J52","v":0},{"$f":"SA34c!K52","v":0}]
["Coastal Infrastructure",null,{"$f":"SA34c!C62","v":0},{"$f":"SA34c!D62","v":0},{"$f":"SA34c!E62","v":0},{"$f":"SA34c!F62","v":0},{"$f":"SA34c!G62","v":0},{"$f":"SA34c!H62","v":0},{"$f":"SA34c!I62","v":0},{"$f":"SA34c!J62","v":0},{"$f":"SA34c!K62","v":0}]
["Information and Communication Infrastructure",null,{"$f":"SA34c!C68","v":0},{"$f":"SA34c!D68","v":0},{"$f":"SA34c!E68","v":0},{"$f":"SA34c!F68","v":0},{"$f":"SA34c!G68","v":0},{"$f":"SA34c!H68","v":0},{"$f":"SA34c!I68","v":0},{"$f":"SA34c!J68","v":0},{"$f":"SA34c!K68","v":0}]
["Infrastructure",null,{"$f":"SUM(C185:C193)","v":2216408.4900000002},{"$f":"SUM(D185:D193)","v":11056073.539999999},12008789.75,13807462,17742762,17742762,12896806,13113542,13021124]
["Community Facilities",null,{"$f":"SA34c!C75","v":93140.66},{"$f":"SA34c!D75","v":4820.68},{"$f":"SA34c!E75","v":39277},{"$f":"SA34c!F75","v":0},{"$f":"SA34c!G75","v":0},{"$f":"SA34c!H75","v":0},{"$f":"SA34c!I75","v":0},{"$f":"SA34c!J75","v":0},{"$f":"SA34c!K75","v":0}]
["Sport and Recreation Facilities",null,{"$f":"SA34c!C98","v":32829.1},{"$f":"SA34c!D98","v":46500},{"$f":"SA34c!E98","v":0},{"$f":"SA34c!F98","v":292815},{"$f":"SA34c!G98","v":292815},{"$f":"SA34c!H98","v":292815},{"$f":"SA34c!I98","v":319454},{"$f":"SA34c!J98","v":320373},{"$f":"SA34c!K98","v":319760}]
["Community Assets",null,{"$f":"SUM(C195:C196)","v":125969.76000000001},51320.68,39277,292815,292815,292815,319454,320373,319760]
["Heritage Assets",null,{"$f":"SA34c!C103","v":0},{"$f":"SA34c!D103","v":0},{"$f":"SA34c!E103","v":0},{"$f":"SA34c!F103","v":0},{"$f":"SA34c!G103","v":0},{"$f":"SA34c!H103","v":0},{"$f":"SA34c!I103","v":0},{"$f":"SA34c!J103","v":0},{"$f":"SA34c!K103","v":0}]
["Revenue Generating",null,{"$f":"SA34c!C111","v":0},{"$f":"SA34c!D111","v":0},{"$f":"SA34c!E111","v":0},{"$f":"SA34c!F111","v":0},{"$f":"SA34c!G111","v":0},{"$f":"SA34c!H111","v":0},{"$f":"SA34c!I111","v":0},{"$f":"SA34c!J111","v":0},{"$f":"SA34c!K111","v":0}]
["Non-revenue Generating",null,{"$f":"SA34c!C114","v":0},{"$f":"SA34c!D114","v":0},{"$f":"SA34c!E114","v":0},{"$f":"SA34c!F114","v":0},{"$f":"SA34c!G114","v":0},{"$f":"SA34c!H114","v":0},{"$f":"SA34c!I114","v":0},{"$f":"SA34c!J114","v":0},{"$f":"SA34c!K114","v":0}]
["Investment properties",null,{"$f":"SUM(C199:C200)","v":0},0,0,0,0,0,0,0,0]
["Operational Buildings",null,{"$f":"SA34c!C119","v":716426.29},{"$f":"SA34c!D119","v":693615.69},{"$f":"SA34c!E119","v":535283.21},{"$f":"SA34c!F119","v":883192},{"$f":"SA34c!G119","v":883192},{"$f":"SA34c!H119","v":883192},{"$f":"SA34c!I119","v":937831},{"$f":"SA34c!J119","v":980253},{"$f":"SA34c!K119","v":989631}]
["Housing",null,{"$f":"SA34c!C131","v":0},{"$f":"SA34c!D131","v":0},{"$f":"SA34c!E131","v":0},{"$f":"SA34c!F131","v":0},{"$f":"SA34c!G131","v":0},{"$f":"SA34c!H131","v":0},{"$f":"SA34c!I131","v":0},{"$f":"SA34c!J131","v":0},{"$f":"SA34c!K131","v":0}]
["Other Assets",null,{"$f":"SUM(C202:C203)","v":716426.29},693615.69,535283.21,883192,883192,883192,937831,980253,989631]
["Biological or Cultivated Assets",null,{"$f":"SA34c!C136","v":0},{"$f":"SA34c!D136","v":0},{"$f":"SA34c!E136","v":0},{"$f":"SA34c!F136","v":0},{"$f":"SA34c!G136","v":0},{"$f":"SA34c!H136","v":0},{"$f":"SA34c!I136","v":0},{"$f":"SA34c!J136","v":0},{"$f":"SA34c!K136","v":0}]
["Servitudes",null,{"$f":"SA34c!C140","v":0},{"$f":"SA34c!D140","v":0},{"$f":"SA34c!E140","v":0},{"$f":"SA34c!F140","v":0},{"$f":"SA34c!G140","v":0},{"$f":"SA34c!H140","v":0},{"$f":"SA34c!I140","v":0},{"$f":"SA34c!J140","v":0},{"$f":"SA34c!K140","v":0}]
["Licences and Rights",null,{"$f":"SA34c!C141","v":0},{"$f":"SA34c!D141","v":0},{"$f":"SA34c!E141","v":0},{"$f":"SA34c!F141","v":0},{"$f":"SA34c!G141","v":0},{"$f":"SA34c!H141","v":0},{"$f":"SA34c!I141","v":0},{"$f":"SA34c!J141","v":0},{"$f":"SA34c!K141","v":0}]
["Intangible Assets",null,{"$f":"SUM(C206:C207)","v":0},0,0,0,0,0,0,0,0]
["Computer Equipment",null,{"$f":"SA34c!C149","v":0},{"$f":"SA34c!D149","v":0},{"$f":"SA34c!E149","v":0},{"$f":"SA34c!F149","v":0},{"$f":"SA34c!G149","v":0},{"$f":"SA34c!H149","v":0},{"$f":"SA34c!I149","v":0},{"$f":"SA34c!J149","v":0},{"$f":"SA34c!K149","v":0}]
["Furniture and Office Equipment",null,{"$f":"SA34c!C152","v":71764.69},{"$f":"SA34c!D152","v":-5089277.58},{"$f":"SA34c!E152","v":0},{"$f":"SA34c!F152","v":209800},{"$f":"SA34c!G152","v":209800},{"$f":"SA34c!H152","v":209800},{"$f":"SA34c!I152","v":228887},{"$f":"SA34c!J152","v":229546},{"$f":"SA34c!K152","v":229107}]
["Machinery and Equipment",null,{"$f":"SA34c!C155","v":1761137.7},{"$f":"SA34c!D155","v":247206.1},{"$f":"SA34c!E155","v":131620.01},{"$f":"SA34c!F155","v":738013},{"$f":"SA34c!G155","v":988013},{"$f":"SA34c!H155","v":988013},{"$f":"SA34c!I155","v":869748},{"$f":"SA34c!J155","v":805156},{"$f":"SA34c!K155","v":840583}]
["Transport Assets",null,{"$f":"SA34c!C158","v":4715885.68},{"$f":"SA34c!D158","v":5716308.9000000004},{"$f":"SA34c!E158","v":5803736.8200000003},{"$f":"SA34c!F158","v":26225},{"$f":"SA34c!G158","v":26225},{"$f":"SA34c!H158","v":26225},{"$f":"SA34c!I158","v":28611},{"$f":"SA34c!J158","v":28693},{"$f":"SA34c!K158","v":28644}]
["Land",null,{"$f":"SA34c!C161","v":0},{"$f":"SA34c!D161","v":0},{"$f":"SA34c!E161","v":0},{"$f":"SA34c!F161","v":0},{"$f":"SA34c!G161","v":0},{"$f":"SA34c!H161","v":0},{"$f":"SA34c!I161","v":0},{"$f":"SA34c!J161","v":0},{"$f":"SA34c!K161","v":0}]
["Zoo's, Marine and Non-biological Animals",null,{"$f":"SA34c!C164","v":0},{"$f":"SA34c!D164","v":0},{"$f":"SA34c!E164","v":0},{"$f":"SA34c!F164","v":0},{"$f":"SA34c!G164","v":0},{"$f":"SA34c!H164","v":0},{"$f":"SA34c!I164","v":0},{"$f":"SA34c!J164","v":0},{"$f":"SA34c!K164","v":0}]
["Mature"," ",{"$f":"SA34c!C168","v":0},{"$f":"SA34c!D168","v":0},{"$f":"SA34c!E168","v":0},{"$f":"SA34c!F168","v":0},{"$f":"SA34c!G168","v":0},{"$f":"SA34c!H168","v":0},{"$f":"SA34c!I168","v":0},{"$f":"SA34c!J168","v":0},{"$f":"SA34c!K168","v":0}]
["Immature"," ",{"$f":"SA34c!C171","v":0},{"$f":"SA34c!D171","v":0},{"$f":"SA34c!E171","v":0},{"$f":"SA34c!F171","v":0},{"$f":"SA34c!G171","v":0},{"$f":"SA34c!H171","v":0},{"$f":"SA34c!I171","v":0},{"$f":"SA34c!J171","v":0},{"$f":"SA34c!K171","v":0}]
["Living Resources","",{"$f":"SUM(C215:C216)","v":0},0,0,0,0,0,0,0,0]
[]
["TOTAL EXPENDITURE OTHER ITEMS",null,{"$f":"SUM(C183:C184)","v":96805426.579999998},{"$f":"SUM(D183:D184)","v":100413080.01000002},113230524.44,110683813,111869113,111869113,110951873,115567049,119921480]
[]
["Renewal and upgrading of Existing Assets as % of total capex",null,{"$f":"IF(ISERROR((C40+C75)/C144),0,((C40+C75)/C144))","v":0},{"$f":"IF(ISERROR((D40+D75)/D144),0,((D40+D75)/D144))","v":8.6971107886741599E-3},0.20990336767914317,0.23804832303594095,0.22989668115815548,0.22989668115815548,9.460627653979382E-3,6.4917907216496581E-2,8.7618764841627256E-2]
["Renewal and upgrading of Existing Assets as % of deprecn",null,{"$f":"IF(ISERROR((C40+C75)/C183),0,((C40+C75)/C183))","v":0},{"$f":"IF(ISERROR((D40+D75)/D183),0,((D40+D75)/D183))","v":5.5962175609100065E-3},0.25256796958959005,0.56315073660742143,0.66578653020214285,0.66578653020214285,1.5615737743959123E-2,9.9910594005847925E-2,0.11264136894016957]
["R&M as a % of PPE & Investment Property",null,{"$f":"IF(ISERROR((C184-C198-C205-C208-C217)/(C180-C160-C170-C179-C167)),0,((C184-C198-C205-C208-C217)/(C180-C160-C170-C179-C167)))","v":6.9785362329576632E-3},{"$f":"IF(ISERROR((D184-D198-D205-D208-D217)/(D180-D160-D170-D179-D167)),0,((D184-D198-D205-D208-D217)/(D180-D160-D170-D179-D167)))","v":1.0564706624012009E-2},1.4436795713927985E-2,1.1082878499989466E-2,1.3463334994555775E-2,1.3463334994555775E-2,1.1088039984536469E-2,1.1297684909584016E-2,1.1463875423966463E-2]
["Renewal and upgrading and R&M as a % of PPE and Investment Property",null,{"$f":"IF(ISERROR((C40+C75+C184-C198-C205-C208-C217)/(C180-C160-C170-C179-C167)),0,((C40+C75+C184-C198-C205-C208-C217)/(C180-C160-C170-C179-C167)))","v":6.9785362329576632E-3},{"$f":"IF(ISERROR((D40+D75+D184-D198-D205-D208-D217)/(D180-D160-D170-D179-D167)),0,((D40+D75+D184-D198-D205-D208-D217)/(D180-D160-D170-D179-D167)))","v":1.0973950784487881E-2},3.308523967984707E-2,4.8132415639216448E-2,5.4282260555481097E-2,5.4282260555481097E-2,1.2172052119308316E-2,1.8597080111260156E-2,2.020931238222836E-2]
[]
[{"$f":"head27a","v":"References"}]
["1. Detail of new assets provided in Table SA34a"]
["2. Detail of renewal of existing assets provided in Table SA34b"]
["3. Detail of Repairs and Maintenance by Asset Class provided in Table SA34c"]
["4. Must reconcile to total capital expenditure on Budgeted Capital Expenditure"]
["5. Must reconcile to 'Budgeted Financial Position' (written down value)"]
["6. Detail of upgrading of existing assets provided in Table SA34e"]
["7. Detail of depreciation provided in Table SA34d"]
[null,null,7.1428571428571425E-2]

{"sheet":"A10-SerDel","index":20,"n_rows":89,"n_cols":11,"rows_kept":89,"cut":false,"hidden":false,"merged":[[1,5,1,7],[1,8,1,10],[1,0,2,0],[1,1,2,1]]}
[{"$f":"muni&\" - \"&Approve10","v":"Choose name from list - Table A10 Basic service delivery measurement"}]
[{"$f":"desc","v":"Description"},{"$f":"head27","v":"Ref"},{"$f":"head1b","v":"2021/22"},{"$f":"head1A","v":"2022/23"},{"$f":"Head1","v":"2023/24"},{"$f":"Head2","v":"Current Year 2024/25"},null,null,{"$f":"Head3","v":"2025/26 Medium Term Revenue & Expenditure Framework"}]
[null,null,{"$f":"Head5A","v":"Outcome"},{"$f":"Head5A","v":"Outcome"},{"$f":"Head5A","v":"Outcome"},{"$f":"Head6","v":"Original Budget"},{"$f":"Head7","v":"Adjusted Budget"},{"$f":"Head8","v":"Full Year Forecast"},{"$f":"Head9","v":"Budget Year 2025/26"},{"$f":"Head10","v":"Budget Year +1 2026/27"},{"$f":"Head11","v":"Budget Year +2 2027/28"}]
["Household service targets",1]
["Water:"]
["Piped water inside dwelling",null,0,0,0,0,0,0,0,0,0]
["Piped water inside yard (but not in dwelling)",null,0,0,0,0,0,0,0,0,0]
["Using public tap (at least min.service level)",2,0,0,0,0,0,0,0,0,0]
["Other water supply (at least min.service level)",4,0,0,0,0,0,0,0,0,0]
["Minimum Service Level and Above sub-total",null,0,0,0,0,0,0,0,0,0]
["Using public tap (< min.service level)",3,0,0,0,0,0,0,0,0,0]
["Other water supply (< min.service level)",{"$f":"B9","v":4},0,0,0,0,0,0,0,0,0]
["No water supply",null,0,0,0,0,0,0,0,0,0]
["Below Minimum Service Level sub-total",null,0,0,0,0,0,0,0,0,0]
["Total number of households",5,0,0,0,0,0,0,0,0,0]
["Sanitation/sewerage:"]
["Flush toilet (connected to sewerage)",null,0,0,0,0,0,0,0,0,0]
["Flush toilet (with septic tank)",null,0,0,0,0,0,0,0,0,0]
["Chemical toilet",null,0,0,0,0,0,0,0,0,0]
["Pit toilet (ventilated)",null,0,0,0,0,0,0,0,0,0]
["Other toilet provisions (> min.service level)",null,0,0,0,0,0,0,0,0,0]
[{"$f":"$A$10","v":"Minimum Service Level and Above sub-total"},null,0,0,0,0,0,0,0,0,0]
["Bucket toilet",null,0,0,0,0,0,0,0,0,0]
["Other toilet provisions (< min.service level)",null,0,0,0,0,0,0,0,0,0]
["No toilet provisions",null,0,0,0,0,0,0,0,0,0]
[{"$f":"$A$14","v":"Below Minimum Service Level sub-total"},null,0,0,0,0,0,0,0,0,0]
[{"$f":"$A$15","v":"Total number of households"},{"$f":"$B$15","v":5},0,0,0,0,0,0,0,0,0]
["Energy:"]
["Electricity (at least min.service level)",null,0,0,0,0,0,0,0,0,0]
["Electricity - prepaid (min.service level)",null,0,0,0,0,0,0,0,0,0]
[{"$f":"$A$10","v":"Minimum Service Level and Above sub-total"},null,0,0,0,0,0,0,0,0,0]
["Electricity (< min.service level)",null,0,0,0,0,0,0,0,0,0]
["Electricity - prepaid (< min. service level)",null,0,0,0,0,0,0,0,0,0]
["Other energy sources",null,0,0,0,0,0,0,0,0,0]
[{"$f":"$A$14","v":"Below Minimum Service Level sub-total"},null,0,0,0,0,0,0,0,0,0]
[{"$f":"$A$15","v":"Total number of households"},{"$f":"$B$15","v":5},0,0,0,0,0,0,0,0,0]
["Refuse:"]
["Removed at least once a week",null,0,0,0,0,0,0,0,0,0]
[{"$f":"$A$10","v":"Minimum Service Level and Above sub-total"},null,0,0,0,0,0,0,0,0,0]
["Removed less frequently than once a week",null,0,0,0,0,0,0,0,0,0]
["Using communal refuse dump",null,0,0,0,0,0,0,0,0,0]
["Using own refuse dump",null,0,0,0,0,0,0,0,0,0]
["Other rubbish disposal",null,0,0,0,0,0,0,0,0,0]
["No rubbish disposal",null,0,0,0,0,0,0,0,0,0]
[{"$f":"$A$14","v":"Below Minimum Service Level sub-total"},null,0,0,0,0,0,0,0,0,0]
[{"$f":"$A$15","v":"Total number of households"},{"$f":"$B$15","v":5},0,0,0,0,0,0,0,0,0]
[]
["Households receiving Free Basic Service",7]
["Water (6 kilolitres per household per month)",null,0,0,0,0,0,0,0,0,0]
["Sanitation (free minimum level service)",null,0,0,0,0,0,0,0,0,0]
["Electricity/other energy (50kwh per household per month)",null,0,0,0,0,0,0,0,0,0]
["Refuse (removed at least once a week)",null,0,0,0,0,0,0,0,0,0]
["Informal Settlements",null,0,0,0,0,0,0,0,0,0]
["Cost of Free Basic Services provided - Formal Settlements (R'000)"]
["Water (6 kilolitres per indigent household per month)",null,0,0,0,0,0,0,0,0,0]
["Sanitation (free sanitation service to indigent households)",null,0,0,0,0,0,0,0,0,0]
["Electricity/other energy (50kwh per indigent household per month)",null,0,0,0,0,0,0,0,0,0]
["Refuse (removed once a week for indigent households)",null,0,0,0,0,0,0,0,0,0]
["Cost of Free Basic Services provided - Informal Formal Settlements (R'000)",null,0,0,0,0,0,0,0,0,0]
["Total cost of FBS provided  ",8,0,0,0,0,0,0,0,0,0]
[]
["Highest level of free service provided per household"]
["Property rates (R value threshold)",null,0,0,0,0,0,0,0,0,0]
["Water (kilolitres per household per month)",null,0,0,0,0,0,0,0,0,0]
["Sanitation (kilolitres per household per month)",null,0,0,0,0,0,0,0,0,0]
["Sanitation (Rand per household per month)",null,0,0,0,0,0,0,0,0,0]
["Electricity (kwh per household per month)",null,0,0,0,0,0,0,0,0,0]
["Refuse (average litres per week)",null,0,0,0,0,0,0,0,0,0]
["Revenue  cost of subsidised services provided (R'000)",9]
["Property rates (tariff adjustment) ( impermissable values per section 17 of MPRA)",null,0,0,0,0,0,0,0,0,0]
["Property rates  exemptions, reductions and rebates and impermissable values in excess of section 17 of MPRA)",null,0,0,0,0,0,0,0,0,0]
["Water (in excess of 6 kilolitres per indigent household per month)",null,0,0,0,0,0,0,0,0,0]
["Sanitation (in excess of free sanitation service to indigent households)",null,0,0,0,0,0,0,0,0,0]
["Electricity/other energy (in excess of 50 kwh per indigent household per month)",null,0,0,0,0,0,0,0,0,0]
["Refuse (in excess of one removal a week for indigent households)",null,0,0,0,0,0,0,0,0,0]
["Municipal Housing - rental rebates",null,0,0,0,0,0,0,0,0,0]
["Housing - top structure subsidies",6,0,0,0,0,0,0,0,0,0]
["Other",null,0,0,0,0,0,0,0,0,0]
["Total revenue cost of subsidised services provided ",null,0,0,0,0,0,0,0,0,0]
[{"$f":"head27a","v":"References"}]
["1. Include services provided by another entity; e.g. Eskom"]
["2. Stand distance <= 200m from dwelling"]
["3. Stand distance > 200m from dwelling"]
["4. Borehole, spring, rain-water tank etc."]
["5. Must agree to total number of households in municipal area (informal settlements receiving services must be included)"]
["6. Include value of subsidy provided by municipality above provincial subsidy level"]
["7. Show number of households receiving at least these levels of services completely free (informal settlements must be included)"]
["8. Must reflect the cost to the municipality of providing the Free Basic Service"]
["9. Reflect the cost of free or subsidised services in excess to the National policy that are not funded from the Free Basic Services component of the Equitable Share"]

{"sheet":"SA1","index":21,"n_rows":181,"n_cols":12,"rows_kept":181,"cut":false,"hidden":false,"merged":[[1,9,1,11],[1,5,1,8],[1,0,2,0],[1,1,2,1]]}
[{"$f":"muni&\" - \"&TableA1","v":"Choose name from list - Supporting Table SA1 Supportinging detail to 'Budgeted Financial Performance'"}]
[{"$f":"desc","v":"Description"},{"$f":"head27","v":"Ref"},{"$f":"head1b","v":"2021/22"},{"$f":"head1A","v":"2022/23"},{"$f":"Head1","v":"2023/24"},{"$f":"Head2","v":"Current Year 2024/25"},null,null,null,{"$f":"Head3","v":"2025/26 Medium Term Revenue & Expenditure Framework"}]
[null,null,{"$f":"Head5","v":"Audited Outcome"},{"$f":"Head5","v":"Audited Outcome"},{"$f":"Head5","v":"Audited Outcome"},{"$f":"Head6","v":"Original Budget"},{"$f":"Head7","v":"Adjusted Budget"},{"$f":"Head8","v":"Full Year Forecast"},{"$f":"Head5b","v":"Pre-audit outcome"},{"$f":"Head9","v":"Budget Year 2025/26"},{"$f":"Head10","v":"Budget Year +1 2026/27"},{"$f":"Head11","v":"Budget Year +2 2027/28"}]
["R thousand"]
["REVENUE ITEMS:"]
["Non-exchange revenue by source"]
[{"$f":"'A4-FinPerf RE'!A5","v":"Exchange Revenue"},6]
["Total Property Rates",null,0,0,125330479.47,172717319,172717319,172717319,172717319,187992845,190246696,193642443]
["Less Revenue Foregone (exemptions, reductions and rebates and impermissable values in excess of section 17 of MPRA)",null,0,8243475.9000000004,10926599.470000001,46603880,46603880,46603880,46603880,54312600,50417159,47660407]
["Net Property Rates",null,{"$f":"C8-C9","v":0},{"$f":"D8-D9","v":-8243475.9000000004},114403880,126113439,126113439,126113439,126113439,133680245,139829537,145982036]
[]
["Exchange revenue service charges"]
[{"$f":"'A4-FinPerf RE'!A6","v":"Service charges - Electricity"},6]
[{"$f":"\"Total \"&A13","v":"Total Service charges - Electricity"},null,135650137.91,190626203.63999999,135172398.12,286960469,256960469,256960469,256960469,293189253,306675958,320169705]
["Less Revenue Foregone (in excess of 50 kwh per indigent household per month)",null,0,0,0,0,0,0,0,0,0,0]
["Less Cost of Free Basis Services (50 kwh per indigent household per month)",null,{"$f":"'SA9'!E250","v":2140626.52},{"$f":"'SA9'!F250","v":0},{"$f":"'SA9'!G250","v":-58462083.039999999},{"$f":"'SA9'!H250","v":21638167},{"$f":"'SA9'!I250","v":21638167},{"$f":"'SA9'!J250","v":21638167},null,{"$f":"'SA9'!K250","v":22568608},{"$f":"'SA9'!L250","v":23606764},{"$f":"'SA9'!M250","v":24645462}]
[{"$f":"\"Net \"& A13","v":"Net Service charges - Electricity"},null,{"$f":"C14-C15-C16","v":133509511.39},{"$f":"D14-D15-D16","v":190626203.63999999},193634481.16,265322302,235322302,235322302,256960469,270620645,283069194,295524243]
[]
[{"$f":"'A4-FinPerf RE'!A7","v":"Service charges - Water"},6]
[{"$f":"\"Total \"&A19","v":"Total Service charges - Water"},null,44188577.859999999,53538729.039999999,64973402.590000004,71837688,69837688,69837688,69837688,74027000,77432171,80835931]
["Less Revenue Foregone (in excess of 6 kilolitres per indigent household per month)",null,0,0,0,0,0,0,0,0,0,0]
["Less Cost of Free Basis Services (6 kilolitres per indigent household per month)",null,{"$f":"'SA9'!E262","v":0},{"$f":"'SA9'!F262","v":37891.06},{"$f":"'SA9'!G262","v":92411.14},{"$f":"'SA9'!H262","v":67699},{"$f":"'SA9'!I262","v":67699},{"$f":"'SA9'!J262","v":67699},null,{"$f":"'SA9'!K262","v":70813},{"$f":"'SA9'!L262","v":73999},{"$f":"'SA9'!M262","v":73999}]
[{"$f":"\"Net \"& A19","v":"Net Service charges - Water"},null,{"$f":"C20-C21-C22","v":44188577.859999999},{"$f":"D20-D21-D22","v":53500837.979999997},64880991.450000003,71769989,69769989,69769989,69837688,73956187,77358172,80761932]
[]
[{"$f":"'A4-FinPerf RE'!A8","v":"Service charges - Waste Water Management"}]
[{"$f":"\"Total \"&A25","v":"Total Service charges - Waste Water Management"},null,22765552.48,23728163.420000002,25107941.600000001,29118652,30252087,30252087,30252087,32065980,33540923,35012491]
["Less Revenue Foregone (in excess of free sanitation service to indigent households)",null,0,0,0,0,0,0,0,0,0,0]
["Less Cost of Free Basis Services (free sanitation service to indigent households)",null,{"$f":"'SA9'!E274","v":0},{"$f":"'SA9'!F274","v":0},{"$f":"'SA9'!G274","v":0},{"$f":"'SA9'!H274","v":88009},{"$f":"'SA9'!I274","v":88009},{"$f":"'SA9'!J274","v":88009},null,{"$f":"'SA9'!K274","v":92057},{"$f":"'SA9'!L274","v":96200},{"$f":"'SA9'!M274","v":96200}]
[{"$f":"\"Net \"& A25","v":"Net Service charges - Waste Water Management"},null,{"$f":"C26-C27-C28","v":22765552.48},{"$f":"D26-D27-D28","v":23728163.420000002},25107941.600000001,29030643,30164078,30164078,{"$f":"I26-I27-I28","v":30252087},31973923,33444723,34916291]
[]
[{"$f":"'A4-FinPerf RE'!A9","v":"Service charges - Waste Management"},6]
["Total refuse removal revenue",null,15408530.800000001,19120942.149999999,20740700.609999999,23353538,25097626,25097626,25097626,26602117,27825713,29045353]
["Total landfill revenue",null,0,0,0,0,0,0,0,0,0,0]
["Less Revenue Foregone (in excess of one removal a week to indigent households)",null,0,0,0,0,0,0,0,0,0,0]
["Less Cost of Free Basis Services  (removed once a week to indigent households)",null,{"$f":"'SA9'!E286","v":0},{"$f":"'SA9'!F286","v":0},{"$f":"'SA9'!G286","v":0},{"$f":"'SA9'!H286","v":97552},{"$f":"'SA9'!I286","v":97552},{"$f":"'SA9'!J286","v":97552},null,{"$f":"'SA9'!K286","v":102039},{"$f":"'SA9'!L286","v":106631},{"$f":"'SA9'!M286","v":106631}]
[{"$f":"\"Net \"& A31","v":"Net Service charges - Waste Management"},null,{"$f":"SUM(C32:C33)-C34-C35","v":15408530.800000001},{"$f":"SUM(D32:D33)-D34-D35","v":19120942.149999999},20740700.609999999,23255986,25000074,25000074,25097626,26500078,27719082,28938722]
[]
[]
[]
[]
[]
[]
[]
[]
[]
[]
[]
[]
[]
[]
["EXPENDITURE ITEMS:"]
[{"$f":"'A4-FinPerf RE'!A35","v":"Employee related costs"}]
["Basic Salaries and Wages",2,123105047.95999999,123579373.59999999,136494922.88,154352660,145156490,145156490,145156490,153093235,164777409,170340889]
["Pension and UIF Contributions",null,26565765.09,27365836.989999998,29368802.800000001,40106845,36756845,36756845,36756845,40359221,43582237,49345173]
["Medical Aid Contributions",null,11065282.35,11379133.5,12501264.52,13576900,13717773,13717773,13717773,15080951,15074480,15127782]
["Overtime",null,12009493.800000001,12460478.130000001,15890606.380000001,13381925,16821925,16821925,16821925,15462356,15618583,16924850]
["Performance Bonus",null,9764041.8499999996,10384529.52,10648864.609999999,14074320,13658447,13658447,13658447,15748547,15526987,15482121]
["Motor Vehicle Allowance",null,10566066.949999999,10087303.35,10436577.619999999,14781847,14243947,14243947,14243947,16506500,16323451,16307788]
["Cellphone Allowance",null,1194047.73,1162850.6399999999,1230972.57,1758144,1772532,1772532,1772532,2876943,1927901,1926070]
["Housing Allowances",null,424451.18,495076.8,534287.06000000006,1298272,1198272,1198272,1198272,1931559,1434315,1432259]
["Other benefits and allowances",null,2308609,2610262,2621683,2767289,2517289,2517289,2517289,3047915,3056681,3050838]
["Payments in lieu of leave",null,7392682.6399999997,9241397.9900000002,11496206.890000001,7614149,7614149,7614149,7614149,9061231,8441848,8431432]
["Long service awards",null,0,0,0,0,0,0,0,0,0,0]
["Post-retirement benefit obligations",4,1951452.58,0,2195451.44,1425229,1425229,1425229,1425229,511894,513366,512385]
["Entertainment",null,0,0,0,0,0,0,0,0,0,0]
["Scarcity",null,0,0,0,0,0,0,0,0,0,0]
["Acting and post related allowance",null,0,0,0,0,0,0,0,0,0,0]
["In kind benefits",null,0,0,0,0,0,0,0,0,0,0]
["sub-total",5,{"$f":"SUM(C53:C68)","v":206346941.12999997},{"$f":"SUM(D53:D68)","v":208766242.52000001},233419639.76999998,265137580,254882898,254882898,254882898,273680352,286277258,298881587]
["Less: Employees costs capitalised to PPE",null,-106624.2,-113289.15,-141573.60999999999,-160296,-160296,-160296,-160296,-176551,-177060,-176722]
[{"$f":"\"Total \"&A52","v":"Total Employee related costs"},1,{"$f":"C69-C70","v":206453565.32999995},{"$f":"D69-D70","v":208879531.67000002},233561213.38,265297876,255043194,255043194,255043194,273856903,286454318,299058309]
[]
[]
[]
[]
[]
[]
[{"$f":"'A4-FinPerf RE'!A40","v":"Depreciation and amortisation"}]
["Depreciation of Property, Plant & Equipment",null,87197833.969999999,87278271.760000005,91789958.129999995,92881969,89881969,89881969,89881969,93741360,98073496,102476641]
["Lease amortisation",null,0,459560.92,2921859.52,1844337,1844337,1844337,1844337,1929176,2015990,2015990]
["Capital asset impairment",null,0,0,0,0,0,0,0,0,14,14]
[]
[{"$f":"\"Total \"&LEFT(A78,35)","v":"Total Depreciation and amortisation"},1,{"$f":"SUM(C79:C81)","v":87197833.969999999},{"$f":"SUM(D79:D81)","v":87737832.680000007},94711817.649999991,94726306,91726306,91726306,91726306,95670536,100089500,104492645]
[]
["Bulk purchases - electricity"]
["Electricity bulk purchases",null,124063032.92,139206923.66,161357686.97999999,193203577,184166362,184166362,184166362,205013994,214444638,223880202]
[]
["Total bulk purchases",1,{"$f":"SUM(C86:C87)","v":124063032.92},{"$f":"SUM(D86:D87)","v":139206923.66},161357686.97999999,193203577,184166362,184166362,184166362,205013994,214444638,223880202]
[]
["Transfers and grants"]
["Cash transfers and grants",null,{"$f":"'SA21'!C32","v":553239.06000000006},{"$f":"'SA21'!D32","v":581154},{"$f":"'SA21'!E32","v":-1658973.04},{"$f":"'SA21'!F32","v":1054137},{"$f":"'SA21'!G32","v":2054137},{"$f":"'SA21'!H32","v":2054137},{"$f":"'SA21'!I32","v":2054137},{"$f":"'SA21'!J32","v":2142467},{"$f":"'SA21'!K32","v":2241018},{"$f":"'SA21'!L32","v":2339622}]
["Non-cash transfers and grants",null,{"$f":"'SA21'!C63","v":0},{"$f":"'SA21'!D63","v":0},{"$f":"'SA21'!E63","v":0},{"$f":"'SA21'!F63","v":0},{"$f":"'SA21'!G63","v":0},{"$f":"'SA21'!H63","v":0},{"$f":"'SA21'!I63","v":0},{"$f":"'SA21'!J63","v":0},{"$f":"'SA21'!K63","v":0},{"$f":"'SA21'!L63","v":0}]
["Total transfers and grants",1,{"$f":"SUM(C91:C92)","v":553239.06000000006},{"$f":"SUM(D91:D92)","v":581154},-1658973.04,1054137,2054137,2054137,2054137,2142467,2241018,2339622]
[]
["Contracted Services"]
["Outsourced Services",null,17290408.960000001,19034481.129999999,21874376.329999998,34389029,30353031,30353031,30353031,38889040,27873071,28260817]
["Consultants and Professional Services",null,18022839,19875277.52,13305024.99,22296278,22596278,22596278,22596278,25717732,25206237,39565086]
["Contractors",null,9934306.6300000008,8576863.6099999994,17685146.940000001,19417754,25132694,25132694,25132694,18982759,34355340,23455876]
[]
[]
[]
[]
[]
[]
[]
[]
[]
[]
[]
[]
[]
[]
[]
[]
[]
[]
[]
[]
[]
[]
[]
[]
[]
[]
[]
[]
["Total contracted services",null,{"$f":"SUM(C96:C98)","v":45247554.590000004},{"$f":"SUM(D96:D98)","v":47486622.259999998},52864548.260000005,76103061,78082003,78082003,78082003,83589531,87434648,91281779]
[]
["Operational Costs"]
["Collection costs",null,0,0,0,0,0,0,0,0,0,0]
["Contributions to 'other' provisions",null,0,0,0,0,0,0,0,0,0,0]
[]
["Audit fees",null,4484611.7300000004,4671572.9800000004,6298380.8700000001,7426161,6226161,6226161,6226161,6493886,6792605,7091479]
[]
[]
["Other Operational Costs",null,75341147.090000004,72943662.420000002,64719720.539999999,69665943,67987755,67987755,67987755,70911228,74173144,77436766]
[]
[]
[]
[]
[]
[]
[]
[]
[]
[]
[]
[]
[]
[]
[]
[]
[]
[]
[]
[]
["Total Operational Costs",1,{"$f":"+C130+C131+C133+C136","v":79825758.820000008},{"$f":"+D130+D131+D133+D136","v":77615235.400000006},71018101.409999996,77092104,74213916,74213916,74213916,77405114,80965749,84528245]
[]
["Repairs and Maintenance by Expenditure Item",8]
["Employee related costs",null,0,0,0,0,0,0,0,0,0,0]
["Inventory Consumed (Project Maintenance)",null,6307199.2699999996,6030886.4900000002,10155342.51,8374063,13874063,13874063,13874063,8978508,9432683,9144557]
["Contracted Services",null,465649.01,4399862.37,7551043.3200000003,7264404,5949704,5949704,5949704,5954764,5695814,5935893]
["Operational Costs",null,2834744.33,2244498.4700000002,812320.96,319040,319040,319040,319040,348065,349066,348399]
["Total Repairs and Maintenance Expenditure",9,{"$f":"SUM(C160:C163)","v":9607592.6099999994},{"$f":"SUM(D160:D163)","v":12675247.33},18518706.789999999,15957507,20142807,20142807,20142807,15281337,15477563,15428849]
[]
[" Inventory Consumed"]
["Inventory Consumed - Water",null,31830728.949999999,32790533.859999999,34434732.009999998,35552003,32552003,32552003,32552003,38786627,40785058,43155355]
["Inventory Consumed - Other",null,12513778.02,13832301.25,14072171,17878636,22913636,22913636,22913636,19564034,20249734,20564968]
["Total Inventory Consumed & Other Material",null,{"$f":"SUM(C167:C168)","v":44344506.969999999},{"$f":"SUM(D167:D168)","v":46622835.109999999},48506903.009999998,53430639,55465639,55465639,55465639,58350661,61034792,63720323]
[]
["check",null,{"$f":"C164-SA34c!C175","v":0},{"$f":"D164-SA34c!D175","v":0},{"$f":"E164-SA34c!E175","v":0},{"$f":"F164-SA34c!F175","v":0},{"$f":"G164-SA34c!G175","v":0},{"$f":"H164-SA34c!H175","v":0},null,{"$f":"J164-SA34c!I175","v":0},{"$f":"K164-SA34c!J175","v":0},{"$f":"L164-SA34c!K175","v":0}]
[{"$f":"head27a","v":"References"}]
["1. Must reconcile with 'Budgeted Financial Performance (Revenue and Expenditure)"]
["2. Must reconcile to supporting documentation on staff salaries"]
[]
["4. Expenditure to meet any 'unfunded obligations'"]
["5 This sub-total must agree with the total on SA22, but excluding councillor and board member items"]
["6. Include a note for each revenue item that is affected by 'revenue foregone'"]
[]
["8. Repairs and Maintenance is not a GRAP item. However to facilitate transparency, municipalities must provide a breakdown of the amounts included in the relevant GRAP items that will be spent on Repairs and Maintenance."]
["9. Must reconcile with Repairs and Maintenance by Asset Class (Total Repairs and Maintenance) on Table SA34c."]

{"sheet":"SA2","index":22,"n_rows":55,"n_cols":18,"rows_kept":55,"cut":false,"hidden":false,"merged":[[1,16,2,16],[1,17,2,17],[1,8,2,8],[1,9,2,9],[1,10,2,10],[1,11,2,11],[1,12,2,12],[1,13,2,13],[1,14,2,14],[1,15,2,15],[1,6,2,6],[1,7,2,7],[1,2,2,2],[1,3,2,3],[1,4,2,4],[1,5,2,5]]}
[{"$f":"muni&\" - \"&TableA2","v":"Choose name from list - Supporting Table SA2 Matrix Financial Performance Budget (revenue source/expenditure type and dept.)"}]
[{"$f":"desc","v":"Description"},{"$f":"head27","v":"Ref"},{"$f":"'A3-FinPerf V'!A5","v":"Vote 1 - Office of Municipal Manager"},{"$f":"'A3-FinPerf V'!A6","v":"Vote 2 - Budget and Treasury"},{"$f":"'A3-FinPerf V'!A7","v":"Vote 3 - Corporate Services"},{"$f":"'A3-FinPerf V'!A8","v":"Vote 4 - Social Service"},{"$f":"'A3-FinPerf V'!A9","v":"Vote 5 - Technical and Engineering Services"},{"$f":"'A3-FinPerf V'!A10","v":"Vote 6 - Property, Planning & Development"},{"$f":"'A3-FinPerf V'!A11","v":"Vote 7 - Office of the Mayor/Strategic Office"},{"$f":"'A3-FinPerf V'!A12","v":"Vote 8 - COMMUNITY & SOCIAL SERVICES"},{"$f":"'A3-FinPerf V'!A13","v":"Vote 9 - [NAME OF VOTE 9]"},{"$f":"'A3-FinPerf V'!A14","v":"Vote 10 - [NAME OF VOTE 10]"},{"$f":"'A3-FinPerf V'!A15","v":"Vote 11 - [NAME OF VOTE 11]"},{"$f":"'A3-FinPerf V'!A16","v":"Vote 12 - [NAME OF VOTE 12]"},{"$f":"'A3-FinPerf V'!A17","v":"Vote 13 - [NAME OF VOTE 13]"},{"$f":"'A3-FinPerf V'!A18","v":"Vote 14 - [NAME OF VOTE 14]"},{"$f":"'A3-FinPerf V'!A19","v":"Vote 15 - [NAME OF VOTE 15]"},"Total"]
["R thousand",1,"R'000","R'000","R'000","R'000","R'000","R'000",null,null,null,null,null,null,null,null,"R'000","R'000"]
["Revenue"]
["Exchange Revenue"]
["Service charges - Electricity",null,0,0,0,0,270620645,0,0,0,0,0,0,0,0,0,0,{"$f":"SUM(C6:Q6)","v":270620645}]
["Service charges - Water",null,0,0,0,0,73956187,0,0,0,0,0,0,0,0,0,0,{"$f":"SUM(C7:Q7)","v":73956187}]
["Service charges - Waste Water Management",null,0,0,0,0,31973923,0,0,0,0,0,0,0,0,0,0,31973923]
["Service charges - Waste Management",null,0,0,0,26602117,0,0,0,-102039,0,0,0,0,0,0,0,26500078]
["Sale of Goods and Rendering of Services",null,701227,95046,0,199749,0,918563,0,0,0,0,0,0,0,0,0,1914585]
["Agency services",null,0,0,0,12889645,0,0,0,0,0,0,0,0,0,0,0,12889645]
["Interest",null,0,0,0,0,0,0,0,0,0,0,0,0,0,0,0,0]
["Interest earned from Receivables",null,0,0,0,4057615,50169483,0,0,0,0,0,0,0,0,0,0,54227098]
["Interest earned from Current and Non Current Assets",null,0,7591849,0,0,0,0,0,0,0,0,0,0,0,0,0,7591849]
["Dividends",null,0,0,0,0,0,0,0,0,0,0,0,0,0,0,0,0]
["Rent on Land",null,0,0,0,0,0,0,0,0,0,0,0,0,0,0,0,0]
["Rental from Fixed Assets",null,61237,0,0,0,777282,0,0,0,0,0,0,0,0,0,0,838519]
["Licence and permits",null,0,0,0,0,0,0,0,0,0,0,0,0,0,0,0,0]
["Special rating levies",null,0,0,0,0,0,0,0,0,0,0,0,0,0,0,0,0]
["Operational Revenue",null,0,1954146,0,0,739662,82357,0,0,0,0,0,0,0,0,0,2776165]
["Non-Exchange Revenue"]
["Property rates",null,0,133680245,0,0,0,0,0,0,0,0,0,0,0,0,0,{"$f":"SUM(C22:Q22)","v":133680245}]
["Surcharges and Taxes",null,0,0,0,0,0,0,0,0,0,0,0,0,0,0,0,0]
["Fines, penalties and forfeits",null,7421,0,0,5813338,0,336976,0,0,0,0,0,0,0,0,0,6157735]
["Licences or permits",null,0,0,0,0,0,0,0,0,0,0,0,0,0,0,0,0]
["Transfer and subsidies - Operational",null,0,257581000,0,0,2628300,0,0,0,0,0,0,0,0,0,0,260209300]
["Interest",null,0,20873592,0,0,0,0,0,0,0,0,0,0,0,0,0,20873592]
["Fuel Levy",null,0,0,0,0,0,0,0,0,0,0,0,0,0,0,0,0]
["Operational Revenue",null,0,0,0,0,0,0,0,0,0,0,0,0,0,0,0,0]
["Gains on disposal of Assets",null,0,0,0,0,0,0,0,0,0,0,0,0,0,0,0,0]
["Other Gains",null,0,0,0,0,0,0,0,0,0,0,0,0,0,0,0,0]
["Discontinued Operations",null,0,0,0,0,0,0,0,0,0,0,0,0,0,0,0,0]
["Total Revenue (excluding capital transfers and contributions)",null,{"$f":"SUM(C6:C20)+SUM(C22:C32)","v":769885},{"$f":"SUM(D6:D20)+SUM(D22:D32)","v":421775878},0,49562464,430865482,1337896,0,-102039,0,0,0,0,0,0,0,904209566]
["Expenditure"]
["Employee related costs",null,9958635,40373634,23945429,69753588,85280549,17275745,20267280,0,0,0,0,0,0,0,0,{"$f":"SUM(C35:Q35)","v":266854860}]
["Remuneration of councillors",null,16063226,0,0,0,0,0,0,0,0,0,0,0,0,0,0,{"$f":"SUM(C36:Q36)","v":16063226}]
["Bulk purchases - electricity",null,0,0,0,0,205013994,0,0,0,0,0,0,0,0,0,0,205013994]
["Inventory consumed",null,63999,685559,1314856,2721997,50982742,171833,0,0,0,0,0,0,0,0,0,55940986]
["Debt impairment",null,0,39940808,0,0,12382018,0,0,0,0,0,0,0,0,0,0,52322826]
["Depreciation and amortisation",null,0,11202134,2566414,4680029,77221958,1,0,0,0,0,0,0,0,0,0,95670536]
["Interest",null,7761189,0,0,0,13728662,0,0,0,0,0,0,0,0,0,0,21489851]
["Contracted services",null,9061812,18022300,6545154,20745483,13094466,21825,12447991,0,0,0,0,0,0,0,0,79939031]
["Transfers and subsidies",null,2142467,0,0,0,0,0,0,0,0,0,0,0,0,0,0,2142467]
["Irrecoverable debts written off",null,7300000,8200000,0,0,0,0,0,0,0,0,0,0,0,0,0,15500000]
["Operational costs",null,0,0,0,0,0,0,0,0,0,0,0,0,0,0,0,0]
["Losses on disposal of Assets",null,0,0,0,0,0,0,0,0,0,0,0,0,0,0,0,0]
["Other Losses",null,0,0,0,0,0,0,0,0,0,0,0,0,0,0,0,0]
["Total Expenditure",null,{"$f":"SUM(C35:C47)","v":52351328},{"$f":"SUM(D35:D47)","v":118424435},34371853,97901097,457704389,17469404,32715271,0,0,0,0,0,0,0,0,{"$f":"SUM(R35:R47)","v":810937777}]
["Surplus/(Deficit)",null,{"$f":"+C33-C48","v":-51581443},{"$f":"+D33-D48","v":303351443},-34371853,-48338633,-26838907,-16131508,-32715271,-102039,0,0,0,0,0,0,0,93271789]
["Transfers and subsidies - capital (monetary allocations)",null,0,0,0,0,117237700,0,0,0,0,0,0,0,0,0,0,{"$f":"SUM(C50:Q50)","v":117237700}]
["Transfers and subsidies - capital (in-kind)",null,0,0,0,0,0,0,0,0,0,0,0,0,0,0,0,{"$f":"SUM(C51:Q51)","v":0}]
["Surplus/(Deficit) after capital transfers & contributions",null,{"$f":"SUM(C49:C51)","v":-51581443},{"$f":"SUM(D49:D51)","v":303351443},-34371853,-48338633,90398793,-16131508,-32715271,-102039,0,0,0,0,0,0,0,210509489]
[{"$f":"head27a","v":"References"}]
["1. Departmental columns to be based on municipal organisation structure"]
[null,null,null,null,null,null,null,null,null,null,null,null,null,null,null,null,null,{"$f":"'A4-FinPerf RE'!J52-R52","v":-90467332}]

{"sheet":"SA3","index":23,"n_rows":201,"n_cols":12,"rows_kept":201,"cut":false,"hidden":false,"merged":[[1,1,2,1],[1,9,1,11],[1,5,1,8]]}
[{"$f":"muni&\" - \"&TableA3","v":"Choose name from list - Supporting Table SA3 Supportinging detail to 'Budgeted Financial Position'"}]
[{"$f":"desc","v":"Description"},{"$f":"head27","v":"Ref"},{"$f":"head1b","v":"2021/22"},{"$f":"head1A","v":"2022/23"},{"$f":"Head1","v":"2023/24"},{"$f":"Head2","v":"Current Year 2024/25"},null,null,null,{"$f":"Head3","v":"2025/26 Medium Term Revenue & Expenditure Framework"}]
["R thousand",null,{"$f":"Head5","v":"Audited Outcome"},{"$f":"Head5","v":"Audited Outcome"},{"$f":"Head5","v":"Audited Outcome"},{"$f":"Head6","v":"Original Budget"},{"$f":"Head7","v":"Adjusted Budget"},{"$f":"Head8","v":"Full Year Forecast"},{"$f":"Head5b","v":"Pre-audit outcome"},{"$f":"Head9","v":"Budget Year 2025/26"},{"$f":"Head10","v":"Budget Year +1 2026/27"},{"$f":"Head11","v":"Budget Year +2 2027/28"}]
[]
[]
["ASSETS"]
["Trade and other receivables from exchange transactions"," "]
["Electricity"," ",80398523.109999999,114531052.54000001,151394263.96000001,383496725,171533633,171533633,171533633,172581256,174533198,175911756]
["Water"," ",121180540.53,148170872.15000001,186561899.80000001,208395849,163608528,163608528,163608528,163997071,165355262,166138125]
["Waste"," ",67230678.560000002,94551630.120000005,109882143.93000001,124345724,100193514,100193514,100193514,99964547,100130975,100296491]
["Waste Water"," ",60200154.039999999,72962032.150000006,92506814.069999993,107397289,79628983,79628983,79628983,79816180,80040417,80263878]
["Other trade receivables from exchange transactions"," ",-4525412.57,1317607.23,1857093.31,1313316,1313321,1313321,1313321,1313323,1313323,1313319]
["Gross: Trade and other receivables from exchange transactions"," ",{"$f":"SUM(C8:C12)","v":324484483.67000002},{"$f":"SUM(D8:D12)","v":431533194.19000006},542202215.06999993,824948903,516277979,516277979,516277979,517672377,521373175,523923569]
["Less: Impairment for debt"," ",{"$f":"SUM(C15:C19)","v":-230019441.71999997},{"$f":"SUM(D15:D19)","v":-289895163.94},-366360004.94,-306431165,-377024173,-377024173,-377024173,-387848565,-392354360,-396859767]
["Impairment for Electricity"," ",-33253645.640000001,-49092316.640000001,-82778098.640000001,-52732317,-107428222,-107428222,-107428222,-116525846,-119627787,-122731349]
["Impairment for Water"," ",-96403895.909999996,-117854098.91,-126459699.91,-126174099,-133916768,-133916768,-133916768,-134880309,-135663498,-136446364]
["Impairment for Waste"," ",-59247278.369999997,-73406156.590000004,-94094176.590000004,-75174157,-79178611,-79178611,-79178611,-79524643,-79806071,-80086589]
["Impairment for Waste Water"," ",-41114621.799999997,-49542591.799999997,-63028029.799999997,-52350592,-56500572,-56500572,-56500572,-56917767,-57257004,-57595465]
["Impairment for other trade receivalbes from exchange transactions"," ",0,0,0,0,0,0,0,0,0,0]
["Total net Trade and other receivables from Exchange Transactions"," ",{"$f":"+C13+C14","v":94465041.950000048},{"$f":"+D13+D14","v":141638030.25000006},175842210.12999994,518517738,139253806,139253806,139253806,129823812,129018815,127063802]
[" "," "]
["Receivables from non-exchange transactions"," "]
["Property rates"," ",-24036.31,0,126254195.38,9773633,103093786,103093786,103093786,118034838,118470664,120284426]
["Less: Impairment of Property rates"," ",0,0,-20826483,0,-33334670,-33334670,-33334670,-37598568,-38049338,-38728490]
["Net Property rates"," ",{"$f":"+C23+C24","v":-24036.31},{"$f":"+D23+D24","v":0},105427712.38,9773633,69759116,69759116,69759116,80436270,80421326,81555936]
["Other receivables from non-exchange transactions"," ",14505338,9024900.5,11868042.49,9024901,9024900,9024900,9024900,9024901,9024901,9024900]
["Impairment for other receivalbes from non-exchange transactions"," ",-3104525,-2916815,-4421858,3300000,0,0,0,0,1,2]
["Net other receivables from non-exchange transactions"," ",{"$f":"+C26+C27","v":11400813},{"$f":"+D26+D27","v":6108085.5},7446184.4900000002,12324901,9024900,9024900,9024900,9024901,9024902,9024902]
["Total net Receivables from non-exchange transactions"," ",{"$f":"+C25+C28","v":11376776.689999999},{"$f":"+D25+D28","v":6108085.5},112873896.86999999,22098534,78784016,78784016,78784016,89461171,89446228,90580838]
[" "," "]
["Inventory"]
["Water"]
["  Opening Balance",null,0,90850,93810.73,168629,168629,168629,168629,0,0,1]
["  System Input Volume",null,{"$f":"(SUM(C35:C37))","v":18505725.969999999},{"$f":"(SUM(D35:D37))","v":13582003.84},36092255.75,35000000,51263062,51263062,51263062,0,0,1]
["      Water Treatment Works",null,0,0,0,0,0,0,0,0,0,0]
["      Bulk Purchases",null,18505725.969999999,13582003.84,36092255.75,35000000,51263062,51263062,51263062,0,0,1]
["      Natural Sources",null,0,0,0,0,0,0,0,0,0,0]
["  Authorised Consumption",6,{"$f":"C39+C48","v":-18505725.969999999},{"$f":"D39+D48","v":-13504225.109999999},-36092254.710000001,-34800000,0,0,0,0,0,0]
["      Billed Authorised Consumption",null,{"$f":"C44+C40","v":-18505725.969999999},{"$f":"D44+D40","v":-13504225.109999999},-36092254.710000001,-34800000,0,0,0,0,0,0]
["         Billed Metered Consumption",null,{"$f":"SUM(C41:C43)","v":-18505725.969999999},{"$f":"SUM(D41:D43)","v":-13504225.109999999},-36092254.710000001,-34800000,0,0,0,0,0,-1]
["          Free Basic Water",null,0,0,0,0,0,0,0,0,0,0]
["          Subsidised Water",null,0,0,2033242.47,0,0,0,0,0,0,0]
["          Revenue Water",null,-18505725.969999999,-13504225.109999999,-38125497.18,-34800000,0,0,0,0,0,-1]
["         Billed Unmetered Consumption",null,{"$f":"SUM(C45:C47)","v":0},{"$f":"SUM(D45:D47)","v":0},0,0,0,0,0,0,0,1]
["          Free Basic Water",null,0,0,0,0,0,0,0,0,0,0]
["          Subsidised Water",null,0,0,0,0,0,0,0,0,0,0]
["          Revenue Water",null,0,0,0,0,0,0,0,0,0,1]
["     UnBilled Authorised Consumption",null,{"$f":"SUM(C49:C50)","v":0},{"$f":"SUM(D49:D50)","v":0},0,0,0,0,0,0,0,0]
["          Unbilled Metered Consumption",null,0,0,0,0,0,0,0,0,0,0]
["          Unbilled Unmetered Consumption",null,0,0,0,0,0,0,0,0,0,0]
["     Water Losses",null,{"$f":"C52+C55","v":0},{"$f":"D52+D55","v":0},0,0,0,0,0,0,0,0]
["         Apparent losses",null,{"$f":"SUM(C53:C54)","v":0},{"$f":"SUM(D53:D54)","v":0},0,0,0,0,0,0,0,0]
["           Unauthorised Consumption",null,0,0,0,0,0,0,0,0,0,0]
["           Customer Meter Inaccuracies",null,0,0,0,0,0,0,0,0,0,0]
["         Real losses",null,{"$f":"SUM(C56:C60)","v":0},{"$f":"SUM(D56:D60)","v":0},0,0,0,0,0,0,0,0]
["           Leakage on Transmission and Distribution Mains",null,0,0,0,0,0,0,0,0,0,0]
["           Leakage and Overflows at Storage Tanks/Reservoirs",null,0,0,0,0,0,0,0,0,0,0]
["           Leakage on Service Connections up to the point of Customer Meter",null,0,0,0,0,0,0,0,0,0,0]
["           Data Transfer and Management Errors",null,0,0,0,0,0,0,0,0,0,0]
["           Unavoidable Annual Real Losses",null,0,0,0,0,0,0,0,0,0,0]
["  Non-revenue Water",null,{"$f":"C48+C51","v":0},{"$f":"D48+D51","v":0},0,0,0,0,0,0,0,0]
["Correction of Prior period errors",null,0,0,0,0,0,0,0,0,0,0]
["  Closing Balance Water",null,{"$f":"C33+C34+C38+C51+C62","v":0},{"$f":"D33+D34+D38+D51+D62","v":168628.73000000045},93811.769999995828,368629,51431691,51431691,51431691,0,0,2]
[]
["Agricultural"]
["  Opening Balance",null,0,0,736282.89,736283,736283,736283,736283,0,0,1]
["      Acquisitions",null,485410,736282.89,0,0,0,0,0,0,0,1]
["      Issues",7,0,0,0,0,736283,736283,736283,0,0,1]
["      Adjustments",8,0,0,0,0,0,0,0,0,0,0]
["      Write-offs",9,0,0,0,0,0,0,0,0,0,0]
["Correction of Prior period errors",null,0,0,0,0,0,0,0,0,0,0]
["  Closing balance - Agricultural",null,{"$f":"SUM(C66:C71)","v":485410},{"$f":"SUM(D66:D71)","v":736282.89},736282.89,736283,1472566,1472566,1472566,0,0,3]
[]
["Consumables"]
["Standard Rated"]
["  Opening Balance",null,0,517206,576780.54,0,0,0,0,0,1,1]
["      Acquisitions",null,-212987.12,1059413.76,1435900.27,0,5477015,5477015,5477015,5921806,6113340,5866168]
["      Issues",7,0,-999501.51,-1299535.3400000001,-950000,-3890732,-3890732,-3890732,-5921806,-6113340,-5866167]
["      Adjustments",8,256.95,-337.71,0,0,0,0,0,0,0,0]
["      Write-offs",9,0]
["Correction of Prior period errors",null,0,0,0,0,0,0,0,0,0,0]
["  Closing balance - Consumables Standard Rated",null,{"$f":"SUM(C76:C81)","v":-212730.16999999998},576780.54,713145.47,-950000,1586283,{"$f":"SUM(H76:H81)","v":1586283},{"$f":"SUM(I76:I81)","v":1586283},0,1,2]
["Zero Rated"]
["  Opening Balance",null,0,0,0,0,0,0,0,0,0,0]
["      Acquisitions",null,0,0,0,0,45731,45731,45731,49891,52091,49940]
["      Issues",7,0,0,0,0,690552,690552,690552,-49891,-52091,-49938]
["      Adjustments",8,0,0,0,0,0,0,0,0,0,0]
["      Write-offs",9,0]
["Correction of Prior period errors",null,0,0,0,0,0,0,0,0,0,0]
["  Closing balance - Consumables Zero Rated",null,{"$f":"SUM(C84:C89)","v":0},{"$f":"SUM(D84:D89)","v":0},0,0,736283,736283,736283,0,0,2]
[]
["Finished Goods"]
["  Opening Balance",null,0,0,0,0,0,0,0,0,0,0]
["      Acquisitions",null,0,0,0,0,0,0,0,0,0,1]
["      Issues",7,0,0,0,0,736283,736283,736283,0,0,1]
["      Adjustments",8,0]
["      Write-offs",9,0,0,0,0,0,0,0,0,0,0]
["Correction of Prior period errors",null,0,0,0,0,0,0,0,0,0,0]
["  Closing balance - Finished Goods",null,{"$f":"SUM(C93:C98)","v":0},0,0,0,736283,{"$f":"SUM(H93:H98)","v":736283},{"$f":"SUM(I93:I98)","v":736283},0,0,2]
[]
["Materials and Supplies"]
["  Opening Balance",null,2149236,7836220.04,7359585.6799999997,0,0,0,0,0,1,1]
["      Acquisitions",null,0,5360451.22,5296794.0599999996,23508063,15240890,15240890,15240890,13592337,14084303,14648864]
["      Issues",7,5445591.1100000003]
["      Adjustments",8,0,0,0,0,0,0,0,0,0,0]
["      Write-offs",9,0,0,0,0,0,0,0,0,0,0]
["Correction of Prior period errors",null,0,0,0,0,0,0,0,0,0,0]
["  Closing balance - Materials and Supplies",null,{"$f":"SUM(C102:C107)","v":7594827.1100000003},{"$f":"SUM(D102:D107)","v":13196671.26},12656379.739999998,23508063,15240890,15240890,15240890,13592337,14084304,14648865]
[]
["Work-in-progress"]
["  Opening Balance",null,0,0,0,337025,337025,337025,337025,0,0,1]
["      Materials",null,0,337025,0,0,0,0,0,0,0,0]
["      Transfers",null,0,0,0,0,0,0,0,0,0,0]
["  Closing balance - Work-in-progress",null,{"$f":"SUM(C111:C113)","v":0},337025,0,337025,337025,337025,337025,0,0,1]
[]
["Housing Stock"]
["  Opening Balance",null,0,{"$f":"C122","v":0},{"$f":"D122","v":0},{"$f":"E122","v":0},{"$f":"E122","v":0},{"$f":"E122","v":0},{"$f":"E122","v":0},{"$f":"G122","v":736283},{"$f":"J122","v":736283},{"$f":"K122","v":736283}]
["      Acquisitions",null,0,0,0,0,0,0,0,0,0,1]
["      Transfers",null,0,0,0,0,0,0,0,0,0,0]
["      Sales",null,0,0,0,0,736283,736283,736283,0,0,1]
["Correction of Prior period errors",null,0,0,0,0,0,0,0,0,0,0]
["  Closing Balance - Housing Stock",null,{"$f":"+SUM(C117:C121)","v":0},{"$f":"+SUM(D117:D121)","v":0},0,0,736283,736283,736283,736283,736283,736285]
[]
["Land"]
["  Opening Balance",null,0,0,0,0,0,0,0,0,0,0]
["      Acquisitions",null,3094.74,0,0,0,0,0,0,0,0,1]
["      Sales",null,0,0,0,0,736283,736283,736283,0,0,1]
["      Adjustments",null,0,0,0,0,0,0,0,0,0,0]
["     Correction of  Prior period errors",null,0,0,0,0,0,0,0,0,0,0]
["     Transfers",null,0,0,0,0,0,0,0,0,0,0]
["  Closing Balance - Land",null,{"$f":"SUM(C125:C130)","v":3094.74},{"$f":"SUM(D125:D130)","v":0},0,0,736283,736283,736283,0,0,2]
["Closing Balance - Inventory & Consumables",null,{"$f":"C63+C72+C82+C90+C99+C108+C114+C122+C131","v":7870601.6800000006},15015388.42,14199619.869999994,24000000,73013587,73013587,73013587,14328620,14820588,15385164]
[]
["Property, plant and equipment (PPE)"]
["PPE at cost/valuation (excl. finance leases)",null,2455797868.7399998,2401955550.52,2500058091.6199999,2675659695,2731207418,2731207418,2731207418,2614079525,2610206179,2590499627]
["Leases recognised as PPE",3,23434763,32188671,50014241,32188671,32188671,32188671,32188671,32188671,32188671,32188670]
["Less: Accumulated depreciation",null,934638311.97000003,1028726895.09,1112217157.05,1056879711,1053879708,1053879708,1053879708,1075370019,1079702148,1084105339]
["Total Property, plant and equipment (PPE)",2,{"$f":"SUM(C135:C136)-C137","v":1544594319.7699997},{"$f":"SUM(D135:D136)-D137","v":1405417326.4299998},1437855175.5699999,1650968655,1709516381,1709516381,1709516381,1570898177,1562692702,1538582958]
[]
["LIABILITIES"]
["Current liabilities - Borrowing"]
["Short term loans (other than bank overdraft)",null,0,0,9422398.0800000001,12727600,0,0,0,0,-2,-2]
["Current portion of long-term liabilities",null,8884605.8699999992,29966770.559999999,31387164.559999999,29966771,29966771,29966771,29966771,29966771,29966771,29966772]
["Total Current liabilities - Borrowing",null,{"$f":"SUM(C142:C143)","v":8884605.8699999992},{"$f":"SUM(D142:D143)","v":29966770.559999999},40809562.640000001,42694371,29966771,29966771,29966771,29966771,29966769,29966770]
[]
["Trade and other payables "]
["Trade and other payables from exchange transactions",5,242656645.81,118324770.72,137702439.63,218734923,92615176,92615176,92615176,120718344,120218851,119718527]
["Other trade payables from exchange transactions",null,0,0,0,0,0,0,0,0,0,0]
["Trade payables from Non-exchange transactions: Unspent conditional Grants",null,2653838,21249999.57,12907487.35,19919657,21251000,21251000,21251000,21252000,21251996,21251990]
["Trade payables from Non-exchange transactions: Other",null,0,0,0,-149919,0,0,0,0,0,0]
["VAT",null,-3379093.19,4533070.37,5596409.0199999996,4533179,-2697918,-2697918,-2697918,-2708429,-3041451,-3371085]
["Total Trade and other payables",2,{"$f":"SUM(C147:C151)","v":241931390.62},{"$f":"SUM(D147:D151)","v":144107840.66},156206336,243037840,111168258,111168258,111168258,139261915,138429396,{"$f":"SUM(L147:L151)","v":137599432}]
["Non current liabilities - Financial liabilities"]
["Borrowing",4,45963232.119999997,118618328.45999999,77818465.340000004,118618328,118618328,118618328,118618328,118618328,118618328,118618328]
["Other financial liabilities",null,0,0,0,0,0,0,0,0,0,0]
["Total Non current liabilities - Financial liabilities",null,{"$f":"SUM(C154:C155)","v":45963232.119999997},{"$f":"SUM(D154:D155)","v":118618328.45999999},77818465.340000004,118618328,118618328,118618328,118618328,118618328,118618328,118618328]
[]
["Non current liabilities - Long Term  portion of trade payables"]
["Elelctricty Bulk Purchases",null,0,0,0,0,0,0,0,0,0,0]
["Payables and Accruals - General",null,0,0,0,0,0,0,0,0,0,0]
["Water Bulk Purchases",null,0,0,0,0,0,0,0,0,0,0]
["Municipal Debt Relief",null,0,0,0,0,0,0,0,0,0,0]
["Total Non current liabilities - Long Term  portion of trade payables",null,{"$f":"SUM(C159:C162)","v":0},{"$f":"SUM(D159:D162)","v":0},0,0,0,0,0,0,0,0]
[]
["Provisions - non-current"]
["Retirement benefits",null,0,0,0,0,0,0,0,0,0,0]
[]
["Refuse landfill site rehabilitation",null,43613836,29203162,31266168,28183162,29203162,29203162,29203162,29203162,29203162,29203162]
["Other",null,85337000,75693000,82552000,76713000,75693000,75693000,75693000,75693000,75693012,75693012]
["Total Provisions non-current",null,{"$f":"+C166+C168+C169","v":128950836},{"$f":"+D166+D168+D169","v":104896162},113818168,104896162,104896162,104896162,{"$f":"+I166+I168+I169","v":104896162},{"$f":"+J166+J168+J169","v":104896162},104896174,104896174]
[]
["CHANGES IN NET ASSETS"]
[{"$f":"'A6-FinPos'!A47","v":"Accumulated surplus/(deficit)"}]
[{"$f":"A173&\" - opening balance\"","v":"Accumulated surplus/(deficit) - opening balance"},null,1459913160,1331315392.8699999,1367353288.48,1120563355,1120563355,1120563355,1120563355,529208922,703202913,703202913]
["GRAP adjustments",null,0,0,-29760759,-150770064,0,0,0,0,0,-1]
["Restated balance",null,{"$f":"SUM(C174:C175)","v":1459913160},{"$f":"SUM(D174:D175)","v":1331315392.8699999},{"$f":"SUM(E174:E175)","v":1337592529.48},{"$f":"SUM(F174:F175)","v":969793291},1120563355,1120563355,1120563355,529208922,703202913,703202912]
[{"$f":"'A4-FinPerf RE'!A49","v":"Surplus/(Deficit)"},null,{"$f":"'A4-FinPerf RE'!C57","v":-103420383.29000004},{"$f":"'A4-FinPerf RE'!D57","v":-71960455.810000122},{"$f":"'A4-FinPerf RE'!E57","v":72789437.240000024},{"$f":"'A4-FinPerf RE'!F57","v":196816939},{"$f":"'A4-FinPerf RE'!G57","v":200391553},{"$f":"'A4-FinPerf RE'!H57","v":200391553},{"$f":"'A4-FinPerf RE'!I57","v":222282980},{"$f":"'A4-FinPerf RE'!J57","v":120042157},{"$f":"'A4-FinPerf RE'!K57","v":144453827},{"$f":"'A4-FinPerf RE'!L57","v":152403121}]
[]
["Transfers to/from Reserves",null,0,0,0,648996141,0,0,0,0,0,1]
["Depreciation offsets",null,0,0,0,0,0,0,0,0,0,0]
["Other adjustments",null,-160090123,-6851813.8300000001,2411099.5499999998,0,0,0,0,0,0,1]
["Accumulated Surplus/(Deficit)",1,{"$f":"SUM(C176:C181)","v":1196402653.71},{"$f":"SUM(D176:D181)","v":1252503123.2299998},{"$f":"SUM(E176:E181)","v":1412793066.27},1815606371,1320954908,1320954908,1342846335,649251079,847656740,855606035]
["Reserves"]
["Housing Development Fund",null,0,0,0,0,0,0,0,0,0,0]
["Capital replacement",null,0,0,0,-25000000,0,0,0,0,0,-1]
["Self-insurance",null,0,0,0,0,0,0,0,0,0,0]
["Other reserves",null,0,0,0,0,0,0,0,0,0,0]
["Revaluation",null,0,0,0,0,0,0,0,0,0,0]
["Total Reserves",2,{"$f":"SUM(C184:C188)","v":0},{"$f":"SUM(D184:D188)","v":0},0,-25000000,0,0,0,0,0,-1]
[{"$f":"'A6-FinPos'!A50","v":"TOTAL COMMUNITY WEALTH/EQUITY"},2,{"$f":"C182+C189","v":1196402653.71},{"$f":"D182+D189","v":1252503123.2299998},1412793066.27,1790606371,1320954908,1320954908,1342846335,649251079,847656740,855606034]
[]
[{"$f":"head27a","v":"References"}]
[{"$f":"\"1. Must reconcile with \"&'Template names'!F103","v":"1. Must reconcile with Table A4 Budgeted Financial Performance (revenue and expenditure)"}]
[{"$f":"\"2. Must reconcile with \"&'Template names'!F105","v":"2. Must reconcile with Table A6 Budgeted Financial Position"}]
["3. Leases treated as assets to be depreciated as the same as purchased/constructed assets.  Includes PPP asset element accounted for as finance leases"]
["4. Borrowing must reconcile to Table A17"]
["5. Trade Payable should only include Trade Payables from Exchance Transactions (\"True Creditors\")"]
["6. Inventory Consumed - Water - included under \"Inventory Consumed\" on Table A4 - Detail to be submitted on Table SA1"]
["7. Inventry Consumed Other - included under \"Inventory Consumed\" on Table A4 - Detail to be submitted on Table SA1"]
["8. Inventory Transfers/Adjustments (Include under gains/losses on Table A4)"]
["9. Inventory Write-offs (Include under losses on Table A4)"]

{"sheet":"SA4","index":24,"n_rows":26,"n_cols":13,"rows_kept":26,"cut":false,"hidden":false,"merged":[[1,7,1,9],[1,10,1,12],[1,3,2,3]]}
[{"$f":"muni&\" - \"&TableA4","v":"Choose name from list - Supporting Table SA4 Reconciliation of IDP strategic objectives and budget (revenue)"}]
["Strategic Objective","Goal","Goal\nCode",{"$f":"head27","v":"Ref"},{"$f":"head1b","v":"2021/22"},{"$f":"head1A","v":"2022/23"},{"$f":"Head1","v":"2023/24"},{"$f":"Head2","v":"Current Year 2024/25"},null,null,{"$f":"Head3","v":"2025/26 Medium Term Revenue & Expenditure Framework"}]
["R thousand",null,null,null,{"$f":"Head5","v":"Audited Outcome"},{"$f":"Head5","v":"Audited Outcome"},{"$f":"Head5","v":"Audited Outcome"},{"$f":"Head6","v":"Original Budget"},{"$f":"Head7","v":"Adjusted Budget"},{"$f":"Head8","v":"Full Year Forecast"},{"$f":"Head9","v":"Budget Year 2025/26"},{"$f":"Head10","v":"Budget Year +1 2026/27"},{"$f":"Head11","v":"Budget Year +2 2027/28"}]
["04. Governance","Free basic services",null,null,0,0,10926599.470000001,-46603880,-46603880,-46603880,-54312600,-50417159,-47660407]
["Competent drivers and roadworthy vehicles on public roads","Registry",null,null,-10372971.98,-8816475.0800000001,-9054387.3699999992,9622788,12160042,12160042,12889645,13482568,14075802]
["Continuous  compliance  with  regulatory  frameworks","Budget and reporting",null,null,-215199221.40000001,-404279697.97000003,-404653354.75,451721415,481451967,481451967,475507373,489268951,506862201]
["Empowered workforce that is more efficient and effective","Performance Management",null,null,0,0,0,532646,532646,532646,581105,585554,617396]
["Energy Efficiency","Electricity",null,null,0,-11000000,-1203000,0,0,0,0,11212000,11719000]
["Formalised structures and revenue generation","Building plans administration and inspectorate",null,null,0,0,0,0,7600001,7600001,0,0,2]
["Free access to information sources and resources","Library and Information Services",null,null,714180.03,-20650533.969999999,-368165.61,41738,41738,41738,44698,45646,151069]
["Free basic services","Revenue Management",null,null,-50659.95,60395.65,-4750809,1,0,0,0,0,1]
["Improved mental and physical well-being","Parks recreation facilities and cemetery",null,null,-553815.47,-67242.539999999994,-115367.78,159944,159944,159944,174495,181127,149567]
["Ownership of decision making","Public Participation",null,null,-44761436.579999998,-5621651.4699999997,-65431223.579999998,49153704,49153704,49153704,51279499,55490810,57931070]
["Projects and contracts management","PMU",null,null,-4289965.71,-1411380.45,-1508394.46,2521250,2521250,2521250,2628300,2861149,2861149]
["Reduction of fatal and road traffic accidents","Traffic Road Safety and security",null,null,-589327.77,-465200.32,-643675,665195,3063269,3063269,5793894,6060776,6344179]
["Roads and  Storm water  (New  infrastructure)","Roads Storm water and infrastructure",null,null,-595496.97,-8057213.1399999997,-50596562.939999998,197887146,176313035,176313035,120537087,137497711,135282471]
["Safe and formalised housing structures","Building plans administration and inspectorate",null,null,-1022346.52,-1264829.5900000001,-918058.15,1290897,3688972,3688972,1337896,1438502,1525400]
["Smooth flowing traffic","Roads Storm water and infrastructure",null,null,-99995718.269999996,-100177062.8,-84580997.329999998,17688778,37267888,37267888,18503379,19335096,19334201]
["Sound maintenance plan for electricity","Electricity",null,null,-156118648.97,-21554425.75,-189497561.97,283716945,238176745,238176745,317041023,327448143,346261272]
["Sustainable environment and infrastructure","Sanitation",null,null,-28318532.43,-30665950.550000001,-33436368.890000001,34898848,36032283,36032283,38113894,39859123,42462197]
["Sustainable environment and infrastructure","Solid Waste Management",null,null,-23669898.309999999,-29252619.940000001,-33100170.620000001,29154546,30898634,30898634,31327578,32734282,33481191]
["Allocations to other priorities",null,null,2]
[{"$f":"'A4-FinPerf RE'!A33","v":"Total Revenue (excluding capital transfers and contributions)"},null,null,1,{"$f":"SUM(E4:E22)","v":-584823860.29999983},-643223887.91999996,{"$f":"SUM(G4:G22)","v":-868931497.9799999},1032451961,1032458238,1032458238,1021447266,1087084279,1131397761]
[{"$f":"head27a","v":"References"}]
[{"$f":"\"1. Total revenue must reconcile to \"&'Template names'!F103","v":"1. Total revenue must reconcile to Table A4 Budgeted Financial Performance (revenue and expenditure)"}]
["2. Balance of allocations not directly linked to an IDP strategic objective"]

{"sheet":"SA5","index":25,"n_rows":55,"n_cols":13,"rows_kept":55,"cut":false,"hidden":false,"merged":[[1,7,1,9],[1,10,1,12],[1,3,2,3]]}
[{"$f":"muni&\" - \"&TableA5","v":"Choose name from list - Supporting Table SA5 Reconciliation of IDP strategic objectives and budget (operating expenditure)"}]
["Strategic Objective","Goal","Goal\nCode",{"$f":"head27","v":"Ref"},{"$f":"head1b","v":"2021/22"},{"$f":"head1A","v":"2022/23"},{"$f":"Head1","v":"2023/24"},{"$f":"Head2","v":"Current Year 2024/25"},null,null,{"$f":"Head3","v":"2025/26 Medium Term Revenue & Expenditure Framework"}]
["R thousand",null,null,null,{"$f":"Head5","v":"Audited Outcome"},{"$f":"Head5","v":"Audited Outcome"},{"$f":"Head5","v":"Audited Outcome"},{"$f":"Head6","v":"Original Budget"},{"$f":"Head7","v":"Adjusted Budget"},{"$f":"Head8","v":"Full Year Forecast"},{"$f":"Head9","v":"Budget Year 2025/26"},{"$f":"Head10","v":"Budget Year +1 2026/27"},{"$f":"Head11","v":"Budget Year +2 2027/28"}]
["Accountable and responsible administration","Legal Services",null,null,15127509.439999999,7025061.8899999997,6115998.8300000001,7496253,9666253,9666253,7930430,8954096,9939846]
["Business intelligence","IT and support",null,null,2476225.42,6568638.9100000001,9837001.25,11274180,9247180,9247180,11715073,12395825,11843571]
["Clean audit","Expenditure management",null,null,0,0,-0.5,1000,1000,1000,1042,1088,1043]
["Clean audit","Internal Audit",null,null,2163360.34,6233055.2599999998,2988923.23,2976003,2976003,2976003,4154209,4345070,4516099]
["Community capacity","Special  Projects",null,null,0,0,0,300000,500000,500000,0,0,1]
["Community involvement in council affairs","Ward committees",null,null,161673150.25999999,101941916.95999999,28013744.920000002,35293972,36328720,36328720,35743379,37046590,38329720]
["Competent and skilled workforce","Human Resource Management",null,null,9680266.2899999991,11756603.52,10365799.710000001,16323681,16850681,16850681,17354133,17652978,21896444]
["Competent drivers and roadworthy vehicles on public roads","Registry",null,null,9738786.6300000008,4194706.08,9005595.1099999994,12543020,12483020,12483020,13214325,13669887,14085790]
["Continuous  compliance  with  regulatory  frameworks","Budget and reporting",null,null,27300118.440000001,42059971.460000001,28158027.120000001,45385881,44471751,44471751,50931565,54307692,70416788]
["Credible AFS Reporting","Asset management",null,null,0,0,0,8558670,8558670,8558670,10045955,11365654,12462226]
["Demand and acquisition","Supply chain management",null,null,4926360.4400000004,5474921.1900000004,5723943.1600000001,7535268,7515268,7515268,8296983,8689222,10304940]
["Empowered workforce that is more efficient and effective","Performance Management",null,null,4908739.74,1592948.78,5516310.8600000003,9405168,8965168,8965168,11212111,10356955,9470727]
["Energy Efficiency","Electricity",null,null,222499.44,415721.97,143238956.63,193614151,184576936,184576936,205442223,214892565,224347839]
["Enforced by-laws","By-laws",null,null,23685.48,0,0,0,0,0,0,0,0]
["Formalised structures and revenue generation","Building plans administration and inspectorate",null,null,4681.6000000000004,0,0,20925,20925,20925,21825,22829,23833]
["Free access to information sources and resources","Library and Information Services",null,null,11119706.189999999,8244288.21,9117375.6600000001,10382668,10382668,10382668,10891297,11217944,13519667]
["Free basic services","Revenue Management",null,null,10806050.91,9447191.1699999999,115255920.94,46825780,29439578,29439578,35475318,38116136,39212259]
["Fully functional council committees","Governance and Administration",null,null,36677823.240000002,14012757.6,19242917.059999999,19538304,18138304,18138304,19071291,21600947,21845511]
["Functional Risk  Management  Committee","Risk Management Committee",null,null,0,22000,55800,241593,241593,241593,95531,99926,104323]
["Good stake holder relations","Strategic Support Services (LED)",null,null,0,0,0,3000000,3000000,3000000,11382075,0,1]
["Improved and informed decision making","Records and Archiving",null,null,13211046.57,24543380.93,29693157.800000001,26475473,26461556,26461556,19526599,21749009,22186109]
["Improved mental and physical well-being","Parks recreation facilities and cemetery",null,null,17400143.969999999,14577526.710000001,17579689.210000001,15674002,15673002,15673002,16639672,17193481,19639950]
["Increased Revenue","Revenue management",null,null,18930020.109999999,15514009.75,0,0,0,0,0,0,0]
["Informed and engaged stakeholders","Communication",null,null,1767654.78,1491337.89,1742406.09,2351583,2311583,2311583,2529117,2578799,2621096]
["Informed spatial planning","Land use and spatial planning",null,null,4632081.2,4667866.7699999996,4075736.2,6528505,4953897,4953897,5681196,6697537,5686644]
["Job Creation","Strategic Support Services (LED)",null,null,3469005.22,1940045.1,2915306.55,4423226,4423226,4423226,4756199,4848197,4926146]
["Land availability for development in urban areas","Development planning",null,null,11665.86,22437.9,35287.72,1646037,1646037,1646037,1811103,1819294,1812837]
["Mechanical fleet maintenance plan","Mechanical infrastructure and fleet management",null,null,0,1799254.61,2540484.44,11477529,11437529,11437529,11263880,11391424,11621195]
["Orderly land use","Development planning",null,null,0,0,0,0,28786201,28786201,39940808,41682945,39198814]
["Ownership of decision making","Public Participation",null,null,16782390.77,20431018.469999999,16064771.949999999,54488398,52258398,52258398,51372159,53591740,56367689]
["Projects and contracts management","PMU",null,null,3419119.35,3114684.47,2070878,4206116,4221119,4221119,4629074,4644474,4633516]
["Protect the environment and improve community well-being","Safety and Security",null,null,16814726.140000001,19141423.420000002,20276516.23,22081112,18794455,18794455,22990233,23066196,23003536]
["Provide quality and wellmaintained infrastructural\r\nservices in all municipal areas","New infrastructure –\r\nelectricity- internal\r\nnetwork from Onverwacht\r\nto town and back\r\n",null,null,0,0,0,6000000,16584482,16584482,7300000,7313000,6326371]
["Reduce Electricity Losses","Electricity",null,null,1379344.04,932855.53,1583443.75,1998138,1998138,1998138,2122050,2218027,2238657]
["Reduction of fatal and road traffic accidents","Traffic Road Safety and security",null,null,9941784.3699999992,9480073.6099999994,11135959.51,12730556,12290556,12290556,10324869,10356107,10333809]
["Risk conscious and responsive environment","Risk Management",null,null,852841.41,2414010.23,5062304.18,1682024,1682024,1682024,3687733,2017165,2034034]
["Safe and formalised housing structures","Building plans administration and inspectorate",null,null,3779839.49,3277530.06,3715742.38,4457277,4457277,4457277,4752970,4885810,5008727]
["Sanitation (New Infrastructure)","Sanitation",null,null,0,0,0,600000,600000,600000,0,0,1]
["Sanitation (Upgrading and maintenance","Sanitation",null,null,3261441.49,4249567.0199999996,5070754.72,6343680,6908380,6908380,8674848,9125735,9382506]
["Smooth flowing traffic","Roads Storm water and infrastructure",null,null,87681577.219999999,58887328.07,51298766.740000002,71152194,65041834,65041834,73664864,76149262,80505167]
["Sound maintenance plan for electricity","Electricity",null,null,148121221.68000001,165558094.53999999,63466964.579999998,25106067,24741385,24741385,26914170,27576590,27190682]
["Sustainable and integrated rural development","Land use and spatial planning",null,null,5929807.1600000001,7362637.4199999999,5914847.8899999997,7262891,7262891,7262891,7746732,7962317,8162195]
["Sustainable assets","Asset management",null,null,0,0,3017650.65,14616458,14616458,14616458,6464751,6755665,6755667]
["Sustainable environment and infrastructure","Sanitation",null,null,14459310.08,17572915.530000001,96499346.469999999,63453939,58384239,58384239,71639704,74336987,76750295]
["Sustainable environment and infrastructure","Solid Waste Management",null,null,19550258.82,20067501.559999999,22164829.210000001,23621910,23547520,23547520,23359349,24310163,26125722]
["Water infrastructure maintenance and upgrading","Water",null,null,0,14578064.460000001,37580902.490000002,17670781,17670781,17670781,19278364,20128608,19296847]
["Water supply","Water",null,null,0,0,0,1950000,1950000,1950000,1355900,15496516,4865800]
["Allocations to other priorities"]
[{"$f":"'A4-FinPerf RE'!A48","v":"Total Expenditure"},null,null,1,{"$f":"SUM(E4:E51)","v":688244243.59000003},{"$f":"SUM(F4:F51)","v":630613347.04999995},796142060.74000001,838714413,832066686,832066686,901405109,942630452,978994640]
[{"$f":"head27a","v":"References"}]
[{"$f":"\"1. Total expenditure must reconcile to \"&'Template names'!F103","v":"1. Total expenditure must reconcile to Table A4 Budgeted Financial Performance (revenue and expenditure)"}]
["2. Balance of allocations not directly linked to an IDP strategic objective"]

{"sheet":"SA6","index":26,"n_rows":50,"n_cols":13,"rows_kept":50,"cut":false,"hidden":false,"merged":[[1,7,1,9],[1,10,1,12],[1,3,2,3]]}
[{"$f":"muni&\" - \"&TableA6","v":"Choose name from list - Supporting Table SA6 Reconciliation of IDP strategic objectives and budget (capital expenditure)"}]
["Strategic Objective","Goal","Goal Code",{"$f":"head27","v":"Ref"},{"$f":"head1b","v":"2021/22"},{"$f":"head1A","v":"2022/23"},{"$f":"Head1","v":"2023/24"},{"$f":"Head2","v":"Current Year 2024/25"},null,null,{"$f":"Head3","v":"2025/26 Medium Term Revenue & Expenditure Framework"}]
["R thousand",null,null,null,{"$f":"Head5","v":"Audited Outcome"},{"$f":"Head5","v":"Audited Outcome"},{"$f":"Head5","v":"Audited Outcome"},{"$f":"Head6","v":"Original Budget"},{"$f":"Head7","v":"Adjusted Budget"},{"$f":"Head8","v":"Full Year Forecast"},{"$f":"Head9","v":"Budget Year 2025/26"},{"$f":"Head10","v":"Budget Year +1 2026/27"},{"$f":"Head11","v":"Budget Year +2 2027/28"}]
["Business intelligence","IT and support",null,null,528400.01,891710.04,472072,1000000,1300000,1300000,4500000,4000000,500000]
["Community capacity","Special  Projects",null,null,0,29900,0,0,0,0,0,0,0]
["Continuous  compliance  with  regulatory  frameworks","Budget and reporting",null,null,498960,0,455000,0,0,0,0,0,0]
["Coordinate public transport","Public Transport coordination",null,null,0,0,5044944.17,0,0,0,0,0,0]
["Demand and acquisition","Supply chain management",null,null,0,0,260030.84,0,0,0,0,0,0]
["Energy Efficiency","Electricity",null,null,10748659.65,726071.96,8923094.8000000007,24806200,18906854,18906854,9503017,13743333,18000003]
["Ensure quality Customer Care, management of Vehicles and Facilities","Customer Car, Vehicles and Facilities Management",null,null,0,217356.52,143221.28,0,0,0,0,0,0]
["Formalised structures and revenue generation","Building plans administration and inspectorate",null,null,0,0,0,0,7600000,7600000,0,0,1]
["Fully functional council committees","Governance and Administration",null,null,172904,18669.8,616055.32999999996,0,0,0,0,0,0]
["Good stake holder relations","Strategic Support Services (LED)",null,null,0,0,0,0,0,0,0,0,1]
["Improved and informed decision making","Records and Archiving",null,null,641671.81000000006,1523390.43,557840.76,700000,700000,700000,520000,300000,300002]
["Improved mental and physical well-being","Parks recreation facilities and cemetery",null,null,2926851.45,1556030,294894,0,0,0,0,0,0]
["Informed and engaged stakeholders","Communication",null,null,0,0,0,0,0,0,100000,0,0]
["Informed spatial planning","Land use and spatial planning",null,null,0,0,0,0,0,0,1000000,0,2]
["Land availability for development in urban areas","Development planning",null,null,0,1457933.78,1685341.5,0,0,0,1000000,0,1]
["Mechanical fleet maintenance plan","Mechanical infrastructure and fleet management",null,null,0,0,0,350000,2040000,2040000,6610000,0,2]
["Mining development/energy generation and agriculture development","Strategic Support Services (LED)",null,null,0,0,362244,0,0,0,0,0,0]
["Prevent and manage outbreak of fire and emergency incidence","Fire Protection and Disaster Management",null,null,0,0,0,0,0,0,0,0,1]
["Promote sustainable environment system and improve community awareness","Environmental Management",null,null,0,0,0,0,833399,833399,0,0,1]
["Protect the environment and improve community well-being","Safety and Security",null,null,0,2055493.99,507300,230000,30000,30000,1360000,0,2]
["Protect the environment and\r\nimprove community ","Environmental\r\nManagement\r\n",null,null,0,0,0,10000000,10000000,10000000,0,8137689,14755850]
["Protect the environment and\r\nimprove community","Social service ",null,null,0,0,0,250000,400000,400000,0,0,2]
["Protect the environment and\r\nimprove community wellbeing\r\n","Parks, Sports and open\r\nspace",null,null,0,0,0,128000,128000,128000,1586347,0,3]
["Provide quality and wellmaintained infrastructural\r\nservices","Maintenance and\r\nUpgrading - roads and\r\nstorm water",null,null,0,0,0,0,14725000,14725000,6500000,10000000,11770195]
["Provide quality and wellmaintained infrastructural\r\nservices in all municipal areas","Maintenance and\r\nUpgrading of Roads",null,null,0,0,0,0,213412,213412,6000000,0,1]
["Reduce water loss to less than 14%.","Water",null,null,0,0,15529462.76,24633035,47515767,47515767,0,0,2]
["Reduce Water losses to under 12 percent","Water",null,null,832548,0,0,0,0,0,0,0,0]
["Risk conscious and responsive environment","Risk Management",null,null,660115,0,0,0,0,0,0,0,0]
["Roads and  Storm water  (New  infrastructure)","Roads Storm water and infrastructure",null,null,945409.24,88000,15638436.23,47138656,51694851,51694851,19981129,5000002,6]
["Sanitation (New Infrastructure)","Sanitation",null,null,0,0,0,0,5307488,5307488,5493770,5723300,5654210]
["Sanitation (Upgrading and maintenance","Sanitation",null,null,27634304.170000002,5969113.4800000004,1064000,0,0,0,2500000,0,1]
["Smooth flowing traffic","Roads Storm water and infrastructure",null,null,1628586.38,871384.89,0,0,2850000,2850000,15676709,11930303,11361853]
["Sound maintenance plan for electricity","Electricity",null,null,20077739.34,9565217.4100000001,1849842.14,1400000,1400000,1400000,0,13012000,2]
["Sustainable and integrated rural development","Land use and spatial planning",null,null,0,0,0,0,1,1,0,0,1]
["Sustainable assets","Asset management",null,null,0,0,0,700000,700000,700000,0,0,1]
["Sustainable environment and infrastructure","Sanitation",null,null,1463940.54,1492462.04,0,16510560,33640682,33640682,5000000,9311000,13692004]
["Sustainable environment and infrastructure","Solid Waste Management",null,null,6168071.1399999997,491000,30634940.789999999,1500000,2180000,2180000,2500000,0,1]
["Sustainable infrastructure","Municipal Buildings and infrastructure",null,null,0,0,0,400000,400000,400000,0,0,1]
["Water infrastructure maintenance and upgrading","Water",null,null,14766920.58,6317839.8099999996,20219369.440000001,79175107,48372994,48372994,47766116,57766116,47766120]
["Water quality","Water",null,null,685961.34,0,0,0,0,0,0,0,0]
["Water supply","Water",null,null,24278707.09,26757780.379999999,10666990.77,8747392,6019482,6019482,20316959,15116959,10533889]
["Allocations to other priorities",null,null,3]
["Total Capital Expenditure",null,null,1,{"$f":"SUM(E4:E45)","v":114659749.74000001},{"$f":"SUM(F4:F45)","v":60029354.530000001},114925080.80999999,217668950,256957930,256957930,157914047,154040702,134334158]
[{"$f":"head27a","v":"References"}]
["1. Total capital expenditure must reconcile to Budgeted Capital Expenditure"]
["2. Goal code must be used on Table SA36"]
["3. Balance of allocations not directly linked to an IDP strategic objective"]

{"sheet":"SA7","index":27,"n_rows":89,"n_cols":11,"rows_kept":89,"cut":false,"hidden":false,"merged":[[1,1,2,1],[1,0,2,0],[1,5,1,7],[1,8,1,10],[87,0,87,10],[67,0,67,10],[72,0,73,0],[72,1,73,1],[72,5,72,7],[72,8,72,10]]}
[{"$f":"muni&\" - \"&TableA7","v":"Choose name from list - Supporting Table SA7 Measureable performance objectives"}]
["Description","Unit of measurement",{"$f":"head1b","v":"2021/22"},{"$f":"head1A","v":"2022/23"},{"$f":"Head1","v":"2023/24"},{"$f":"Head2","v":"Current Year 2024/25"},null,null,{"$f":"Head3","v":"2025/26 Medium Term Revenue & Expenditure Framework"}]
[null,null,{"$f":"Head5","v":"Audited Outcome"},{"$f":"Head5","v":"Audited Outcome"},{"$f":"Head5","v":"Audited Outcome"},{"$f":"Head6","v":"Original Budget"},{"$f":"Head7","v":"Adjusted Budget"},{"$f":"Head8","v":"Full Year Forecast"},{"$f":"Head9","v":"Budget Year 2025/26"},{"$f":"Head10","v":"Budget Year +1 2026/27"},{"$f":"Head11","v":"Budget Year +2 2027/28"}]
["Vote 1 - vote name"]
["Function 1 - (name)"]
["Sub-function 1 - (name)"]
["Insert measure/s description"]
[]
["Sub-function 2 - (name)"]
["Insert measure/s description"]
[]
["Sub-function 3 - (name)"]
["Insert measure/s description"]
[]
["Function 2 - (name)"]
["Sub-function 1 - (name)"]
["Insert measure/s description"]
[]
["Sub-function 2 - (name)"]
["Insert measure/s description"]
[]
["Sub-function 3 - (name)"]
["Insert measure/s description"]
[]
["Vote 2 - vote name"]
["Function 1 - (name)"]
["Sub-function 1 - (name)"]
["Insert measure/s description"]
[]
["Sub-function 2 - (name)"]
["Insert measure/s description"]
[]
["Sub-function 3 - (name)"]
["Insert measure/s description"]
[]
["Function 2 - (name)"]
["Sub-function 1 - (name)"]
["Insert measure/s description"]
[]
["Sub-function 2 - (name)"]
["Insert measure/s description"]
[]
["Sub-function 3 - (name)"]
["Insert measure/s description"]
[]
["Vote 3 - vote name"]
["Function 1 - (name)"]
["Sub-function 1 - (name)"]
["Insert measure/s description"]
[]
["Sub-function 2 - (name)"]
["Insert measure/s description"]
[]
["Sub-function 3 - (name)"]
["Insert measure/s description"]
[]
["Function 2 - (name)"]
["Sub-function 1 - (name)"]
["Insert measure/s description"]
[]
["Sub-function 2 - (name)"]
["Insert measure/s description"]
[]
["Sub-function 3 - (name)"]
["Insert measure/s description"]
[]
["And so on for the rest of the Votes"]
["1. Include a measurable performance objective for each revenue source (within a relevant function) and each vote (MFMA s17(3)(b))"]
["2. Include all Basic Services performance targets from 'Basic Service Delivery' to ensure Table SA7 represents all strategic responsibilities"]
["3. Only include prior year comparative information for individual measures where relevant activity occurred in that year/s"]
[]
[{"$f":"muni&\" - \"&\"Entities measureable performance objectives\"","v":"Choose name from list - Entities measureable performance objectives"}]
[{"$f":"A2","v":"Description"},"Unit of measurement",{"$f":"head1b","v":"2021/22"},{"$f":"head1A","v":"2022/23"},{"$f":"Head1","v":"2023/24"},{"$f":"Head2","v":"Current Year 2024/25"},null,null,{"$f":"Head3","v":"2025/26 Medium Term Revenue & Expenditure Framework"}]
[null,null,{"$f":"Head5","v":"Audited Outcome"},{"$f":"Head5","v":"Audited Outcome"},{"$f":"Head5","v":"Audited Outcome"},{"$f":"Head6","v":"Original Budget"},{"$f":"Head7","v":"Adjusted Budget"},{"$f":"Head8","v":"Full Year Forecast"},{"$f":"Head9","v":"Budget Year 2025/26"},{"$f":"Head10","v":"Budget Year +1 2026/27"},{"$f":"Head11","v":"Budget Year +2 2027/28"}]
["Entity 1 - (name of entity)"]
["Insert measure/s description"]
[]
[]
["Entity 2 - (name of entity)"]
[{"$f":"$A$10","v":"Insert measure/s description"}]
[]
[]
["Entity 3 - (name of entity)"]
[{"$f":"$A$10","v":"Insert measure/s description"}]
[]
[]
["And so on for the rest of the Entities"]
["1. Include a measurable performance objective as agreed with the parent municipality (MFMA s87(5)(d))"]
["2. Only include prior year comparative information for individual measures where relevant activity occurred in that year/s"]

{"sheet":"SA8","index":28,"n_rows":53,"n_cols":12,"rows_kept":53,"cut":false,"hidden":false,"merged":[[32,0,34,0],[1,0,2,0],[1,9,1,11],[1,1,2,1],[1,5,1,8],[25,0,28,0],[29,0,31,0]]}
[{"$f":"muni&\" - \"&TableA8","v":"Choose name from list - Supporting Table SA8 Performance indicators and benchmarks"}]
["Description of financial indicator","Basis of calculation",{"$f":"head1b","v":"2021/22"},{"$f":"head1A","v":"2022/23"},{"$f":"Head1","v":"2023/24"},{"$f":"Head2","v":"Current Year 2024/25"},null,null,null,{"$f":"Head3","v":"2025/26 Medium Term Revenue & Expenditure Framework"}]
[null,null,{"$f":"Head5","v":"Audited Outcome"},{"$f":"Head5","v":"Audited Outcome"},{"$f":"Head5","v":"Audited Outcome"},{"$f":"Head6","v":"Original Budget"},{"$f":"Head7","v":"Adjusted Budget"},{"$f":"Head8","v":"Full Year Forecast"},{"$f":"Head5b","v":"Pre-audit outcome"},{"$f":"Head9","v":"Budget Year 2025/26"},{"$f":"Head10","v":"Budget Year +1 2026/27"},{"$f":"Head11","v":"Budget Year +2 2027/28"}]
["Borrowing Management"]
[]
["Credit Rating"]
["Capital Charges to Operating Expenditure","Interest & Principal Paid /Operating Expenditure",{"$f":"IF(ISERROR(('A4-FinPerf RE'!C41-'A7-CFlow'!C35)/'A4-FinPerf RE'!C48),0,(('A4-FinPerf RE'!C41-'A7-CFlow'!C35)/'A4-FinPerf RE'!C48))","v":4.1364535780933402E-2},{"$f":"IF(ISERROR(('A4-FinPerf RE'!D41-'A7-CFlow'!D35)/'A4-FinPerf RE'!D48),0,(('A4-FinPerf RE'!D41-'A7-CFlow'!D35)/'A4-FinPerf RE'!D48))","v":4.1985713318723528E-2},{"$f":"IF(ISERROR(('A4-FinPerf RE'!E41-'A7-CFlow'!E35)/'A4-FinPerf RE'!E48),0,(('A4-FinPerf RE'!E41-'A7-CFlow'!E35)/'A4-FinPerf RE'!E48))","v":2.4765222279141661E-2},{"$f":"IF(ISERROR(('A4-FinPerf RE'!F41-'A7-CFlow'!F35)/'A4-FinPerf RE'!F48),0,(('A4-FinPerf RE'!F41-'A7-CFlow'!F35)/'A4-FinPerf RE'!F48))","v":3.4731621145481381E-2},{"$f":"IF(ISERROR(('A4-FinPerf RE'!G41-'A7-CFlow'!G35)/'A4-FinPerf RE'!G48),0,(('A4-FinPerf RE'!G41-'A7-CFlow'!G35)/'A4-FinPerf RE'!G48))","v":2.4762298949632864E-2},{"$f":"IF(ISERROR(('A4-FinPerf RE'!H41-'A7-CFlow'!H35)/'A4-FinPerf RE'!H48),0,(('A4-FinPerf RE'!H41-'A7-CFlow'!H35)/'A4-FinPerf RE'!H48))","v":2.4762298949632864E-2},{"$f":"IF(ISERROR(('A4-FinPerf RE'!I41-'A7-CFlow'!I35)/'A4-FinPerf RE'!I48),0,(('A4-FinPerf RE'!I41-'A7-CFlow'!I35)/'A4-FinPerf RE'!I48))","v":2.4762298949632864E-2},{"$f":"IF(ISERROR(('A4-FinPerf RE'!J41-'A7-CFlow'!J35)/'A4-FinPerf RE'!J48),0,(('A4-FinPerf RE'!J41-'A7-CFlow'!J35)/'A4-FinPerf RE'!J48))","v":2.3840391834300111E-2},{"$f":"IF(ISERROR(('A4-FinPerf RE'!K41-'A7-CFlow'!K35)/'A4-FinPerf RE'!K48),0,(('A4-FinPerf RE'!K41-'A7-CFlow'!K35)/'A4-FinPerf RE'!K48))","v":2.3846443696262001E-2},{"$f":"IF(ISERROR(('A4-FinPerf RE'!L41-'A7-CFlow'!L35)/'A4-FinPerf RE'!L48),0,(('A4-FinPerf RE'!L41-'A7-CFlow'!L35)/'A4-FinPerf RE'!L48))","v":2.3970953507978347E-2}]
["Capital Charges to Own Revenue","Finance charges & Repayment of borrowing /Own Revenue",{"$f":"IF(ISERROR(('A4-FinPerf RE'!C41-'A7-CFlow'!C35)/('A4-FinPerf RE'!C33-'A4-FinPerf RE'!C30)),0,(('A4-FinPerf RE'!C41-'A7-CFlow'!C35)/('A4-FinPerf RE'!C33-'A4-FinPerf RE'!C30)))","v":6.0419978454842746E-2},{"$f":"IF(ISERROR(('A4-FinPerf RE'!D41-'A7-CFlow'!D35)/('A4-FinPerf RE'!D33-'A4-FinPerf RE'!D30)),0,(('A4-FinPerf RE'!D41-'A7-CFlow'!D35)/('A4-FinPerf RE'!D33-'A4-FinPerf RE'!D30)))","v":5.0858270117385328E-2},{"$f":"IF(ISERROR(('A4-FinPerf RE'!E41-'A7-CFlow'!E35)/('A4-FinPerf RE'!E33-'A4-FinPerf RE'!E30)),0,(('A4-FinPerf RE'!E41-'A7-CFlow'!E35)/('A4-FinPerf RE'!E33-'A4-FinPerf RE'!E30)))","v":2.6322533950067478E-2},{"$f":"IF(ISERROR(('A4-FinPerf RE'!F41-'A7-CFlow'!F35)/('A4-FinPerf RE'!F33-'A4-FinPerf RE'!F30)),0,(('A4-FinPerf RE'!F41-'A7-CFlow'!F35)/('A4-FinPerf RE'!F33-'A4-FinPerf RE'!F30)))","v":3.4615129753231416E-2},{"$f":"IF(ISERROR(('A4-FinPerf RE'!G41-'A7-CFlow'!G35)/('A4-FinPerf RE'!G33-'A4-FinPerf RE'!G30)),0,(('A4-FinPerf RE'!G41-'A7-CFlow'!G35)/('A4-FinPerf RE'!G33-'A4-FinPerf RE'!G30)))","v":2.4679640614209523E-2},{"$f":"IF(ISERROR(('A4-FinPerf RE'!H41-'A7-CFlow'!H35)/('A4-FinPerf RE'!H33-'A4-FinPerf RE'!H30)),0,(('A4-FinPerf RE'!H41-'A7-CFlow'!H35)/('A4-FinPerf RE'!H33-'A4-FinPerf RE'!H30)))","v":2.4679640614209523E-2},{"$f":"IF(ISERROR(('A4-FinPerf RE'!I41-'A7-CFlow'!I35)/('A4-FinPerf RE'!I33-'A4-FinPerf RE'!I30)),0,(('A4-FinPerf RE'!I41-'A7-CFlow'!I35)/('A4-FinPerf RE'!I33-'A4-FinPerf RE'!I30)))","v":2.4049029865672516E-2},{"$f":"IF(ISERROR(('A4-FinPerf RE'!J41-'A7-CFlow'!J35)/('A4-FinPerf RE'!J33-'A4-FinPerf RE'!J30)),0,(('A4-FinPerf RE'!J41-'A7-CFlow'!J35)/('A4-FinPerf RE'!J33-'A4-FinPerf RE'!J30)))","v":2.3766449513541201E-2},{"$f":"IF(ISERROR(('A4-FinPerf RE'!K41-'A7-CFlow'!K35)/('A4-FinPerf RE'!K33-'A4-FinPerf RE'!K30)),0,(('A4-FinPerf RE'!K41-'A7-CFlow'!K35)/('A4-FinPerf RE'!K33-'A4-FinPerf RE'!K30)))","v":2.3808226312155008E-2},{"$f":"IF(ISERROR(('A4-FinPerf RE'!L41-'A7-CFlow'!L35)/('A4-FinPerf RE'!L33-'A4-FinPerf RE'!L30)),0,(('A4-FinPerf RE'!L41-'A7-CFlow'!L35)/('A4-FinPerf RE'!L33-'A4-FinPerf RE'!L30)))","v":2.3797152665002669E-2}]
["Borrowed funding of 'own' capital expenditure","Borrowing/Capital expenditure excl. transfers and grants and contributions",{"$f":"IF(ISERROR(C53/C52),0,(C53/C52))","v":0},{"$f":"IF(ISERROR(D53/D52),0,(D53/D52))","v":0},{"$f":"IF(ISERROR(E53/E52),0,(E53/E52))","v":0},0,0,0,0,0,0,0]
["Safety of Capital"]
["Gearing","Long Term Borrowing/ Funds & Reserves",{"$f":"IF(ISERROR(('A6-FinPos'!C41/'A6-FinPos'!C48)),0,(('A6-FinPos'!C41/'A6-FinPos'!C48)))","v":0},{"$f":"IF(ISERROR(('A6-FinPos'!D41/'A6-FinPos'!D48)),0,(('A6-FinPos'!D41/'A6-FinPos'!D48)))","v":0},{"$f":"IF(ISERROR(('A6-FinPos'!E41/'A6-FinPos'!E48)),0,(('A6-FinPos'!E41/'A6-FinPos'!E48)))","v":0},{"$f":"IF(ISERROR(('A6-FinPos'!F41/'A6-FinPos'!F48)),0,(('A6-FinPos'!F41/'A6-FinPos'!F48)))","v":0},{"$f":"IF(ISERROR(('A6-FinPos'!G41/'A6-FinPos'!G48)),0,(('A6-FinPos'!G41/'A6-FinPos'!G48)))","v":0},{"$f":"IF(ISERROR(('A6-FinPos'!H41/'A6-FinPos'!H48)),0,(('A6-FinPos'!H41/'A6-FinPos'!H48)))","v":0},{"$f":"IF(ISERROR(('A6-FinPos'!I41/'A6-FinPos'!I48)),0,(('A6-FinPos'!I41/'A6-FinPos'!I48)))","v":0},{"$f":"IF(ISERROR(('A6-FinPos'!J41/'A6-FinPos'!J48)),0,(('A6-FinPos'!J41/'A6-FinPos'!J48)))","v":0},{"$f":"IF(ISERROR(('A6-FinPos'!K41/'A6-FinPos'!K48)),0,(('A6-FinPos'!K41/'A6-FinPos'!K48)))","v":0},{"$f":"IF(ISERROR(('A6-FinPos'!L41/'A6-FinPos'!L48)),0,(('A6-FinPos'!L41/'A6-FinPos'!L48)))","v":0}]
["Liquidity"]
["Current Ratio","Current assets/current liabilities",{"$f":"IF(ISERROR('A6-FinPos'!C13/'A6-FinPos'!C37),0,('A6-FinPos'!C13/'A6-FinPos'!C37))","v":0.70207947654339953},{"$f":"IF(ISERROR('A6-FinPos'!D13/'A6-FinPos'!D37),0,('A6-FinPos'!D13/'A6-FinPos'!D37))","v":1.4942645420875964},{"$f":"IF(ISERROR('A6-FinPos'!E13/'A6-FinPos'!E37),0,('A6-FinPos'!E13/'A6-FinPos'!E37))","v":1.6877256715896576},{"$f":"IF(ISERROR('A6-FinPos'!F13/'A6-FinPos'!F37),0,('A6-FinPos'!F13/'A6-FinPos'!F37))","v":2.1391763579113712},{"$f":"IF(ISERROR('A6-FinPos'!G13/'A6-FinPos'!G37),0,('A6-FinPos'!G13/'A6-FinPos'!G37))","v":2.1585878526120328},{"$f":"IF(ISERROR('A6-FinPos'!H13/'A6-FinPos'!H37),0,('A6-FinPos'!H13/'A6-FinPos'!H37))","v":2.1585878526120328},{"$f":"IF(ISERROR('A6-FinPos'!I13/'A6-FinPos'!I37),0,('A6-FinPos'!I13/'A6-FinPos'!I37))","v":2.1585878526120328},{"$f":"IF(ISERROR('A6-FinPos'!J13/'A6-FinPos'!J37),0,('A6-FinPos'!J13/'A6-FinPos'!J37))","v":1.7344722814971787},{"$f":"IF(ISERROR('A6-FinPos'!K13/'A6-FinPos'!K37),0,('A6-FinPos'!K13/'A6-FinPos'!K37))","v":1.9236908726716659},{"$f":"IF(ISERROR('A6-FinPos'!L13/'A6-FinPos'!L37),0,('A6-FinPos'!L13/'A6-FinPos'!L37))","v":2.0339108916403248}]
["Current Ratio adjusted for aged debtors","Current assets less debtors > 90 days/current liabilities",{"$f":"IF(ISERROR(('A6-FinPos'!C13-'SA8'!C49)/'A6-FinPos'!C37),0,(('A6-FinPos'!C13-'SA8'!C49)/'A6-FinPos'!C37))","v":0.70207947654339953},{"$f":"IF(ISERROR(('A6-FinPos'!D13-'SA8'!D49)/'A6-FinPos'!D37),0,(('A6-FinPos'!D13-'SA8'!D49)/'A6-FinPos'!D37))","v":1.4942645420875964},{"$f":"IF(ISERROR(('A6-FinPos'!E13-'SA8'!E49)/'A6-FinPos'!E37),0,(('A6-FinPos'!E13-'SA8'!E49)/'A6-FinPos'!E37))","v":1.6877256715896576},{"$f":"IF(ISERROR(('A6-FinPos'!F13-'SA8'!F49)/'A6-FinPos'!F37),0,(('A6-FinPos'!F13-'SA8'!F49)/'A6-FinPos'!F37))","v":2.1391763579113712},{"$f":"IF(ISERROR(('A6-FinPos'!G13-'SA8'!G49)/'A6-FinPos'!G37),0,(('A6-FinPos'!G13-'SA8'!G49)/'A6-FinPos'!G37))","v":2.1585878526120328},{"$f":"IF(ISERROR(('A6-FinPos'!H13-'SA8'!H49)/'A6-FinPos'!H37),0,(('A6-FinPos'!H13-'SA8'!H49)/'A6-FinPos'!H37))","v":2.1585878526120328},{"$f":"IF(ISERROR(('A6-FinPos'!I13-'SA8'!I49)/'A6-FinPos'!I37),0,(('A6-FinPos'!I13-'SA8'!I49)/'A6-FinPos'!I37))","v":2.1585878526120328},{"$f":"IF(ISERROR(('A6-FinPos'!J13-'SA8'!J49)/'A6-FinPos'!J37),0,(('A6-FinPos'!J13-'SA8'!J49)/'A6-FinPos'!J37))","v":1.7344722814971787},{"$f":"IF(ISERROR(('A6-FinPos'!K13-'SA8'!K49)/'A6-FinPos'!K37),0,(('A6-FinPos'!K13-'SA8'!K49)/'A6-FinPos'!K37))","v":1.9236908726716659},{"$f":"IF(ISERROR(('A6-FinPos'!L13-'SA8'!L49)/'A6-FinPos'!L37),0,(('A6-FinPos'!L13-'SA8'!L49)/'A6-FinPos'!L37))","v":2.0339108916403248}]
["Liquidity Ratio","Monetary Assets/Current Liabilities",{"$f":"IF(ISERROR(('A6-FinPos'!C6+'A6-FinPos'!C7)/'A6-FinPos'!C37),0,(('A6-FinPos'!C6+'A6-FinPos'!C7)/'A6-FinPos'!C37))","v":0.53746309983316731},{"$f":"IF(ISERROR(('A6-FinPos'!D6+'A6-FinPos'!D7)/'A6-FinPos'!D37),0,(('A6-FinPos'!D6+'A6-FinPos'!D7)/'A6-FinPos'!D37))","v":1.2314103091851312},{"$f":"IF(ISERROR(('A6-FinPos'!E6+'A6-FinPos'!E7)/'A6-FinPos'!E37),0,(('A6-FinPos'!E6+'A6-FinPos'!E7)/'A6-FinPos'!E37))","v":1.1078511276813017},{"$f":"IF(ISERROR(('A6-FinPos'!F6+'A6-FinPos'!F7)/'A6-FinPos'!F37),0,(('A6-FinPos'!F6+'A6-FinPos'!F7)/'A6-FinPos'!F37))","v":1.9152204078991726},{"$f":"IF(ISERROR(('A6-FinPos'!G6+'A6-FinPos'!G7)/'A6-FinPos'!G37),0,(('A6-FinPos'!G6+'A6-FinPos'!G7)/'A6-FinPos'!G37))","v":1.0576258651278074},{"$f":"IF(ISERROR(('A6-FinPos'!H6+'A6-FinPos'!H7)/'A6-FinPos'!H37),0,(('A6-FinPos'!H6+'A6-FinPos'!H7)/'A6-FinPos'!H37))","v":1.0576258651278074},{"$f":"IF(ISERROR(('A6-FinPos'!I6+'A6-FinPos'!I7)/'A6-FinPos'!I37),0,(('A6-FinPos'!I6+'A6-FinPos'!I7)/'A6-FinPos'!I37))","v":1.0576258651278074},{"$f":"IF(ISERROR(('A6-FinPos'!J6+'A6-FinPos'!J7)/'A6-FinPos'!J37),0,(('A6-FinPos'!J6+'A6-FinPos'!J7)/'A6-FinPos'!J37))","v":1.0608454015559086},{"$f":"IF(ISERROR(('A6-FinPos'!K6+'A6-FinPos'!K7)/'A6-FinPos'!K37),0,(('A6-FinPos'!K6+'A6-FinPos'!K7)/'A6-FinPos'!K37))","v":1.2470920521748365},{"$f":"IF(ISERROR(('A6-FinPos'!L6+'A6-FinPos'!L7)/'A6-FinPos'!L37),0,(('A6-FinPos'!L6+'A6-FinPos'!L7)/'A6-FinPos'!L37))","v":1.3480303200807462}]
["Revenue Management"]
["Annual Debtors Collection Rate (Payment Level %)","Last 12 Mths Receipts/Last 12 Mths Billing",{"$f":"IF(ISERROR(('A7-CFlow'!B6+'A7-CFlow'!B7+'A7-CFlow'!B22+'A7-CFlow'!B23)/SUM('A4-FinPerf RE'!B5:B10)),0,('A7-CFlow'!B6+'A7-CFlow'!B7+'A7-CFlow'!B22+'A7-CFlow'!B23)/(SUM('A4-FinPerf RE'!B5:B10)))","v":0},{"$f":"IF(ISERROR(('A7-CFlow'!C6+'A7-CFlow'!C7+'A7-CFlow'!C22+'A7-CFlow'!C23)/SUM('A4-FinPerf RE'!C5:C10)),0,('A7-CFlow'!C6+'A7-CFlow'!C7+'A7-CFlow'!C22+'A7-CFlow'!C23)/(SUM('A4-FinPerf RE'!C5:C10)))","v":0},{"$f":"IF(ISERROR(('A7-CFlow'!D6+'A7-CFlow'!D7+'A7-CFlow'!D22+'A7-CFlow'!D23)/SUM('A4-FinPerf RE'!D5:D10)),0,('A7-CFlow'!D6+'A7-CFlow'!D7+'A7-CFlow'!D22+'A7-CFlow'!D23)/(SUM('A4-FinPerf RE'!D5:D10)))","v":0},{"$f":"IF(ISERROR(('A7-CFlow'!E6+'A7-CFlow'!E7+'A7-CFlow'!E22+'A7-CFlow'!E23)/SUM('A4-FinPerf RE'!E5:E10)),0,('A7-CFlow'!E6+'A7-CFlow'!E7+'A7-CFlow'!E22+'A7-CFlow'!E23)/(SUM('A4-FinPerf RE'!E5:E10)))","v":0},{"$f":"IF(ISERROR(('A7-CFlow'!F6+'A7-CFlow'!F7+'A7-CFlow'!F22+'A7-CFlow'!F23)/SUM('A4-FinPerf RE'!F5:F10)),0,('A7-CFlow'!F6+'A7-CFlow'!F7+'A7-CFlow'!F22+'A7-CFlow'!F23)/(SUM('A4-FinPerf RE'!F5:F10)))","v":1.162440358290509},{"$f":"IF(ISERROR(('A7-CFlow'!G6+'A7-CFlow'!G7+'A7-CFlow'!G22+'A7-CFlow'!G23)/SUM('A4-FinPerf RE'!G5:G10)),0,('A7-CFlow'!G6+'A7-CFlow'!G7+'A7-CFlow'!G22+'A7-CFlow'!G23)/(SUM('A4-FinPerf RE'!G5:G10)))","v":1.2423867465701481},{"$f":"IF(ISERROR(('A7-CFlow'!H6+'A7-CFlow'!H7+'A7-CFlow'!H22+'A7-CFlow'!H23)/SUM('A4-FinPerf RE'!H5:H10)),0,('A7-CFlow'!H6+'A7-CFlow'!H7+'A7-CFlow'!H22+'A7-CFlow'!H23)/(SUM('A4-FinPerf RE'!H5:H10)))","v":1.2423867465701481},{"$f":"IF(ISERROR(('A7-CFlow'!I6+'A7-CFlow'!I7+'A7-CFlow'!I22+'A7-CFlow'!I23)/SUM('A4-FinPerf RE'!I5:I10)),0,('A7-CFlow'!I6+'A7-CFlow'!I7+'A7-CFlow'!I22+'A7-CFlow'!I23)/(SUM('A4-FinPerf RE'!I5:I10)))","v":1.1715511439724711},{"$f":"IF(ISERROR(('A7-CFlow'!J6+'A7-CFlow'!J7+'A7-CFlow'!J22+'A7-CFlow'!J23)/SUM('A4-FinPerf RE'!J5:J10)),0,('A7-CFlow'!J6+'A7-CFlow'!J7+'A7-CFlow'!J22+'A7-CFlow'!J23)/(SUM('A4-FinPerf RE'!J5:J10)))","v":1.2741147294705544},{"$f":"IF(ISERROR(('A7-CFlow'!K6+'A7-CFlow'!K7+'A7-CFlow'!K22+'A7-CFlow'!K23)/SUM('A4-FinPerf RE'!K5:K10)),0,('A7-CFlow'!K6+'A7-CFlow'!K7+'A7-CFlow'!K22+'A7-CFlow'!K23)/(SUM('A4-FinPerf RE'!K5:K10)))","v":1.2771226644905758}]
["Current Debtors Collection Rate (Cash receipts % of Ratepayer & Other revenue)",null,{"$f":"IF(ISERROR(('A7-CFlow'!C6+'A7-CFlow'!C7)/SUM('A4-FinPerf RE'!C5:C10)),0,(('A7-CFlow'!C6+'A7-CFlow'!C7)/SUM('A4-FinPerf RE'!C5:C10)))","v":0},{"$f":"IF(ISERROR(('A7-CFlow'!D6+'A7-CFlow'!D7)/SUM('A4-FinPerf RE'!D5:D10)),0,(('A7-CFlow'!D6+'A7-CFlow'!D7)/SUM('A4-FinPerf RE'!D5:D10)))","v":0},{"$f":"IF(ISERROR(('A7-CFlow'!E6+'A7-CFlow'!E7)/SUM('A4-FinPerf RE'!E5:E10)),0,(('A7-CFlow'!E6+'A7-CFlow'!E7)/SUM('A4-FinPerf RE'!E5:E10)))","v":0},{"$f":"IF(ISERROR(('A7-CFlow'!F6+'A7-CFlow'!F7)/SUM('A4-FinPerf RE'!F5:F10)),0,(('A7-CFlow'!F6+'A7-CFlow'!F7)/SUM('A4-FinPerf RE'!F5:F10)))","v":1.162440358290509},{"$f":"IF(ISERROR(('A7-CFlow'!G6+'A7-CFlow'!G7)/SUM('A4-FinPerf RE'!G5:G10)),0,(('A7-CFlow'!G6+'A7-CFlow'!G7)/SUM('A4-FinPerf RE'!G5:G10)))","v":1.2423867465701481},{"$f":"IF(ISERROR(('A7-CFlow'!H6+'A7-CFlow'!H7)/SUM('A4-FinPerf RE'!H5:H10)),0,(('A7-CFlow'!H6+'A7-CFlow'!H7)/SUM('A4-FinPerf RE'!H5:H10)))","v":1.2423867465701481},{"$f":"IF(ISERROR(('A7-CFlow'!I6+'A7-CFlow'!I7)/SUM('A4-FinPerf RE'!I5:I10)),0,(('A7-CFlow'!I6+'A7-CFlow'!I7)/SUM('A4-FinPerf RE'!I5:I10)))","v":1.1715511439724711},{"$f":"IF(ISERROR(('A7-CFlow'!J6+'A7-CFlow'!J7)/SUM('A4-FinPerf RE'!J5:J10)),0,(('A7-CFlow'!J6+'A7-CFlow'!J7)/SUM('A4-FinPerf RE'!J5:J10)))","v":1.2741147294705544},{"$f":"IF(ISERROR(('A7-CFlow'!K6+'A7-CFlow'!K7)/SUM('A4-FinPerf RE'!K5:K10)),0,(('A7-CFlow'!K6+'A7-CFlow'!K7)/SUM('A4-FinPerf RE'!K5:K10)))","v":1.2771226644905758},{"$f":"IF(ISERROR(('A7-CFlow'!L6+'A7-CFlow'!L7)/SUM('A4-FinPerf RE'!L5:L10)),0,(('A7-CFlow'!L6+'A7-CFlow'!L7)/SUM('A4-FinPerf RE'!L5:L10)))","v":1.2793582919696713}]
["Outstanding Debtors to Revenue","Total Outstanding Debtors to Annual Revenue",{"$f":"IF(ISERROR(('A6-FinPos'!C8+'A6-FinPos'!C10+'A6-FinPos'!C11+'A6-FinPos'!C16)/'A4-FinPerf RE'!C33),0,(('A6-FinPos'!C8+'A6-FinPos'!C10+'A6-FinPos'!C11+'A6-FinPos'!C16)/'A4-FinPerf RE'!C33))","v":9.2141208826901869E-2},{"$f":"IF(ISERROR(('A6-FinPos'!D8+'A6-FinPos'!D10+'A6-FinPos'!D11+'A6-FinPos'!D16)/'A4-FinPerf RE'!D33),0,(('A6-FinPos'!D8+'A6-FinPos'!D10+'A6-FinPos'!D11+'A6-FinPos'!D16)/'A4-FinPerf RE'!D33))","v":0.11606700141423425},{"$f":"IF(ISERROR(('A6-FinPos'!E8+'A6-FinPos'!E10+'A6-FinPos'!E11+'A6-FinPos'!E16)/'A4-FinPerf RE'!E33),0,(('A6-FinPos'!E8+'A6-FinPos'!E10+'A6-FinPos'!E11+'A6-FinPos'!E16)/'A4-FinPerf RE'!E33))","v":0.18989866121253762},{"$f":"IF(ISERROR(('A6-FinPos'!F8+'A6-FinPos'!F10+'A6-FinPos'!F11+'A6-FinPos'!F16)/'A4-FinPerf RE'!F33),0,(('A6-FinPos'!F8+'A6-FinPos'!F10+'A6-FinPos'!F11+'A6-FinPos'!F16)/'A4-FinPerf RE'!F33))","v":9.9648560939634395E-2},{"$f":"IF(ISERROR(('A6-FinPos'!G8+'A6-FinPos'!G10+'A6-FinPos'!G11+'A6-FinPos'!G16)/'A4-FinPerf RE'!G33),0,(('A6-FinPos'!G8+'A6-FinPos'!G10+'A6-FinPos'!G11+'A6-FinPos'!G16)/'A4-FinPerf RE'!G33))","v":0.22727883776243823},{"$f":"IF(ISERROR(('A6-FinPos'!H8+'A6-FinPos'!H10+'A6-FinPos'!H11+'A6-FinPos'!H16)/'A4-FinPerf RE'!H33),0,(('A6-FinPos'!H8+'A6-FinPos'!H10+'A6-FinPos'!H11+'A6-FinPos'!H16)/'A4-FinPerf RE'!H33))","v":0.22727883776243823},{"$f":"IF(ISERROR(('A6-FinPos'!I8+'A6-FinPos'!I10+'A6-FinPos'!I11+'A6-FinPos'!I16)/'A4-FinPerf RE'!I33),0,(('A6-FinPos'!I8+'A6-FinPos'!I10+'A6-FinPos'!I11+'A6-FinPos'!I16)/'A4-FinPerf RE'!I33))","v":0.22147144047297074},{"$f":"IF(ISERROR(('A6-FinPos'!J8+'A6-FinPos'!J10+'A6-FinPos'!J11+'A6-FinPos'!J16)/'A4-FinPerf RE'!J33),0,(('A6-FinPos'!J8+'A6-FinPos'!J10+'A6-FinPos'!J11+'A6-FinPos'!J16)/'A4-FinPerf RE'!J33))","v":0.1568562005237622},{"$f":"IF(ISERROR(('A6-FinPos'!K8+'A6-FinPos'!K10+'A6-FinPos'!K11+'A6-FinPos'!K16)/'A4-FinPerf RE'!K33),0,(('A6-FinPos'!K8+'A6-FinPos'!K10+'A6-FinPos'!K11+'A6-FinPos'!K16)/'A4-FinPerf RE'!K33))","v":0.15020564896517716},{"$f":"IF(ISERROR(('A6-FinPos'!L8+'A6-FinPos'!L10+'A6-FinPos'!L11+'A6-FinPos'!L16)/'A4-FinPerf RE'!L33),0,(('A6-FinPos'!L8+'A6-FinPos'!L10+'A6-FinPos'!L11+'A6-FinPos'!L16)/'A4-FinPerf RE'!L33))","v":0.14495896995980181}]
["Longstanding Debtors Recovered","Debtors > 12 Mths Recovered/Total Debtors > 12 Months Old"]
["Creditors Management"]
["Creditors System Efficiency","% of Creditors Paid Within Terms (within`MFMA' s 65(e))"]
["Creditors to Cash and Investments",null,{"$f":"IF(ISERROR('SA3'!C147/'A7-CFlow'!C40),0,('SA3'!C147/'A7-CFlow'!C40))","v":-4.9733771459852836},{"$f":"IF(ISERROR('SA3'!D147/'A7-CFlow'!D40),0,('SA3'!D147/'A7-CFlow'!D40))","v":0.25245009473606655},{"$f":"IF(ISERROR('SA3'!E147/'A7-CFlow'!E40),0,('SA3'!E147/'A7-CFlow'!E40))","v":0.15813927695682953},{"$f":"IF(ISERROR('SA3'!F147/'A7-CFlow'!F40),0,('SA3'!F147/'A7-CFlow'!F40))","v":0.42126184779984632},{"$f":"IF(ISERROR('SA3'!G147/'A7-CFlow'!G40),0,('SA3'!G147/'A7-CFlow'!G40))","v":0.21814939552145737},{"$f":"IF(ISERROR('SA3'!H147/'A7-CFlow'!H40),0,('SA3'!H147/'A7-CFlow'!H40))","v":0.21814939552145737},{"$f":"IF(ISERROR('SA3'!I147/'A7-CFlow'!I40),0,('SA3'!I147/'A7-CFlow'!I40))","v":0.21814939552145737},{"$f":"IF(ISERROR('SA3'!J147/'A7-CFlow'!J40),0,('SA3'!J147/'A7-CFlow'!J40))","v":1.833942967206988},{"$f":"IF(ISERROR('SA3'!K147/'A7-CFlow'!K40),0,('SA3'!K147/'A7-CFlow'!K40))","v":1.6138837075728076},{"$f":"IF(ISERROR('SA3'!L147/'A7-CFlow'!L40),0,('SA3'!L147/'A7-CFlow'!L40))","v":1.16771117726857}]
[]
["Other Indicators"]
["Electricity Distribution Losses (2)","Total Volume Losses (kW) technical",0,0,0,0,0,0,0,0,0,0]
[null,"Total Volume Losses (kW) non technical",0,0,0,0,0,0,0,0,0,0]
[null,"Total Cost of Losses (Rand '000)",0,0,0,0,0,0,0,0,0,0]
[null,"% Volume (units purchased and generated less units sold)/units purchased and generated"]
["Water Volumes :System input","Bulk Purchase",0,0,0,0,0,0,0,0,0,0]
[null,"Water treatment works",0,0,0,0,0,0,0,0,0,0]
[null,"Natural sources",0,0,0,0,0,0,0,0,0,0]
["Water Distribution Losses (2)","Total Volume Losses (kℓ)",0,0,0,0,0,0,0,0,0,0]
[null,"Total Cost of Losses (Rand '000)",0,0,0,0,0,0,0,0,0,0]
[null,"% Volume (units purchased and generated less units sold)/units purchased and generated"]
["Employee costs","Employee costs/(Total Revenue - capital revenue)",{"$f":"IF(ISERROR('A4-FinPerf RE'!C35/'A4-FinPerf RE'!C33),0,('A4-FinPerf RE'!C35/'A4-FinPerf RE'!C33))","v":0.43815947838741803},{"$f":"IF(ISERROR('A4-FinPerf RE'!D35/'A4-FinPerf RE'!D33),0,('A4-FinPerf RE'!D35/'A4-FinPerf RE'!D33))","v":0.35790918550992318},{"$f":"IF(ISERROR('A4-FinPerf RE'!E35/'A4-FinPerf RE'!E33),0,('A4-FinPerf RE'!E35/'A4-FinPerf RE'!E33))","v":0.31181400565728395},{"$f":"IF(ISERROR('A4-FinPerf RE'!F35/'A4-FinPerf RE'!F33),0,('A4-FinPerf RE'!F35/'A4-FinPerf RE'!F33))","v":0.31641571767360793},{"$f":"IF(ISERROR('A4-FinPerf RE'!G35/'A4-FinPerf RE'!G33),0,('A4-FinPerf RE'!G35/'A4-FinPerf RE'!G33))","v":0.3054945547655053},{"$f":"IF(ISERROR('A4-FinPerf RE'!H35/'A4-FinPerf RE'!H33),0,('A4-FinPerf RE'!H35/'A4-FinPerf RE'!H33))","v":0.3054945547655053},{"$f":"IF(ISERROR('A4-FinPerf RE'!I35/'A4-FinPerf RE'!I33),0,('A4-FinPerf RE'!I35/'A4-FinPerf RE'!I33))","v":0.29768860034071776},{"$f":"IF(ISERROR('A4-FinPerf RE'!J35/'A4-FinPerf RE'!J33),0,('A4-FinPerf RE'!J35/'A4-FinPerf RE'!J33))","v":0.30286884069527747},{"$f":"IF(ISERROR('A4-FinPerf RE'!K35/'A4-FinPerf RE'!K33),0,('A4-FinPerf RE'!K35/'A4-FinPerf RE'!K33))","v":0.30340122452921964},{"$f":"IF(ISERROR('A4-FinPerf RE'!L35/'A4-FinPerf RE'!L33),0,('A4-FinPerf RE'!L35/'A4-FinPerf RE'!L33))","v":0.30326008083160949}]
["Remuneration","Total remuneration/(Total Revenue - capital revenue)",{"$f":"IF(ISERROR('SA22'!C122/'A4-FinPerf RE'!C33),0,('SA22'!C122/'A4-FinPerf RE'!C33))","v":0.46379200815210875},{"$f":"IF(ISERROR('SA22'!D122/'A4-FinPerf RE'!D33),0,('SA22'!D122/'A4-FinPerf RE'!D33))","v":0.38070657474870961},{"$f":"IF(ISERROR('SA22'!E122/'A4-FinPerf RE'!E33),0,('SA22'!E122/'A4-FinPerf RE'!E33))","v":0.33059273322018429},{"$f":"IF(ISERROR('SA22'!F122/'A4-FinPerf RE'!F33),0,('SA22'!F122/'A4-FinPerf RE'!F33))","v":0.33478417760518975},{"$f":"IF(ISERROR('SA22'!G122/'A4-FinPerf RE'!G33),0,('SA22'!G122/'A4-FinPerf RE'!G33))","v":0.32394208389278978},{"$f":"IF(ISERROR('SA22'!H122/'A4-FinPerf RE'!H33),0,('SA22'!H122/'A4-FinPerf RE'!H33))","v":0.32394208389278978},{"$f":"IF(ISERROR('SA22'!I122/'A4-FinPerf RE'!I33),0,('SA22'!I122/'A4-FinPerf RE'!I33))","v":0.33839725757437911},{"$f":"IF(ISERROR('SA22'!I122/'A4-FinPerf RE'!J33),0,('SA22'!I122/'A4-FinPerf RE'!J33))","v":0.32063377772316115},{"$f":"IF(ISERROR('SA22'!J122/'A4-FinPerf RE'!K33),0,('SA22'!J122/'A4-FinPerf RE'!K33))","v":0.32118037419814938},{"$f":"IF(ISERROR('SA22'!K122/'A4-FinPerf RE'!L33),0,('SA22'!K122/'A4-FinPerf RE'!L33))","v":0.32103096042829149}]
["Repairs & Maintenance","R&M/(Total Revenue excluding capital revenue)",{"$f":"IF(ISERROR('A9-Asset'!C184/'A4-FinPerf RE'!C33),0,('A9-Asset'!C184/'A4-FinPerf RE'!C33))","v":2.0390336973970885E-2},{"$f":"IF(ISERROR('A9-Asset'!D184/'A4-FinPerf RE'!D33),0,('A9-Asset'!D184/'A4-FinPerf RE'!D33))","v":2.1718678760656602E-2},{"$f":"IF(ISERROR('A9-Asset'!E184/'A4-FinPerf RE'!E33),0,('A9-Asset'!E184/'A4-FinPerf RE'!E33))","v":2.4723249465174717E-2},{"$f":"IF(ISERROR('A9-Asset'!F184/'A4-FinPerf RE'!F33),0,('A9-Asset'!F184/'A4-FinPerf RE'!F33))","v":1.903221430120542E-2},{"$f":"IF(ISERROR('A9-Asset'!G184/'A4-FinPerf RE'!G33),0,('A9-Asset'!G184/'A4-FinPerf RE'!G33))","v":2.412735568310246E-2},{"$f":"IF(ISERROR('A9-Asset'!H184/'A4-FinPerf RE'!H33),0,('A9-Asset'!H184/'A4-FinPerf RE'!H33))","v":2.412735568310246E-2},{"$f":"IF(ISERROR('A9-Asset'!I184/'A4-FinPerf RE'!I33),0,('A9-Asset'!I184/'A4-FinPerf RE'!I33))","v":1.7836507422600827E-2},{"$f":"IF(ISERROR('A9-Asset'!I184/'A4-FinPerf RE'!J33),0,('A9-Asset'!I184/'A4-FinPerf RE'!J33))","v":1.690021602801756E-2},{"$f":"IF(ISERROR('A9-Asset'!J184/'A4-FinPerf RE'!K33),0,('A9-Asset'!J184/'A4-FinPerf RE'!K33))","v":1.6393230165684367E-2},{"$f":"IF(ISERROR('A9-Asset'!K184/'A4-FinPerf RE'!L33),0,('A9-Asset'!K184/'A4-FinPerf RE'!L33))","v":1.5645624462080062E-2}]
["Finance charges & Depreciation","FC&D/(Total Revenue - capital revenue)",{"$f":"IF(ISERROR(('A4-FinPerf RE'!C41+'A4-FinPerf RE'!C40)/'A4-FinPerf RE'!C33),0,(('A4-FinPerf RE'!C41+'A4-FinPerf RE'!C40)/'A4-FinPerf RE'!C33))","v":0.24548124096071264},{"$f":"IF(ISERROR(('A4-FinPerf RE'!D41+'A4-FinPerf RE'!D40)/'A4-FinPerf RE'!D33),0,(('A4-FinPerf RE'!D41+'A4-FinPerf RE'!D40)/'A4-FinPerf RE'!D33))","v":0.18877870388252282},{"$f":"IF(ISERROR(('A4-FinPerf RE'!E41+'A4-FinPerf RE'!E40)/'A4-FinPerf RE'!E33),0,(('A4-FinPerf RE'!E41+'A4-FinPerf RE'!E40)/'A4-FinPerf RE'!E33))","v":0.15276677876772021},{"$f":"IF(ISERROR(('A4-FinPerf RE'!F41+'A4-FinPerf RE'!F40)/'A4-FinPerf RE'!F33),0,(('A4-FinPerf RE'!F41+'A4-FinPerf RE'!F40)/'A4-FinPerf RE'!F33))","v":0.13635547175789939},{"$f":"IF(ISERROR(('A4-FinPerf RE'!G41+'A4-FinPerf RE'!G40)/'A4-FinPerf RE'!G33),0,(('A4-FinPerf RE'!G41+'A4-FinPerf RE'!G40)/'A4-FinPerf RE'!G33))","v":0.13455078272261056},{"$f":"IF(ISERROR(('A4-FinPerf RE'!H41+'A4-FinPerf RE'!H40)/'A4-FinPerf RE'!H33),0,(('A4-FinPerf RE'!H41+'A4-FinPerf RE'!H40)/'A4-FinPerf RE'!H33))","v":0.13455078272261056},{"$f":"IF(ISERROR(('A4-FinPerf RE'!I41+'A4-FinPerf RE'!I40)/'A4-FinPerf RE'!I33),0,(('A4-FinPerf RE'!I41+'A4-FinPerf RE'!I40)/'A4-FinPerf RE'!I33))","v":0.13111275981395876},{"$f":"IF(ISERROR(('A4-FinPerf RE'!J41+'A4-FinPerf RE'!J40)/'A4-FinPerf RE'!J33),0,(('A4-FinPerf RE'!J41+'A4-FinPerf RE'!J40)/'A4-FinPerf RE'!J33))","v":0.1295721604874063},{"$f":"IF(ISERROR(('A4-FinPerf RE'!K41+'A4-FinPerf RE'!K40)/'A4-FinPerf RE'!K33),0,(('A4-FinPerf RE'!K41+'A4-FinPerf RE'!K40)/'A4-FinPerf RE'!K33))","v":0.12981911514964611},{"$f":"IF(ISERROR(('A4-FinPerf RE'!L41+'A4-FinPerf RE'!L40)/'A4-FinPerf RE'!L33),0,(('A4-FinPerf RE'!L41+'A4-FinPerf RE'!L40)/'A4-FinPerf RE'!L33))","v":0.12975791820416888}]
["IDP regulation financial viability indicators"]
["i. Debt coverage","(Total Operating Revenue - Operating Grants)/Debt service payments due within financial year)",{"$f":"IF(ISERROR(('A4-FinPerf RE'!C33-'A4-FinPerf RE'!C30)/('A7-CFlow'!D11-'A7-CFlow'!D35)),0,(('A4-FinPerf RE'!C33-'A4-FinPerf RE'!C30)/('A7-CFlow'!D11-'A7-CFlow'!D35)))","v":65.026452402978592},{"$f":"IF(ISERROR(('A4-FinPerf RE'!D33-'A4-FinPerf RE'!D30)/('A7-CFlow'!E11-'A7-CFlow'!E35)),0,(('A4-FinPerf RE'!D33-'A4-FinPerf RE'!D30)/('A7-CFlow'!E11-'A7-CFlow'!E35)))","v":0},{"$f":"IF(ISERROR(('A4-FinPerf RE'!E33-'A4-FinPerf RE'!E30)/('A7-CFlow'!F11-'A7-CFlow'!F35)),0,(('A4-FinPerf RE'!E33-'A4-FinPerf RE'!E30)/('A7-CFlow'!F11-'A7-CFlow'!F35)))","v":79.495687109441334},{"$f":"IF(ISERROR(('A4-FinPerf RE'!F33-'A4-FinPerf RE'!F30)/('A7-CFlow'!G11-'A7-CFlow'!G35)),0,(('A4-FinPerf RE'!F33-'A4-FinPerf RE'!F30)/('A7-CFlow'!G11-'A7-CFlow'!G35)))","v":0},{"$f":"IF(ISERROR(('A4-FinPerf RE'!G33-'A4-FinPerf RE'!G30)/('A7-CFlow'!H11-'A7-CFlow'!H35)),0,(('A4-FinPerf RE'!G33-'A4-FinPerf RE'!G30)/('A7-CFlow'!H11-'A7-CFlow'!H35)))","v":0},{"$f":"IF(ISERROR(('A4-FinPerf RE'!H33-'A4-FinPerf RE'!H30)/('A7-CFlow'!I11-'A7-CFlow'!I35)),0,(('A4-FinPerf RE'!H33-'A4-FinPerf RE'!H30)/('A7-CFlow'!I11-'A7-CFlow'!I35)))","v":0},{"$f":"IF(ISERROR(('A4-FinPerf RE'!I33-'A4-FinPerf RE'!I30)/('A7-CFlow'!J11-'A7-CFlow'!J35)),0,(('A4-FinPerf RE'!I33-'A4-FinPerf RE'!I30)/('A7-CFlow'!J11-'A7-CFlow'!J35)))","v":112.8506261122949},{"$f":"IF(ISERROR(('A4-FinPerf RE'!J33-'A4-FinPerf RE'!J30)/('A7-CFlow'!K11-'A7-CFlow'!K35)),0,(('A4-FinPerf RE'!J33-'A4-FinPerf RE'!J30)/('A7-CFlow'!K11-'A7-CFlow'!K35)))","v":113.86489610851126},{"$f":"IF(ISERROR(('A4-FinPerf RE'!K33-'A4-FinPerf RE'!K30)/('A7-CFlow'!L11-'A7-CFlow'!L35)),0,(('A4-FinPerf RE'!K33-'A4-FinPerf RE'!K30)/('A7-CFlow'!L11-'A7-CFlow'!L35)))","v":113.88270960067383},{"$f":"IF(ISERROR(('A4-FinPerf RE'!L33-'A4-FinPerf RE'!L30)/('A7-CFlow'!L11-'A7-CFlow'!L35)),0,(('A4-FinPerf RE'!L33-'A4-FinPerf RE'!L30)/('A7-CFlow'!L11-'A7-CFlow'!L35)))","v":118.94888481273304}]
["ii.O/S Service Debtors to Revenue","Total outstanding service debtors/annual revenue received for services",{"$f":"IF(ISERROR(('A6-FinPos'!C8+'A6-FinPos'!C10+'A6-FinPos'!C11)/SUM('A4-FinPerf RE'!C5:C11)),0,(('A6-FinPos'!C8+'A6-FinPos'!C10+'A6-FinPos'!C11)/SUM('A4-FinPerf RE'!C5:C11)))","v":0.20015983242613256},{"$f":"IF(ISERROR(('A6-FinPos'!D8+'A6-FinPos'!D10+'A6-FinPos'!D11)/SUM('A4-FinPerf RE'!D5:D11)),0,(('A6-FinPos'!D8+'A6-FinPos'!D10+'A6-FinPos'!D11)/SUM('A4-FinPerf RE'!D5:D11)))","v":0.17231782293133491},{"$f":"IF(ISERROR(('A6-FinPos'!E8+'A6-FinPos'!E10+'A6-FinPos'!E11)/SUM('A4-FinPerf RE'!E5:E11)),0,(('A6-FinPos'!E8+'A6-FinPos'!E10+'A6-FinPos'!E11)/SUM('A4-FinPerf RE'!E5:E11)))","v":0.39761955375857755},{"$f":"IF(ISERROR(('A6-FinPos'!F8+'A6-FinPos'!F10+'A6-FinPos'!F11)/SUM('A4-FinPerf RE'!F5:F11)),0,(('A6-FinPos'!F8+'A6-FinPos'!F10+'A6-FinPos'!F11)/SUM('A4-FinPerf RE'!F5:F11)))","v":0.16446545807893581},{"$f":"IF(ISERROR(('A6-FinPos'!G8+'A6-FinPos'!G10+'A6-FinPos'!G11)/SUM('A4-FinPerf RE'!G5:G11)),0,(('A6-FinPos'!G8+'A6-FinPos'!G10+'A6-FinPos'!G11)/SUM('A4-FinPerf RE'!G5:G11)))","v":0.45992274487829904},{"$f":"IF(ISERROR(('A6-FinPos'!H8+'A6-FinPos'!H10+'A6-FinPos'!H11)/SUM('A4-FinPerf RE'!H5:H11)),0,(('A6-FinPos'!H8+'A6-FinPos'!H10+'A6-FinPos'!H11)/SUM('A4-FinPerf RE'!H5:H11)))","v":0.45992274487829904},{"$f":"IF(ISERROR(('A6-FinPos'!I8+'A6-FinPos'!I10+'A6-FinPos'!I11)/SUM('A4-FinPerf RE'!I5:I11)),0,(('A6-FinPos'!I8+'A6-FinPos'!I10+'A6-FinPos'!I11)/SUM('A4-FinPerf RE'!I5:I11)))","v":0.43450490546002346},{"$f":"IF(ISERROR(('A6-FinPos'!J8+'A6-FinPos'!J10+'A6-FinPos'!J11)/SUM('A4-FinPerf RE'!J5:J11)),0,(('A6-FinPos'!J8+'A6-FinPos'!J10+'A6-FinPos'!J11)/SUM('A4-FinPerf RE'!J5:J11)))","v":0.29723195432479421},{"$f":"IF(ISERROR(('A6-FinPos'!K8+'A6-FinPos'!K10+'A6-FinPos'!K11)/SUM('A4-FinPerf RE'!K5:K11)),0,(('A6-FinPos'!K8+'A6-FinPos'!K10+'A6-FinPos'!K11)/SUM('A4-FinPerf RE'!K5:K11)))","v":0.28412584257724555},{"$f":"IF(ISERROR(('A6-FinPos'!L8+'A6-FinPos'!L10+'A6-FinPos'!L11)/SUM('A4-FinPerf RE'!L5:L11)),0,(('A6-FinPos'!L8+'A6-FinPos'!L10+'A6-FinPos'!L11)/SUM('A4-FinPerf RE'!L5:L11)))","v":0.27463813835943063}]
["iii. Cost coverage","(Available cash + Investments)/monthly fixed operational expenditure",{"$f":"IF(ISERROR('A7-CFlow'!C40/'SA8'!C50),0,('A7-CFlow'!C40/'SA8'!C50))","v":-0.94003056104374749},{"$f":"IF(ISERROR('A7-CFlow'!D40/'SA8'!D50),0,('A7-CFlow'!D40/'SA8'!D50))","v":8.6908291973559511},{"$f":"IF(ISERROR('A7-CFlow'!E40/'SA8'!E50),0,('A7-CFlow'!E40/'SA8'!E50))","v":16.176533732912976},{"$f":"IF(ISERROR('A7-CFlow'!F40/'SA8'!F50),0,('A7-CFlow'!F40/'SA8'!F50))","v":9.6460516077514704},{"$f":"IF(ISERROR('A7-CFlow'!G40/'SA8'!G50),0,('A7-CFlow'!G40/'SA8'!G50))","v":7.8869978850531846},{"$f":"IF(ISERROR('A7-CFlow'!H40/'SA8'!H50),0,('A7-CFlow'!H40/'SA8'!H50))","v":7.187821033175732},{"$f":"IF(ISERROR('A7-CFlow'!I40/'SA8'!I50),0,('A7-CFlow'!I40/'SA8'!I50))","v":6.8741085443983279},{"$f":"IF(ISERROR('A7-CFlow'!J40/'SA8'!J50),0,('A7-CFlow'!J40/'SA8'!J50))","v":1.0276692196155846},{"$f":"IF(ISERROR('A7-CFlow'!K40/'SA8'!K50),0,('A7-CFlow'!K40/'SA8'!K50))","v":0},{"$f":"IF(ISERROR('A7-CFlow'!L40/'SA8'!L50),0,('A7-CFlow'!L40/'SA8'!L50))","v":0}]
[{"$f":"head27a","v":"References"}]
["1. Consumer debtors > 12 months old are excluded from current assets"]
["2. Only include if services provided by the municipality"]
[]
["Calculation data"]
["Debtors > 90 days"]
["Monthly fixed operational expenditure",null,{"$f":"(('A4-FinPerf RE'!E35+'A4-FinPerf RE'!E36+'A4-FinPerf RE'!E39+'A4-FinPerf RE'!E41+'A4-FinPerf RE'!E37+'A4-FinPerf RE'!E42+'SA1'!E91+'A7-CFlow'!E35)+(('A4-FinPerf RE'!E38+'A4-FinPerf RE'!E45)*'SA8'!E51))/12","v":51903760.326499999},{"$f":"(('A4-FinPerf RE'!F35+'A4-FinPerf RE'!F36+'A4-FinPerf RE'!F39+'A4-FinPerf RE'!F41+'A4-FinPerf RE'!F37+'A4-FinPerf RE'!F42+'SA1'!F91+'A7-CFlow'!F35)+(('A4-FinPerf RE'!F38+'A4-FinPerf RE'!F45)*'SA8'!F51))/12","v":53931055.350000001},{"$f":"(('A4-FinPerf RE'!G35+'A4-FinPerf RE'!G36+'A4-FinPerf RE'!G39+'A4-FinPerf RE'!G41+'A4-FinPerf RE'!G37+'A4-FinPerf RE'!G42+'SA1'!G91+'A7-CFlow'!G35)+(('A4-FinPerf RE'!G38+'A4-FinPerf RE'!G45)*'SA8'!G51))/12","v":53829013.166666664},{"$f":"(('A4-FinPerf RE'!H35+'A4-FinPerf RE'!H36+'A4-FinPerf RE'!H39+'A4-FinPerf RE'!H41+'A4-FinPerf RE'!H37+'A4-FinPerf RE'!H42+'SA1'!H91+'A7-CFlow'!H35)+(('A4-FinPerf RE'!H38+'A4-FinPerf RE'!H45)*'SA8'!H51))/12","v":53829013.166666664},{"$f":"(('A4-FinPerf RE'!I35+'A4-FinPerf RE'!I36+'A4-FinPerf RE'!I39+'A4-FinPerf RE'!I41+'A4-FinPerf RE'!I37+'A4-FinPerf RE'!I42+'SA1'!I91+'A7-CFlow'!I35)+(('A4-FinPerf RE'!I38+'A4-FinPerf RE'!I45)*'SA8'!I51))/12","v":53829013.166666664},{"$f":"(('A4-FinPerf RE'!J35+'A4-FinPerf RE'!J36+'A4-FinPerf RE'!J39+'A4-FinPerf RE'!J41+'A4-FinPerf RE'!J37+'A4-FinPerf RE'!J42+'SA1'!J91+'A7-CFlow'!J35)+(('A4-FinPerf RE'!J38+'A4-FinPerf RE'!J45)*'SA8'!J51))/12","v":59065092.333333336},{"$f":"(('A4-FinPerf RE'!K35+'A4-FinPerf RE'!K36+'A4-FinPerf RE'!K39+'A4-FinPerf RE'!K41+'A4-FinPerf RE'!K37+'A4-FinPerf RE'!K42+'SA1'!K91+'A7-CFlow'!K35)+(('A4-FinPerf RE'!K38+'A4-FinPerf RE'!K45)*'SA8'!K51))/12","v":61760635.616666667},{"$f":"(('A4-FinPerf RE'!L35+'A4-FinPerf RE'!L36+'A4-FinPerf RE'!L39+'A4-FinPerf RE'!L41+'A4-FinPerf RE'!L37+'A4-FinPerf RE'!L42+'SA1'!L91+'A7-CFlow'!L35)+(('A4-FinPerf RE'!L38+'A4-FinPerf RE'!L45)*'SA8'!L51))/12","v":64052206.433333337},{"$f":"(('A4-FinPerf RE'!M35+'A4-FinPerf RE'!M36+'A4-FinPerf RE'!M39+'A4-FinPerf RE'!M41+'A4-FinPerf RE'!M37+'A4-FinPerf RE'!M42+'SA1'!M91+'A7-CFlow'!M35)+(('A4-FinPerf RE'!M38+'A4-FinPerf RE'!M45)*'SA8'!M51))/12","v":0},{"$f":"(('A4-FinPerf RE'!N35+'A4-FinPerf RE'!N36+'A4-FinPerf RE'!N39+'A4-FinPerf RE'!N41+'A4-FinPerf RE'!N37+'A4-FinPerf RE'!N42+'SA1'!N91+'A7-CFlow'!N35)+(('A4-FinPerf RE'!N38+'A4-FinPerf RE'!N45)*'SA8'!N51))/12","v":0}]
["Fixed operational expenditure % assumption",null,0.4,{"$f":"$C$51","v":0.4},{"$f":"$C$51","v":0.4},0.4,0.4,0.4,0.4,0.4,0.4,0.4]
["Own capex",null,{"$f":"'A5-Capex'!C40-'A5-Capex'!C70-'A5-Capex'!C72","v":11418899.109999999},{"$f":"'A5-Capex'!D40-'A5-Capex'!D70-'A5-Capex'!D72","v":10036721.109999999},{"$f":"'A5-Capex'!E40-'A5-Capex'!E70-'A5-Capex'!E72","v":17574175.920000002},{"$f":"'A5-Capex'!F40-'A5-Capex'!F70-'A5-Capex'!F72","v":30089200},{"$f":"'A5-Capex'!G40-'A5-Capex'!G70-'A5-Capex'!G72","v":44561921},{"$f":"'A5-Capex'!H40-'A5-Capex'!H70-'A5-Capex'!H72","v":44561921},{"$f":"'A5-Capex'!I40-'A5-Capex'!I70-'A5-Capex'!I72","v":44561921},{"$f":"'A5-Capex'!J40-'A5-Capex'!J70-'A5-Capex'!J72","v":35066347},{"$f":"'A5-Capex'!K40-'A5-Capex'!K70-'A5-Capex'!K72","v":11100002},{"$f":"'A5-Capex'!L40-'A5-Capex'!L70-'A5-Capex'!L72","v":800040}]
["Borrowing",null,{"$f":"'A7-CFlow'!C31+'A7-CFlow'!C32","v":0},{"$f":"'A7-CFlow'!D31+'A7-CFlow'!D32","v":0},{"$f":"'A7-CFlow'!E31+'A7-CFlow'!E32","v":0},{"$f":"'A7-CFlow'!F31+'A7-CFlow'!F32","v":0},{"$f":"'A7-CFlow'!G31+'A7-CFlow'!G32","v":0},{"$f":"'A7-CFlow'!H31+'A7-CFlow'!H32","v":0},{"$f":"'A7-CFlow'!I31+'A7-CFlow'!I32","v":0},{"$f":"'A7-CFlow'!J31+'A7-CFlow'!J32","v":0},{"$f":"'A7-CFlow'!K31+'A7-CFlow'!K32","v":0},{"$f":"'A7-CFlow'!L31+'A7-CFlow'!L32","v":0}]

{"sheet":"SA9","index":29,"n_rows":310,"n_cols":13,"rows_kept":310,"cut":false,"hidden":false,"merged":[[246,7,246,9],[246,10,246,12],[246,0,247,0],[154,0,155,0],[154,7,154,9],[200,7,200,9],[200,10,200,12],[154,10,154,12],[200,0,201,0],[108,10,108,12],[1,5,2,5],[62,7,62,9],[62,10,62,12],[108,0,109,0],[108,7,108,9],[1,0,2,0],[62,0,63,0],[1,3,2,3],[1,4,2,4],[1,10,1,12],[1,1,2,1],[1,2,2,2]]}
[{"$f":"muni&\" - \"&TableA9","v":"Choose name from list - Supporting Table SA9 Social, economic and demographic statistics and assumptions"}]
["Description of economic indicator","Ref.","Basis of calculation",{"$f":"Head44","v":"2001 Census"},"2007 Survey",{"$f":"Head45","v":"2011 Census"},{"$f":"head1b","v":"2021/22"},{"$f":"head1A","v":"2022/23"},{"$f":"Head1","v":"2023/24"},{"$f":"Head2","v":"Current Year 2024/25"},{"$f":"Head3","v":"2025/26 Medium Term Revenue & Expenditure Framework"}]
[null,null,null,null,null,null,{"$f":"Head5A","v":"Outcome"},"Outcome","Outcome",{"$f":"Head6","v":"Original Budget"},"Outcome","Outcome","Outcome"]
["Demographics"]
["Population"]
["Females aged 5 - 14"]
["Males aged 5 - 14"]
["Females aged 15 - 34"]
["Males aged 15 - 34"]
["Unemployment"]
[]
["Monthly household income (no. of households)","1, 12"]
["No income"]
["R1 - R1 600"]
["R1 601 - R3 200"]
["R3 201 - R6 400"]
["R6 401 - R12 800"]
["R12 801 - R25 600"]
["R25 601 - R51 200"]
["R52 201 - R102 400"]
["R102 401 - R204 800"]
["R204 801 - R409 600"]
["R409 601 - R819 200"]
[" > R819 200"]
[]
[]
["Poverty profiles (no. of households)"]
["< R2 060 per household per month",13]
["Insert description",2]
[]
["Household/demographics (000)"]
["Number of people in municipal area"]
["Number of poor people in municipal area"]
["Number of households in municipal area"]
["Number of poor households in municipal area"]
["Definition of poor household (R per month)"]
[]
["Housing statistics",3]
["Formal"]
["Informal"]
["Total number of households",null,null,{"$f":"SUM(D39:D40)","v":0},{"$f":"SUM(E39:E40)","v":0},0,0,0,0,0,0,0,0]
["Dwellings provided by municipality",4]
["Dwellings provided by province/s"]
["Dwellings provided by private sector",5]
["Total new housing dwellings",null,null,{"$f":"SUM(D42:D44)","v":0},{"$f":"SUM(E42:E44)","v":0},0,0,0,0,0,0,0,0]
[]
["Economic",6]
["Inflation/inflation outlook (CPIX)"]
["Interest rate - borrowing"]
["Interest rate - investment"]
["Remuneration increases"]
["Consumption growth (electricity)"]
["Consumption growth (water)"]
[]
["Collection rates",7]
["Property tax/service charges"]
["Rental of facilities & equipment"]
["Interest - external investments"]
["Interest - debtors"]
["Revenue from agency services"]
[]
["Detail on the provision of municipal services for A10"]
["Total municipal services",null,null,null,{"$f":"head1b","v":"2021/22"},{"$f":"head1A","v":"2022/23"},{"$f":"Head1","v":"2023/24"},{"$f":"Head2","v":"Current Year 2024/25"},null,null,{"$f":"Head3","v":"2025/26 Medium Term Revenue & Expenditure Framework"}]
[null,"Ref.",null,null,{"$f":"Head5A","v":"Outcome"},{"$f":"Head5A","v":"Outcome"},{"$f":"Head5A","v":"Outcome"},{"$f":"Head6","v":"Original Budget"},{"$f":"Head7","v":"Adjusted Budget"},{"$f":"Head8","v":"Full Year Forecast"},{"$f":"Head9","v":"Budget Year 2025/26"},{"$f":"Head10","v":"Budget Year +1 2026/27"},{"$f":"Head11","v":"Budget Year +2 2027/28"}]
[null,null,"Household service targets (000)"]
[null,null,"Water:"]
[null,null,"Piped water inside dwelling",null,{"$f":"E113+E159+E205","v":0},{"$f":"F113+F159+F205","v":0},0,0,0,0,0,0,0]
[null,null,"Piped water inside yard (but not in dwelling)",null,{"$f":"E114+E160+E206","v":0},{"$f":"F114+F160+F206","v":0},0,0,0,0,0,0,0]
[null,8,"Using public tap (at least min.service level)",null,{"$f":"E115+E161+E207","v":0},0,0,0,0,0,0,0,0]
[null,10,"Other water supply (at least min.service level)",null,{"$f":"E116+E162+E208","v":0},0,0,0,0,0,0,0,0]
[null,null,"Minimum Service Level and Above sub-total",null,{"$f":"SUM(E67:E70)","v":0},{"$f":"SUM(F67:F70)","v":0},0,0,0,0,0,0,0]
[null,9,"Using public tap (< min.service level)",null,{"$f":"E118+E164+E210","v":0},{"$f":"F118+F164+F210","v":0},0,0,0,0,0,0,0]
[null,10,"Other water supply (< min.service level)",null,{"$f":"E119+E165+E211","v":0},0,0,0,0,0,0,0,0]
[null,null,"No water supply",null,0,0,0,0,0,0,0,0,0]
[null,null,"Below Minimum Service Level sub-total",null,{"$f":"SUM(E72:E74)","v":0},{"$f":"SUM(F72:F74)","v":0},0,0,0,0,0,0,0]
[null,null,"Total number of households",null,{"$f":"E71+E75","v":0},{"$f":"F71+F75","v":0},0,0,0,0,0,0,0]
[null,null,"Sanitation/sewerage:"]
[null,null,"Flush toilet (connected to sewerage)",null,{"$f":"E124+E170+E216","v":0},{"$f":"F124+F170+F216","v":0},0,0,0,0,0,0,0]
[null,null,"Flush toilet (with septic tank)",null,{"$f":"E125+E171+E217","v":0},{"$f":"F125+F171+F217","v":0},0,0,0,0,0,0,0]
[null,null,"Chemical toilet",null,{"$f":"E126+E172+E218","v":0},{"$f":"F126+F172+F218","v":0},0,0,0,0,0,0,0]
[null,null,"Pit toilet (ventilated)",null,{"$f":"E127+E173+E219","v":0},{"$f":"F127+F173+F219","v":0},0,0,0,0,0,0,0]
[null,null,"Other toilet provisions (> min.service level)",null,{"$f":"E128+E174+E220","v":0},{"$f":"F128+F174+F220","v":0},0,0,0,0,0,0,0]
[null,null,"Minimum Service Level and Above sub-total",null,{"$f":"SUM(E78:E82)","v":0},{"$f":"SUM(F78:F82)","v":0},0,0,0,0,0,0,0]
[null,null,"Bucket toilet",null,{"$f":"E130+E176+E222","v":0},{"$f":"F130+F176+F222","v":0},0,0,0,0,0,0,0]
[null,null,"Other toilet provisions (< min.service level)",null,{"$f":"E131+E177+E223","v":0},{"$f":"F131+F177+F223","v":0},0,0,0,0,0,0,0]
[null,null,"No toilet provisions",null,{"$f":"E132+E178+E224","v":0},0,0,0,0,0,0,0,0]
[null,null,"Below Minimum Service Level sub-total",null,{"$f":"SUM(E84:E86)","v":0},{"$f":"SUM(F84:F86)","v":0},0,0,0,0,0,0,0]
[null,null,"Total number of households",null,{"$f":"E83+E87","v":0},{"$f":"F83+F87","v":0},0,0,0,0,0,0,0]
[null,null,"Energy:"]
[null,null,"Electricity (at least min.service level)",null,{"$f":"E136+E182+E228","v":0},{"$f":"F136+F182+F228","v":0},0,0,0,0,0,0,0]
[null,null,"Electricity - prepaid (min.service level)",null,{"$f":"E137+E183+E229","v":0},{"$f":"F137+F183+F229","v":0},0,0,0,0,0,0,0]
[null,null,"Minimum Service Level and Above sub-total",null,{"$f":"SUM(E90:E91)","v":0},{"$f":"SUM(F90:F91)","v":0},0,0,0,0,0,0,0]
[null,null,"Electricity (< min.service level)",null,{"$f":"E139+E185+E231","v":0},{"$f":"F139+F185+F231","v":0},0,0,0,0,0,0,0]
[null,null,"Electricity - prepaid (< min. service level)",null,{"$f":"E140+E186+E232","v":0},{"$f":"F140+F186+F232","v":0},0,0,0,0,0,0,0]
[null,null,"Other energy sources",null,{"$f":"E141+E187+E233","v":0},{"$f":"F141+F187+F233","v":0},0,0,0,0,0,0,0]
[null,null,"Below Minimum Service Level sub-total",null,{"$f":"SUM(E93:E95)","v":0},{"$f":"SUM(F93:F95)","v":0},0,0,0,0,0,0,0]
[null,null,"Total number of households",null,{"$f":"E92+E96","v":0},{"$f":"F92+F96","v":0},0,0,0,0,0,0,0]
[null,null,"Refuse:"]
[null,null,"Removed at least once a week",null,{"$f":"E145+E191+E237","v":0},{"$f":"F145+F191+F237","v":0},0,0,0,0,0,0,0]
[null,null,"Minimum Service Level and Above sub-total",null,{"$f":"SUM(E99)","v":0},{"$f":"SUM(F99)","v":0},0,0,0,0,0,0,0]
[null,null,"Removed less frequently than once a week",null,{"$f":"E147+E193+E239","v":0},{"$f":"F147+F193+F239","v":0},0,0,0,0,0,0,0]
[null,null,"Using communal refuse dump",null,{"$f":"E148+E194+E240","v":0},{"$f":"F148+F194+F240","v":0},0,0,0,0,0,0,0]
[null,null,"Using own refuse dump",null,{"$f":"E149+E195+E241","v":0},{"$f":"F149+F195+F241","v":0},0,0,0,0,0,0,0]
[null,null,"Other rubbish disposal",null,{"$f":"E150+E196+E242","v":0},{"$f":"F150+F196+F242","v":0},0,0,0,0,0,0,0]
[null,null,"No rubbish disposal",null,{"$f":"E151+E197+E243","v":0},{"$f":"F151+F197+F243","v":0},0,0,0,0,0,0,0]
[null,null,"Below Minimum Service Level sub-total",null,{"$f":"SUM(E101:E105)","v":0},0,0,0,0,0,0,0,0]
[null,null,"Total number of households",null,{"$f":"E100+E106","v":0},{"$f":"F100+F106","v":0},0,0,0,0,0,0,0]
[]
["Municipal in-house services",null,null,null,{"$f":"head1b","v":"2021/22"},{"$f":"head1A","v":"2022/23"},{"$f":"Head1","v":"2023/24"},{"$f":"Head2","v":"Current Year 2024/25"},null,null,{"$f":"Head3","v":"2025/26 Medium Term Revenue & Expenditure Framework"}]
[null,"Ref.",null,null,{"$f":"Head5A","v":"Outcome"},{"$f":"Head5A","v":"Outcome"},{"$f":"Head5A","v":"Outcome"},{"$f":"Head6","v":"Original Budget"},{"$f":"Head7","v":"Adjusted Budget"},{"$f":"Head8","v":"Full Year Forecast"},{"$f":"Head9","v":"Budget Year 2025/26"},{"$f":"Head10","v":"Budget Year +1 2026/27"},{"$f":"Head11","v":"Budget Year +2 2027/28"}]
[null,null,"Household service targets (000)"]
[null,null,"Water:"]
[null,null,"Piped water inside dwelling"]
[null,null,"Piped water inside yard (but not in dwelling)"]
[null,8,"Using public tap (at least min.service level)"]
[null,10,"Other water supply (at least min.service level)"]
[null,null,"Minimum Service Level and Above sub-total",null,{"$f":"SUM(E113:E116)","v":0},{"$f":"SUM(F113:F116)","v":0},0,0,0,0,0,0,0]
[null,9,"Using public tap (< min.service level)"]
[null,10,"Other water supply (< min.service level)"]
[null,null,"No water supply"]
[null,null,"Below Minimum Service Level sub-total",null,{"$f":"SUM(E118:E120)","v":0},{"$f":"SUM(F118:F120)","v":0},0,0,0,0,0,0,0]
[null,null,"Total number of households",null,{"$f":"E117+E121","v":0},{"$f":"F117+F121","v":0},0,0,0,0,0,0,0]
[null,null,"Sanitation/sewerage:"]
[null,null,"Flush toilet (connected to sewerage)"]
[null,null,"Flush toilet (with septic tank)"]
[null,null,"Chemical toilet"]
[null,null,"Pit toilet (ventilated)"]
[null,null,"Other toilet provisions (> min.service level)"]
[null,null,"Minimum Service Level and Above sub-total",null,{"$f":"SUM(E124:E128)","v":0},{"$f":"SUM(F124:F128)","v":0},0,0,0,0,0,0,0]
[null,null,"Bucket toilet"]
[null,null,"Other toilet provisions (< min.service level)"]
[null,null,"No toilet provisions"]
[null,null,"Below Minimum Service Level sub-total",null,{"$f":"SUM(E130:E132)","v":0},{"$f":"SUM(F130:F132)","v":0},0,0,0,0,0,0,0]
[null,null,"Total number of households",null,{"$f":"E129+E133","v":0},{"$f":"F129+F133","v":0},0,0,0,0,0,0,0]
[null,null,"Energy:"]
[null,null,"Electricity (at least min.service level)"]
[null,null,"Electricity - prepaid (min.service level)"]
[null,null,"Minimum Service Level and Above sub-total",null,{"$f":"SUM(E136:E137)","v":0},{"$f":"SUM(F136:F137)","v":0},0,0,0,0,0,0,0]
[null,null,"Electricity (< min.service level)"]
[null,null,"Electricity - prepaid (< min. service level)"]
[null,null,"Other energy sources"]
[null,null,"Below Minimum Service Level sub-total",null,{"$f":"SUM(E139:E141)","v":0},{"$f":"SUM(F139:F141)","v":0},0,0,0,0,0,0,0]
[null,null,"Total number of households",null,{"$f":"E138+E142","v":0},{"$f":"F138+F142","v":0},0,0,0,0,0,0,0]
[null,null,"Refuse:"]
[null,null,"Removed at least once a week"]
[null,null,"Minimum Service Level and Above sub-total",null,{"$f":"SUM(E145)","v":0},{"$f":"SUM(F145)","v":0},0,0,0,0,0,0,0]
[null,null,"Removed less frequently than once a week"]
[null,null,"Using communal refuse dump"]
[null,null,"Using own refuse dump"]
[null,null,"Other rubbish disposal"]
[null,null,"No rubbish disposal"]
[null,null,"Below Minimum Service Level sub-total",null,{"$f":"SUM(E147:E151)","v":0},{"$f":"SUM(F147:F151)","v":0},0,0,0,0,0,0,0]
[null,null,"Total number of households",null,{"$f":"E146+E152","v":0},{"$f":"F146+F152","v":0},0,0,0,0,0,0,0]
[]
["Municipal entity services",null,null,null,{"$f":"head1b","v":"2021/22"},{"$f":"head1A","v":"2022/23"},{"$f":"Head1","v":"2023/24"},{"$f":"Head2","v":"Current Year 2024/25"},null,null,{"$f":"Head3","v":"2025/26 Medium Term Revenue & Expenditure Framework"}]
[null,"Ref.",null,null,{"$f":"Head5A","v":"Outcome"},{"$f":"Head5A","v":"Outcome"},{"$f":"Head5A","v":"Outcome"},{"$f":"Head6","v":"Original Budget"},{"$f":"Head7","v":"Adjusted Budget"},{"$f":"Head8","v":"Full Year Forecast"},{"$f":"Head9","v":"Budget Year 2025/26"},{"$f":"Head10","v":"Budget Year +1 2026/27"},{"$f":"Head11","v":"Budget Year +2 2027/28"}]
[null,null,"Household service targets (000)"]
["Name of municipal entity",null,"Water:"]
[null,null,"Piped water inside dwelling"]
[null,null,"Piped water inside yard (but not in dwelling)"]
[null,8,"Using public tap (at least min.service level)"]
[null,10,"Other water supply (at least min.service level)"]
[null,null,"Minimum Service Level and Above sub-total",null,{"$f":"SUM(E159:E162)","v":0},{"$f":"SUM(F159:F162)","v":0},0,0,0,0,0,0,0]
[null,9,"Using public tap (< min.service level)"]
[null,10,"Other water supply (< min.service level)"]
[null,null,"No water supply"]
[null,null,"Below Minimum Service Level sub-total",null,{"$f":"SUM(E164:E166)","v":0},{"$f":"SUM(F164:F166)","v":0},0,0,0,0,0,0,0]
[null,null,"Total number of households",null,{"$f":"E163+E167","v":0},{"$f":"F163+F167","v":0},0,0,0,0,0,0,0]
["Name of municipal entity",null,"Sanitation/sewerage:"]
[null,null,"Flush toilet (connected to sewerage)"]
[null,null,"Flush toilet (with septic tank)"]
[null,null,"Chemical toilet"]
[null,null,"Pit toilet (ventilated)"]
[null,null,"Other toilet provisions (> min.service level)"]
[null,null,"Minimum Service Level and Above sub-total",null,{"$f":"SUM(E170:E174)","v":0},{"$f":"SUM(F170:F174)","v":0},0,0,0,0,0,0,0]
[null,null,"Bucket toilet"]
[null,null,"Other toilet provisions (< min.service level)"]
[null,null,"No toilet provisions"]
[null,null,"Below Minimum Service Level sub-total",null,{"$f":"SUM(E176:E178)","v":0},{"$f":"SUM(F176:F178)","v":0},0,0,0,0,0,0,0]
[null,null,"Total number of households",null,{"$f":"E175+E179","v":0},{"$f":"F175+F179","v":0},0,0,0,0,0,0,0]
["Name of municipal entity",null,"Energy:"]
[null,null,"Electricity (at least min.service level)"]
[null,null,"Electricity - prepaid (min.service level)"]
[null,null,"Minimum Service Level and Above sub-total",null,{"$f":"SUM(E182:E183)","v":0},{"$f":"SUM(F182:F183)","v":0},0,0,0,0,0,0,0]
[null,null,"Electricity (< min.service level)"]
[null,null,"Electricity - prepaid (< min. service level)"]
[null,null,"Other energy sources"]
[null,null,"Below Minimum Service Level sub-total",null,{"$f":"SUM(E185:E187)","v":0},{"$f":"SUM(F185:F187)","v":0},0,0,0,0,0,0,0]
[null,null,"Total number of households",null,{"$f":"E184+E188","v":0},{"$f":"F184+F188","v":0},0,0,0,0,0,0,0]
["Name of municipal entity",null,"Refuse:"]
[null,null,"Removed at least once a week"]
[null,null,"Minimum Service Level and Above sub-total",null,{"$f":"SUM(E191)","v":0},{"$f":"SUM(F191)","v":0},0,0,0,0,0,0,0]
[null,null,"Removed less frequently than once a week"]
[null,null,"Using communal refuse dump"]
[null,null,"Using own refuse dump"]
[null,null,"Other rubbish disposal"]
[null,null,"No rubbish disposal"]
[null,null,"Below Minimum Service Level sub-total",null,{"$f":"SUM(E193:E197)","v":0},{"$f":"SUM(F193:F197)","v":0},0,0,0,0,0,0,0]
[null,null,"Total number of households",null,{"$f":"E192+E198","v":0},{"$f":"F192+F198","v":0},0,0,0,0,0,0,0]
[]
["Services provided by 'external mechanisms'",null,null,null,{"$f":"head1b","v":"2021/22"},{"$f":"head1A","v":"2022/23"},{"$f":"Head1","v":"2023/24"},{"$f":"Head2","v":"Current Year 2024/25"},null,null,{"$f":"Head3","v":"2025/26 Medium Term Revenue & Expenditure Framework"}]
[null,"Ref.",null,null,{"$f":"Head5A","v":"Outcome"},{"$f":"Head5A","v":"Outcome"},{"$f":"Head5A","v":"Outcome"},{"$f":"Head6","v":"Original Budget"},{"$f":"Head7","v":"Adjusted Budget"},{"$f":"Head8","v":"Full Year Forecast"},{"$f":"Head9","v":"Budget Year 2025/26"},{"$f":"Head10","v":"Budget Year +1 2026/27"},{"$f":"Head11","v":"Budget Year +2 2027/28"}]
["Names of service providers",null,"Household service targets (000)"]
[null,null,"Water:"]
[null,null,"Piped water inside dwelling"]
[null,null,"Piped water inside yard (but not in dwelling)"]
[null,8,"Using public tap (at least min.service level)"]
[null,10,"Other water supply (at least min.service level)"]
[null,null,"Minimum Service Level and Above sub-total",null,{"$f":"SUM(E205:E208)","v":0},{"$f":"SUM(F205:F208)","v":0},0,0,0,0,0,0,0]
[null,9,"Using public tap (< min.service level)"]
[null,10,"Other water supply (< min.service level)"]
[null,null,"No water supply"]
[null,null,"Below Minimum Service Level sub-total",null,{"$f":"SUM(E210:E212)","v":0},{"$f":"SUM(F210:F212)","v":0},0,0,0,0,0,0,0]
[null,null,"Total number of households",null,{"$f":"E209+E213","v":0},{"$f":"F209+F213","v":0},0,0,0,0,0,0,0]
["Names of service providers",null,"Sanitation/sewerage:"]
[null,null,"Flush toilet (connected to sewerage)"]
[null,null,"Flush toilet (with septic tank)"]
[null,null,"Chemical toilet"]
[null,null,"Pit toilet (ventilated)"]
[null,null,"Other toilet provisions (> min.service level)"]
[null,null,"Minimum Service Level and Above sub-total",null,{"$f":"SUM(E216:E220)","v":0},{"$f":"SUM(F216:F220)","v":0},0,0,0,0,0,0,0]
[null,null,"Bucket toilet"]
[null,null,"Other toilet provisions (< min.service level)"]
[null,null,"No toilet provisions"]
[null,null,"Below Minimum Service Level sub-total",null,{"$f":"SUM(E222:E224)","v":0},{"$f":"SUM(F222:F224)","v":0},0,0,0,0,0,0,0]
[null,null,"Total number of households",null,{"$f":"E221+E225","v":0},{"$f":"F221+F225","v":0},0,0,0,0,0,0,0]
["Names of service providers",null,"Energy:"]
[null,null,"Electricity (at least min.service level)"]
[null,null,"Electricity - prepaid (min.service level)"]
[null,null,"Minimum Service Level and Above sub-total",null,{"$f":"SUM(E228:E229)","v":0},{"$f":"SUM(F228:F229)","v":0},0,0,0,0,0,0,0]
[null,null,"Electricity (< min.service level)"]
[null,null,"Electricity - prepaid (< min. service level)"]
[null,null,"Other energy sources"]
[null,null,"Below Minimum Service Level sub-total",null,{"$f":"SUM(E231:E233)","v":0},{"$f":"SUM(F231:F233)","v":0},0,0,0,0,0,0,0]
[null,null,"Total number of households",null,{"$f":"E230+E234","v":0},{"$f":"F230+F234","v":0},0,0,0,0,0,0,0]
["Names of service providers",null,"Refuse:"]
[null,null,"Removed at least once a week"]
[null,null,"Minimum Service Level and Above sub-total",null,{"$f":"SUM(E237)","v":0},{"$f":"SUM(F237)","v":0},0,0,0,0,0,0,0]
[null,null,"Removed less frequently than once a week"]
[null,null,"Using communal refuse dump"]
[null,null,"Using own refuse dump"]
[null,null,"Other rubbish disposal"]
[null,null,"No rubbish disposal"]
[null,null,"Below Minimum Service Level sub-total",null,{"$f":"SUM(E239:E243)","v":0},{"$f":"SUM(F239:F243)","v":0},0,0,0,0,0,0,0]
[null,null,"Total number of households",null,{"$f":"E238+E244","v":0},{"$f":"F238+F244","v":0},0,0,0,0,0,0,0]
[]
["Detail of Free Basic Services (FBS) provided",null,null,null,{"$f":"head1b","v":"2021/22"},{"$f":"head1A","v":"2022/23"},{"$f":"Head1","v":"2023/24"},{"$f":"Head2","v":"Current Year 2024/25"},null,null,{"$f":"Head3","v":"2025/26 Medium Term Revenue & Expenditure Framework"}]
[null,null,null,null,{"$f":"Head5A","v":"Outcome"},{"$f":"Head5A","v":"Outcome"},{"$f":"Head5A","v":"Outcome"},{"$f":"Head6","v":"Original Budget"},{"$f":"Head7","v":"Adjusted Budget"},{"$f":"Head8","v":"Full Year Forecast"},{"$f":"Head9","v":"Budget Year 2025/26"},{"$f":"Head10","v":"Budget Year +1 2026/27"},{"$f":"Head11","v":"Budget Year +2 2027/28"}]
["Electricity","Ref.","Location of households for each type of FBS"]
["List type of FBS service",null,"Formal settlements -  (50 kwh per indigent household per month Rands)",null,2140626.52,0,-58462083.039999999,21638167,21638167,21638167,22568608,23606764,24645462]
[null,null,"Number of HH receiving this type of FBS"]
[null,null,"Informal settlements (Rands)"]
[null,null,"Number of HH receiving this type of FBS"]
[null,null,"Informal settlements targeted for upgrading (Rands)"]
[null,null,"Number of HH receiving this type of FBS"]
[null,null,"Living in informal backyard rental agreement (Rands)"]
[null,null,"Number of HH receiving this type of FBS"]
[null,null,"Other (Rands)"]
[null,null,"Number of HH receiving this type of FBS"]
[null,null,"Total cost of FBS - Electricity for informal settlements",null,{"$f":"E252+E254+E256+E258","v":0},{"$f":"F252+F254+F256+F258","v":0},{"$f":"G252+G254+G256+G258","v":0},0,0,0,0,0,0]
["Water","Ref.","Location of households for each type of FBS"]
["List type of FBS service",null,"Formal settlements -  (6 kilolitre per indigent household per month Rands)",null,0,37891.06,92411.14,67699,67699,67699,70813,73999,73999]
[null,null,"Number of HH receiving this type of FBS"]
[null,null,"Informal settlements (Rands)"]
[null,null,"Number of HH receiving this type of FBS"]
[null,null,"Informal settlements targeted for upgrading (Rands)"]
[null,null,"Number of HH receiving this type of FBS"]
[null,null,"Living in informal backyard rental agreement (Rands)"]
[null,null,"Number of HH receiving this type of FBS"]
[null,null,"Other (Rands)"]
[null,null,"Number of HH receiving this type of FBS"]
[null,null,"Total cost of FBS - Water  for informal settlements",null,{"$f":"E264+E266+E268+E270","v":0},{"$f":"F264+F266+F268+F270","v":0},0,0,0,0,0,0,0]
["Sanitation","Ref.","Location of households for each type of FBS"]
["List type of FBS service",null,"Formal settlements -  (free sanitation service to indigent households)",null,0,0,0,88009,88009,88009,92057,96200,96200]
[null,null,"Number of HH receiving this type of FBS"]
[null,null,"Informal settlements (Rands)"]
[null,null,"Number of HH receiving this type of FBS"]
[null,null,"Informal settlements targeted for upgrading (Rands)"]
[null,null,"Number of HH receiving this type of FBS"]
[null,null,"Living in informal backyard rental agreement (Rands)"]
[null,null,"Number of HH receiving this type of FBS"]
[null,null,"Other (Rands)"]
[null,null,"Number of HH receiving this type of FBS"]
[null,null,"Total cost of FBS - Sanitation for informal settlements",null,{"$f":"E276+E278+E280+E282","v":0},{"$f":"F276+F278+F280+F282","v":0},0,0,0,0,0,0,0]
["Refuse Removal","Ref.","Location of households for each type of FBS"]
["List type of FBS service",null,"Formal settlements -  (removed once a week to indigent households)",null,0,0,0,97552,97552,97552,102039,106631,106631]
[null,null,"Number of HH receiving this type of FBS"]
[null,null,"Informal settlements (Rands)"]
[null,null,"Number of HH receiving this type of FBS"]
[null,null,"Informal settlements targeted for upgrading (Rands)"]
[null,null,"Number of HH receiving this type of FBS"]
[null,null,"Living in informal backyard rental agreement (Rands)"]
[null,null,"Number of HH receiving this type of FBS"]
[null,null,"Other (Rands)"]
[null,null,"Number of HH receiving this type of FBS"]
[null,null,"Total cost of FBS - Refuse Removal for informal settlements",null,{"$f":"E288+E290+E292+E294","v":0},{"$f":"F288+F290+F292+F294","v":0},0,0,0,0,0,0,0]
[{"$f":"head27a","v":"References"}]
["1. Monthly household income threshold. Should include all sources of income."]
["2. Show the poverty analysis the municipality uses to determine its indigents policy and the provision of services"]
["3. Include total of all housing units within the municipality"]
["4. Number of subsidised dwellings to be constructed by the municipality under agency agreement with province"]
["5. Provide estimate based on building approval information. Include any non-subsidised dwellings constructed by the municipality"]
["6. Insert actual or estimated % increases assumed as a basis for budget calculations"]
["7. Insert actual or estimated % collection rate assumed as a basis for budget calculations for each revenue group"]
["8. Stand distance <= 200m from dwelling"]
["9. Stand distance > 200m from dwelling"]
["10. Borehole, spring, rain-water tank etc."]
["11. Must agree to total number of households in municipal area"]
["12. Household income categories assume an average 4 person household. Stats SA - Census 2011 Questionnaire"]
["13. Based on National poverty line of R515 per capita per month (2008 prices), assuming an average household size of 4 persons"]

{"sheet":"SA10","index":30,"n_rows":138,"n_cols":13,"rows_kept":138,"cut":false,"hidden":false,"merged":[[1,0,2,0],[1,10,1,12],[1,1,2,1],[1,2,2,2],[1,6,1,9]]}
[{"$f":"muni &\" \" & TableA10","v":"Choose name from list Supporting Table SA10 Funding measurement"}]
[{"$f":"desc","v":"Description"},"MFMA section",{"$f":"head27","v":"Ref"},{"$f":"head1b","v":"2021/22"},{"$f":"head1A","v":"2022/23"},{"$f":"Head1","v":"2023/24"},{"$f":"Head2","v":"Current Year 2024/25"},null,null,null,{"$f":"Head3","v":"2025/26 Medium Term Revenue & Expenditure Framework"}]
[null,null,null,{"$f":"Head5","v":"Audited Outcome"},{"$f":"Head5","v":"Audited Outcome"},{"$f":"Head5","v":"Audited Outcome"},{"$f":"Head6","v":"Original Budget"},{"$f":"Head7","v":"Adjusted Budget"},{"$f":"Head8","v":"Full Year Forecast"},{"$f":"Head5b","v":"Pre-audit outcome"},{"$f":"Head9","v":"Budget Year 2025/26"},{"$f":"Head10","v":"Budget Year +1 2026/27"},{"$f":"Head11","v":"Budget Year +2 2027/28"}]
["Funding measures"]
[{"$f":"LEFT('A7-CFlow'!A40,37)&\" - R'000\"","v":"Cash/cash equivalents at the year end - R'000"},"18(1)b",1,{"$f":"'A7-CFlow'!C40","v":-48791120.939999998},{"$f":"'A7-CFlow'!D40","v":468705590.4799999},{"$f":"'A7-CFlow'!E40","v":870766847.30000007},{"$f":"'A7-CFlow'!F40","v":519237439},{"$f":"'A7-CFlow'!G40","v":424549313},{"$f":"'A7-CFlow'!H40","v":424549313},{"$f":"'A7-CFlow'!I40","v":424549313},{"$f":"'A7-CFlow'!J40","v":65824481},{"$f":"'A7-CFlow'!K40","v":74490405},{"$f":"'A7-CFlow'!L40","v":102524091}]
["Cash + investments at the yr end less applications - R'000","18(1)b",2,{"$f":"'A8-ResRecon'!C8-'A8-ResRecon'!C18","v":-173393660.24000001},{"$f":"'A8-ResRecon'!D8-'A8-ResRecon'!D18","v":-13600204.659999996},{"$f":"'A8-ResRecon'!E8-'A8-ResRecon'!E18","v":325058674.26000005},{"$f":"'A8-ResRecon'!F8-'A8-ResRecon'!F18","v":114637877},{"$f":"'A8-ResRecon'!G8-'A8-ResRecon'!G18","v":50824416},{"$f":"'A8-ResRecon'!H8-'A8-ResRecon'!H18","v":50824416},{"$f":"'A8-ResRecon'!I8-'A8-ResRecon'!I18","v":48907416},{"$f":"'A8-ResRecon'!J8-'A8-ResRecon'!J18","v":202507272},{"$f":"'A8-ResRecon'!K8-'A8-ResRecon'!K18","v":236323188},{"$f":"'A8-ResRecon'!L8-'A8-ResRecon'!L18","v":254524227}]
["Cash year end/monthly employee/supplier payments","18(1)b",3,{"$f":"IF(ISERROR('SA8'!C43),0,('SA8'!C43))","v":-0.94003056104374749},{"$f":"IF(ISERROR('SA8'!D43),0,('SA8'!D43))","v":8.6908291973559511},{"$f":"IF(ISERROR('SA8'!E43),0,('SA8'!E43))","v":16.176533732912976},{"$f":"IF(ISERROR('SA8'!F43),0,('SA8'!F43))","v":9.6460516077514704},{"$f":"IF(ISERROR('SA8'!G43),0,('SA8'!G43))","v":7.8869978850531846},{"$f":"IF(ISERROR('SA8'!H43),0,('SA8'!H43))","v":7.187821033175732},{"$f":"IF(ISERROR('SA8'!I43),0,('SA8'!I43))","v":6.8741085443983279},{"$f":"IF(ISERROR('SA8'!J43),0,('SA8'!J43))","v":1.0276692196155846},{"$f":"IF(ISERROR('SA8'!K43),0,('SA8'!K43))","v":0},{"$f":"IF(ISERROR('SA8'!L43),0,('SA8'!L43))","v":0}]
["Surplus/(Deficit) excluding depreciation offsets: R'000","18(1)",4,{"$f":"'A4-FinPerf RE'!C52+'SA3'!C180","v":-103420383.29000004},{"$f":"'A4-FinPerf RE'!D52+'SA3'!D180","v":-71960455.810000122},{"$f":"'A4-FinPerf RE'!E52+'SA3'!E180","v":72789437.240000024},{"$f":"'A4-FinPerf RE'!F52+'SA3'!F180","v":196816939},{"$f":"'A4-FinPerf RE'!G52+'SA3'!G180","v":200391553},{"$f":"'A4-FinPerf RE'!H52+'SA3'!H180","v":200391553},{"$f":"'A4-FinPerf RE'!I52+'SA3'!I180","v":222282980},{"$f":"'A4-FinPerf RE'!J52+'SA3'!J180","v":120042157},{"$f":"'A4-FinPerf RE'!K52+'SA3'!K180","v":144453827},{"$f":"'A4-FinPerf RE'!L52+'SA3'!L180","v":152403121}]
["Service charge rev % change - macro CPIX target exclusive","18(1)a,(2)",5,"N.A.",{"$f":"IF(ISERROR(E36-E61),0,(E36-E61))","v":0.23119315390808032},{"$f":"IF(ISERROR(F36-F61),0,(F36-F61))","v":0.44240010574255223},0.17097363068917254,-0.11649448821413083,-0.06,-1.4990167339350158E-2,{"$f":"IF(ISERROR(K36-K61),0,(K36-K61))","v":4.3545054625730384E-2},-1.3999999232390203E-2,-1.5999991364764543E-2]
["Cash receipts % of Ratepayer & Other revenue","18(1)a,(2)",6,{"$f":"IF(ISERROR(D53/D54),0,(D53/D54))","v":0},{"$f":"IF(ISERROR(E53/E54),0,(E53/E54))","v":4.7161597658018903E-2},1.4513766769051673,0.45212138974666138,0.48309302572480611,0.48309302572480611,0.47430466604798882,1.1193423689388482,1.1183600482027152,1.1134010303986517]
["Debt impairment expense as a % of total billable revenue","18(1)a,(2)",7,{"$f":"IF(ISERROR('A4-FinPerf RE'!C39/'SA10'!D43),0,('A4-FinPerf RE'!C39/'SA10'!D43))","v":0},{"$f":"IF(ISERROR('A4-FinPerf RE'!D39/'SA10'!E43),0,('A4-FinPerf RE'!D39/'SA10'!E43))","v":0},{"$f":"IF(ISERROR('A4-FinPerf RE'!E39/'SA10'!F43),0,('A4-FinPerf RE'!E39/'SA10'!F43))","v":0.22716155844452507},{"$f":"IF(ISERROR('A4-FinPerf RE'!F39/'SA10'!G43),0,('A4-FinPerf RE'!F39/'SA10'!G43))","v":6.542438973377683E-2},{"$f":"IF(ISERROR('A4-FinPerf RE'!G39/'SA10'!H43),0,('A4-FinPerf RE'!G39/'SA10'!H43))","v":7.9622060150509072E-2},{"$f":"IF(ISERROR('A4-FinPerf RE'!H39/'SA10'!I43),0,('A4-FinPerf RE'!H39/'SA10'!I43))","v":7.9622060150509072E-2},{"$f":"IF(ISERROR('A4-FinPerf RE'!I39/'SA10'!J43),0,('A4-FinPerf RE'!I39/'SA10'!J43))","v":7.6192642080493284E-2},{"$f":"IF(ISERROR('A4-FinPerf RE'!J39/'SA10'!K43),0,('A4-FinPerf RE'!J39/'SA10'!K43))","v":9.7484248899781425E-2},{"$f":"IF(ISERROR('A4-FinPerf RE'!K39/'SA10'!L43),0,('A4-FinPerf RE'!K39/'SA10'!L43))","v":9.7054373348836293E-2},{"$f":"IF(ISERROR('A4-FinPerf RE'!L39/'SA10'!M43),0,('A4-FinPerf RE'!L39/'SA10'!M43))","v":8.833475091920262E-2}]
["Capital payments % of capital expenditure","18(1)c;19",8,{"$f":"IF(ISERROR(-'A7-CFlow'!C26/'A5-Capex'!C63),0,(-'A7-CFlow'!C26/'A5-Capex'!C63))","v":0},{"$f":"IF(ISERROR(-'A7-CFlow'!D26/'A5-Capex'!D63),0,(-'A7-CFlow'!D26/'A5-Capex'!D63))","v":0},{"$f":"IF(ISERROR(-'A7-CFlow'!E26/'A5-Capex'!E63),0,(-'A7-CFlow'!E26/'A5-Capex'!E63))","v":0},{"$f":"IF(ISERROR(-'A7-CFlow'!F26/'A5-Capex'!F63),0,(-'A7-CFlow'!F26/'A5-Capex'!F63))","v":0},{"$f":"IF(ISERROR(-'A7-CFlow'!G26/'A5-Capex'!G63),0,(-'A7-CFlow'!G26/'A5-Capex'!G63))","v":0},{"$f":"IF(ISERROR(-'A7-CFlow'!H26/'A5-Capex'!H63),0,(-'A7-CFlow'!H26/'A5-Capex'!H63))","v":0},{"$f":"IF(ISERROR(-'A7-CFlow'!I26/'A5-Capex'!I63),0,(-'A7-CFlow'!I26/'A5-Capex'!I63))","v":0},{"$f":"IF(ISERROR(-'A7-CFlow'!J26/'A5-Capex'!J63),0,(-'A7-CFlow'!J26/'A5-Capex'!J63))","v":1.1500000123484897},{"$f":"IF(ISERROR(-'A7-CFlow'!K26/'A5-Capex'!K63),0,(-'A7-CFlow'!K26/'A5-Capex'!K63))","v":1.1499999980524629},{"$f":"IF(ISERROR(-'A7-CFlow'!L26/'A5-Capex'!L63),0,(-'A7-CFlow'!L26/'A5-Capex'!L63))","v":1.1499999873449909}]
["Borrowing receipts % of capital expenditure (excl. transfers)","18(1)c",9,{"$f":"IF(ISERROR('A7-CFlow'!C32/'SA10'!D52),0,('A7-CFlow'!C32/'SA10'!D52))","v":0},{"$f":"IF(ISERROR('A7-CFlow'!D32/'SA10'!E52),0,('A7-CFlow'!D32/'SA10'!E52))","v":0},{"$f":"IF(ISERROR('A7-CFlow'!E32/'SA10'!F52),0,('A7-CFlow'!E32/'SA10'!F52))","v":0},{"$f":"IF(ISERROR('A7-CFlow'!F32/'SA10'!G52),0,('A7-CFlow'!F32/'SA10'!G52))","v":0},{"$f":"IF(ISERROR('A7-CFlow'!G32/'SA10'!H52),0,('A7-CFlow'!G32/'SA10'!H52))","v":0},{"$f":"IF(ISERROR('A7-CFlow'!H32/'SA10'!I52),0,('A7-CFlow'!H32/'SA10'!I52))","v":0},{"$f":"IF(ISERROR('A7-CFlow'!I32/'SA10'!J52),0,('A7-CFlow'!I32/'SA10'!J52))","v":0},{"$f":"IF(ISERROR('A7-CFlow'!J32/'SA10'!K52),0,('A7-CFlow'!J32/'SA10'!K52))","v":0},{"$f":"IF(ISERROR('A7-CFlow'!K32/'SA10'!L52),0,('A7-CFlow'!K32/'SA10'!L52))","v":0},{"$f":"IF(ISERROR('A7-CFlow'!L32/'SA10'!M52),0,('A7-CFlow'!L32/'SA10'!M52))","v":0}]
["Grants % of Govt. legislated/gazetted allocations","18(1)a",10,null,null,null,null,null,null,null,{"$f":"IF(ISERROR(K56/K68),0,(K56/K68))","v":0},{"$f":"IF(ISERROR(L56/L68),0,(L56/L68))","v":0},{"$f":"IF(ISERROR(M56/M68),0,(M56/M68))","v":0}]
["Current consumer debtors % change - incr(decr)","18(1)a",11,"N.A.",{"$f":"IF(ISERROR(ROUND((SUM('A6-FinPos'!D7:D9)-SUM('A6-FinPos'!C7:C9))/SUM('A6-FinPos'!C7:C9),3)),0,(ROUND((SUM('A6-FinPos'!D7:D9)-SUM('A6-FinPos'!C7:C9))/SUM('A6-FinPos'!C7:C9),3)))","v":0.39600000000000002},{"$f":"IF(ISERROR(ROUND((SUM('A6-FinPos'!E7:E9)-SUM('A6-FinPos'!D7:D9))/SUM('A6-FinPos'!D7:D9),3)),0,(ROUND((SUM('A6-FinPos'!E7:E9)-SUM('A6-FinPos'!D7:D9))/SUM('A6-FinPos'!D7:D9),3)))","v":0.95399999999999996},{"$f":"IF(ISERROR(ROUND((SUM('A6-FinPos'!F7:F9)-SUM('A6-FinPos'!E7:E9))/SUM('A6-FinPos'!E7:E9),3)),0,(ROUND((SUM('A6-FinPos'!F7:F9)-SUM('A6-FinPos'!E7:E9))/SUM('A6-FinPos'!E7:E9),3)))","v":0.872},{"$f":"IF(ISERROR(ROUND((SUM('A6-FinPos'!G7:G9)-SUM('A6-FinPos'!F7:F9))/SUM('A6-FinPos'!F7:F9),3)),0,(ROUND((SUM('A6-FinPos'!G7:G9)-SUM('A6-FinPos'!F7:F9))/SUM('A6-FinPos'!F7:F9),3)))","v":-0.59699999999999998},{"$f":"IF(ISERROR(ROUND((SUM('A6-FinPos'!H7:H9)-SUM('A6-FinPos'!G7:G9))/SUM('A6-FinPos'!G7:G9),3)),0,(ROUND((SUM('A6-FinPos'!H7:H9)-SUM('A6-FinPos'!G7:G9))/SUM('A6-FinPos'!G7:G9),3)))","v":0},{"$f":"IF(ISERROR(ROUND((SUM('A6-FinPos'!I7:I9)-SUM('A6-FinPos'!H7:H9))/SUM('A6-FinPos'!H7:H9),3)),0,(ROUND((SUM('A6-FinPos'!I7:I9)-SUM('A6-FinPos'!H7:H9))/SUM('A6-FinPos'!H7:H9),3)))","v":0},{"$f":"IF(ISERROR(ROUND((SUM('A6-FinPos'!J7:J9)-SUM('A6-FinPos'!I7:I9))/SUM('A6-FinPos'!I7:I9),3)),0,(ROUND((SUM('A6-FinPos'!J7:J9)-SUM('A6-FinPos'!I7:I9))/SUM('A6-FinPos'!I7:I9),3)))","v":6.0000000000000001E-3},{"$f":"IF(ISERROR(ROUND((SUM('A6-FinPos'!K7:K9)-SUM('A6-FinPos'!J7:J9))/SUM('A6-FinPos'!J7:J9),3)),0,(ROUND((SUM('A6-FinPos'!K7:K9)-SUM('A6-FinPos'!J7:J9))/SUM('A6-FinPos'!J7:J9),3)))","v":-4.0000000000000001E-3},{"$f":"IF(ISERROR(ROUND((SUM('A6-FinPos'!L7:L9)-SUM('A6-FinPos'!K7:K9))/SUM('A6-FinPos'!K7:K9),3)),0,(ROUND((SUM('A6-FinPos'!L7:L9)-SUM('A6-FinPos'!K7:K9))/SUM('A6-FinPos'!K7:K9),3)))","v":-4.0000000000000001E-3}]
["Long term receivables % change - incr(decr)","18(1)a",12,"N.A.",{"$f":"IF(ISERROR(ROUND((SUM('A6-FinPos'!D22:D23)-SUM('A6-FinPos'!C22:C23))/SUM('A6-FinPos'!C22:C23),3)),0,(ROUND((SUM('A6-FinPos'!D22:D23)-SUM('A6-FinPos'!C22:C23))/SUM('A6-FinPos'!C22:C23),3)))","v":0},{"$f":"IF(ISERROR(ROUND((SUM('A6-FinPos'!E22:E23)-SUM('A6-FinPos'!D22:D23))/SUM('A6-FinPos'!D22:D23),3)),0,(ROUND((SUM('A6-FinPos'!E22:E23)-SUM('A6-FinPos'!D22:D23))/SUM('A6-FinPos'!D22:D23),3)))","v":0},{"$f":"IF(ISERROR(ROUND((SUM('A6-FinPos'!F22:F23)-SUM('A6-FinPos'!E22:E23))/SUM('A6-FinPos'!E22:E23),3)),0,(ROUND((SUM('A6-FinPos'!F22:F23)-SUM('A6-FinPos'!E22:E23))/SUM('A6-FinPos'!E22:E23),3)))","v":0},{"$f":"IF(ISERROR(ROUND((SUM('A6-FinPos'!G22:G23)-SUM('A6-FinPos'!F22:F23))/SUM('A6-FinPos'!F22:F23),3)),0,(ROUND((SUM('A6-FinPos'!G22:G23)-SUM('A6-FinPos'!F22:F23))/SUM('A6-FinPos'!F22:F23),3)))","v":0},{"$f":"IF(ISERROR(ROUND((SUM('A6-FinPos'!H22:H23)-SUM('A6-FinPos'!G22:G23))/SUM('A6-FinPos'!G22:G23),3)),0,(ROUND((SUM('A6-FinPos'!H22:H23)-SUM('A6-FinPos'!G22:G23))/SUM('A6-FinPos'!G22:G23),3)))","v":0},{"$f":"IF(ISERROR(ROUND((SUM('A6-FinPos'!I22:I23)-SUM('A6-FinPos'!H22:H23))/SUM('A6-FinPos'!H22:H23),3)),0,(ROUND((SUM('A6-FinPos'!I22:I23)-SUM('A6-FinPos'!H22:H23))/SUM('A6-FinPos'!H22:H23),3)))","v":0},{"$f":"IF(ISERROR(ROUND((SUM('A6-FinPos'!J22:J23)-SUM('A6-FinPos'!I22:I23))/SUM('A6-FinPos'!I22:I23),3)),0,(ROUND((SUM('A6-FinPos'!J22:J23)-SUM('A6-FinPos'!I22:I23))/SUM('A6-FinPos'!I22:I23),3)))","v":0},{"$f":"IF(ISERROR(ROUND((SUM('A6-FinPos'!K22:K23)-SUM('A6-FinPos'!J22:J23))/SUM('A6-FinPos'!J22:J23),3)),0,(ROUND((SUM('A6-FinPos'!K22:K23)-SUM('A6-FinPos'!J22:J23))/SUM('A6-FinPos'!J22:J23),3)))","v":0},{"$f":"IF(ISERROR(ROUND((SUM('A6-FinPos'!L22:L23)-SUM('A6-FinPos'!K22:K23))/SUM('A6-FinPos'!K22:K23),3)),0,(ROUND((SUM('A6-FinPos'!L22:L23)-SUM('A6-FinPos'!K22:K23))/SUM('A6-FinPos'!K22:K23),3)))","v":0}]
["R&M % of Property Plant & Equipment","20(1)(vi)",13,{"$f":"'A9-Asset'!C223","v":6.9785362329576632E-3},{"$f":"'A9-Asset'!D223","v":1.0564706624012009E-2},{"$f":"'A9-Asset'!E223","v":1.4436795713927985E-2},{"$f":"'A9-Asset'!F223","v":1.1082878499989466E-2},{"$f":"'A9-Asset'!G223","v":1.3463334994555775E-2},{"$f":"'A9-Asset'!H223","v":1.3463334994555775E-2},{"$f":"'A9-Asset'!I223","v":1.1088039984536469E-2},{"$f":"'A9-Asset'!J223","v":1.1297684909584016E-2},{"$f":"'A9-Asset'!K223","v":1.1463875423966463E-2},{"$f":"'A9-Asset'!L223","v":0}]
["Asset renewal % of capital budget",{"$f":"B17","v":"20(1)(vi)"},14,{"$f":"IF(ISERROR(D58/D57),0,(D58/D57))","v":0},8.6971107886741617E-3,0.20990336767914317,0.20279525172366322,0.20015737139255255,0.20015737139255255,0,3.1280687778206329E-3,6.4917907216496581E-2,{"$f":"IF(ISERROR(M58/M57),0,((M58/M57)))","v":8.7618757397504216E-2}]
[]
[{"$f":"head27a","v":"References"}]
["1. Positive cash balances indicative of minimum compliance - subject to 2"]
["2. Deduct cash and investment applications (defined) from cash balances"]
["3. Indicative of sufficient liquidity to meet average monthly operating payments"]
["4. Indicative of funded operational requirements"]
["5. Indicative of adherence to macro-economic targets (prior to 2003/04 revenue not available for high capacity municipalities and later for other capacity classifications)"]
["6. Realistic average cash collection forecasts as % of annual billed revenue"]
["7. Realistic average increase in debt impairment (doubtful debt) provision"]
["8. Indicative of planned capital expenditure level & cash payment timing"]
["9. Indicative of compliance with borrowing 'only' for the capital budget - should not exceed 100% unless refinancing"]
["10. Substantiation of National/Province allocations included in budget"]
["11. Indicative of realistic current arrear debtor collection targets (prior to 2003/04 revenue not available for high capacity municipalities and later for other capacity classifications)"]
["12. Indicative of realistic long term arrear debtor collection targets (prior to 2003/04 revenue not available for high capacity municipalities and later for other capacity classifications)"]
["13. Indicative of a credible allowance for repairs & maintenance of assets - functioning assets revenue protection"]
["14. Indicative of a credible allowance for asset renewal (requires analysis of asset renewal projects as % of total capital projects - detailed capital plan) - functioning assets revenue protection"]
["Supporting indicators"]
["% incr total service charges (incl prop rates)","18(1)a",null,{"$f":"IF(ISERROR((D44/C44)-1),0,((D44/C44)-1))","v":0},0.29119315390808032,{"$f":"IF(ISERROR((F44/E44)-1),0,((F44/E44)-1))","v":0.50240010574255223},{"$f":"IF(ISERROR((G44/F44)-1),0,((G44/F44)-1))","v":0.23097363068917254},{"$f":"IF(ISERROR((H44/G44)-1),0,((H44/G44)-1))","v":-5.6494488214130834E-2},{"$f":"IF(ISERROR((I44/H44)-1),0,((I44/H44)-1))","v":0},{"$f":"IF(ISERROR((J44/I44)-1),0,((J44/I44)-1))","v":4.500983266064984E-2},{"$f":"IF(ISERROR((K44/H44)-1),0,((K44/H44)-1))","v":0.10354505462573038},{"$f":"IF(ISERROR((L44/K44)-1),0,((L44/K44)-1))","v":4.6000000767609794E-2},{"$f":"IF(ISERROR((M44/L44)-1),0,((M44/L44)-1))","v":4.4000008635235455E-2}]
["% incr Property Tax","18(1)a",null,0,0,{"$f":"IF(ISERROR((F45/E45)-1),0,((F45/E45)-1))","v":-14.878111780492983},0.1023528135584213,0,0,0,{"$f":"IF(ISERROR((K45/H45)-1),0,((K45/H45)-1))","v":5.9999997304014618E-2},4.600000546079186E-2,4.399999550881728E-2]
[{"$f":"\"% incr \"&'A4-FinPerf RE'!A6","v":"% incr Service charges - Electricity"},"18(1)a",null,0,0.42780991148379033,1.5781028329563629E-2,0.37022239226475584,-0.1130700275621761,0,9.1951195513972239E-2,0.14999999022617083,4.5999997524209579E-2,{"$f":"IF(ISERROR((M46/L46)-1),0,((M46/L46)-1))","v":4.4000015769995793E-2}]
[{"$f":"\"% incr \"&'A4-FinPerf RE'!A7","v":"% incr Service charges - Water"},"18(1)a",null,0,0.21073907717744311,0.21270981726032412,0.10617898087005884,-2.7866800982789597E-2,0,9.703169080332863E-4,5.9999980794034569E-2,4.6000005381564568E-2,4.4000005584413193E-2]
[{"$f":"\"% incr \"&'A4-FinPerf RE'!A8","v":"% incr Service charges - Waste Water Management"},"18(1)a",null,0,4.2283662601453331E-2,5.8149387947868281E-2,0.15623349227481076,3.9042710834892524E-2,0,2.9176757864106673E-3,6.0000010608645127E-2,4.5999985675827082E-2,4.4000005621215532E-2]
[{"$f":"\"% incr \"&'A4-FinPerf RE'!A9","v":"% incr Service charges - Waste Management"},"18(1)a",null,0,0.24093220815056537,8.4711226428766828E-2,0.12127292309437565,7.4995229185294443E-2,0,3.9020684498773939E-3,5.999998240005211E-2,4.6000015547124073E-2,4.4000014141882371E-2]
[{"$f":"\"% incr in \"&'A4-FinPerf RE'!A10","v":"% incr in Sale of Goods and Rendering of Services"},"18(1)a",null,0,0,0,0,0,{"$f":"IF(ISERROR((I50/H50)-1),0,((I50/H50)-1))","v":0},0,0,{"$f":"IF(ISERROR((L50/K50)-1),0,((L50/K50)-1))","v":0},0]
["Total billable revenue","18(1)a",null,{"$f":"SUM(D45:D50)","v":215872172.53},{"$f":"SUM(E45:E50)","v":278732671.28999996},418767994.81999999,515492359,486369882,486369882,508261309,536731078,561420708,586123224]
["Service charges",null,null,{"$f":"SUM(D45:D50)","v":215872172.53},{"$f":"SUM(E45:E50)","v":278732671.28999996},418767994.81999999,515492359,486369882,486369882,{"$f":"SUM(J45:J50)","v":508261309},536731078,561420708,586123224]
["Property rates",null,null,{"$f":"'A4-FinPerf RE'!C22","v":0},{"$f":"'A4-FinPerf RE'!D22","v":-8243475.9000000004},{"$f":"'A4-FinPerf RE'!E22","v":114403880},{"$f":"'A4-FinPerf RE'!F22","v":126113439},{"$f":"'A4-FinPerf RE'!G22","v":126113439},{"$f":"'A4-FinPerf RE'!H22","v":126113439},{"$f":"'A4-FinPerf RE'!I22","v":126113439},{"$f":"'A4-FinPerf RE'!J22","v":133680245},{"$f":"'A4-FinPerf RE'!K22","v":139829537},{"$f":"'A4-FinPerf RE'!L22","v":145982036}]
["Service charges - electricity revenue",null,null,{"$f":"'A4-FinPerf RE'!C6","v":133509511.39},{"$f":"'A4-FinPerf RE'!D6","v":190626203.63999999},{"$f":"'A4-FinPerf RE'!E6","v":193634481.16},{"$f":"'A4-FinPerf RE'!F6","v":265322302},{"$f":"'A4-FinPerf RE'!G6","v":235322302},{"$f":"'A4-FinPerf RE'!H6","v":235322302},{"$f":"'A4-FinPerf RE'!I6","v":256960469},{"$f":"'A4-FinPerf RE'!J6","v":270620645},{"$f":"'A4-FinPerf RE'!K6","v":283069194},{"$f":"'A4-FinPerf RE'!L6","v":295524243}]
["Service charges - water revenue",null,null,{"$f":"'A4-FinPerf RE'!C7","v":44188577.859999999},{"$f":"'A4-FinPerf RE'!D7","v":53500837.979999997},{"$f":"'A4-FinPerf RE'!E7","v":64880991.450000003},{"$f":"'A4-FinPerf RE'!F7","v":71769989},{"$f":"'A4-FinPerf RE'!G7","v":69769989},{"$f":"'A4-FinPerf RE'!H7","v":69769989},{"$f":"'A4-FinPerf RE'!I7","v":69837688},{"$f":"'A4-FinPerf RE'!J7","v":73956187},{"$f":"'A4-FinPerf RE'!K7","v":77358172},{"$f":"'A4-FinPerf RE'!L7","v":80761932}]
["Service charges - sanitation revenue",null,null,{"$f":"'A4-FinPerf RE'!C8","v":22765552.48},{"$f":"'A4-FinPerf RE'!D8","v":23728163.420000002},{"$f":"'A4-FinPerf RE'!E8","v":25107941.600000001},{"$f":"'A4-FinPerf RE'!F8","v":29030643},{"$f":"'A4-FinPerf RE'!G8","v":30164078},{"$f":"'A4-FinPerf RE'!H8","v":30164078},{"$f":"'A4-FinPerf RE'!I8","v":30252087},{"$f":"'A4-FinPerf RE'!J8","v":31973923},{"$f":"'A4-FinPerf RE'!K8","v":33444723},{"$f":"'A4-FinPerf RE'!L8","v":34916291}]
["Service charges - refuse removal",null,null,{"$f":"'A4-FinPerf RE'!C9","v":15408530.800000001},{"$f":"'A4-FinPerf RE'!D9","v":19120942.149999999},{"$f":"'A4-FinPerf RE'!E9","v":20740700.609999999},{"$f":"'A4-FinPerf RE'!F9","v":23255986},{"$f":"'A4-FinPerf RE'!G9","v":25000074},{"$f":"'A4-FinPerf RE'!H9","v":25000074},{"$f":"'A4-FinPerf RE'!I9","v":25097626},{"$f":"'A4-FinPerf RE'!J9","v":26500078},{"$f":"'A4-FinPerf RE'!K9","v":27719082},{"$f":"'A4-FinPerf RE'!L9","v":28938722}]
[]
[{"$f":"'A4-FinPerf RE'!A11","v":"Agency services"},null,null,{"$f":"'A4-FinPerf RE'!C11","v":0},{"$f":"'A4-FinPerf RE'!D11","v":2910127.42},{"$f":"'A4-FinPerf RE'!E11","v":7643774.9500000002},{"$f":"'A4-FinPerf RE'!F11","v":9622787},{"$f":"'A4-FinPerf RE'!G11","v":12160042},{"$f":"'A4-FinPerf RE'!H11","v":12160042},{"$f":"'A4-FinPerf RE'!I11","v":12160042},{"$f":"'A4-FinPerf RE'!J11","v":12889645},{"$f":"'A4-FinPerf RE'!K11","v":13482568},{"$f":"'A4-FinPerf RE'!L11","v":14075801}]
["Capital expenditure excluding capital grant funding",null,null,{"$f":"'A5-Capex'!C63-'A5-Capex'!C70","v":25258899.110000014},{"$f":"'A5-Capex'!D63-'A5-Capex'!D70","v":10036721.109999999},{"$f":"'A5-Capex'!E63-'A5-Capex'!E70","v":17574175.920000017},{"$f":"'A5-Capex'!F63-'A5-Capex'!F70","v":30089200},{"$f":"'A5-Capex'!G63-'A5-Capex'!G70","v":44561921},{"$f":"'A5-Capex'!H63-'A5-Capex'!H70","v":44561921},{"$f":"'A5-Capex'!I63-'A5-Capex'!I70","v":44561921},{"$f":"'A5-Capex'!J63-'A5-Capex'!J70","v":40676347},{"$f":"'A5-Capex'!K63-'A5-Capex'!K70","v":11100002},{"$f":"'A5-Capex'!L63-'A5-Capex'!L70","v":800040}]
["Cash receipts from ratepayers","18(1)a",null,{"$f":"'A7-CFlow'!C6+'A7-CFlow'!C7+'A7-CFlow'!C8","v":0},{"$f":"'A7-CFlow'!D6+'A7-CFlow'!D7+'A7-CFlow'!D8","v":20000000},{"$f":"'A7-CFlow'!E6+'A7-CFlow'!E7+'A7-CFlow'!E8","v":1526934123.9200001},{"$f":"'A7-CFlow'!F6+'A7-CFlow'!F7+'A7-CFlow'!F8","v":533178128},{"$f":"'A7-CFlow'!G6+'A7-CFlow'!G7+'A7-CFlow'!G8","v":570761163},{"$f":"'A7-CFlow'!H6+'A7-CFlow'!H7+'A7-CFlow'!H8","v":570761163},{"$f":"'A7-CFlow'!I6+'A7-CFlow'!I7+'A7-CFlow'!I8","v":570761163},{"$f":"'A7-CFlow'!J6+'A7-CFlow'!J7+'A7-CFlow'!J8","v":627356931},{"$f":"'A7-CFlow'!K6+'A7-CFlow'!K7+'A7-CFlow'!K8","v":655639464},{"$f":"'A7-CFlow'!L6+'A7-CFlow'!L7+'A7-CFlow'!L8","v":681452460}]
["Ratepayer & Other revenue","18(1)a",null,{"$f":"SUM('A4-FinPerf RE'!C6:C11+'A4-FinPerf RE'!C18+'A4-FinPerf RE'!C20+SUM('A4-FinPerf RE'!C22:C25)+'A4-FinPerf RE'!C29)","v":319897425.76000005},{"$f":"SUM('A4-FinPerf RE'!D6:D11+'A4-FinPerf RE'!D18+'A4-FinPerf RE'!D20+SUM('A4-FinPerf RE'!D22:D25)+'A4-FinPerf RE'!D29)","v":424073843.82999998},{"$f":"SUM('A4-FinPerf RE'!E6:E11+'A4-FinPerf RE'!E18+'A4-FinPerf RE'!E20+SUM('A4-FinPerf RE'!E22:E25)+'A4-FinPerf RE'!E29)","v":1052059157.5000001},{"$f":"SUM('A4-FinPerf RE'!F6:F11+'A4-FinPerf RE'!F18+'A4-FinPerf RE'!F20+SUM('A4-FinPerf RE'!F22:F25)+'A4-FinPerf RE'!F29)","v":1179280919},{"$f":"SUM('A4-FinPerf RE'!G6:G11+'A4-FinPerf RE'!G18+'A4-FinPerf RE'!G20+SUM('A4-FinPerf RE'!G22:G25)+'A4-FinPerf RE'!G29)","v":1181472579},{"$f":"SUM('A4-FinPerf RE'!H6:H11+'A4-FinPerf RE'!H18+'A4-FinPerf RE'!H20+SUM('A4-FinPerf RE'!H22:H25)+'A4-FinPerf RE'!H29)","v":1181472579},{"$f":"SUM('A4-FinPerf RE'!I6:I11+'A4-FinPerf RE'!I18+'A4-FinPerf RE'!I20+SUM('A4-FinPerf RE'!I22:I25)+'A4-FinPerf RE'!I29)","v":1203364006},{"$f":"SUM('A4-FinPerf RE'!J6:J11)+'A4-FinPerf RE'!J18+'A4-FinPerf RE'!J20+SUM('A4-FinPerf RE'!J22:J25)+'A4-FinPerf RE'!J29","v":560469208},{"$f":"SUM('A4-FinPerf RE'!K6:K11)+'A4-FinPerf RE'!K18+'A4-FinPerf RE'!K20+SUM('A4-FinPerf RE'!K22:K25)+'A4-FinPerf RE'!K29","v":586250792},{"$f":"SUM('A4-FinPerf RE'!L6:L11)+'A4-FinPerf RE'!L18+'A4-FinPerf RE'!L20+SUM('A4-FinPerf RE'!L22:L25)+'A4-FinPerf RE'!L29","v":612045832}]
["Change in consumer debtors (current and non-current)",null,null,"N/A",{"$f":"SUM('A6-FinPos'!D7:D9)+SUM('A6-FinPos'!D22:D23)-(SUM('A6-FinPos'!C7:C9)+SUM('A6-FinPos'!C22:C23))","v":41904297.110000014},{"$f":"SUM('A6-FinPos'!E7:E9)+SUM('A6-FinPos'!E22:E23)-(SUM('A6-FinPos'!D7:D9)+SUM('A6-FinPos'!D22:D23))","v":140969991.24999988},{"$f":"SUM('A6-FinPos'!F7:F9)+SUM('A6-FinPos'!F22:F23)-(SUM('A6-FinPos'!E7:E9)+SUM('A6-FinPos'!E22:E23))","v":251900165.00000006},{"$f":"SUM('A6-FinPos'!G7:G9)+SUM('A6-FinPos'!G22:G23)-(SUM('A6-FinPos'!F7:F9)+SUM('A6-FinPos'!F22:F23))","v":-322578450},{"$f":"SUM('A6-FinPos'!H7:H9)+SUM('A6-FinPos'!H22:H23)-(SUM('A6-FinPos'!G7:G9)+SUM('A6-FinPos'!G22:G23))","v":0},{"$f":"SUM('A6-FinPos'!I7:I9)+SUM('A6-FinPos'!I22:I23)-(SUM('A6-FinPos'!H7:H9)+SUM('A6-FinPos'!H22:H23))","v":0},{"$f":"SUM('A6-FinPos'!J7:J9)+SUM('A6-FinPos'!J22:J23)-(SUM('A6-FinPos'!I7:I9)+SUM('A6-FinPos'!I22:I23))","v":1247161},{"$f":"SUM('A6-FinPos'!K7:K9)+SUM('A6-FinPos'!K22:K23)-(SUM('A6-FinPos'!J7:J9)+SUM('A6-FinPos'!J22:J23))","v":-819940},{"$f":"SUM('A6-FinPos'!L7:L9)+SUM('A6-FinPos'!L22:L23)-(SUM('A6-FinPos'!K7:K9)+SUM('A6-FinPos'!K22:K23))","v":-820403}]
["Operating and Capital Grant Revenue","18(1)a",null,{"$f":"'A4-FinPerf RE'!C26+'A4-FinPerf RE'!C50","v":301143571.75999999},{"$f":"'A4-FinPerf RE'!D26+'A4-FinPerf RE'!D50","v":258206425.66999999},{"$f":"'A4-FinPerf RE'!E26+'A4-FinPerf RE'!E50","v":350456597.22000003},{"$f":"'A4-FinPerf RE'!F26+'A4-FinPerf RE'!F50","v":441291000},{"$f":"'A4-FinPerf RE'!G26+'A4-FinPerf RE'!G50","v":444891002},{"$f":"'A4-FinPerf RE'!H26+'A4-FinPerf RE'!H50","v":444891002},{"$f":"'A4-FinPerf RE'!I26+'A4-FinPerf RE'!I50","v":444891002},{"$f":"'A4-FinPerf RE'!J26+'A4-FinPerf RE'!J50","v":377447000},{"$f":"'A4-FinPerf RE'!K26+'A4-FinPerf RE'!K50","v":413460000},{"$f":"'A4-FinPerf RE'!L26+'A4-FinPerf RE'!L50","v":428134003}]
["Capital expenditure - total",{"$f":"B17","v":"20(1)(vi)"},null,{"$f":"'A5-Capex'!C63","v":126699002.93000001},{"$f":"'A5-Capex'!D63","v":56455530.109999999},{"$f":"'A5-Capex'!E63","v":113962780.80000001},{"$f":"'A5-Capex'!F63","v":224093950},{"$f":"'A5-Capex'!G63","v":265641673},{"$f":"'A5-Capex'!H63","v":265641673},{"$f":"'A5-Capex'!I63","v":265641673},{"$f":"'A5-Capex'!J63","v":157914047},{"$f":"'A5-Capex'!K63","v":154040702},{"$f":"'A5-Capex'!L63","v":134334158}]
["Capital expenditure - renewal",{"$f":"B18","v":"20(1)(vi)"},null,{"$f":"'A9-Asset'!C40","v":0},{"$f":"'A9-Asset'!D40","v":491000},{"$f":"'A9-Asset'!E40","v":23921171.48},{"$f":"'A9-Asset'!F40","v":45445189},{"$f":"'A9-Asset'!G40","v":53170139},{"$f":"'A9-Asset'!H40","v":53170139},null,{"$f":"'A9-Asset'!I40","v":493966},{"$f":"'A9-Asset'!J40","v":10000000},{"$f":"'A9-Asset'!K40","v":11770192}]
[]
["Supporting benchmarks"]
["Growth guideline maximum",null,null,0.06,0.06,0.06,0.06,0.06,0.06,0.06,0.06,0.06,0.06]
["CPI guideline",null,null,4.2999999999999997E-2,3.9E-2,4.5999999999999999E-2,0.05,0.05,0.05,0.05,5.3999999999999999E-2,5.6000000000000001E-2,5.3999999999999999E-2]
["DoRA operating grants total MFY"]
["DoRA capital grants total MFY"]
["Provincial operating grants"]
["Provincial capital grants"]
["District Municipality grants"]
["Total gazetted/advised national, provincial and district grants",null,null,null,null,null,null,null,null,null,{"$f":"SUM(K63:K67)","v":0},{"$f":"SUM(L63:L67)","v":0},{"$f":"SUM(M63:M67)","v":0}]
["Average annual collection rate (arrears inclusive)"]
[]
["DoRA operating"]
["List operating grants"]
[]
[]
[]
[null,null,null,null,null,null,null,null,null,null,{"$f":"SUM(K72:K75)","v":0},{"$f":"SUM(L72:L75)","v":0},{"$f":"SUM(M72:M75)","v":0}]
["DoRA capital"]
["List capital grants"]
[]
[]
[]
[null,null,null,null,null,null,null,null,null,null,{"$f":"SUM(K78:K81)","v":0},{"$f":"SUM(L78:L81)","v":0},{"$f":"SUM(M78:M81)","v":0}]
["Trend"]
[{"$f":"A55","v":"Change in consumer debtors (current and non-current)"},null,null,{"$f":"D55","v":"N/A"},{"$f":"E55","v":41904297.110000014},{"$f":"F55","v":140969991.24999988},{"$f":"G55","v":251900165.00000006},-322578450,0,0,1247161,-819940,-820403]
[]
["Total Operating Revenue",null,null,{"$f":"'A1-Sum'!B10","v":471183611.25},{"$f":"'A1-Sum'!C10","v":583610424.44999993},{"$f":"'A1-Sum'!D10","v":749040162.22000003},{"$f":"'A1-Sum'!E10","v":838447211},{"$f":"'A1-Sum'!F10","v":834853486},{"$f":"'A1-Sum'!G10","v":834853486},{"$f":"'A1-Sum'!H10","v":856744913},{"$f":"'A1-Sum'!I10","v":904209566},{"$f":"'A1-Sum'!J10","v":944143579},{"$f":"'A1-Sum'!K10","v":986144659}]
["Total Operating Expenditure",null,null,{"$f":"'A1-Sum'!B18","v":688244243.59000003},{"$f":"'A1-Sum'!C18","v":706940867.83000004},{"$f":"'A1-Sum'!D18","v":796142060.74000001},{"$f":"'A1-Sum'!E18","v":835635022},{"$f":"'A1-Sum'!F18","v":832066685},{"$f":"'A1-Sum'!G18","v":832066685},{"$f":"'A1-Sum'!H18","v":832066685},{"$f":"'A1-Sum'!I18","v":901405109},{"$f":"'A1-Sum'!J18","v":942630452},{"$f":"'A1-Sum'!K18","v":978994640}]
["Operating Performance Surplus/(Deficit)",null,null,{"$f":"D86-D87","v":-217060632.34000003},{"$f":"E86-E87","v":-123330443.38000011},-47101898.519999981,2812189,2786801,2786801,24678228,{"$f":"K86-K87","v":2804457},1513127,7150019]
["Cash and Cash Equivalents (30 June 2012)",null,null,null,null,null,null,null,null,null,{"$f":"'A7-CFlow'!J40","v":65824481}]
["Revenue"]
["% Increase in Total Operating Revenue",null,null,null,{"$f":"IF(ISERROR(('A1-Sum'!C10-'A1-Sum'!B10)/'A1-Sum'!B10),0,(('A1-Sum'!C10-'A1-Sum'!B10)/'A1-Sum'!B10))","v":0.23860510110218722},{"$f":"IF(ISERROR(('A1-Sum'!D10-'A1-Sum'!C10)/'A1-Sum'!C10),0,(('A1-Sum'!D10-'A1-Sum'!C10)/'A1-Sum'!C10))","v":0.28345918928007957},{"$f":"IF(ISERROR(('A1-Sum'!E10-'A1-Sum'!D10)/'A1-Sum'!D10),0,(('A1-Sum'!E10-'A1-Sum'!D10)/'A1-Sum'!D10))","v":0.11936215611592305},{"$f":"IF(ISERROR(('A1-Sum'!F10-'A1-Sum'!E10)/'A1-Sum'!E10),0,(('A1-Sum'!F10-'A1-Sum'!E10)/'A1-Sum'!E10))","v":-4.2861672778585934E-3},{"$f":"IF(ISERROR(('A1-Sum'!G10-'A1-Sum'!F10)/'A1-Sum'!F10),0,(('A1-Sum'!G10-'A1-Sum'!F10)/'A1-Sum'!F10))","v":0},{"$f":"IF(ISERROR(('A1-Sum'!H10-'A1-Sum'!G10)/'A1-Sum'!G10),0,(('A1-Sum'!H10-'A1-Sum'!G10)/'A1-Sum'!G10))","v":2.6221878889058147E-2},{"$f":"IF(ISERROR(('A1-Sum'!I10-'A1-Sum'!F10)/'A1-Sum'!F10),0,(('A1-Sum'!I10-'A1-Sum'!F10)/'A1-Sum'!F10))","v":8.3075750611407276E-2},{"$f":"IF(ISERROR(('A1-Sum'!J10-'A1-Sum'!I10)/'A1-Sum'!I10),0,(('A1-Sum'!J10-'A1-Sum'!I10)/'A1-Sum'!I10))","v":4.4164554879305491E-2},{"$f":"IF(ISERROR(('A1-Sum'!K10-'A1-Sum'!J10)/'A1-Sum'!J10),0,(('A1-Sum'!K10-'A1-Sum'!J10)/'A1-Sum'!J10))","v":4.4485903345851174E-2}]
["% Increase in Property Rates Revenue",null,null,null,{"$f":"IF(ISERROR(('A4-FinPerf RE'!D22-'A4-FinPerf RE'!C22)/'A4-FinPerf RE'!C22),0,(('A4-FinPerf RE'!D22-'A4-FinPerf RE'!C22)/'A4-FinPerf RE'!C22))","v":0},{"$f":"IF(ISERROR(('A4-FinPerf RE'!E22-'A4-FinPerf RE'!D22)/'A4-FinPerf RE'!D22),0,(('A4-FinPerf RE'!E22-'A4-FinPerf RE'!D22)/'A4-FinPerf RE'!D22))","v":-14.878111780492983},{"$f":"IF(ISERROR(('A4-FinPerf RE'!F22-'A4-FinPerf RE'!E22)/'A4-FinPerf RE'!E22),0,(('A4-FinPerf RE'!F22-'A4-FinPerf RE'!E22)/'A4-FinPerf RE'!E22))","v":0.10235281355842127},{"$f":"IF(ISERROR(('A4-FinPerf RE'!G22-'A4-FinPerf RE'!F22)/'A4-FinPerf RE'!F22),0,(('A4-FinPerf RE'!G22-'A4-FinPerf RE'!F22)/'A4-FinPerf RE'!F22))","v":0},{"$f":"IF(ISERROR(('A4-FinPerf RE'!H22-'A4-FinPerf RE'!G22)/'A4-FinPerf RE'!G22),0,(('A4-FinPerf RE'!H22-'A4-FinPerf RE'!G22)/'A4-FinPerf RE'!G22))","v":0},{"$f":"IF(ISERROR(('A4-FinPerf RE'!I22-'A4-FinPerf RE'!H22)/'A4-FinPerf RE'!H22),0,(('A4-FinPerf RE'!I22-'A4-FinPerf RE'!H22)/'A4-FinPerf RE'!H22))","v":0},{"$f":"IF(ISERROR(('A4-FinPerf RE'!J22-'A4-FinPerf RE'!I22)/'A4-FinPerf RE'!I22),0,(('A4-FinPerf RE'!J22-'A4-FinPerf RE'!I22)/'A4-FinPerf RE'!I22))","v":5.9999997304014521E-2},{"$f":"IF(ISERROR(('A4-FinPerf RE'!K22-'A4-FinPerf RE'!J22)/'A4-FinPerf RE'!J22),0,(('A4-FinPerf RE'!K22-'A4-FinPerf RE'!J22)/'A4-FinPerf RE'!J22))","v":4.6000005460791908E-2},{"$f":"IF(ISERROR(('A4-FinPerf RE'!L22-'A4-FinPerf RE'!K22)/'A4-FinPerf RE'!K22),0,(('A4-FinPerf RE'!L22-'A4-FinPerf RE'!K22)/'A4-FinPerf RE'!K22))","v":4.399999550881728E-2}]
["% Increase in Electricity Revenue",null,null,null,{"$f":"IF(ISERROR(('A4-FinPerf RE'!D6-'A4-FinPerf RE'!C6)/'A4-FinPerf RE'!C6),0,(('A4-FinPerf RE'!D6-'A4-FinPerf RE'!C6)/'A4-FinPerf RE'!C6))","v":0.42780991148379022},{"$f":"IF(ISERROR(('A4-FinPerf RE'!E6-'A4-FinPerf RE'!D6)/'A4-FinPerf RE'!D6),0,(('A4-FinPerf RE'!E6-'A4-FinPerf RE'!D6)/'A4-FinPerf RE'!D6))","v":1.5781028329563657E-2},{"$f":"IF(ISERROR(('A4-FinPerf RE'!F6-'A4-FinPerf RE'!E6)/'A4-FinPerf RE'!E6),0,(('A4-FinPerf RE'!F6-'A4-FinPerf RE'!E6)/'A4-FinPerf RE'!E6))","v":0.3702223922647559},{"$f":"IF(ISERROR(('A4-FinPerf RE'!G6-'A4-FinPerf RE'!F6)/'A4-FinPerf RE'!F6),0,(('A4-FinPerf RE'!G6-'A4-FinPerf RE'!F6)/'A4-FinPerf RE'!F6))","v":-0.11307002756217606},{"$f":"IF(ISERROR(('A4-FinPerf RE'!H6-'A4-FinPerf RE'!G6)/'A4-FinPerf RE'!G6),0,(('A4-FinPerf RE'!H6-'A4-FinPerf RE'!G6)/'A4-FinPerf RE'!G6))","v":0},{"$f":"IF(ISERROR(('A4-FinPerf RE'!I6-'A4-FinPerf RE'!H6)/'A4-FinPerf RE'!H6),0,(('A4-FinPerf RE'!I6-'A4-FinPerf RE'!H6)/'A4-FinPerf RE'!H6))","v":9.1951195513972156E-2},{"$f":"IF(ISERROR(('A4-FinPerf RE'!J6-'A4-FinPerf RE'!G6)/'A4-FinPerf RE'!G6),0,(('A4-FinPerf RE'!J6-'A4-FinPerf RE'!G6)/'A4-FinPerf RE'!G6))","v":0.14999999022617075},{"$f":"IF(ISERROR(('A4-FinPerf RE'!K6-'A4-FinPerf RE'!J6)/'A4-FinPerf RE'!J6),0,(('A4-FinPerf RE'!K6-'A4-FinPerf RE'!J6)/'A4-FinPerf RE'!J6))","v":4.5999997524209579E-2},{"$f":"IF(ISERROR(('A4-FinPerf RE'!L6-'A4-FinPerf RE'!K6)/'A4-FinPerf RE'!K6),0,(('A4-FinPerf RE'!L6-'A4-FinPerf RE'!K6)/'A4-FinPerf RE'!K6))","v":4.40000157699958E-2}]
["% Increase in Property Rates & Services Charges",null,null,null,{"$f":"IF(ISERROR((('A1-Sum'!C5+'A1-Sum'!C6)-('A1-Sum'!B5+'A1-Sum'!B6))/('A1-Sum'!B5+'A1-Sum'!B6)),0,((('A1-Sum'!C5+'A1-Sum'!C6)-('A1-Sum'!B5+'A1-Sum'!B6))/('A1-Sum'!B5+'A1-Sum'!B6)))","v":0.29119315390808032},{"$f":"IF(ISERROR((('A1-Sum'!D5+'A1-Sum'!D6)-('A1-Sum'!C5+'A1-Sum'!C6))/('A1-Sum'!C5+'A1-Sum'!C6)),0,((('A1-Sum'!D5+'A1-Sum'!D6)-('A1-Sum'!C5+'A1-Sum'!C6))/('A1-Sum'!C5+'A1-Sum'!C6)))","v":0.50240010574255245},{"$f":"IF(ISERROR((('A1-Sum'!E5+'A1-Sum'!E6)-('A1-Sum'!D5+'A1-Sum'!D6))/('A1-Sum'!D5+'A1-Sum'!D6)),0,((('A1-Sum'!E5+'A1-Sum'!E6)-('A1-Sum'!D5+'A1-Sum'!D6))/('A1-Sum'!D5+'A1-Sum'!D6)))","v":0.2309736306891724},{"$f":"IF(ISERROR((('A1-Sum'!F5+'A1-Sum'!F6)-('A1-Sum'!E5+'A1-Sum'!E6))/('A1-Sum'!E5+'A1-Sum'!E6)),0,((('A1-Sum'!F5+'A1-Sum'!F6)-('A1-Sum'!E5+'A1-Sum'!E6))/('A1-Sum'!E5+'A1-Sum'!E6)))","v":-5.6494488214130834E-2},{"$f":"IF(ISERROR((('A1-Sum'!G5+'A1-Sum'!G6)-('A1-Sum'!F5+'A1-Sum'!F6))/('A1-Sum'!F5+'A1-Sum'!F6)),0,((('A1-Sum'!G5+'A1-Sum'!G6)-('A1-Sum'!F5+'A1-Sum'!F6))/('A1-Sum'!F5+'A1-Sum'!F6)))","v":0},{"$f":"IF(ISERROR((('A1-Sum'!H5+'A1-Sum'!H6)-('A1-Sum'!G5+'A1-Sum'!G6))/('A1-Sum'!G5+'A1-Sum'!G6)),0,((('A1-Sum'!H5+'A1-Sum'!H6)-('A1-Sum'!G5+'A1-Sum'!G6))/('A1-Sum'!G5+'A1-Sum'!G6)))","v":4.5009832660649819E-2},{"$f":"IF(ISERROR((('A1-Sum'!I5+'A1-Sum'!I6)-('A1-Sum'!F5+'A1-Sum'!F6))/('A1-Sum'!F5+'A1-Sum'!F6)),0,((('A1-Sum'!I5+'A1-Sum'!I6)-('A1-Sum'!F5+'A1-Sum'!F6))/('A1-Sum'!F5+'A1-Sum'!F6)))","v":0.1035450546257303},{"$f":"IF(ISERROR((('A1-Sum'!J5+'A1-Sum'!J6)-('A1-Sum'!I5+'A1-Sum'!I6))/('A1-Sum'!I5+'A1-Sum'!I6)),0,((('A1-Sum'!J5+'A1-Sum'!J6)-('A1-Sum'!I5+'A1-Sum'!I6))/('A1-Sum'!I5+'A1-Sum'!I6)))","v":4.6000000767609732E-2},{"$f":"IF(ISERROR((('A1-Sum'!K5+'A1-Sum'!K6)-('A1-Sum'!J5+'A1-Sum'!J6))/('A1-Sum'!J5+'A1-Sum'!J6)),0,((('A1-Sum'!K5+'A1-Sum'!K6)-('A1-Sum'!J5+'A1-Sum'!J6))/('A1-Sum'!J5+'A1-Sum'!J6)))","v":4.4000008635235448E-2}]
["Expenditure"]
["% Increase in Total Operating Expenditure",null,null,{"$f":"IF(ISERROR(('A1-Sum'!B18-'A1-Sum'!A18)/'A1-Sum'!A18),0,(('A1-Sum'!B18-'A1-Sum'!A18)/'A1-Sum'!A18))","v":0},{"$f":"IF(ISERROR(('A1-Sum'!C18-'A1-Sum'!B18)/'A1-Sum'!B18),0,(('A1-Sum'!C18-'A1-Sum'!B18)/'A1-Sum'!B18))","v":2.7165681971381569E-2},{"$f":"IF(ISERROR(('A1-Sum'!D18-'A1-Sum'!C18)/'A1-Sum'!C18),0,(('A1-Sum'!D18-'A1-Sum'!C18)/'A1-Sum'!C18))","v":0.12617914307855577},{"$f":"IF(ISERROR(('A1-Sum'!E18-'A1-Sum'!D18)/'A1-Sum'!D18),0,(('A1-Sum'!E18-'A1-Sum'!D18)/'A1-Sum'!D18))","v":4.9605419946399991E-2},{"$f":"IF(ISERROR(('A1-Sum'!F18-'A1-Sum'!E18)/'A1-Sum'!E18),0,(('A1-Sum'!F18-'A1-Sum'!E18)/'A1-Sum'!E18))","v":-4.2702099673366731E-3},{"$f":"IF(ISERROR(('A1-Sum'!G18-'A1-Sum'!F18)/'A1-Sum'!F18),0,(('A1-Sum'!G18-'A1-Sum'!F18)/'A1-Sum'!F18))","v":0},{"$f":"IF(ISERROR(('A1-Sum'!H18-'A1-Sum'!G18)/'A1-Sum'!G18),0,(('A1-Sum'!H18-'A1-Sum'!G18)/'A1-Sum'!G18))","v":0},{"$f":"IF(ISERROR(('A1-Sum'!I18-'A1-Sum'!F18)/'A1-Sum'!F18),0,(('A1-Sum'!I18-'A1-Sum'!F18)/'A1-Sum'!F18))","v":8.3332772781306588E-2},{"$f":"IF(ISERROR(('A1-Sum'!J18-'A1-Sum'!I18)/'A1-Sum'!I18),0,(('A1-Sum'!J18-'A1-Sum'!I18)/'A1-Sum'!I18))","v":4.5734534437833992E-2},{"$f":"IF(ISERROR(('A1-Sum'!K18-'A1-Sum'!J18)/'A1-Sum'!J18),0,(('A1-Sum'!K18-'A1-Sum'!J18)/'A1-Sum'!J18))","v":3.8577353323187569E-2}]
["% Increase in Employee Costs",null,null,{"$f":"IF(ISERROR(('A1-Sum'!B11-'A1-Sum'!A11)/'A1-Sum'!A11),0,(('A1-Sum'!B11-'A1-Sum'!A11)/'A1-Sum'!A11))","v":0},{"$f":"IF(ISERROR(('A1-Sum'!C11-'A1-Sum'!B11)/'A1-Sum'!B11),0,(('A1-Sum'!C11-'A1-Sum'!B11)/'A1-Sum'!B11))","v":1.1750663332562675E-2},{"$f":"IF(ISERROR(('A1-Sum'!D11-'A1-Sum'!C11)/'A1-Sum'!C11),0,(('A1-Sum'!D11-'A1-Sum'!C11)/'A1-Sum'!C11))","v":0.11816228001216285},{"$f":"IF(ISERROR(('A1-Sum'!E11-'A1-Sum'!D11)/'A1-Sum'!D11),0,(('A1-Sum'!E11-'A1-Sum'!D11)/'A1-Sum'!D11))","v":0.13588156252795713},{"$f":"IF(ISERROR(('A1-Sum'!F11-'A1-Sum'!E11)/'A1-Sum'!E11),0,(('A1-Sum'!F11-'A1-Sum'!E11)/'A1-Sum'!E11))","v":-3.8653464379790212E-2},{"$f":"IF(ISERROR(('A1-Sum'!G11-'A1-Sum'!F11)/'A1-Sum'!F11),0,(('A1-Sum'!G11-'A1-Sum'!F11)/'A1-Sum'!F11))","v":0},{"$f":"IF(ISERROR(('A1-Sum'!H11-'A1-Sum'!G11)/'A1-Sum'!G11),0,(('A1-Sum'!H11-'A1-Sum'!G11)/'A1-Sum'!G11))","v":0},{"$f":"IF(ISERROR(('A1-Sum'!I11-'A1-Sum'!F11)/'A1-Sum'!F11),0,(('A1-Sum'!I11-'A1-Sum'!F11)/'A1-Sum'!F11))","v":7.3766755759810634E-2},{"$f":"IF(ISERROR(('A1-Sum'!J11-'A1-Sum'!I11)/'A1-Sum'!I11),0,(('A1-Sum'!J11-'A1-Sum'!I11)/'A1-Sum'!I11))","v":4.5999990732386246E-2},{"$f":"IF(ISERROR(('A1-Sum'!K11-'A1-Sum'!J11)/'A1-Sum'!J11),0,(('A1-Sum'!K11-'A1-Sum'!J11)/'A1-Sum'!J11))","v":4.4000003518885687E-2}]
["% Increase in Electricity Bulk Purchases",null,null,{"$f":"IF(ISERROR(('SA1'!C86-'SA1'!B86)/'SA1'!B86),0,(('SA1'!C86-'SA1'!B86)/'SA1'!B86))","v":0},{"$f":"IF(ISERROR(('SA1'!D86-'SA1'!C86)/'SA1'!C86),0,(('SA1'!D86-'SA1'!C86)/'SA1'!C86))","v":0.12206610126777477},{"$f":"IF(ISERROR(('SA1'!E86-'SA1'!D86)/'SA1'!D86),0,(('SA1'!E86-'SA1'!D86)/'SA1'!D86))","v":0.15912113232313918},{"$f":"IF(ISERROR(('SA1'!F86-'SA1'!E86)/'SA1'!E86),0,(('SA1'!F86-'SA1'!E86)/'SA1'!E86))","v":0.19736208801720898},{"$f":"IF(ISERROR(('SA1'!G86-'SA1'!F86)/'SA1'!F86),0,(('SA1'!G86-'SA1'!F86)/'SA1'!F86))","v":-4.6775609128603242E-2},{"$f":"IF(ISERROR(('SA1'!H86-'SA1'!G86)/'SA1'!G86),0,(('SA1'!H86-'SA1'!G86)/'SA1'!G86))","v":0},{"$f":"IF(ISERROR(('SA1'!I86-'SA1'!H86)/'SA1'!H86),0,(('SA1'!I86-'SA1'!H86)/'SA1'!H86))","v":0},{"$f":"IF(ISERROR(('SA1'!J86-'SA1'!G86)/'SA1'!G86),0,(('SA1'!J86-'SA1'!G86)/'SA1'!G86))","v":0.11319999903131062},{"$f":"IF(ISERROR(('SA1'!K86-'SA1'!J86)/'SA1'!J86),0,(('SA1'!K86-'SA1'!J86)/'SA1'!J86))","v":4.6000001346249562E-2},{"$f":"IF(ISERROR(('SA1'!L86-'SA1'!K86)/'SA1'!K86),0,(('SA1'!L86-'SA1'!K86)/'SA1'!K86))","v":4.3999999664249008E-2}]
["Average Cost Per Budgeted Employee Position (Remuneration)",null,null,{"$f":"IF(ISERROR('A1-Sum'!B11/('SA24'!B36+'SA24'!C36-'SA24'!A5)),0,('A1-Sum'!B11/('SA24'!B36+'SA24'!C36-'SA24'!A5)))","v":0},{"$f":"IF(ISERROR('A1-Sum'!C11/('SA24'!C36+'SA24'!D36-'SA24'!B5)),0,('A1-Sum'!C11/('SA24'!C36+'SA24'!D36-'SA24'!B5)))","v":0},{"$f":"IF(ISERROR('A1-Sum'!D11/('SA24'!D36+'SA24'!E36-'SA24'!C5)),0,('A1-Sum'!D11/('SA24'!D36+'SA24'!E36-'SA24'!C5)))","v":0},{"$f":"IF(ISERROR('A1-Sum'!E11/('SA24'!F36-'SA24'!F5)),0,('A1-Sum'!E11/('SA24'!F36-'SA24'!F5)))","v":0},{"$f":"IF(ISERROR('A1-Sum'!F11/('SA24'!G36-'SA24'!G5)),0,('A1-Sum'!F11/('SA24'!G36-'SA24'!G5)))","v":0},{"$f":"IF(ISERROR('A1-Sum'!G11/('SA24'!H36-'SA24'!H5)),0,('A1-Sum'!G11/('SA24'!H36-'SA24'!H5)))","v":0},{"$f":"IF(ISERROR('A1-Sum'!H11/('SA24'!I36-'SA24'!I5)),0,('A1-Sum'!H11/('SA24'!I36-'SA24'!I5)))","v":0},{"$f":"IF(ISERROR('A1-Sum'!I11/('SA24'!I36-'SA24'!I5)),0,('A1-Sum'!I11/('SA24'!I36-'SA24'!I5)))","v":0},{"$f":"IF(ISERROR('A1-Sum'!J11/('SA24'!J36-'SA24'!J5)),0,('A1-Sum'!J11/('SA24'!J36-'SA24'!J5)))","v":0},{"$f":"IF(ISERROR('A1-Sum'!K11/('SA24'!K36-'SA24'!K5)),0,('A1-Sum'!K11/('SA24'!K36-'SA24'!K5)))","v":0}]
["Average Cost Per Councillor (Remuneration)",null,null,{"$f":"IF(ISERROR('A1-Sum'!B12/'SA24'!A5),0,('A1-Sum'!B12/'SA24'!A5))","v":0},{"$f":"IF(ISERROR('A1-Sum'!C12/'SA24'!B5),0,('A1-Sum'!C12/'SA24'!B5))","v":0},{"$f":"IF(ISERROR('A1-Sum'!D12/'SA24'!C5),0,('A1-Sum'!D12/'SA24'!C5))","v":0},{"$f":"IF(ISERROR('A1-Sum'!E12/'SA24'!F5),0,('A1-Sum'!E12/'SA24'!F5))","v":0},{"$f":"IF(ISERROR('A1-Sum'!F12/'SA24'!G5),0,('A1-Sum'!F12/'SA24'!G5))","v":0},{"$f":"IF(ISERROR('A1-Sum'!G12/'SA24'!H5),0,('A1-Sum'!G12/'SA24'!H5))","v":0},{"$f":"IF(ISERROR('A1-Sum'!H12/'SA24'!I5),0,('A1-Sum'!H12/'SA24'!I5))","v":0},{"$f":"IF(ISERROR('A1-Sum'!I12/'SA24'!I5),0,('A1-Sum'!I12/'SA24'!I5))","v":0},{"$f":"IF(ISERROR('A1-Sum'!J12/'SA24'!J5),0,('A1-Sum'!J12/'SA24'!J5))","v":0},{"$f":"IF(ISERROR('A1-Sum'!K12/'SA24'!K5),0,('A1-Sum'!K12/'SA24'!K5))","v":0}]
["R&M % of PPE",null,null,{"$f":"'A9-Asset'!C223","v":6.9785362329576632E-3},{"$f":"'A9-Asset'!D223","v":1.0564706624012009E-2},{"$f":"'A9-Asset'!E223","v":1.4436795713927985E-2},{"$f":"'A9-Asset'!F223","v":1.1082878499989466E-2},{"$f":"'A9-Asset'!G223","v":1.3463334994555775E-2},{"$f":"'A9-Asset'!H223","v":1.3463334994555775E-2},{"$f":"'A9-Asset'!I223","v":1.1088039984536469E-2},{"$f":"'A9-Asset'!I223","v":1.1088039984536469E-2},{"$f":"'A9-Asset'!J223","v":1.1297684909584016E-2},{"$f":"'A9-Asset'!K223","v":1.1463875423966463E-2}]
["Asset Renewal and R&M as a % of PPE",null,null,{"$f":"'A9-Asset'!C224","v":6.9785362329576632E-3},{"$f":"'A9-Asset'!D224","v":1.0973950784487881E-2},{"$f":"'A9-Asset'!E224","v":3.308523967984707E-2},{"$f":"'A9-Asset'!F224","v":4.8132415639216448E-2},{"$f":"'A9-Asset'!G224","v":5.4282260555481097E-2},{"$f":"'A9-Asset'!H224","v":5.4282260555481097E-2},{"$f":"'A9-Asset'!I224","v":1.2172052119308316E-2},{"$f":"'A9-Asset'!I224","v":1.2172052119308316E-2},{"$f":"'A9-Asset'!J224","v":1.8597080111260156E-2},{"$f":"'A9-Asset'!K224","v":2.020931238222836E-2}]
["Debt Impairment % of Total Billable Revenue",null,null,{"$f":"'SA10'!D11","v":0},{"$f":"'SA10'!E11","v":0},{"$f":"'SA10'!F11","v":0.22716155844452507},{"$f":"'SA10'!G11","v":6.542438973377683E-2},{"$f":"'SA10'!H11","v":7.9622060150509072E-2},{"$f":"'SA10'!I11","v":7.9622060150509072E-2},{"$f":"'SA10'!J11","v":7.6192642080493284E-2},{"$f":"'SA10'!K11","v":9.7484248899781425E-2},{"$f":"'SA10'!L11","v":9.7054373348836293E-2},{"$f":"'SA10'!M11","v":8.833475091920262E-2}]
["Capital Revenue"]
["Internally Funded & Other (R'000)",null,null,{"$f":"'A1-Sum'!B30","v":21994213.52},{"$f":"'A1-Sum'!C30","v":10036721.109999999},{"$f":"'A1-Sum'!D30","v":17574175.920000002},{"$f":"'A1-Sum'!E30","v":30089200},{"$f":"'A1-Sum'!F30","v":44561921},{"$f":"'A1-Sum'!G30","v":44561921},{"$f":"'A1-Sum'!H30","v":44561921},{"$f":"'A1-Sum'!I30","v":40676347},{"$f":"'A1-Sum'!J30","v":11100002},{"$f":"'A1-Sum'!K30","v":800040}]
["Borrowing (R'000)",null,null,{"$f":"'A1-Sum'!B29","v":0},{"$f":"'A1-Sum'!C29","v":0},{"$f":"'A1-Sum'!D29","v":0},{"$f":"'A1-Sum'!E29","v":0},{"$f":"'A1-Sum'!F29","v":0},{"$f":"'A1-Sum'!G29","v":0},{"$f":"'A1-Sum'!H29","v":0},{"$f":"'A1-Sum'!I29","v":0},{"$f":"'A1-Sum'!J29","v":0},{"$f":"'A1-Sum'!K29","v":0}]
["Grant Funding and Other (R'000)",null,null,{"$f":"'A1-Sum'!B27","v":101440103.81999999},{"$f":"'A1-Sum'!C27","v":46418809},{"$f":"'A1-Sum'!D27","v":96388604.879999995},{"$f":"'A1-Sum'!E27","v":194004750},{"$f":"'A1-Sum'!F27","v":221079752},{"$f":"'A1-Sum'!G27","v":221079752},{"$f":"'A1-Sum'!H27","v":221079752},{"$f":"'A1-Sum'!I27","v":117237700},{"$f":"'A1-Sum'!J27","v":142940700},{"$f":"'A1-Sum'!K27","v":133534118}]
["Internally Generated funds % of Non Grant Funding",null,null,{"$f":"IF(ISERROR(('A1-Sum'!B28+'A1-Sum'!B30)/('A1-Sum'!B31-'A1-Sum'!B27)),0,(('A1-Sum'!B28+'A1-Sum'!B30)/('A1-Sum'!B31-'A1-Sum'!B27)))","v":1.0000000000000002},{"$f":"IF(ISERROR(('A1-Sum'!C28+'A1-Sum'!C30)/('A1-Sum'!C31-'A1-Sum'!C27)),0,(('A1-Sum'!C28+'A1-Sum'!C30)/('A1-Sum'!C31-'A1-Sum'!C27)))","v":1},{"$f":"IF(ISERROR(('A1-Sum'!D28+'A1-Sum'!D30)/('A1-Sum'!D31-'A1-Sum'!D27)),0,(('A1-Sum'!D28+'A1-Sum'!D30)/('A1-Sum'!D31-'A1-Sum'!D27)))","v":1},{"$f":"IF(ISERROR(('A1-Sum'!E28+'A1-Sum'!E30)/('A1-Sum'!E31-'A1-Sum'!E27)),0,(('A1-Sum'!E28+'A1-Sum'!E30)/('A1-Sum'!E31-'A1-Sum'!E27)))","v":1},{"$f":"IF(ISERROR(('A1-Sum'!F28+'A1-Sum'!F30)/('A1-Sum'!F31-'A1-Sum'!F27)),0,(('A1-Sum'!F28+'A1-Sum'!F30)/('A1-Sum'!F31-'A1-Sum'!F27)))","v":1},{"$f":"IF(ISERROR(('A1-Sum'!G28+'A1-Sum'!G30)/('A1-Sum'!G31-'A1-Sum'!G27)),0,(('A1-Sum'!G28+'A1-Sum'!G30)/('A1-Sum'!G31-'A1-Sum'!G27)))","v":1},{"$f":"IF(ISERROR(('A1-Sum'!H28+'A1-Sum'!H30)/('A1-Sum'!H31-'A1-Sum'!H27)),0,(('A1-Sum'!H28+'A1-Sum'!H30)/('A1-Sum'!H31-'A1-Sum'!H27)))","v":1},{"$f":"IF(ISERROR(('A1-Sum'!I28+'A1-Sum'!I30)/('A1-Sum'!I31-'A1-Sum'!I27)),0,(('A1-Sum'!I28+'A1-Sum'!I30)/('A1-Sum'!I31-'A1-Sum'!I27)))","v":1},{"$f":"IF(ISERROR(('A1-Sum'!J28+'A1-Sum'!J30)/('A1-Sum'!J31-'A1-Sum'!J27)),0,(('A1-Sum'!J28+'A1-Sum'!J30)/('A1-Sum'!J31-'A1-Sum'!J27)))","v":1},{"$f":"IF(ISERROR(('A1-Sum'!K28+'A1-Sum'!K30)/('A1-Sum'!K31-'A1-Sum'!K27)),0,(('A1-Sum'!K28+'A1-Sum'!K30)/('A1-Sum'!K31-'A1-Sum'!K27)))","v":1}]
["Borrowing % of Non Grant Funding",null,null,{"$f":"IF(ISERROR('A1-Sum'!B29/('A1-Sum'!B31-'A1-Sum'!B27)),0,('A1-Sum'!B29/('A1-Sum'!B31-'A1-Sum'!B27)))","v":0},{"$f":"IF(ISERROR('A1-Sum'!C29/('A1-Sum'!C31-'A1-Sum'!C27)),0,('A1-Sum'!C29/('A1-Sum'!C31-'A1-Sum'!C27)))","v":0},{"$f":"IF(ISERROR('A1-Sum'!D29/('A1-Sum'!D31-'A1-Sum'!D27)),0,('A1-Sum'!D29/('A1-Sum'!D31-'A1-Sum'!D27)))","v":0},{"$f":"IF(ISERROR('A1-Sum'!E29/('A1-Sum'!E31-'A1-Sum'!E27)),0,('A1-Sum'!E29/('A1-Sum'!E31-'A1-Sum'!E27)))","v":0},{"$f":"IF(ISERROR('A1-Sum'!F29/('A1-Sum'!F31-'A1-Sum'!F27)),0,('A1-Sum'!F29/('A1-Sum'!F31-'A1-Sum'!F27)))","v":0},{"$f":"IF(ISERROR('A1-Sum'!G29/('A1-Sum'!G31-'A1-Sum'!G27)),0,('A1-Sum'!G29/('A1-Sum'!G31-'A1-Sum'!G27)))","v":0},{"$f":"IF(ISERROR('A1-Sum'!H29/('A1-Sum'!H31-'A1-Sum'!H27)),0,('A1-Sum'!H29/('A1-Sum'!H31-'A1-Sum'!H27)))","v":0},{"$f":"IF(ISERROR('A1-Sum'!I29/('A1-Sum'!I31-'A1-Sum'!I27)),0,('A1-Sum'!I29/('A1-Sum'!I31-'A1-Sum'!I27)))","v":0},{"$f":"IF(ISERROR('A1-Sum'!J29/('A1-Sum'!J31-'A1-Sum'!J27)),0,('A1-Sum'!J29/('A1-Sum'!J31-'A1-Sum'!J27)))","v":0},{"$f":"IF(ISERROR('A1-Sum'!K29/('A1-Sum'!K31-'A1-Sum'!K27)),0,('A1-Sum'!K29/('A1-Sum'!K31-'A1-Sum'!K27)))","v":0}]
["Grant Funding % of Total Funding",null,null,{"$f":"IF(ISERROR('A1-Sum'!B27/'A1-Sum'!B31),0,('A1-Sum'!B27/'A1-Sum'!B31))","v":0.8218144354505813},{"$f":"IF(ISERROR('A1-Sum'!C27/'A1-Sum'!C31),0,('A1-Sum'!C27/'A1-Sum'!C31))","v":0.822218990939522},{"$f":"IF(ISERROR('A1-Sum'!D27/'A1-Sum'!D31),0,('A1-Sum'!D27/'A1-Sum'!D31))","v":0.84579021504536678},{"$f":"IF(ISERROR('A1-Sum'!E27/'A1-Sum'!E31),0,('A1-Sum'!E27/'A1-Sum'!E31))","v":0.86572952995830543},{"$f":"IF(ISERROR('A1-Sum'!F27/'A1-Sum'!F31),0,('A1-Sum'!F27/'A1-Sum'!F31))","v":0.83224800349755368},{"$f":"IF(ISERROR('A1-Sum'!G27/'A1-Sum'!G31),0,('A1-Sum'!G27/'A1-Sum'!G31))","v":0.83224800349755368},{"$f":"IF(ISERROR('A1-Sum'!H27/'A1-Sum'!H31),0,('A1-Sum'!H27/'A1-Sum'!H31))","v":0.83224800349755368},{"$f":"IF(ISERROR('A1-Sum'!I27/'A1-Sum'!I31),0,('A1-Sum'!I27/'A1-Sum'!I31))","v":0.7424146377554367},{"$f":"IF(ISERROR('A1-Sum'!J27/'A1-Sum'!J31),0,('A1-Sum'!J27/'A1-Sum'!J31))","v":0.92794111000610735},{"$f":"IF(ISERROR('A1-Sum'!K27/'A1-Sum'!K31),0,('A1-Sum'!K27/'A1-Sum'!K31))","v":0.99404440380681136}]
["Capital Expenditure"]
["Total Capital Programme (R'000)",null,null,{"$f":"'A1-Sum'!B26","v":126699002.93000001},{"$f":"'A1-Sum'!C26","v":56455530.109999999},{"$f":"'A1-Sum'!D26","v":113962780.80000001},{"$f":"'A1-Sum'!E26","v":224093950},{"$f":"'A1-Sum'!F26","v":265641673},{"$f":"'A1-Sum'!G26","v":265641673},{"$f":"'A1-Sum'!H26","v":265641673},{"$f":"'A1-Sum'!I26","v":157914047},{"$f":"'A1-Sum'!J26","v":154040702},{"$f":"'A1-Sum'!K26","v":134334158}]
["Asset Renewal",null,null,{"$f":"'A1-Sum'!B51","v":0},{"$f":"'A1-Sum'!C51","v":491000},{"$f":"'A1-Sum'!D51","v":23921171.48},{"$f":"'A1-Sum'!E51","v":53345189},{"$f":"'A1-Sum'!F51","v":61070139},{"$f":"'A1-Sum'!G51","v":61070139},{"$f":"'A1-Sum'!H51","v":0},{"$f":"'A1-Sum'!I51","v":1493966},{"$f":"'A1-Sum'!J51","v":10000000},{"$f":"'A1-Sum'!K51","v":11770193}]
["Asset Renewal % of Total Capital Expenditure",null,null,{"$f":"IF(ISERROR('A1-Sum'!B51/'A1-Sum'!B31),0,('A1-Sum'!B51/'A1-Sum'!B31))","v":0},{"$f":"IF(ISERROR('A1-Sum'!C51/'A1-Sum'!C31),0,('A1-Sum'!C51/'A1-Sum'!C31))","v":8.6971107886741617E-3},{"$f":"IF(ISERROR('A1-Sum'!D51/'A1-Sum'!D31),0,('A1-Sum'!D51/'A1-Sum'!D31))","v":0.20990336767914319},{"$f":"IF(ISERROR('A1-Sum'!E51/'A1-Sum'!E31),0,('A1-Sum'!E51/'A1-Sum'!E31))","v":0.23804832303594095},{"$f":"IF(ISERROR('A1-Sum'!F51/'A1-Sum'!F31),0,('A1-Sum'!F51/'A1-Sum'!F31))","v":0.22989668115815548},{"$f":"IF(ISERROR('A1-Sum'!G51/'A1-Sum'!G31),0,('A1-Sum'!G51/'A1-Sum'!G31))","v":0.22989668115815548},{"$f":"IF(ISERROR('A1-Sum'!H51/'A1-Sum'!H31),0,('A1-Sum'!H51/'A1-Sum'!H31))","v":0},{"$f":"IF(ISERROR('A1-Sum'!I51/'A1-Sum'!I31),0,('A1-Sum'!I51/'A1-Sum'!I31))","v":9.460627653979382E-3},{"$f":"IF(ISERROR('A1-Sum'!J51/'A1-Sum'!J31),0,('A1-Sum'!J51/'A1-Sum'!J31))","v":6.4917907216496581E-2},{"$f":"IF(ISERROR('A1-Sum'!K51/'A1-Sum'!K31),0,('A1-Sum'!K51/'A1-Sum'!K31))","v":8.7618764841627256E-2}]
["Cash"]
["Cash Receipts % of Rate Payer & Other",null,null,{"$f":"'SA10'!D10","v":0},{"$f":"'SA10'!E10","v":4.7161597658018903E-2},{"$f":"'SA10'!F10","v":1.4513766769051673},{"$f":"'SA10'!G10","v":0.45212138974666138},{"$f":"'SA10'!H10","v":0.48309302572480611},{"$f":"'SA10'!I10","v":0.48309302572480611},{"$f":"'SA10'!J10","v":0.47430466604798882},{"$f":"'SA10'!K10","v":1.1193423689388482},{"$f":"'SA10'!L10","v":1.1183600482027152},{"$f":"'SA10'!M10","v":1.1134010303986517}]
["Cash Coverage Ratio",null,null,{"$f":"'SA10'!D7","v":-0.94003056104374749},{"$f":"'SA10'!E7","v":8.6908291973559511},{"$f":"'SA10'!F7","v":16.176533732912976},{"$f":"'SA10'!G7","v":9.6460516077514704},{"$f":"'SA10'!H7","v":7.8869978850531846},{"$f":"'SA10'!I7","v":7.187821033175732},{"$f":"'SA10'!J7","v":6.8741085443983279},{"$f":"'SA10'!K7","v":1.0276692196155846},{"$f":"'SA10'!L7","v":0},{"$f":"'SA10'!M7","v":0}]
["Borrowing"]
[]
["Most recent Credit Rating ",null,null,null,null,null,null,null,null,null,{"$f":"'SA8'!F6","v":0}]
["Capital Charges to Operating",null,null,{"$f":"'SA8'!C7","v":4.1364535780933402E-2},{"$f":"'SA8'!D7","v":4.1985713318723528E-2},{"$f":"'SA8'!E7","v":2.4765222279141661E-2},{"$f":"'SA8'!F7","v":3.4731621145481381E-2},{"$f":"'SA8'!G7","v":2.4762298949632864E-2},{"$f":"'SA8'!H7","v":2.4762298949632864E-2},{"$f":"'SA8'!I7","v":2.4762298949632864E-2},{"$f":"'SA8'!J7","v":2.3840391834300111E-2},{"$f":"'SA8'!K7","v":2.3846443696262001E-2},{"$f":"'SA8'!L7","v":2.3970953507978347E-2}]
["Borrowing Receipts % of Capital Expenditure",null,null,{"$f":"'SA10'!D13","v":0},{"$f":"'SA10'!E13","v":0},{"$f":"'SA10'!F13","v":0},{"$f":"'SA10'!G13","v":0},{"$f":"'SA10'!H13","v":0},{"$f":"'SA10'!I13","v":0},{"$f":"'SA10'!J13","v":0},{"$f":"'SA10'!K13","v":0},{"$f":"'SA10'!L13","v":0},{"$f":"'SA10'!M13","v":0}]
["Reserves"]
["Uncommitted reserves after application of cash and investments",null,null,{"$f":"'A8-ResRecon'!C19","v":-173393660.24000001},{"$f":"'A8-ResRecon'!D19","v":-13600204.659999996},{"$f":"'A8-ResRecon'!E19","v":325058674.26000005},{"$f":"'A8-ResRecon'!F19","v":114637877},{"$f":"'A8-ResRecon'!G19","v":50824416},{"$f":"'A8-ResRecon'!H19","v":50824416},{"$f":"'A8-ResRecon'!I19","v":48907416},{"$f":"'A8-ResRecon'!J19","v":202507272},{"$f":"'A8-ResRecon'!K19","v":236323188},{"$f":"'A8-ResRecon'!L19","v":254524227}]
["Free Services"]
["Free Basic Services as a % of Equitable Share",null,null,{"$f":"IF(ISERROR('A10-SerDel'!C60/'SA18'!C8),0,('A10-SerDel'!C60/'SA18'!C8))","v":0},{"$f":"IF(ISERROR('A10-SerDel'!D60/'SA18'!D8),0,('A10-SerDel'!D60/'SA18'!D8))","v":0},{"$f":"IF(ISERROR('A10-SerDel'!E60/'SA18'!E8),0,('A10-SerDel'!E60/'SA18'!E8))","v":0},{"$f":"IF(ISERROR('A10-SerDel'!F60/'SA18'!F8),0,('A10-SerDel'!F60/'SA18'!F8))","v":0},{"$f":"IF(ISERROR('A10-SerDel'!G60/'SA18'!G8),0,('A10-SerDel'!G60/'SA18'!G8))","v":0},{"$f":"IF(ISERROR('A10-SerDel'!H60/'SA18'!H8),0,('A10-SerDel'!H60/'SA18'!H8))","v":0},{"$f":"IF(ISERROR('A10-SerDel'!I60/'SA18'!I8),0,('A10-SerDel'!I60/'SA18'!I8))","v":0},{"$f":"IF(ISERROR('A10-SerDel'!I60/'SA18'!I8),0,('A10-SerDel'!I60/'SA18'!I8))","v":0},{"$f":"IF(ISERROR('A10-SerDel'!J60/'SA18'!J8),0,('A10-SerDel'!J60/'SA18'!J8))","v":0},{"$f":"IF(ISERROR('A10-SerDel'!K60/'SA18'!K8),0,('A10-SerDel'!K60/'SA18'!K8))","v":0}]
["Free Services as a % of Operating Revenue \n(excl operational transfers)",null,null,{"$f":"IF(ISERROR('A10-SerDel'!C79/('A1-Sum'!B10-'A1-Sum'!B8)),0,('A10-SerDel'!C79/('A1-Sum'!B10-'A1-Sum'!B8)))","v":0},{"$f":"IF(ISERROR('A10-SerDel'!D79/('A1-Sum'!C10-'A1-Sum'!C8)),0,('A10-SerDel'!D79/('A1-Sum'!C10-'A1-Sum'!C8)))","v":0},{"$f":"IF(ISERROR('A10-SerDel'!E79/('A1-Sum'!D10-'A1-Sum'!D8)),0,('A10-SerDel'!E79/('A1-Sum'!D10-'A1-Sum'!D8)))","v":0},{"$f":"IF(ISERROR('A10-SerDel'!F79/('A1-Sum'!E10-'A1-Sum'!E8)),0,('A10-SerDel'!F79/('A1-Sum'!E10-'A1-Sum'!E8)))","v":0},{"$f":"IF(ISERROR('A10-SerDel'!G79/('A1-Sum'!F10-'A1-Sum'!F8)),0,('A10-SerDel'!G79/('A1-Sum'!F10-'A1-Sum'!F8)))","v":0},{"$f":"IF(ISERROR('A10-SerDel'!H79/('A1-Sum'!G10-'A1-Sum'!G8)),0,('A10-SerDel'!H79/('A1-Sum'!G10-'A1-Sum'!G8)))","v":0},{"$f":"IF(ISERROR('A10-SerDel'!I79/('A1-Sum'!H10-'A1-Sum'!H8)),0,('A10-SerDel'!I79/('A1-Sum'!H10-'A1-Sum'!H8)))","v":0},{"$f":"IF(ISERROR('A10-SerDel'!I79/('A1-Sum'!I10-'A1-Sum'!I8)),0,('A10-SerDel'!I79/('A1-Sum'!I10-'A1-Sum'!I8)))","v":0},{"$f":"IF(ISERROR('A10-SerDel'!J79/('A1-Sum'!J10-'A1-Sum'!J8)),0,('A10-SerDel'!J79/('A1-Sum'!J10-'A1-Sum'!J8)))","v":0},{"$f":"IF(ISERROR('A10-SerDel'!K79/('A1-Sum'!K10-'A1-Sum'!K8)),0,('A10-SerDel'!K79/('A1-Sum'!K10-'A1-Sum'!K8)))","v":0}]
[]
["High Level Outcome of Funding Compliance"]
["Total Operating Revenue",null,null,{"$f":"D86","v":471183611.25},{"$f":"E86","v":583610424.44999993},749040162.22000003,838447211,834853486,834853486,{"$f":"J86","v":856744913},904209566,944143579,986144659]
["Total Operating Expenditure",null,null,{"$f":"D87","v":688244243.59000003},706940867.83000004,796142060.74000001,835635022,832066685,832066685,832066685,901405109,942630452,978994640]
["Surplus/(Deficit) Budgeted Operating Statement",null,null,-217060632.34000003,-123330443.38000011,-47101898.519999981,2812189,2786801,2786801,24678228,2804457,1513127,7150019]
["Surplus/(Deficit) Considering Reserves and Cash Backing",null,null,{"$f":"'A8-ResRecon'!C19","v":-173393660.24000001},{"$f":"'A8-ResRecon'!D19","v":-13600204.659999996},{"$f":"'A8-ResRecon'!E19","v":325058674.26000005},{"$f":"'A8-ResRecon'!F19","v":114637877},{"$f":"'A8-ResRecon'!G19","v":50824416},{"$f":"'A8-ResRecon'!H19","v":50824416},{"$f":"'A8-ResRecon'!I19","v":48907416},{"$f":"'A8-ResRecon'!J19","v":202507272},{"$f":"'A8-ResRecon'!K19","v":236323188},{"$f":"'A8-ResRecon'!L19","v":254524227}]
["MTREF Funded (1) / Unfunded (0)",null,15,{"$f":"IF(D133>=0,1,0)","v":0},{"$f":"IF(E133>=0,1,0)","v":0},1,1,1,1,1,1,1,1]
["MTREF Funded ü / Unfunded û",null,15,{"$f":"IF(D134=1,\"ü\",\"û\")","v":"û"},{"$f":"IF(E134=1,\"ü\",\"û\")","v":"û"},"ü","ü","ü","ü","ü","ü","ü","ü"]
[]
[{"$f":"head27a","v":"References"}]
["15. Subject to figures provided in Schedule."]

{"sheet":"SA11","index":31,"n_rows":73,"n_cols":11,"rows_kept":73,"cut":false,"hidden":false,"merged":[[1,5,1,7],[1,8,1,10],[1,1,3,1],[1,0,2,0]]}
[{"$f":"muni&\" - \"&TableA11","v":"Choose name from list - Supporting Table SA11 Property rates summary"}]
[{"$f":"desc","v":"Description"},{"$f":"head27","v":"Ref"},{"$f":"head1b","v":"2021/22"},{"$f":"head1A","v":"2022/23"},{"$f":"Head1","v":"2023/24"},{"$f":"Head2","v":"Current Year 2024/25"},null,null,{"$f":"Head3","v":"2025/26 Medium Term Revenue & Expenditure Framework"}]
[null,null,{"$f":"Head5","v":"Audited Outcome"},{"$f":"Head5","v":"Audited Outcome"},{"$f":"Head5","v":"Audited Outcome"},{"$f":"Head6","v":"Original Budget"},{"$f":"Head7","v":"Adjusted Budget"},{"$f":"Head8","v":"Full Year Forecast"},{"$f":"Head9","v":"Budget Year 2025/26"},{"$f":"Head10","v":"Budget Year +1 2026/27"},{"$f":"Head11","v":"Budget Year +2 2027/28"}]
[]
["Valuation:",1,0,0,0,0,0,0,0,0,0]
["Date of valuation:",null,"2020-09-01","1900-01-00","1900-01-00","1900-01-00"]
["Financial year valuation used",null,"2021/2022","1900-01-00","1900-01-00","1900-01-00",null,null,"1900-01-00"]
["Municipal by-laws s6 in place? (Y/N)","2","Yes","Yes","Yes","Yes",null,null,"Yes"]
["Municipal/assistant valuer appointed? (Y/N)",null,"Yes","Yes","Yes","Yes",null,null,"Yes"]
["Municipal partnership s38 used? (Y/N)",null,"No","No","No","No",null,null,"No","No","No"]
["No. of assistant valuers (FTE)",3,0,0,0,0,0,0,0,0,0]
["No. of data collectors (FTE)",3,2,0,0,0,0,0,0,0,0]
["No. of internal valuers (FTE)",3,0,0,0,0,0,0,0,0,0]
["No. of external valuers (FTE)",3,1,1,1,1,1,1,1,1,1]
["No. of additional valuers (FTE)",4,0,0,0,0,0,0,0,0,0]
["Valuation appeal board established? (Y/N)",null,"Yes","Yes","Yes","Yes",null,null,"Yes"]
["Implementation time of new valuation roll (mths)",null,72,72,72,72,null,null,60]
["No. of properties",5,20457,20512,20539,20698,20700,20700,20710,20720,20730]
["No. of sectional title values",5,1754,1756,1776,1776,1780,1780,1785,1790,1790]
["No. of unreasonably difficult properties s7(2)",null,0,0,0,0,0,0,0,0,0]
["No. of supplementary valuations",null,7,14,15,17,19,19,20,4,8]
["No. of valuation roll amendments",null,7,14,15,17,19,19,20,4,8]
["No. of objections by rate payers",null,0,0,0,0,0,0,0,0,0]
["No. of appeals by rate payers",null,0,0,0,0,0,0,0,100,100]
["No. of successful objections",8,0,0,0,0,0,0,0,0,0]
["No. of successful objections > 10%",8,0,0,0,0,0,0,0,0,0]
["Supplementary valuation",null,0,0,0,0,0,0,0,0,0]
["Public service infrastructure value (Rm)",5,6954000,6954000,6954000,26091900,26091900,26091900,26091900,26091900,26091900]
["Municipality owned property value (Rm)",null,441405800,355445800,355025800,353970800,353970800,353970800,353970800,353970800,353970800]
["Valuation reductions:",null,0,0,0,0,0,0,0,0,0]
["Valuation reductions-public infrastructure (Rm)",null,0,0,0,0,0,0,0,0,0]
["Valuation reductions-nature reserves/park (Rm)",null,0,0,0,0,0,0,0,0,0]
["Valuation reductions-mineral rights (Rm)",null,0,0,0,0,0,0,0,0,0]
["Valuation reductions-R15,000 threshold (Rm)",null,0,0,0,0,0,0,0,0,0]
["Valuation reductions-public worship (Rm)",null,0,0,0,0,0,0,0,0,0]
["Valuation reductions-other (Rm)",null,0,0,0,0,0,0,0,0,0]
["Total valuation reductions:",null,0,0,0,0,0,0,0,0,0]
["Total value used for rating (Rm)",5,0,0,0,0,0,0,0,0,0]
["Total land value (Rm)",5,0,0,0,0,0,0,0,0,0]
["Total value of improvements (Rm)",5,0,0,0,0,0,0,0,0,0]
["Total market value (Rm)",5,0,0,0,0,0,0,0,0,0]
[]
["Rating:",null,0,0,0,0,0,0,0,0,0]
["Residential rate used to determine rate for other categories? (Y/N)",null,"Yes","Yes","Yes","Yes",null,null,"Yes"]
["Differential rates used? (Y/N)",5,"Yes","Yes","Yes","Yes",null,null,"Yes"]
["Limit on annual rate increase (s20)? (Y/N)",null,"Yes","Yes","Yes","Yes",null,null,"Yes","Yes","Yes"]
["Special rating area used? (Y/N)",null,"Yes","Yes","Yes","Yes",null,null,"Yes"]
["Phasing-in properties s21 (number)",null,0,0,0,0,0,0,0,0,0]
["Rates policy accompanying budget? (Y/N)",null,0,0,0,0,null,null,0]
["Fixed amount minimum value (R'000)",null,30000,30000,30000,30000,null,null,30000]
["Non-residential prescribed ratio s19? (%)",null,0,0,0,0,null,null,0]
[]
["Rate revenue:",null,0,0,0,0,0,0,0,0,0]
["Rate revenue budget (R '000)",6,95852154,112986507,118975000,126113000,126113000,126113000,0,0,0]
["Rate revenue expected to collect (R'000)",6,77640120,84740250,92800500,109718310,119807350,119807350,0,0,0]
["Expected cash collection rate (%)",null,0.81,0.75,0.78,0.87,0.95,0.95,0.95,0.95,0.95]
["Special rating areas (R'000)",7,0,0,0,0,0,0,0,0,0]
["Rebates, exemptions - indigent (R'000)",null,0,0,0,0,0,0,0,0,0]
["Rebates, exemptions - pensioners (R'000)",null,0,0,0,0,0,0,0,0,0]
["Rebates, exemptions - bona fide farm. (R'000)",null,0,0,0,0,0,0,0,0,0]
["Rebates, exemptions - other (R'000)",null,0,0,0,0,0,0,0,0,0]
["Phase-in reductions/discounts (R'000)",null,0,0,0,0,0,0,0,0,0]
["Total rebates,exemptns,reductns,discs (R'000)",null,0,0,0,0,0,0,0,0,0]
[]
[{"$f":"head27a","v":"References"}]
["1. All numbers to be expressed as whole numbers except FTEs and Rates in the Rand"]
["2. To give effect to rates policy"]
["3. Full Time Equivalent (FTE)  should be expressed to one decimal place and takes into account full time and part time staff"]
["4. Required to implement new system (FTE)"]
["5. Provide relevant information for historical comparisons. Must reconcile to the total of Table SA12"]
[{"$f":"\"6. Current and budget year must reconcile to \"&'Template names'!F103","v":"6. Current and budget year must reconcile to Table A4 Budgeted Financial Performance (revenue and expenditure)"}]
["7. Included in rate revenue budget"]
["8. In favour of the rate-payer"]

{"sheet":"SA12a","index":32,"n_rows":56,"n_cols":13,"rows_kept":56,"cut":false,"hidden":false,"merged":[]}
[{"$f":"muni&\" - \"&TableA12a","v":"Choose name from list - Supporting Table SA12a Property rates by category (current year)"}]
[{"$f":"desc","v":"Description"},{"$f":"head27","v":"Ref"},"Business and commercial properties","Industrial properties","Mining properties","Residential properties","Agricultural properties","Public benefit organisations","Public service purpose properties","Public service infrastructure properties","Vacant land","Sport Clubs and Fields (Bitou only)","Sectional Title Garages (Drakenstein only)"]
[{"$f":"Head2","v":"Current Year 2024/25"}]
["Valuation:"]
["No. of properties",null,0,0,0,0,0,0,0,0,0,0,0]
["No. of sectional title property values",null,0,0,0,0,0,0,0,0,0,0,0]
["No. of unreasonably difficult properties s7(2)",null,0,0,0,0,0,0,0,0,0,0,0]
["No. of supplementary valuations",null,0,0,0,0,0,0,0,0,0,0,0]
["Supplementary valuation (Rm)",null,0,0,0,0,0,0,0,0,0,0,0]
["No. of valuation roll amendments",null,0,0,0,0,0,0,0,0,0,0,0]
["No. of objections by rate-payers",null,0,0,0,0,0,0,0,0,0,0,0]
["No. of appeals by rate-payers",null,0,0,0,0,0,0,0,0,0,0,0]
["No. of appeals by rate-payers finalised",null,0,0,0,0,0,0,0,0,0,0,0]
["No. of successful objections",5,0,0,0,0,0,0,0,0,0,0,0]
["No. of successful objections > 10%",5,0,0,0,0,0,0,0,0,0,0,0]
["Estimated no. of properties not valued",null,0,0,0,0,0,0,0,0,0,0,0]
["Years since last valuation (select)",null,4,4,4,4,4,4,4,4,4,4,4]
["Frequency of valuation (select)",null,"5","5","5","5","5","5","5","5","5","5","5"]
["Method of valuation used (select)",null,"Market","Market","Market","Market","Market","Market","Market","Market","Market","Market","Market"]
["Base of valuation (select)",null,"Land & impr.","Land & impr.","Land & impr.","Land & impr.","Land & impr.","Land & impr.","Land & impr.","Land & impr.","Land only","Land & impr.","Land & impr."]
["Phasing-in properties s21 (number)",null,0,0,0,0,0,0,0,0,0,0,0]
["Combination of rating types used? (Y/N)"]
["Flat rate used? (Y/N)"]
["Is balance rated by uniform rate/variable rate?"]
["Valuation reductions:"]
["Valuation reductions-public infrastructure (Rm)",null,0,0,0,0,0,0,0,0,0,0,0]
["Valuation reductions-nature reserves/park (Rm)",null,0,0,0,0,0,0,0,0,0,0,0]
["Valuation reductions-mineral rights (Rm)",null,0,0,0,0,0,0,0,0,0,0,0]
["Valuation reductions-R15,000 threshold (Rm)",null,0,0,0,0,0,0,0,0,0,0,0]
["Valuation reductions-public worship (Rm)",null,0,0,0,0,0,0,0,0,0,0,0]
["Valuation reductions-other (Rm)",2,0,0,0,0,0,0,0,0,0,0,0]
["Total valuation reductions:"]
["Total value used for rating (Rm)",6,0,0,0,0,0,0,0,0,0,0,0]
["Total land value (Rm)",6,0,0,0,0,0,0,0,0,0,0,0]
["Total value of improvements (Rm)",6,0,0,0,0,0,0,0,0,0,0,0]
["Total market value (Rm)",6,0,0,0,0,0,0,0,0,0,0,0]
["Rating:"]
["Average rate",3,0,0,0,0,0,0,0,0,0,0,0]
["Rate revenue budget (R '000)",null,0,0,0,0,0,0,0,0,0,0,0]
["Rate revenue expected to collect (R'000)",null,0,0,0,0,0,0,0,0,0,0,0]
["Expected cash collection rate (%)",4,0,0,0,0,0,0,0,0,0,0,0]
["Special rating areas (R'000)",null,0,0,0,0,0,0,0,0,0,0,0]
["Rebates, exemptions - indigent (R'000)",null,0,0,0,0,0,0,0,0,0,0,0]
["Rebates, exemptions - pensioners (R'000)",null,0,0,0,0,0,0,0,0,0,0,0]
["Rebates, exemptions - bona fide farm. (R'000)",null,0,0,0,0,0,0,0,0,0,0,0]
["Rebates, exemptions - other (R'000)",null,0,0,0,0,0,0,0,0,0,0,0]
["Phase-in reductions/discounts (R'000)",null,0,0,0,0,0,0,0,0,0,0,0]
["Total rebates,exemptns,reductns,discs (R'000)",null,0,0,0,0,0,0,0,0,0,0,0]
[]
[{"$f":"head27a","v":"References"}]
["1. Land & Assistance Act, Restitution of Land Rights, Communual Property Associations"]
["2. Include value of additional reductions is 'free' value greater than MPRA minimum."]
["3. Average rate - cents in  the Rand. Eg 10.26 cents in the Rand is 0.1026, expressed to 6 decimal places maximum"]
["4. Include arrears collections"]
["5. In favour of the rate-payer"]
["6. Provide relevant information for historical comparisons."]

{"sheet":"SA12b","index":33,"n_rows":56,"n_cols":13,"rows_kept":56,"cut":false,"hidden":false,"merged":[]}
[{"$f":"muni&\" - \"&TableA12b","v":"Choose name from list - Supporting Table SA12b Property rates by category (budget year)"}]
[{"$f":"desc","v":"Description"},{"$f":"head27","v":"Ref"},"Business and commercial properties","Industrial properties","Mining properties","Residential properties","Agricultural properties","Public benefit organisations","Public service purpose properties","Public service infrastructure properties","Vacant land","Sport Clubs and Fields (Bitou only)","Sectional Title Garages (Drakenstein only)"]
[{"$f":"Head9","v":"Budget Year 2025/26"}]
["Valuation:"]
["No. of properties",null,0,0,0,0,0,0,0,0,0,0,0]
["No. of sectional title property values",null,0,0,0,0,0,0,0,0,0,0,0]
["No. of unreasonably difficult properties s7(2)",null,0,0,0,0,0,0,0,0,0,0,0]
["No. of supplementary valuations",null,0,0,0,0,0,0,0,0,0,0,0]
["Supplementary valuation (Rm)",null,0,0,0,0,0,0,0,0,0,0,0]
["No. of valuation roll amendments",null,0,0,0,0,0,0,0,0,0,0,0]
["No. of objections by rate-payers",null,0,0,0,0,0,0,0,0,0,0,0]
["No. of appeals by rate-payers",null,0,0,0,0,0,0,0,0,0,0,0]
["No. of appeals by rate-payers finalised",null,0,0,0,0,0,0,0,0,0,0,0]
["No. of successful objections",5,0,0,0,0,0,0,0,0,0,0,0]
["No. of successful objections > 10%",5,0,0,0,0,0,0,0,0,0,0,0]
["Estimated no. of properties not valued",null,0,0,0,0,0,0,0,0,0,0,0]
["Years since last valuation (select)"]
["Frequency of valuation (select)",null,"","","","","","","","","","",""]
["Method of valuation used (select)"]
["Base of valuation (select)"]
["Phasing-in properties s21 (number)",null,0,0,0,0,0,0,0,0,0,0,0]
["Combination of rating types used? (Y/N)"]
["Flat rate used? (Y/N)"]
["Is balance rated by uniform rate/variable rate?"]
["Valuation reductions:"]
["Valuation reductions-public infrastructure (Rm)",null,0,0,0,0,0,0,0,0,0,0,0]
["Valuation reductions-nature reserves/park (Rm)",null,0,0,0,0,0,0,0,0,0,0,0]
["Valuation reductions-mineral rights (Rm)",null,0,0,0,0,0,0,0,0,0,0,0]
["Valuation reductions-R15,000 threshold (Rm)",null,0,0,0,0,0,0,0,0,0,0,0]
["Valuation reductions-public worship (Rm)",null,0,0,0,0,0,0,0,0,0,0,0]
["Valuation reductions-other (Rm)",2,0,0,0,0,0,0,0,0,0,0,0]
["Total valuation reductions:"]
["Total value used for rating (Rm)",6,0,0,0,0,0,0,0,0,0,0,0]
["Total land value (Rm)",6,0,0,0,0,0,0,0,0,0,0,0]
["Total value of improvements (Rm)",6,0,0,0,0,0,0,0,0,0,0,0]
["Total market value (Rm)",6,0,0,0,0,0,0,0,0,0,0,0]
["Rating:"]
["Average rate",3,0,0,0,0,0,0,0,0,0,0,0]
["Rate revenue budget (R '000)",null,0,0,0,0,0,0,0,0,0,0,0]
["Rate revenue expected to collect (R'000)",null,0,0,0,0,0,0,0,0,0,0,0]
["Expected cash collection rate (%)",4,0,0,0,0,0,0,0,0,0,0,0]
["Special rating areas (R'000)",null,0,0,0,0,0,0,0,0,0,0,0]
["Rebates, exemptions - indigent (R'000)",null,0,0,0,0,0,0,0,0,0,0,0]
["Rebates, exemptions - pensioners (R'000)",null,0,0,0,0,0,0,0,0,0,0,0]
["Rebates, exemptions - bona fide farm. (R'000)",null,0,0,0,0,0,0,0,0,0,0,0]
["Rebates, exemptions - other (R'000)",null,0,0,0,0,0,0,0,0,0,0,0]
["Phase-in reductions/discounts (R'000)",null,0,0,0,0,0,0,0,0,0,0,0]
["Total rebates,exemptns,reductns,discs (R'000)",null,0,0,0,0,0,0,0,0,0,0,0]
[]
[{"$f":"head27a","v":"References"}]
["1. Land & Assistance Act, Restitution of Land Rights, Communual Property Associations"]
["2. Include value of additional reductions is 'free' value greater than MPRA minimum."]
["3. Average rate - cents in  the Rand. Eg 10.26 cents in the Rand is 0.1026, expressed to 6 decimal places maximum"]
["4. Include arrears collections"]
["5. In favour of the rate-payer"]
["6. Provide relevant information for historical comparisons."]

{"sheet":"SA13a","index":34,"n_rows":104,"n_cols":19,"rows_kept":104,"cut":false,"hidden":false,"merged":[[1,6,2,6],[1,0,2,0],[1,1,2,1],[1,2,2,2],[1,3,2,3],[1,4,2,4],[1,5,2,5],[107,6,108,6],[107,0,108,0],[107,1,108,1],[107,2,108,2],[107,3,108,3],[107,4,108,4],[107,5,108,5]]}
[{"$f":"muni&\" - \"&TableA13a","v":"Choose name from list - Supporting Table SA13a Service Tariffs by category"}]
[{"$f":"desc","v":"Description"},{"$f":"head27","v":"Ref"},"Provide description of tariff structure where appropriate",{"$f":"head1b","v":"2021/22"},{"$f":"head1A","v":"2022/23"},{"$f":"Head1","v":"2023/24"},{"$f":"Head2","v":"Current Year 2024/25"},{"$f":"Head3","v":"2025/26 Medium Term Revenue & Expenditure Framework"}]
[null,null,null,null,null,null,null,{"$f":"Head9","v":"Budget Year 2025/26"},{"$f":"Head10","v":"Budget Year +1 2026/27"},{"$f":"Head11","v":"Budget Year +2 2027/28"}]
["Property rates (rate in the Rand)",1]
["Residential properties",null,null,0,0,9.7999999999999997E-3,1.04E-2,0,0,0]
["Residential properties - vacant land",null,null,8.8000000000000005E-3,9.2999999999999992E-3,1.38E-2,1.46E-2,0,0,0]
["Formal/informal settlements",null,null,0,0,0,0,0,0,0]
["Small holdings",null,null,9.7999999999999997E-3,1.0200000000000001E-2,1.0699999999999999E-2,1.1299999999999999E-2,0,0,0]
["Farm properties - used",null,null,2.2000000000000001E-3,2.3E-3,2.3999999999999998E-3,2.5000000000000001E-3,0,0,0]
["Farm properties - not used",null,null,2.2000000000000001E-3,2.3E-3,2.3999999999999998E-3,2.5000000000000001E-3,0,0,0]
["Industrial properties",null,null,9.7999999999999997E-3,1.0200000000000001E-2,1.0699999999999999E-2,1.1299999999999999E-2,0,0,0]
["Business and commercial properties",null,null,9.7999999999999997E-3,1.0200000000000001E-2,1.0699999999999999E-2,1.1299999999999999E-2,0,0,0]
["Communal land - residential",null,null,2.2000000000000001E-3,2.3E-3,2.3999999999999998E-3,2.5000000000000001E-3,0,0,0]
["Communal land - small holdings",null,null,2.2000000000000001E-3,2.3E-3,2.3999999999999998E-3,2.5000000000000001E-3,0,0,0]
["Communal land - farm property",null,null,2.2000000000000001E-3,2.3E-3,2.3999999999999998E-3,2.5000000000000001E-3,0,0,0]
["Communal land - business and commercial",null,null,2.2000000000000001E-3,2.3E-3,2.3999999999999998E-3,2.5000000000000001E-3,0,0,0]
["Communal land - other",null,null,2.2000000000000001E-3,2.3E-3,2.3999999999999998E-3,2.5000000000000001E-3,0,0,0]
["State-owned properties",null,null,8.9999999999999993E-3,9.4999999999999998E-3,0.01,1.06E-2,0,0,0]
["Municipal properties",null,null,0,0,0,0,0,0,0]
["Public service infrastructure",null,null,2.2000000000000001E-3,2.3E-3,2.3999999999999998E-3,2.5000000000000001E-3,0,0,0]
["Privately owned towns serviced by the owner",null,null,9.7999999999999997E-3,1.0200000000000001E-2,1.0699999999999999E-2,1.1299999999999999E-2,0,0,0]
["State trust land",null,null,2.2000000000000001E-3,2.3E-3,2.3999999999999998E-3,2.5000000000000001E-3,0,0,0]
["Restitution and redistribution properties",null,null,0,0,0,0,0,0,0]
["Protected areas",null,null,0,0,0,0,0,0,0]
["National monuments properties",null,null,0,0,0,0,0,0,0]
["Property rates by usage",null,null,0,0,0,0,0,0,0]
["Business and commercial properties",null,null,0,0,0,0,0,0,0]
["Industrial properties",null,null,0,0,0,0,0,0,0]
["Mining properties",null,null,0,0,0,0,0,0,0]
["Residential properties",null,null,0,0,0,0,0,0,0]
["Agricultural properties",null,null,0,0,0,0,0,0,0]
["Public benefit organisations",null,null,0,0,0,0,0,0,0]
["Public service purpose properties",null,null,0,0,0,0,0,0,0]
["Public service infrastructure properties",null,null,0,0,0,0,0,0,0]
["Vacant land",null,null,0,0,0,0,0,0,0]
["Sport Clubs and Fields (Bitou only)",null,null,0,0,0,0,0,0,0]
["Sectional Title Garages (Drakenstein only)",null,null,0,0,0,0,0,0,0]
[]
["Exemptions, reductions and rebates (Rands)",null,null,0,0,0,0,0,0,0]
["Residential properties",null,null,0,0,0,0,0,0,0]
["R15 000 threshhold rebate",null,null,15000,15000,15000,15000,15000,15000,15000]
["General residential rebate",null,null,0,0,0,0,0,0,0]
["Indigent rebate or exemption",null,null,0,0,0,0,0,0,0]
["Pensioners/social grants rebate or exemption ",null,null,0,0,0,0,0,0,0]
["Temporary relief rebate or exemption",null,null,0,0,0,0,0,0,0]
[" Bona fide farmers rebate or exemption",null,null,0,0,0,0,0,0,0]
["Other rebates or exemptions",2,null,0,0,0,0,0,0,0]
[]
["Water tariffs",null,null,0,0,0,0,0,0,0]
["Domestic",null,null,0,0,0,0,0,0,0]
["Basic charge/fixed fee (Rands/month)",null,null,61.09,64.03,67.42,71.459999999999994,0,0,0,null,null,null,null,null,null,null,null,{"$f":"SUM(C51:R51)","v":264}]
["Service point - vacant land (Rands/month)",null,null,54.3,56.91,59.93,63.52,0,0,0,null,null,null,null,null,null,null,null,{"$f":"SUM(C52:R52)","v":234.66}]
["Water usage - flat rate tariff (c/kl)",null,null,0,0,0,0,0,0,0]
["Water usage - life line tariff",null,"(describe structure)",6.4244000000000003,8.3518000000000008,8.7943999999999996,9.3221000000000007,0,0,0]
["Water usage - Block 1 (c/kl)",null," (fill in thresholds)",7.3941999999999997,9.6123999999999992,10.1219,10.729200000000001,0,0,0]
["Water usage - Block 2 (c/kl)",null," (fill in thresholds)",8.4459,10.979699999999999,11.5616,12.2553,0,0,0]
["Water usage - Block 3 (c/kl)",null," (fill in thresholds)",9.1677999999999997,11.918200000000001,12.549799999999999,13.3028,0,0,0]
["Water usage - Block 4 (c/kl)",null," (fill in thresholds)",10.4621,13.6007,14.3216,15.180899999999999,0,0,0]
["Water usage - Block 5 (c/kl)",null," (fill in thresholds)",13.6259,17.713699999999999,18.6525,19.771699999999999,0,0,0]
["Water usage - Block 6 (c/kl)",null," (fill in thresholds)",0,0,0,0,0,0,0]
["Other",2,null,0,0,0,0,0,0,0]
[]
["Waste water tariffs",null,null,0,0,0,0,0,0,0]
["Domestic",null,null,0,0,0,0,0,0,0]
["Basic charge/fixed fee (Rands/month)",null,null,61.09,64.03,67.42,71.459999999999994,0,0,0]
["Service point - vacant land (Rands/month)",null,null,61.09,64.03,67.42,71.459999999999994,0,0,0]
["Waste water - flat rate tariff (c/kl)",null,null,0,0,0,0,0,0,0]
["Volumetric charge - Block 1 (c/kl)",null,"(fill in structure)",0,0,0,0,0,0,0]
["Volumetric charge - Block 2 (c/kl)",null,"(fill in structure)",0,0,0,0,0,0,0]
["Volumetric charge - Block 3 (c/kl)",null,"(fill in structure)",0,0,0,0,0,0,0]
["Volumetric charge - Block 4 (c/kl)",null,"(fill in structure)",0,0,0,0,0,0,0]
["Other",2,null,0,0,0,0,0,0,0]
[]
["Electricity tariffs",null,null,0,0,0,0,0,0,0]
["Domestic",null,null,0,0,0,0,0,0,0]
["Basic charge/fixed fee (Rands/month)",null,null,0,0,0,0,0,0,0]
["Service point - vacant land (Rands/month)",null,null,0,0,0,0,0,0,0]
["FBE",null,"(how is this targeted?)",50,50,50,50,50,50,50]
["Life-line tariff - meter",null,"(describe structure)",0,0,0,0,0,0,0]
["Life-line tariff - prepaid",null,"(describe structure)",0,0,0,0,0,0,0]
["Flat rate tariff - meter (c/kwh)",null,null,0,0,0,0,0,0,0]
["Flat rate tariff - prepaid(c/kwh)",null,null,0,0,0,0,0,0,0]
["Meter - IBT Block 1 (c/kwh)",null,"(fill in thresholds)",0,0,0,0,0,0,0]
["Meter - IBT Block 2 (c/kwh)",null,"(fill in thresholds)",0,0,0,0,0,0,0]
["Meter - IBT Block 3 (c/kwh)",null,"(fill in thresholds)",0,0,0,0,0,0,0]
["Meter - IBT Block 4 (c/kwh)",null,"(fill in thresholds)",0,0,0,0,0,0,0]
["Meter - IBT Block 5 (c/kwh)",null,"(fill in thresholds)",0,0,0,0,0,0,0]
["Prepaid - IBT Block 1 (c/kwh)",null,"(fill in thresholds)",0,0,0,0,0,0,0]
["Prepaid - IBT Block 2 (c/kwh)",null,"(fill in thresholds)",0,0,0,0,0,0,0]
["Prepaid - IBT Block 3 (c/kwh)",null,"(fill in thresholds)",0,0,0,0,0,0,0]
["Prepaid - IBT Block 4 (c/kwh)",null,"(fill in thresholds)",0,0,0,0,0,0,0]
["Prepaid - IBT Block 5 (c/kwh)",null,"(fill in thresholds)",0,0,0,0,0,0,0]
["Other",2,null,0,0,0,0,0,0,0]
[]
["Waste management tariffs",null,null,0,0,0,0,0,0,0]
["Domestic",null,null,0,0,0,0,0,0,0]
["Street cleaning charge",null,null,0,0,0,0,0,0,0]
["Basic charge/fixed fee",null,null,0,0,0,0,0,0,0]
["80l bin - once a week",null,null,0,0,0,0,0,0,0]
["250l bin - once a week",null,null,0,0,0,0,0,0,0]
[]
[{"$f":"head27a","v":"References"}]
["1. If properties are not rated or zero rated this must be indicated as such"]
["2.Please provide detailed descriptions on Sheet SA13b"]

{"sheet":"SA13b","index":35,"n_rows":50,"n_cols":19,"rows_kept":50,"cut":false,"hidden":false,"merged":[[94,5,95,5],[94,6,95,6],[1,6,2,6],[1,5,2,5],[1,4,2,4],[94,4,95,4],[94,0,95,0],[1,0,2,0],[1,1,2,1],[1,2,2,2],[1,3,2,3],[94,1,95,1],[94,2,95,2],[94,3,95,3]]}
[{"$f":"muni&\" - \"&TableA13b","v":"Choose name from list - Supporting Table SA13b Service Tariffs by category - explanatory"}]
[{"$f":"desc","v":"Description"},{"$f":"head27","v":"Ref"},"Provide description of tariff structure where appropriate",{"$f":"head1b","v":"2021/22"},{"$f":"head1A","v":"2022/23"},{"$f":"Head1","v":"2023/24"},{"$f":"Head2","v":"Current Year 2024/25"},{"$f":"Head3","v":"2025/26 Medium Term Revenue & Expenditure Framework"}]
[null,null,null,null,null,null,null,{"$f":"Head9","v":"Budget Year 2025/26"},{"$f":"Head10","v":"Budget Year +1 2026/27"},{"$f":"Head11","v":"Budget Year +2 2027/28"}]
["Exemptions, reductions and rebates (Rands)"]
["[Insert lines as applicable]"]
[]
[]
[]
[]
[]
[]
[]
[]
["Water tariffs"]
["[Insert blocks as applicable]",null," (fill in thresholds)"]
[null,null," (fill in thresholds)"]
[null,null," (fill in thresholds)"]
[null,null," (fill in thresholds)"]
[null,null," (fill in thresholds)"]
[null,null," (fill in thresholds)"]
[null,null," (fill in thresholds)"]
[null,null," (fill in thresholds)"]
[null,null," (fill in thresholds)"]
[null,null," (fill in thresholds)"]
[]
["Waste water tariffs"]
["[Insert blocks as applicable]",null,"(fill in structure)"]
[null,null,"(fill in structure)"]
[null,null,"(fill in structure)"]
[null,null,"(fill in structure)"]
[null,null,"(fill in structure)"]
[null,null,"(fill in structure)"]
[null,null,"(fill in structure)"]
[null,null,"(fill in structure)"]
[null,null,"(fill in structure)"]
[]
["Electricity tariffs"]
["[Insert blocks as applicable]",null,"(fill in thresholds)"]
[null,null,"(fill in thresholds)",null,null,null,null,null,null,null,null,null,null,null,null,null,null,null,{"$f":"SUM(C39:R39)","v":0}]
[null,null,"(fill in thresholds)",null,null,null,null,null,null,null,null,null,null,null,null,null,null,null,{"$f":"SUM(C40:R40)","v":0}]
[null,null,"(fill in thresholds)"]
[null,null,"(fill in thresholds)"]
[null,null,"(fill in thresholds)"]
[null,null,"(fill in thresholds)"]
[null,null,"(fill in thresholds)"]
[null,null,"(fill in thresholds)"]
[null,null,"(fill in thresholds)"]
[null,null,"(fill in thresholds)"]
[null,null,"(fill in thresholds)"]
[null,null,"(fill in thresholds)"]

{"sheet":"SA14","index":36,"n_rows":54,"n_cols":12,"rows_kept":54,"cut":false,"hidden":false,"merged":[[1,1,3,1],[1,5,1,7],[1,0,2,0]]}
[{"$f":"muni&\" - \"&TableA14","v":"Choose name from list - Supporting Table SA14 Household bills"}]
[{"$f":"desc","v":"Description"},{"$f":"head27","v":"Ref"},{"$f":"head1b","v":"2021/22"},{"$f":"head1A","v":"2022/23"},{"$f":"Head1","v":"2023/24"},{"$f":"Head2","v":"Current Year 2024/25"},null,null,{"$f":"Head3","v":"2025/26 Medium Term Revenue & Expenditure Framework"}]
[null,null,{"$f":"Head5","v":"Audited Outcome"},{"$f":"Head5","v":"Audited Outcome"},{"$f":"Head5","v":"Audited Outcome"},{"$f":"Head6","v":"Original Budget"},{"$f":"Head7","v":"Adjusted Budget"},{"$f":"Head8","v":"Full Year Forecast"},{"$f":"Head9","v":"Budget Year 2025/26"},{"$f":"Head9","v":"Budget Year 2025/26"},{"$f":"Head10","v":"Budget Year +1 2026/27"},{"$f":"Head11","v":"Budget Year +2 2027/28"}]
["Rand/cent",null,null,null,null,null,null,null,"% incr."]
["Monthly Account for Household - 'Middle Income Range'",1,0,0,0,0,0,0,0,0,0,0]
["Rates and services charges:",null,0,0,0,0,0,0,0,0,0,0]
["Property rates",null,674.67,713.01,751.33,797.33,797.33,797.33,0,0,0,0]
["Electricity: Basic levy",null,170.33,183.05,210.69,232.59,232.59,232.59,0,0,0,0]
["Electricity: Consumption",null,1577.59,1816.54,1312.54,1607.29,1607.29,1607.29,0,0,0,0]
["Water: Basic levy",null,70.25,73.63,77.53,82.18,82.18,82.18,0,0,0,0]
["Water: Consumption",null,776.03,942.36,1035.1600000000001,1070.79,1070.79,1070.79,0,0,0,0]
["Sanitation",null,357.57,372.3,392.06,415.57,415.57,415.57,0,0,0,0]
["Refuse removal",null,159.13,166.76,175.59,186.13,186.13,186.13,0,0,0,0]
["Other",null,0,0,0,0,0,0,0,0,0,0]
["sub-total",null,3785.57,4267.6499999999996,3954.9,4391.88,4391.88,4391.88,0,0,0,0]
["VAT on Services",null,0,0,0,0,0,0,0,0,0,0]
["Total large household bill:",null,3785.57,4267.6499999999996,3954.9,4391.88,4391.88,4391.88,0,0,0,0]
["% increase/-decrease",null,0,0.1273467403852,-7.3283891603107207E-2,0.11049078358492,0,0,0,-1,0,0]
[]
["Monthly Account for Household - 'Affordable Range' ",2,0,0,0,0,0,0,0,0,0,0]
[{"$f":"A6","v":"Rates and services charges:"},null,0,0,0,0,0,0,0,0,0,0]
[{"$f":"A7","v":"Property rates"},null,410.67,434.01,457.33,485.33,485.33,485.33,0,0,0,0]
["Electricity: Basic levy",null,170.33,183.05,210.69,232.59,232.59,232.59,0,0,0,0]
["Electricity: Consumption",null,571.88,788.35,753.4,901.45,901.45,901.45,0,0,0,0]
["Water: Basic levy",null,70.25,73.63,77.53,82.18,82.18,82.18,0,0,0,0]
["Water: Consumption",null,463.07,401.79,757.09,777.28,777.28,777.28,0,0,0,0]
["Sanitation",null,357.57,374.8,394.7,418.37,418.37,418.37,0,0,0,0]
["Refuse removal",null,159.13,166.76,175.59,186.13,186.13,186.13,0,0,0,0]
["Other",null,0,0,0,0,0,0,0,0,0,0]
["sub-total",null,2202.9,2422.39,2826.33,3083.33,3083.33,3083.33,0,0,0,0]
["VAT on Services",null,0,0,0,0,0,0,0,0,0,0]
["Total small household bill:",null,2202.9,2422.39,2826.33,3083.33,3083.33,3083.33,0,0,0,0]
["% increase/-decrease",null,0,9.9636842344182699E-2,0.16675266988387499,9.0930641503292206E-2,0,0,0,-1,0,0]
[null,null,null,null,{"$f":"IF(ISERROR((E33/D33)-1),0,((E33/D33)-1))","v":0.67360452178772667},{"$f":"IF(ISERROR((F33/E33)-1),0,((F33/E33)-1))","v":-0.45469753757696674},{"$f":"IF(ISERROR((G33/F33)-1),0,((G33/F33)-1))","v":-1},{"$f":"IF(ISERROR((H33/G33)-1),0,((H33/G33)-1))","v":0}]
["Monthly Account for Household - 'Indigent' Household receiving free basic services",3,0,0,0,0,0,0,0,0,0,0]
[{"$f":"A6","v":"Rates and services charges:"},null,0,0,0,0,0,0,0,0,0,0]
[{"$f":"A7","v":"Property rates"},null,0,0,0,0,0,0,0,0,0,0]
["Electricity: Basic levy",null,0,0,0,0,0,0,0,0,0,0]
["Electricity: Consumption",null,0,0,0,0,0,0,0,0,0,0]
["Water: Basic levy",null,0,0,0,0,0,0,0,0,0,0]
["Water: Consumption",null,0,0,0,0,0,0,0,0,0,0]
["Sanitation",null,0,0,0,0,0,0,0,0,0,0]
["Refuse removal",null,0,0,0,0,0,0,0,0,0,0]
["Other",null,0,0,0,0,0,0,0,0,0,0]
["sub-total",null,0,0,0,0,0,0,0,0,0,0]
["VAT on Services",null,0,0,0,0,0,0,0,0,0,0]
["Total small household bill:",null,0,0,0,0,0,0,0,0,0,0]
[{"$f":"A18","v":"% increase/-decrease"},null,0,0,0,0,0,0,0,0,0,0]
[]
[{"$f":"head27a","v":"References"}]
["1. Use as basis property value of R700 000, 1 000 kWh electricity and 30kl water"]
["2. Use as basis property value  of R500 000 and R700 000, 500 kWh electricity and 25kl water"]
["3. Use as basis property value of R 300 000, 350kWh electricity and 20kl water (50 kWh electricity and 6 kl water free)"]
["4. Note this is for a SINGLE household."]

{"sheet":"SA15","index":37,"n_rows":32,"n_cols":11,"rows_kept":32,"cut":false,"hidden":false,"merged":[[1,5,1,7],[1,8,1,10],[1,1,3,1],[1,0,2,0]]}
[{"$f":"muni&\" - \"&TableA15","v":"Choose name from list - Supporting Table SA15 Investment particulars by type"}]
["Investment type",{"$f":"head27","v":"Ref"},{"$f":"head1b","v":"2021/22"},{"$f":"head1A","v":"2022/23"},{"$f":"Head1","v":"2023/24"},{"$f":"Head2","v":"Current Year 2024/25"},null,null,{"$f":"Head3","v":"2025/26 Medium Term Revenue & Expenditure Framework"}]
[null,null,{"$f":"Head5","v":"Audited Outcome"},{"$f":"Head5","v":"Audited Outcome"},{"$f":"Head5","v":"Audited Outcome"},{"$f":"Head6","v":"Original Budget"},{"$f":"Head7","v":"Adjusted Budget"},{"$f":"Head8","v":"Full Year Forecast"},{"$f":"Head9","v":"Budget Year 2025/26"},{"$f":"Head10","v":"Budget Year +1 2026/27"},{"$f":"Head11","v":"Budget Year +2 2027/28"}]
["R thousand"]
["Parent municipality"]
["Securities - National Government"]
["Listed Corporate Bonds"]
["Deposits - Bank"]
["Deposits - Public Investment Commissioners"]
["Deposits - Corporation for Public Deposits"]
["Bankers Acceptance Certificates"]
["Negotiable Certificates of Deposit - Banks"]
["Guaranteed Endowment Policies (sinking)"]
["Repurchase Agreements - Banks"]
["Municipal Bonds"]
[]
["Municipality sub-total",1,{"$f":"SUM(C6:C15)","v":0},{"$f":"SUM(D6:D15)","v":0},0,0,0,0,0,0,0]
[]
["Entities"]
[{"$f":"A6","v":"Securities - National Government"}]
[{"$f":"A7","v":"Listed Corporate Bonds"}]
["Deposits - Bank"]
["Deposits - Public Investment Commissioners"]
["Deposits - Corporation for Public Deposits"]
["Bankers Acceptance Certificates"]
["Negotiable Certificates of Deposit - Banks"]
["Guaranteed Endowment Policies (sinking)"]
["Repurchase Agreements - Banks"]
[]
["Entities sub-total",null,{"$f":"SUM(C20:C29)","v":0},{"$f":"SUM(D20:D29)","v":0},0,0,0,0,0,0,0]
[]
["Consolidated total:",null,{"$f":"C17+C30","v":0},{"$f":"D17+D30","v":0},0,0,0,0,0,0,0]

{"sheet":"SA16","index":38,"n_rows":32,"n_cols":15,"rows_kept":32,"cut":false,"hidden":false,"merged":[[1,3,2,3],[1,9,2,9],[2,10,2,14]]}
[{"$f":"muni&\" - \"&TableA16","v":"Choose name from list - Supporting Table SA16 Investment particulars by maturity"}]
["Investments by Maturity",{"$f":"head27","v":"Ref"},"Period of Investment","Type of Investment","Capital Guarantee\n(Yes/ No)","Variable or Fixed interest rate","Interest Rate ᶟ","Commission Paid (Rands)","Commission Recipient","Expiry date of investment","Opening balance","Interest to be realised","Partial / Premature Withdrawal (4)","Investment Top Up","Closing Balance"]
["Name of institution & investment ID",1,"Yrs/Months"]
["Parent municipality"]
[null,null,null,null,null,null,null,null,null,null,null,null,null,null,{"$f":"SUM(K5:N5)","v":0}]
[null,null,null,null,null,null,null,null,null,null,null,null,null,null,{"$f":"SUM(K6:N6)","v":0}]
[null,null,null,null,null,null,null,null,null,null,null,null,null,null,0]
[null,null,null,null,null,null,null,null,null,null,null,null,null,null,0]
[null,null,null,null,null,null,null,null,null,null,null,null,null,null,0]
[null,null,null,null,null,null,null,null,null,null,null,null,null,null,0]
[null,null,null,null,null,null,null,null,null,null,null,null,null,null,0]
["Municipality sub-total",null,null,null,null,null,null,null,null,null,{"$f":"SUM(K5:K11)","v":0},null,{"$f":"SUM(M5:M11)","v":0},{"$f":"SUM(N5:N11)","v":0},{"$f":"SUM(O5:O11)","v":0}]
[]
["Entities"]
[null,null,null,null,null,null,null,null,null,null,null,null,null,null,{"$f":"SUM(K15:N15)","v":0}]
[null,null,null,null,null,null,null,null,null,null,null,null,null,null,{"$f":"SUM(K16:N16)","v":0}]
[null,null,null,null,null,null,null,null,null,null,null,null,null,null,0]
[null,null,null,null,null,null,null,null,null,null,null,null,null,null,0]
[null,null,null,null,null,null,null,null,null,null,null,null,null,null,0]
[null,null,null,null,null,null,null,null,null,null,null,null,null,null,0]
[null,null,null,null,null,null,null,null,null,null,null,null,null,null,0]
["Entities sub-total",null,null,null,null,null,null,null,null,null,{"$f":"SUM(K15:K21)","v":0},null,{"$f":"SUM(M15:M21)","v":0},{"$f":"SUM(N15:N21)","v":0},{"$f":"SUM(O15:O21)","v":0}]
[]
["TOTAL INVESTMENTS AND INTEREST",1,null,null,null,null,null,null,null,null,{"$f":"K12+K22","v":0},null,{"$f":"M12+M22","v":0},{"$f":"N12+N22","v":0},{"$f":"O12+O22","v":0}]
[]
[{"$f":"head27a","v":"References"}]
["1. Total investments must reconcile to all items in Table SA15 for the Current Year (30 June)"]
["2. List investments in expiry date order"]
["3. If 'variable' is selected in column F, input interest rate range"]
["4. Withdrawals to be entered as negative"]
[]
[null,null,null,null,null,null,null,null,null,null,null,null,"`"]

{"sheet":"SA17","index":39,"n_rows":70,"n_cols":45,"rows_kept":70,"cut":false,"hidden":false,"merged":[[1,5,1,7],[1,8,1,10]]}
[{"$f":"muni&\" - \"&TableA17","v":"Choose name from list - Supporting Table SA17 Borrowing"}]
["Borrowing - Categorised by type",{"$f":"head27","v":"Ref"},{"$f":"head1b","v":"2021/22"},{"$f":"head1A","v":"2022/23"},{"$f":"Head1","v":"2023/24"},{"$f":"Head2","v":"Current Year 2024/25"},null,null,{"$f":"Head3","v":"2025/26 Medium Term Revenue & Expenditure Framework"}]
["R thousand",null,{"$f":"Head5","v":"Audited Outcome"},{"$f":"Head5","v":"Audited Outcome"},{"$f":"Head5","v":"Audited Outcome"},{"$f":"Head6","v":"Original Budget"},{"$f":"Head7","v":"Adjusted Budget"},{"$f":"Head8","v":"Full Year Forecast"},{"$f":"Head9","v":"Budget Year 2025/26"},{"$f":"Head10","v":"Budget Year +1 2026/27"},{"$f":"Head11","v":"Budget Year +2 2027/28"}]
["Parent municipality"]
["Annuity and Bullet Loans"]
["Long-Term Loans (non-annuity)"]
["Local registered stock"]
["Instalment Credit"]
["Financial Leases"]
["PPP liabilities"]
["Finance Granted By Cap Equipment Supplier"]
["Marketable Bonds"]
["Non-Marketable Bonds"]
["Bankers Acceptances"]
["Financial derivatives"]
["Other Securities"]
["Municipality sub-total",1,{"$f":"SUM(C5:C16)","v":0},{"$f":"SUM(D5:D16)","v":0},0,0,0,0,0,0,0]
[]
["Entities"]
[{"$f":"A5","v":"Annuity and Bullet Loans"}]
["Long-Term Loans (non-annuity)"]
["Local registered stock"]
["Instalment Credit"]
["Financial Leases"]
["PPP liabilities"]
["Finance Granted By Cap Equipment Supplier"]
["Marketable Bonds"]
["Non-Marketable Bonds"]
["Bankers Acceptances"]
["Financial derivatives"]
["Other Securities"]
["Entities sub-total",1,{"$f":"SUM(C20:C31)","v":0},{"$f":"SUM(D20:D31)","v":0},0,0,0,0,0,0,0]
[]
["Total Borrowing",1,{"$f":"C17+C32","v":0},{"$f":"D17+D32","v":0},0,0,0,0,0,0,0]
[]
["Unspent Borrowing - Categorised by type"]
["Parent municipality"]
["Long-Term Loans (annuity/reducing balance)"]
["Long-Term Loans (non-annuity)"]
["Local registered stock"]
["Instalment Credit",null,null,null,null,null,null,null,null,null,null,null,null,null,null,null,null,null,null,null,null,null,null,null,null,null,null,null,null,null,null,null,null,null,null,null,null,null,null,null,null,null,439005000,null,539442200]
["Financial Leases"]
["PPP liabilities",null,null,null,null,null,null,null,null,null,null,null,null,null,null,null,null,null,null,null,null,null,0,null,0,null,null,0,null,0,null,null,0,null,0,null,null,0,null,0,null,null,1834701353,null,1241876995]
["Finance Granted By Cap Equipment Supplier",null,null,null,null,null,null,null,null,null,null,null,null,null,null,null,null,null,null,null,null,null,null,null,null,null,null,null,null,null,null,null,null,null,null,null,null,null,null,null,null,null,839041298,null,440387617]
["Marketable Bonds",null,null,null,null,null,null,null,null,null,null,null,null,null,null,null,null,null,null,null,null,null,null,null,null,null,null,null,null,null,null,null,null,null,null,null,null,null,null,null,null,null,976543638,null,782372961]
["Non-Marketable Bonds",null,null,null,null,null,null,null,null,null,null,null,null,null,null,null,null,null,null,null,null,null,null,null,null,null,null,null,null,null,null,null,null,null,null,null,null,null,null,null,null,null,19116417,null,19116417]
["Bankers Acceptances",null,null,null,null,null,null,null,null,null,null,null,null,null,null,null,null,null,null,null,null,null,null,null,null,null,null,null,null,null,null,null,null,null,null,null,null,null,null,null,null,null,2273706353,null,1781319195]
["Financial derivatives",null,null,null,null,null,null,null,null,null,null,null,null,null,null,null,null,null,null,null,null,null,null,null,null,null,null,null,null,null,null,null,null,null,null,null,null,null,null,null,null,null,180259232,null,140396729]
["Other Securities",null,null,null,null,null,null,null,null,null,null,null,null,null,null,null,null,null,null,null,null,null,null,null,null,null,null,null,null,null,null,null,null,null,null,null,null,null,null,null,null,null,125005000,null,100442200]
["Municipality sub-total",1,{"$f":"SUM(C38:C49)","v":0},{"$f":"SUM(D38:D49)","v":0},0,0,0,0,0,0,0,null,null,null,null,null,null,null,null,null,null,null,null,null,null,null,null,null,null,null,null,null,null,null,null,null,null,null,null,null,null,null,40341797,null,38954529]
[null,null,null,null,null,null,null,null,null,null,null,null,null,null,null,null,null,null,null,null,null,null,null,null,null,null,null,null,null,null,null,null,null,null,null,null,null,null,null,null,null,null,14912435,null,1000000]
["Entities"]
[{"$f":"A38","v":"Long-Term Loans (annuity/reducing balance)"}]
["Long-Term Loans (non-annuity)"]
["Local registered stock"]
["Instalment Credit"]
["Financial Leases"]
["PPP liabilities"]
["Finance Granted By Cap Equipment Supplier"]
["Marketable Bonds"]
["Non-Marketable Bonds"]
["Bankers Acceptances"]
["Financial derivatives"]
["Other Securities"]
["Entities sub-total",1,{"$f":"SUM(C53:C64)","v":0},{"$f":"SUM(D53:D64)","v":0},0,0,0,0,0,0,0]
[]
["Total Unspent Borrowing",1,{"$f":"C50+C65","v":0},{"$f":"D50+D65","v":0},0,0,0,0,0,0,0]
[]
[{"$f":"head27a","v":"References"}]
["1. Total borrowing must reconcile to Budgeted Financial Position (Borrowing - non-current)"]

{"sheet":"SA18","index":40,"n_rows":53,"n_cols":11,"rows_kept":53,"cut":false,"hidden":false,"merged":[[1,5,1,7],[1,8,1,10]]}
[{"$f":"muni&\" - \"& TableA18","v":"Choose name from list - Supporting Table SA18 Transfers and grant receipts"}]
[{"$f":"desc","v":"Description"},{"$f":"head27","v":"Ref"},{"$f":"head1b","v":"2021/22"},{"$f":"head1A","v":"2022/23"},{"$f":"Head1","v":"2023/24"},{"$f":"Head2","v":"Current Year 2024/25"},null,null,{"$f":"Head3","v":"2025/26 Medium Term Revenue & Expenditure Framework"}]
["R thousand",null,{"$f":"Head5","v":"Audited Outcome"},{"$f":"Head5","v":"Audited Outcome"},{"$f":"Head5","v":"Audited Outcome"},{"$f":"Head6","v":"Original Budget"},{"$f":"Head7","v":"Adjusted Budget"},{"$f":"Head8","v":"Full Year Forecast"},{"$f":"Head9","v":"Budget Year 2025/26"},{"$f":"Head10","v":"Budget Year +1 2026/27"},{"$f":"Head11","v":"Budget Year +2 2027/28"}]
["RECEIPTS:","1, 2"]
[]
["Operating Transfers and Grants"]
["National Government:",null,{"$f":"SUM(C8:C14)","v":187503322.71000001},{"$f":"SUM(D8:D14)","v":206836438.09999999},230565261.46000001,247286250,247286250,247286250,260209300,270519300,282880901]
["Equitable Share",{"$f":"IF(A8=\"  Levy replacement\",3,\"\")","v":""},180343357,202071000,226374000,241654000,241654000,241654000,255681000,265658151,278019751]
["Expanded Public Works Programme Integrated Grant","",1220000,1292999.96,982867,1311000,1311000,1311000,0,0,1]
["Local Government Financial Management Grant","",1650000,1650000,1700000,1800000,1800000,1800000,1900000,2000000,2000000]
["Municipal Infrastructure Grant","",4289965.71,1822438.14,1508394.46,2521250,2521250,2521250,2628300,2861149,2861149]
[null,""]
[null,""]
["  Other transfers/grants [insert description]"]
["Provincial Government:",null,{"$f":"SUM(C16:C20)","v":0},{"$f":"SUM(D16:D20)","v":0},0,0,0,0,0,0,0]
[null,{"$f":"IF(A16=\"  Housing\",4,\"\")","v":""}]
[null,{"$f":"IF(A17=\"  Housing\",4,\"\")","v":""}]
[null,{"$f":"IF(A18=\"  Housing\",4,\"\")","v":""}]
[null,{"$f":"IF(A19=\"  Housing\",4,\"\")","v":""}]
[{"$f":"A14","v":"  Other transfers/grants [insert description]"}]
["District Municipality:",null,{"$f":"SUM(C22:C23)","v":0},{"$f":"SUM(D22:D23)","v":0},0,0,0,0,0,0,0]
["  [insert description]"]
[]
["Other grant providers:",null,{"$f":"SUM(C25:C26)","v":0},{"$f":"SUM(D25:D26)","v":0},0,0,0,0,0,0,0]
["  [insert description]"]
[]
["Total Operating Transfers and Grants",5,{"$f":"C7+C15+C21+C24","v":187503322.71000001},{"$f":"D7+D15+D21+D24","v":206836438.09999999},230565261.46000001,247286250,247286250,247286250,260209300,270519300,282880901]
[]
["Capital Transfers and Grants"]
[{"$f":"A7","v":"National Government:"},null,{"$f":"SUM(C31:C36)","v":113368354.04999998},{"$f":"SUM(D31:D36)","v":51165185.469999999},119891335.75999999,194004750,197604752,197604752,117237700,142940700,145253102]
["Energy Efficiency and Demand Side Management Grant",null,0,4000000,0,4000000,1,1,4000000,0,5000000]
["Integrated National Electrification Programme Grant",null,25695590,11000000,1203000,0,0,0,0,11212000,11719000]
["Municipal Disaster Response Grant",null,0,0,0,0,7600001,7600001,0,0,2]
["Municipal Infrastructure Grant",null,45059995.289999999,28107972.329999998,65290707.82,47903750,47903750,47903750,49937700,54117700,56542100]
["Water Services Infrastructure Grant",null,42612768.759999998,8057213.1399999997,53397627.939999998,142101000,142101000,142101000,63300000,77611000,71992000]
["  Other capital transfers/grants [insert desc]"]
[{"$f":"A15","v":"Provincial Government:"},null,{"$f":"SUM(C38)","v":0},{"$f":"SUM(D38)","v":0},0,0,0,0,0,0,0]
["Other capital transfers/grants [insert description]"]
[{"$f":"A21","v":"District Municipality:"},null,{"$f":"SUM(C40:C41)","v":0},{"$f":"SUM(D40:D41)","v":0},0,0,0,0,0,0,0]
[{"$f":"A22","v":"  [insert description]"}]
[]
[{"$f":"A24","v":"Other grant providers:"},null,{"$f":"SUM(C43:C44)","v":0},{"$f":"SUM(D43:D44)","v":0},0,0,0,0,0,0,0]
[{"$f":"LEFT(A25,22)","v":"  [insert description]"}]
[]
["Total Capital Transfers and Grants",5,{"$f":"C30+C37+C39+C42","v":113368354.04999998},{"$f":"D30+D37+D39+D42","v":51165185.469999999},119891335.75999999,194004750,197604752,197604752,117237700,142940700,145253102]
["TOTAL RECEIPTS OF TRANSFERS & GRANTS",null,{"$f":"C27+C45","v":300871676.75999999},{"$f":"D27+D45","v":258001623.56999999},350456597.22000003,441291000,444891002,444891002,377447000,413460000,428134003]
[{"$f":"head27a","v":"References"}]
["1. Each transfer/grant is listed by name as gazetted together with the name of the transferring department or municipality, donor or other organisation"]
["2. Amounts actually RECEIVED; not revenue recognised (objective is to confirm grants transferred)"]
["3. Replacement of RSC levies"]
["4. Housing subsidies for housing where ownership transferred to organisations or persons outside the control of the municipality"]
["5. Total transfers and grants must reconcile to Budgeted Cash Flows"]
["6. Motor vehicle licensing refunds to be included under 'agency' services (Not Grant Receipts)"]

{"sheet":"SA19","index":41,"n_rows":49,"n_cols":11,"rows_kept":49,"cut":false,"hidden":false,"merged":[[1,5,1,7],[1,8,1,10]]}
[{"$f":"muni&\" - \"& TableA19","v":"Choose name from list - Supporting Table SA19 Expenditure on transfers and grant programme"}]
[{"$f":"desc","v":"Description"},{"$f":"head27","v":"Ref"},{"$f":"head1b","v":"2021/22"},{"$f":"head1A","v":"2022/23"},{"$f":"Head1","v":"2023/24"},{"$f":"Head2","v":"Current Year 2024/25"},null,null,{"$f":"Head3","v":"2025/26 Medium Term Revenue & Expenditure Framework"}]
["R thousand",null,{"$f":"Head5","v":"Audited Outcome"},{"$f":"Head5","v":"Audited Outcome"},{"$f":"Head5","v":"Audited Outcome"},{"$f":"Head6","v":"Original Budget"},{"$f":"Head7","v":"Adjusted Budget"},{"$f":"Head8","v":"Full Year Forecast"},{"$f":"Head9","v":"Budget Year 2025/26"},{"$f":"Head10","v":"Budget Year +1 2026/27"},{"$f":"Head11","v":"Budget Year +2 2027/28"}]
["EXPENDITURE:",1]
[]
["Operating expenditure of Transfers and Grants"]
[{"$f":"'SA18'!A7","v":"National Government:"},null,{"$f":"SUM(C8:C14)","v":208481516.78999999},{"$f":"SUM(D8:D14)","v":241638233.24000001},219411404.07999998,230721096,227192694,227192694,242802633,254482625,269594530]
["Equitable Share",null,197461558.36000001,231919996.30000001,213695716.19999999,224937430,221096901,221096901,237957689,249532057,264652774]
["Expanded Public Works Programme Integrated Grant",null,0,94128,122625.88,1311000,1311000,1311000,0,0,1]
["Local Government Financial Management Grant",null,8685609.2899999991,7470922.79,4063291.32,1736669,1736669,1736669,1833945,1930905,1927865]
["Municipal Disaster Response Grant",null,0,0,0,0,297124,297124,0,0,1]
["Municipal Infrastructure Grant",null,2334349.14,2153186.15,1529770.68,2735997,2751000,2751000,3010999,3019663,3013889]
[{"$f":"IF('SA18'!A13=\"\",\"\",'SA18'!A13)","v":""}]
[{"$f":"'SA18'!A14","v":"  Other transfers/grants [insert description]"}]
[{"$f":"'SA18'!A15","v":"Provincial Government:"},null,{"$f":"SUM(C16:C20)","v":0},{"$f":"SUM(D16:D20)","v":0},0,0,0,0,0,0,0]
[{"$f":"IF('SA18'!A16=\"\",\"\",'SA18'!A16)","v":""}]
[{"$f":"IF('SA18'!A17=\"\",\"\",'SA18'!A17)","v":""}]
[{"$f":"IF('SA18'!A18=\"\",\"\",'SA18'!A18)","v":""}]
[{"$f":"IF('SA18'!A19=\"\",\"\",'SA18'!A19)","v":""}]
[{"$f":"'SA18'!A20","v":"  Other transfers/grants [insert description]"}]
[{"$f":"'SA18'!A21","v":"District Municipality:"},null,{"$f":"SUM(C22:C23)","v":0},{"$f":"SUM(D22:D23)","v":0},0,0,0,0,0,0,0]
[{"$f":"'SA18'!A22","v":"  [insert description]"}]
[]
[{"$f":"'SA18'!A24","v":"Other grant providers:"},null,{"$f":"SUM(C25:C26)","v":0},{"$f":"SUM(D25:D26)","v":0},0,0,0,0,0,0,0]
[{"$f":"'SA18'!A25","v":"  [insert description]"}]
[]
["Total operating expenditure of Transfers and Grants:",null,{"$f":"C7+C15+C21+C24","v":208481516.78999999},{"$f":"D7+D15+D21+D24","v":241638233.24000001},219411404.07999998,230721096,227192694,227192694,242802633,254482625,269594530]
[]
["Capital expenditure of Transfers and Grants"]
[{"$f":"'SA18'!A30","v":"National Government:"},null,{"$f":"SUM(C31:C36)","v":101440103.81999999},{"$f":"SUM(D31:D36)","v":46418809},96388604.879999995,194004750,221079752,221079752,117237700,142940700,133534118]
["Energy Efficiency and Demand Side Management Grant",null,0,0,0,4000000,4000001,4000001,4000000,0,5000001]
["Integrated National Electrification Programme Grant",null,20077739.34,9565217.4100000001,0,0,0,0,0,11212000,1]
["Municipal Disaster Recovery Grant",null,0,0,0,0,19475000,19475000,0,0,8]
["Municipal Disaster Response Grant",null,0,0,0,0,7600000,7600000,0,0,1]
["Municipal Infrastructure Grant",null,44190253.799999997,27401139.620000001,49000304.93,47903750,47903750,47903750,49937700,54117700,56542102]
["Water Services Infrastructure Grant",null,37172110.68,9452451.9700000007,47388299.950000003,142101000,142101001,142101001,63300000,77611000,71992005]
[{"$f":"'SA18'!A37","v":"Provincial Government:"},null,{"$f":"SUM(C38)","v":0},{"$f":"SUM(D38)","v":0},0,0,0,0,0,0,0]
[{"$f":"'SA18'!A38","v":"Other capital transfers/grants [insert description]"}]
[{"$f":"'SA18'!A39","v":"District Municipality:"},null,{"$f":"SUM(C40:C41)","v":0},{"$f":"SUM(D40:D41)","v":0},0,0,0,0,0,0,0]
[{"$f":"'SA18'!A40","v":"  [insert description]"}]
[]
[{"$f":"'SA18'!A42","v":"Other grant providers:"},null,{"$f":"SUM(C43:C44)","v":0},{"$f":"SUM(D43:D44)","v":0},0,0,0,0,0,0,0]
[{"$f":"'SA18'!A43","v":"  [insert description]"}]
[]
["Total capital expenditure of Transfers and Grants",null,{"$f":"C30+C37+C39+C42","v":101440103.81999999},{"$f":"D30+D37+D39+D42","v":46418809},96388604.879999995,194004750,221079752,221079752,117237700,142940700,133534118]
[]
["TOTAL EXPENDITURE OF TRANSFERS AND GRANTS",null,{"$f":"C27+C45","v":309921620.61000001},{"$f":"D27+D45","v":288057042.24000001},315800008.95999998,424725846,448272446,448272446,360040333,397423325,403128648]
[{"$f":"head27a","v":"References"}]
["1. Expenditure must be separately listed for each transfer or grant received or recognised"]

{"sheet":"SA20","index":42,"n_rows":58,"n_cols":11,"rows_kept":58,"cut":false,"hidden":false,"merged":[[57,0,57,10],[1,5,1,7],[1,8,1,10],[55,0,55,10],[56,0,56,10]]}
[{"$f":"muni&\" - \"& TableA20","v":"Choose name from list - Supporting Table SA20 Reconciliation of transfers, grant receipts and unspent funds"}]
[{"$f":"desc","v":"Description"},{"$f":"head27","v":"Ref"},{"$f":"head1b","v":"2021/22"},{"$f":"head1A","v":"2022/23"},{"$f":"Head1","v":"2023/24"},{"$f":"Head2","v":"Current Year 2024/25"},null,null,{"$f":"Head3","v":"2025/26 Medium Term Revenue & Expenditure Framework"}]
["R thousand",null,{"$f":"Head5","v":"Audited Outcome"},{"$f":"Head5","v":"Audited Outcome"},{"$f":"Head5","v":"Audited Outcome"},{"$f":"Head6","v":"Original Budget"},{"$f":"Head7","v":"Adjusted Budget"},{"$f":"Head8","v":"Full Year Forecast"},{"$f":"Head9","v":"Budget Year 2025/26"},{"$f":"Head10","v":"Budget Year +1 2026/27"},{"$f":"Head11","v":"Budget Year +2 2027/28"}]
["Operating transfers and grants:","1,3"]
[{"$f":"'SA18'!A7","v":"National Government:"}]
["Balance unspent at beginning of the year",null,0,0,0,0,0,0,0,0,0]
["Current year receipts",null,0,5921000,10335000,5632250,5632250,5632250,4528300,4861149,4861153]
["Repayment of grants",null,0,0,0,0,0,0,0,0,0]
["Conditions met - transferred to revenue",null,{"$f":"C6+C7-C8-C10","v":0},{"$f":"D6+D7-D8-D10","v":5921000},10335000,6963593,5632250,5632250,4528300,4861149,4861156]
["Conditions still to be met - transferred to liabilities",null,0,0,0,-1331343,0,0,0,0,-3]
["Provincial Government:"]
["Balance unspent at beginning of the year",null,0,0,0,0,0,0,0,0,0]
[{"$f":"A7","v":"Current year receipts"},null,0,0,0,0,0,0,0,0,0]
[{"$f":"A9","v":"Conditions met - transferred to revenue"},null,{"$f":"C12+C13-C15","v":0},{"$f":"D12+D13-D15","v":0},0,0,0,0,0,0,0]
[{"$f":"A10","v":"Conditions still to be met - transferred to liabilities"},null,0,0,0,0,0,0,0,0,0]
["District Municipality:"]
[{"$f":"A12","v":"Balance unspent at beginning of the year"},null,0,0,0,0,0,0,0,0,0]
[{"$f":"A13","v":"Current year receipts"},null,0,0,0,0,0,0,0,0,0]
[{"$f":"A14","v":"Conditions met - transferred to revenue"},null,{"$f":"C17+C18-C20","v":0},0,0,0,0,0,0,0,0]
[{"$f":"A15","v":"Conditions still to be met - transferred to liabilities"},null,0,0,0,0,0,0,0,0,0]
["Other grant providers:"]
[{"$f":"A12","v":"Balance unspent at beginning of the year"},null,0,0,0,0,0,0,0,0,0]
[{"$f":"A13","v":"Current year receipts"},null,0,0,0,0,0,0,255681000,265658151,278019751]
[{"$f":"A14","v":"Conditions met - transferred to revenue"},null,{"$f":"C22+C23-C25","v":0},0,0,0,0,0,255681000,265658151,278019751]
[{"$f":"A15","v":"Conditions still to be met - transferred to liabilities"},null,0,0,0,0,0,0,0,0,0]
["Total operating transfers and grants revenue",null,{"$f":"C9+C14+C19+C24","v":0},5921000,10335000,6963593,5632250,5632250,260209300,270519300,282880907]
["Total operating transfers and grants - CTBM",2,0,0,0,-1331343,0,0,0,0,-3]
[]
["Capital transfers and grants:","1,3"]
[{"$f":"A5","v":"National Government:"}]
["Balance unspent at beginning of the year",null,0,0,0,0,0,0,0,0,0]
["Current year receipts",null,0,76275948.640000001,100334178,190004750,190004750,190004750,113237700,142940700,140253104]
["Conditions met - transferred to revenue",null,{"$f":"C31+C32-C34","v":0},78143115.640000001,96409728,190004750,190004750,190004750,113237700,142940700,140253105]
["Conditions still to be met - transferred to liabilities",null,0,-1867167,3924450,0,0,0,0,0,-1]
["Provincial Government:"]
["Balance unspent at beginning of the year",null,0,0,0,0,0,0,0,0,0]
[{"$f":"A32","v":"Current year receipts"},null,0,0,0,0,0,0,0,0,0]
[{"$f":"A33","v":"Conditions met - transferred to revenue"},null,{"$f":"C36+C37-C39","v":0},0,0,0,0,0,0,0,0]
[{"$f":"A34","v":"Conditions still to be met - transferred to liabilities"},null,0,0,0,0,0,0,0,0,0]
["District Municipality:"]
[{"$f":"A36","v":"Balance unspent at beginning of the year"},null,0,0,0,0,0,0,0,0,0]
[{"$f":"A37","v":"Current year receipts"},null,0,0,0,0,0,0,0,0,0]
[{"$f":"A38","v":"Conditions met - transferred to revenue"},null,{"$f":"C41+C42-C44","v":0},0,0,0,0,0,0,0,0]
[{"$f":"A39","v":"Conditions still to be met - transferred to liabilities"},null,0,0,0,0,0,0,0,0,0]
["Other grant providers:"]
[{"$f":"A36","v":"Balance unspent at beginning of the year"},null,0,0,0,0,0,0,0,0,0]
[{"$f":"A37","v":"Current year receipts"},null,0,0,0,0,0,0,0,0,0]
[{"$f":"A38","v":"Conditions met - transferred to revenue"},null,{"$f":"C46+C47-C49","v":0},0,0,0,0,0,0,0,0]
[{"$f":"A39","v":"Conditions still to be met - transferred to liabilities"},null,0,0,0,0,0,0,0,0,0]
["Total capital transfers and grants revenue",null,{"$f":"C33+C38+C43+C48","v":0},78143115.640000001,96409728,190004750,190004750,190004750,113237700,142940700,140253105]
["Total capital transfers and grants - CTBM",2,0,-1867167,3924450,0,0,0,0,0,-1]
[]
["TOTAL TRANSFERS AND GRANTS REVENUE",null,{"$f":"C26+C50","v":0},84064115.640000001,106744728,196968343,195637000,195637000,373447000,413460000,423134012]
["TOTAL TRANSFERS AND GRANTS - CTBM",null,{"$f":"C27+C51","v":0},{"$f":"D27+D51","v":-1867167},3924450,-1331343,0,0,0,0,-4]
[{"$f":"head27a","v":"References"}]
["1. Total capital transfers and grants revenue must reconcile to Budgeted Financial Performance and Financial Position; total recurrent grants revenue must reconcile to Budgeted Financial Performance"]
["2. CTBM = conditions to be met"]
["3. National Treasury database will require this reconciliation for each transfer/grant"]

{"sheet":"SA21","index":43,"n_rows":71,"n_cols":12,"rows_kept":71,"cut":false,"hidden":false,"merged":[[1,9,1,11],[1,5,1,8]]}
[{"$f":"muni&\" - \"& TableA21","v":"Choose name from list - Supporting Table SA21 Transfers and grants made by the municipality"}]
[{"$f":"desc","v":"Description"},{"$f":"head27","v":"Ref"},{"$f":"head1b","v":"2021/22"},{"$f":"head1A","v":"2022/23"},{"$f":"Head1","v":"2023/24"},{"$f":"Head2","v":"Current Year 2024/25"},null,null,null,{"$f":"Head3","v":"2025/26 Medium Term Revenue & Expenditure Framework"}]
["R thousand",null,{"$f":"Head5","v":"Audited Outcome"},{"$f":"Head5","v":"Audited Outcome"},{"$f":"Head5","v":"Audited Outcome"},{"$f":"Head6","v":"Original Budget"},{"$f":"Head7","v":"Adjusted Budget"},{"$f":"Head8","v":"Full Year Forecast"},{"$f":"Head5b","v":"Pre-audit outcome"},{"$f":"Head9","v":"Budget Year 2025/26"},{"$f":"Head10","v":"Budget Year +1 2026/27"},{"$f":"Head11","v":"Budget Year +2 2027/28"}]
[]
["Cash Transfers to other municipalities"]
["Insert description",1,434263.06,341361,-1907691,802759,802759,802759,802759,837279,875792,914326]
[]
[]
["Total Cash Transfers To Municipalities:",null,{"$f":"SUM(C6:C8)","v":434263.06},{"$f":"SUM(D6:D8)","v":341361},-1907691,802759,802759,802759,802759,837279,875792,914326]
[]
["Cash Transfers to Entities/Other External Mechanisms"]
[{"$f":"$A$6","v":"Insert description"},2,0,0,0,0,0,0,0,0,0,0]
[]
[]
["Total Cash Transfers To Entities/Ems'",null,{"$f":"SUM(C12:C14)","v":0},{"$f":"SUM(D12:D14)","v":0},0,0,0,0,0,0,0,0]
[]
["Cash Transfers to other Organs of State"]
[{"$f":"$A$6","v":"Insert description"},3,0,0,0,0,0,0,0,0,0,0]
[]
[]
["Total Cash Transfers To Other Organs Of State:",null,{"$f":"SUM(C18:C20)","v":0},{"$f":"SUM(D18:D20)","v":0},0,0,0,0,0,0,{"$f":"SUM(K18:K20)","v":0},0]
[]
["Cash Transfers to Organisations"]
[{"$f":"$A$6","v":"Insert description"},null,118976,239793,248717.96,251378,1251378,1251378,1251378,1305188,1365226,1425296]
[]
["Total Cash Transfers To Organisations",null,{"$f":"SUM(C24:C25)","v":118976},{"$f":"SUM(D24:D25)","v":239793},248717.96,251378,1251378,1251378,1251378,1305188,1365226,1425296]
[]
["Cash Transfers to Groups of Individuals"]
[{"$f":"$A$6","v":"Insert description"},null,0,0,0,0,0,0,0,0,0,0]
[]
["Total Cash Transfers To Groups Of Individuals:",null,{"$f":"SUM(C29:C30)","v":0},{"$f":"SUM(D29:D30)","v":0},0,0,0,0,0,0,0,0]
["TOTAL CASH TRANSFERS AND GRANTS",6,{"$f":"C9+C15+C21+C26+C31","v":553239.06000000006},{"$f":"D9+D15+D21+D26+D31","v":581154},-1658973.04,1054137,2054137,2054137,2054137,2142467,2241018,2339622]
[]
["Non-Cash Transfers to other municipalities"]
["Insert description",1,0,0,0,0,0,0,0,0,0,0]
[]
[]
["Total Non-Cash Transfers To Municipalities:",null,{"$f":"SUM(C35:C37)","v":0},{"$f":"SUM(D35:D37)","v":0},0,0,0,0,0,0,0,0]
[]
["Non-Cash Transfers to Entities/Other External Mechanisms"]
[{"$f":"$A$6","v":"Insert description"},2,0,0,0,0,0,0,0,0,0,0]
[]
[]
["Total Non-Cash Transfers To Entities/Ems'",null,{"$f":"SUM(C41:C43)","v":0},{"$f":"SUM(D41:D43)","v":0},0,0,0,0,0,0,0,0]
[]
["Non-Cash Transfers to other Organs of State"]
[{"$f":"$A$6","v":"Insert description"},3,0,0,0,0,0,0,0,0,0,0]
[]
[]
["Total Non-Cash Transfers To Other Organs Of State:",null,{"$f":"SUM(C47:C49)","v":0},{"$f":"SUM(D47:D49)","v":0},0,0,0,0,0,0,{"$f":"SUM(K47:K49)","v":0},{"$f":"SUM(L47:L49)","v":0}]
[]
["Non-Cash Grants to Organisations"]
[{"$f":"$A$6","v":"Insert description"},4,0,0,0,0,0,0,0,0,0,0]
[]
[]
["Total Non-Cash Grants To Organisations",null,{"$f":"SUM(C53:C55)","v":0},{"$f":"SUM(D53:D55)","v":0},0,0,0,0,0,0,{"$f":"SUM(K53:K55)","v":0},{"$f":"SUM(L53:L55)","v":0}]
[]
["Groups of Individuals"]
[{"$f":"$A$6","v":"Insert description"},5,0,0,0,0,0,0,0,0,0,0]
[]
[]
["Total Non-Cash Grants To Groups Of Individuals:",null,{"$f":"SUM(C59:C61)","v":0},{"$f":"SUM(D59:D61)","v":0},0,0,0,0,0,0,0,0]
["TOTAL NON-CASH TRANSFERS AND GRANTS",null,{"$f":"C38+C44+C50+C56+C62","v":0},{"$f":"D38+D44+D50+D56+D62","v":0},0,0,0,0,0,0,0,0]
["TOTAL TRANSFERS AND GRANTS",6,{"$f":"C32+C63","v":553239.06000000006},{"$f":"D32+D63","v":581154},-1658973.04,1054137,2054137,2054137,2054137,2142467,2241018,2339622]
[{"$f":"head27a","v":"References"}]
["1. Insert description listed by municipal name and demarcation code of recipient"]
["2. Insert description of each entity or external mechanism (an external mechanism may be provided with resources to ensure a minimum level of service)"]
["3. Insert description of each Organ of State (e.g. transfer to electricity provider to compensate for FBS provided)"]
["4. Insert description of each other organisation (e.g. charity)"]
["5 Insert description of each other organisation (e.g. the aged, child-headed households)"]
["6. All descriptions should separate transfers for 'capital purposes' and 'operating purposes'"]

{"sheet":"SA22","index":44,"n_rows":140,"n_cols":11,"rows_kept":140,"cut":false,"hidden":false,"merged":[[1,5,1,7],[1,8,1,10]]}
[{"$f":"muni&\" - \"&TableA22","v":"Choose name from list - Supporting Table SA22 Summary councillor and staff benefits"}]
["Summary of Employee and Councillor remuneration",{"$f":"head27","v":"Ref"},{"$f":"head1b","v":"2021/22"},{"$f":"head1A","v":"2022/23"},{"$f":"Head1","v":"2023/24"},{"$f":"Head2","v":"Current Year 2024/25"},null,null,{"$f":"Head3","v":"2025/26 Medium Term Revenue & Expenditure Framework"}]
["R thousand",null,{"$f":"Head5","v":"Audited Outcome"},{"$f":"Head5","v":"Audited Outcome"},{"$f":"Head5","v":"Audited Outcome"},{"$f":"Head6","v":"Original Budget"},{"$f":"Head7","v":"Adjusted Budget"},{"$f":"Head8","v":"Full Year Forecast"},{"$f":"Head9","v":"Budget Year 2025/26"},{"$f":"Head10","v":"Budget Year +1 2026/27"},{"$f":"Head11","v":"Budget Year +2 2027/28"}]
[null,1,"A","B","C","D","E","F","G","H","I"]
["Councillors (Political Office Bearers plus Other)"]
["Basic Salaries and Wages",null,8226535.2800000003,9012326.6400000006,9472552.8399999999,10771318,10771318,10771318,11262832,11780922,12254189]
["Pension and UIF Contributions",null,0,0,0,0,0,0,0,0,0]
["Medical Aid Contributions",null,0,0,0,0,0,0,0,0,0]
["Motor Vehicle Allowance",null,2226565.9700000002,1075805.5,2610806.0499999998,2589634,2589634,2589634,2670285,2777055,2949544]
["Cellphone Allowance",null,1103441.93,1302180.01,1436281.8,1365837,1365837,1365837,1426923,1492561,1553030]
["Housing Allowances",null,0,0,0,0,0,0,0,0,0]
["Other benefits and allowances",null,521084.76,1914481.86,546380.44999999995,674195,674195,674195,703186,735532,767895]
["Sub Total - Councillors",null,{"$f":"SUM(C6:C12)","v":12077627.939999999},{"$f":"SUM(D6:D12)","v":13304794.01},14066021.140000001,15400984,15400984,15400984,16063226,16786070,17524658]
["% increase",4,null,{"$f":"IF(ISERROR((D13/C13)-1),0,((D13/C13)-1))","v":0.1016065469226568},{"$f":"IF(ISERROR((E13/D13)-1),0,((E13/D13)-1))","v":5.7214499482506564E-2},9.490692831419989E-2,0,0,4.2999979741554117E-2,4.4999927162825193E-2,4.4000054807349143E-2]
[]
["Senior Managers of the Municipality",2]
["Basic Salaries and Wages",null,2790747.24,3521890.45,5414043.25,6205669,6140669,6140669,7433679,7542285,7624998]
["Pension and UIF Contributions",null,482540.64,606254.89,786320.54,1396791,1396791,1396791,1522214,1539083,1550051]
["Medical Aid Contributions",null,87957.42,67926.42,63328.56,220108,350981,350981,238582,242230,245068]
["Overtime",null,0,0,0,0,0,0,0,0,0]
["Performance Bonus",null,108005.67,467762.87,381274.43,621803,621803,621803,671702,685163,689989]
["Motor Vehicle Allowance",3,453488.27,579431.92000000004,695764.91,1072399,1072399,1072399,1172927,1182634,1187425]
["Cellphone Allowance",3,55213.33,74356.149999999994,93753.33,141001,141001,141001,154125,155470,156185]
["Housing Allowances",3,0,0,0,0,0,0,0,0,0]
["Other benefits and allowances",3,0,14487.58,28132.5,31618,31618,31618,34826,34926,34860]
["Payments in lieu of leave",null,188111.71,383719.03,156515.81,286823,286823,286823,312909,316033,317908]
["Long service awards",null,0,0,0,0,0,0,0,0,0]
["Post-retirement benefit obligations",6,1951452.58,0,2195451.44,1425229,1425229,1425229,511894,513366,512385]
["Entertainment",null,0,0,0,0,0,0,0,0,0]
["Scarcity",null,0,0,0,0,0,0,0,0,0]
["Acting and post related allowance",null,0,0,0,0,0,0,0,0,0]
["In kind benefits",null,0,0,0,0,0,0,0,0,0]
["Sub Total - Senior Managers of Municipality",null,{"$f":"SUM(C17:C32)","v":6117516.8600000003},{"$f":"SUM(D17:D32)","v":5715829.3100000015},9814584.7699999996,11401441,11467314,11467314,12052858,12211190,12318869]
[{"$f":"$A$14","v":"% increase"},{"$f":"$B$14","v":4},null,{"$f":"IF(ISERROR((D33/C33)-1),0,((D33/C33)-1))","v":-6.5661862352431433E-2},{"$f":"IF(ISERROR((E33/D33)-1),0,((E33/D33)-1))","v":0.7170884989216022},0.16168348098133545,5.7776030240388465E-3,0,5.1062001092845311E-2,1.3136469375147453E-2,8.8180595011624341E-3]
[]
["Other Municipal Staff"]
["Basic Salaries and Wages",null,120314300.72,120057483.15000001,131080879.63,148146991,139015821,139015821,145659556,157235124,162715891]
["Pension and UIF Contributions",null,26083224.449999999,26760644.82,28584607.699999999,38714007,35364007,35364007,38841360,42047520,47799480]
["Medical Aid Contributions",null,10977324.93,11311207.08,12437935.960000001,13356792,13366792,13366792,14842369,14832250,14882714]
["Overtime",null,12009493.800000001,12460478.130000001,15890606.380000001,13381925,16821925,16821925,15462356,15618583,16924850]
["Performance Bonus",null,9656036.1799999997,9916766.6500000004,10267590.18,13452517,13036644,13036644,15076845,14841824,14792132]
["Motor Vehicle Allowance",3,10219202.880000001,9605610.2799999993,9852128.3800000008,13834173,13296273,13296273,15470945,15278585,15257867]
["Cellphone Allowance",3,1138834.3999999999,1088494.49,1137219.24,1617143,1631531,1631531,2722818,1772431,1769885]
["Housing Allowances",3,424451.18,495076.8,534287.06000000006,1298272,1198272,1198272,1931559,1434315,1432259]
["Other benefits and allowances",3,2308609,2610262,2621683,2767289,2517289,2517289,3047915,3056681,3050838]
["Payments in lieu of leave",null,7204570.9299999997,8857678.9600000009,11339691.08,7327326,7327326,7327326,8748322,8125815,8113524]
["Long service awards",null,0,0,0,0,0,0,0,0,0]
["Post-retirement benefit obligations",6,0,0,0,0,0,0,0,0,0]
["Entertainment",null,0,0,0,0,0,0,0,0,0]
["Scarcity",null,0,0,0,0,0,0,0,0,0]
["Acting and post related allowance",null,0,0,0,0,0,0,0,0,0]
["In kind benefits",null,0,0,0,0,0,0,0,0,0]
["Sub Total - Other Municipal Staff",null,{"$f":"SUM(C37:C52)","v":200336048.47000003},{"$f":"SUM(D37:D52)","v":203163702.36000004},223746628.61000001,253896435,243575880,243575880,261804045,274243128,286739440]
[{"$f":"$A$14","v":"% increase"},{"$f":"$B$14","v":4},null,{"$f":"IF(ISERROR((D53/C53)-1),0,((D53/C53)-1))","v":1.4114553579324784E-2},{"$f":"IF(ISERROR((E53/D53)-1),0,((E53/D53)-1))","v":0.10131202577479925},0.1347497684202088,-4.0648680238460244E-2,0,7.4835673384409107E-2,4.7512951910273271E-2,4.556654560912099E-2]
[]
["Total Parent Municipality",null,{"$f":"C13+C33+C53","v":218531193.27000004},{"$f":"D13+D33+D53","v":222184325.68000004},247627234.52000001,280698860,270444178,270444178,289920129,303240388,316582967]
[null,null,null,{"$f":"IF(ISERROR((D56/C56)-1),0,((D56/C56)-1))","v":1.6716754964525737E-2},{"$f":"IF(ISERROR((E56/D56)-1),0,((E56/D56)-1))","v":0.11451261812520475},0.1335540718859376,-3.6532681322610339E-2,0,7.2014680234676831E-2,4.5944581516104366E-2,4.4000006357992172E-2]
[]
["Board Members of Entities"]
["Basic Salaries and Wages"]
["Pension and UIF Contributions"]
["Medical Aid Contributions"]
["Overtime"]
["Performance Bonus"]
["Motor Vehicle Allowance",3]
["Cellphone Allowance",3]
["Housing Allowances",3]
["Other benefits and allowances",3]
["Board Fees"]
["Payments in lieu of leave"]
["Long service awards"]
["Post-retirement benefit obligations",6]
["Entertainment"]
["Scarcity"]
["Acting and post related allowance"]
["In kind benefits"]
["Sub Total - Board Members of Entities",null,{"$f":"SUM(C60:C76)","v":0},{"$f":"SUM(D60:D76)","v":0},0,0,0,0,0,0,0]
[{"$f":"$A$14","v":"% increase"},{"$f":"$B$14","v":4},null,{"$f":"IF(ISERROR((D77/C77)-1),0,((D77/C77)-1))","v":0},{"$f":"IF(ISERROR((E77/D77)-1),0,((E77/D77)-1))","v":0},0,0,0,0,0,0]
[]
["Senior Managers of Entities"]
["Basic Salaries and Wages"]
["Pension and UIF Contributions"]
["Medical Aid Contributions"]
["Overtime"]
["Performance Bonus"]
["Motor Vehicle Allowance",3]
["Cellphone Allowance",3]
["Housing Allowances",3]
["Other benefits and allowances",3]
["Payments in lieu of leave"]
["Long service awards"]
["Post-retirement benefit obligations",6]
["Entertainment"]
["Scarcity"]
["Acting and post related allowance"]
["In kind benefits"]
["Sub Total - Senior Managers of Entities",null,{"$f":"SUM(C81:C96)","v":0},{"$f":"SUM(D81:D96)","v":0},0,0,0,0,0,0,0]
[{"$f":"$A$14","v":"% increase"},{"$f":"$B$14","v":4},null,{"$f":"IF(ISERROR((D97/C97)-1),0,((D97/C97)-1))","v":0},{"$f":"IF(ISERROR((E97/D97)-1),0,((E97/D97)-1))","v":0},0,0,0,0,0,0]
[]
["Other Staff of Entities"]
["Basic Salaries and Wages"]
["Pension and UIF Contributions"]
["Medical Aid Contributions"]
["Overtime"]
["Performance Bonus"]
["Motor Vehicle Allowance",3]
["Cellphone Allowance",3]
["Housing Allowances",3]
["Other benefits and allowances",3]
["Payments in lieu of leave"]
["Long service awards"]
["Post-retirement benefit obligations",6]
["Entertainment"]
["Scarcity"]
["Acting and post related allowance"]
["In kind benefits"]
["Sub Total - Other Staff of Entities",null,{"$f":"SUM(C101:C116)","v":0},{"$f":"SUM(D101:D116)","v":0},0,0,0,0,0,0,0]
[{"$f":"$A$14","v":"% increase"},{"$f":"$B$14","v":4},null,{"$f":"IF(ISERROR((D117/C117)-1),0,((D117/C117)-1))","v":0},{"$f":"IF(ISERROR((E117/D117)-1),0,((E117/D117)-1))","v":0},0,0,0,0,0,0]
[]
["Total Municipal Entities",null,{"$f":"C77+C97+C117","v":0},{"$f":"D77+D97+D117","v":0},0,0,0,0,0,0,0]
[]
["TOTAL SALARY, ALLOWANCES & BENEFITS",null,{"$f":"C56+C120","v":218531193.27000004},{"$f":"D56+D120","v":222184325.68000004},{"$f":"E56+E120","v":247627234.52000001},280698860,270444178,270444178,289920129,303240388,316582967]
[{"$f":"$A$14","v":"% increase"},{"$f":"$B$14","v":4},null,{"$f":"IF(ISERROR((D122/C122)-1),0,((D122/C122)-1))","v":1.6716754964525737E-2},{"$f":"IF(ISERROR((E122/D122)-1),0,((E122/D122)-1))","v":0.11451261812520475},0.1335540718859376,-3.6532681322610339E-2,0,7.2014680234676831E-2,4.5944581516104366E-2,4.4000006357992172E-2]
["TOTAL MANAGERS AND STAFF","5,7",{"$f":"C33+C53+C97+C117","v":206453565.33000004},{"$f":"D33+D53+D97+D117","v":208879531.67000005},233561213.38000003,265297876,255043194,255043194,273856903,286454318,299058309]
[{"$f":"head27a","v":"References"}]
["1. Include 'Loans and advances' where applicable if any reportable amounts until phased compliance with s164 of MFMA achieved"]
["2. s57 of the Systems Act"]
["3. In kind benefits (e.g. provision of living quarters) must be shown as the cost (full market value) to the municipality, as part of the relevant allowance"]
["4. B/A, C/B, D/C, E/C, F/C, G/D, H/D, I/D"]
["5. Must agree to the sub-total appearing on Table A1 (Employee costs)"]
["6. Includes pension payments and employer contributions to medical aid"]
["7. Correct as at 30 June"]
[]
["Column Definitions:"]
["A, B and C. Audited actual as per the audited financial statements. If audited amounts are unavailable, unaudited amounts must be provided with a note stating these are unaudited"]
["D. The original budget approved by council for the budget year."]
["E. The budget for the budget year as adjusted by council resolution in terms of section 28 of the MFMA."]
["F. An estimate of final actual amounts (pre audit) for the current year at the point in time of preparing the budget for the budget year. This may differ from E."]
["G. The amount to be appropriated for the budget year."]
["H and I. The indicative projection"]

{"sheet":"SA23","index":45,"n_rows":70,"n_cols":9,"rows_kept":70,"cut":false,"hidden":false,"merged":[[1,2,2,2],[1,5,2,5],[1,3,2,3],[1,6,2,6]]}
[{"$f":"muni&\" - \"&TableA23","v":"Choose name from list - Supporting Table SA23 Salaries, allowances & benefits (political office bearers/councillors/senior managers)"}]
["Disclosure of Salaries, Allowances & Benefits 1.",{"$f":"head27","v":"Ref"},"No.","Salary","\nContributions\n","Allowances","Performance  Bonuses","In-kind benefits","Total Package"]
["Rand per annum",null,null,null,"1.",null,null,null,"2."]
["Councillors",3,null,0,0,0,0]
["Speaker",4,0,0,0,0,null,null,{"$f":"SUM(D5:F5)","v":0}]
["Chief Whip",null,0,0,0,0,null,null,{"$f":"SUM(D6:F6)","v":0}]
["Executive Mayor",null,0,0,0,0,null,null,0]
["Deputy Executive Mayor",null,0,0,0,0,null,null,0]
["Executive Committee",null,0,0,0,0,null,null,0]
["Total for all other councillors",null,0,0,0,0,null,null,0]
[{"$f":"\"Total \"&A4","v":"Total Councillors"},8,0,0,0,0,0,null,{"$f":"SUM(I5:I10)","v":0}]
[]
["Senior Managers of the Municipality",5]
["Municipal Manager (MM)",null,null,null,null,null,null,null,{"$f":"SUM(D14:H14)","v":0}]
["Chief Finance Officer",null,null,null,null,null,null,null,{"$f":"SUM(D15:H15)","v":0}]
[null,null,null,null,null,null,null,null,0]
[null,null,null,null,null,null,null,null,0]
[null,null,null,null,null,null,null,null,0]
[null,null,null,null,null,null,null,null,0]
[]
["List of each offical with packages >= senior manager"]
[null,null,null,null,null,null,null,null,{"$f":"SUM(D22:H22)","v":0}]
[null,null,null,null,null,null,null,null,{"$f":"SUM(D23:H23)","v":0}]
[null,null,null,null,null,null,null,null,0]
[null,null,null,null,null,null,null,null,0]
[null,null,null,null,null,null,null,null,0]
[null,null,null,null,null,null,null,null,0]
[null,null,null,null,null,null,null,null,0]
[null,null,null,null,null,null,null,null,0]
[null,null,null,null,null,null,null,null,0]
[null,null,null,null,null,null,null,null,0]
[null,null,null,null,null,null,null,null,0]
[null,null,null,null,null,null,null,null,{"$f":"SUM(D33:H33)","v":0}]
[null,null,null,null,null,null,null,null,{"$f":"SUM(D34:H34)","v":0}]
[{"$f":"\"Total \"&A13","v":"Total Senior Managers of the Municipality"},"8,10",{"$f":"SUM(C14:C34)","v":0},{"$f":"SUM(D14:D34)","v":0},{"$f":"SUM(E14:E34)","v":0},{"$f":"SUM(F14:F34)","v":0},{"$f":"SUM(G14:G34)","v":0},null,{"$f":"SUM(I14:I34)","v":0}]
[]
["A Heading for Each Entity","6,7"]
["List each member of board by designation"]
[null,null,null,null,null,null,null,null,{"$f":"SUM(D39:G39)","v":0}]
[null,null,null,null,null,null,null,null,{"$f":"SUM(D40:G40)","v":0}]
[null,null,null,null,null,null,null,null,0]
[null,null,null,null,null,null,null,null,0]
[null,null,null,null,null,null,null,null,0]
[null,null,null,null,null,null,null,null,0]
[null,null,null,null,null,null,null,null,0]
[null,null,null,null,null,null,null,null,0]
[null,null,null,null,null,null,null,null,0]
[null,null,null,null,null,null,null,null,0]
[null,null,null,null,null,null,null,null,0]
[null,null,null,null,null,null,null,null,0]
[null,null,null,null,null,null,null,null,0]
[null,null,null,null,null,null,null,null,0]
[null,null,null,null,null,null,null,null,0]
[null,null,null,null,null,null,null,null,0]
["Total for municipal entities","8,10",{"$f":"SUM(C39:C54)","v":0},{"$f":"SUM(D39:D54)","v":0},{"$f":"SUM(E39:E54)","v":0},{"$f":"SUM(F39:F54)","v":0},{"$f":"SUM(G39:G54)","v":0},null,{"$f":"SUM(I39:I54)","v":0}]
[]
["TOTAL COST OF COUNCILLOR, DIRECTOR and EXECUTIVE REMUNERATION",10,{"$f":"C11+C35+C55","v":0},{"$f":"D11+D35+D55","v":0},0,0,0,null,0]
[]
[{"$f":"head27a","v":"References"}]
["1. Pension and medical aid"]
["2. Total package must equal the total cost to the municipality"]
["3. List each political office bearer by designation. Provide a total for all other councillors"]
["4. Political office bearer is defined in MFMA s 1: speaker, executive mayor, deputy executive mayor, member of executive committee,"]
["    mayor, deputy mayor, member of mayoral committee, the councillor designated to exercise powers and duties of mayor (MSA s 57)"]
["5. Also list each senior manager reporting to MM by designation and each official with package >= senior manager by designation"]
["6. List each entity where municipality has an interest and state percentage ownership and control"]
["7. List each senior manager reporting to the CEO of an Entity by designation"]
["8. Must reconcile to relevant section of Table SA24"]
["9. Must reconcile to totals shown for the budget year of Table SA22"]
["10. Correct as at 30 June"]

{"sheet":"SA24","index":46,"n_rows":53,"n_cols":11,"rows_kept":53,"cut":false,"hidden":false,"merged":[[1,5,1,7],[1,8,1,10],[1,2,1,4]]}
[{"$f":"muni&\" - \"&TableA24","v":"Choose name from list - Supporting Table SA24 Summary of personnel numbers"}]
["Summary of Personnel Numbers",{"$f":"head27","v":"Ref"},{"$f":"Head1","v":"2023/24"},null,null,{"$f":"Head2","v":"Current Year 2024/25"},null,null,{"$f":"Head9","v":"Budget Year 2025/26"}]
["Number","1,2","Positions","Permanent employees","Contract employees","Positions","Permanent employees","Contract employees","Positions","Permanent employees","Contract employees"]
["Municipal Council and Boards of Municipal Entities"]
["Councillors (Political Office Bearers plus Other Councillors)",null,0,0,0,0,0,0,0,0,0]
["Board Members of municipal entities",4,0,0,0,0,0,0,0,0,0]
["Municipal employees",5,0,0,0,0,0,0,0,0,0]
["Municipal Manager and Senior Managers",3,0,0,0,0,0,0,0,0,0]
["Other Managers",7,0,0,0,0,0,0,0,0,0]
["Professionals",null,0,0,0,0,0,0,0,0,0]
["Finance",null,0,0,0,0,0,0,0,0,0]
["Spatial/town planning",null,0,0,0,0,0,0,0,0,0]
["Information Technology",null,0,0,0,0,0,0,0,0,0]
["Roads",null,0,0,0,0,0,0,0,0,0]
["Electricity",null,0,0,0,0,0,0,0,0,0]
["Water",null,0,0,0,0,0,0,0,0,0]
["Sanitation",null,0,0,0,0,0,0,0,0,0]
["Refuse",null,0,0,0,0,0,0,0,0,0]
["Other",null,0,0,0,0,0,0,0,0,0]
["Technicians",null,0,0,0,0,0,0,0,0,0]
["Finance",null,0,0,0,0,0,0,0,0,0]
["Spatial/town planning",null,0,0,0,0,0,0,0,0,0]
["Information Technology",null,0,0,0,0,0,0,0,0,0]
["Roads",null,0,0,0,0,0,0,0,0,0]
["Electricity",null,0,0,0,0,0,0,0,0,0]
["Water",null,0,0,0,0,0,0,0,0,0]
["Sanitation",null,0,0,0,0,0,0,0,0,0]
["Refuse",null,0,0,0,0,0,0,0,0,0]
["Other",null,0,0,0,0,0,0,0,0,0]
["Clerks (Clerical and administrative)",null,0,0,0,0,0,0,0,0,0]
["Service and sales workers",null,0,0,0,0,0,0,0,0,0]
["Skilled agricultural and fishery workers",null,0,0,0,0,0,0,0,0,0]
["Craft and related trades",null,0,0,0,0,0,0,0,0,0]
["Plant and Machine Operators",null,0,0,0,0,0,0,0,0,0]
["Elementary Occupations",null,0,0,0,0,0,0,0,0,0]
["TOTAL PERSONNEL NUMBERS",9,0,0,0,0,0,0,0,0,0]
["% increase",null,0,0,0,0,0,0,0,0,0]
[]
["Total municipal employees headcount","6, 10",0,0,0,0,0,0,0,0,0]
["Finance personnel headcount","8, 10",0,0,0,0,0,0,0,0,0]
["Human Resources personnel headcount","8, 10",0,0,0,0,0,0,0,0,0]
[]
[{"$f":"head27a","v":"References"}]
["1. Positions must be funded and aligned to the municipality's current organisational structure"]
["2. Full Time Equivalent (FTE). E.g. One full time person = 1FTE. A person working half time (say 4 hours out of 8) = 0.5FTE."]
["3. s57 of the Systems Act"]
["4. Include only in Consolidated Statements"]
["5. Include municipal entity employees in Consolidated Statements"]
["6.  Include headcount (number fo persons, Not FTE) of managers and staff only (exclude councillors)"]
["7. Managers who provide the direction of a critical technical function"]
["8. Total number of employees working on these functions"]
["9. Correct as at 30 June"]
["10. Must account for all budgeted positions, as per the municipal organogram"]

{"sheet":"SA25","index":47,"n_rows":63,"n_cols":17,"rows_kept":63,"cut":false,"hidden":false,"merged":[[1,2,1,13],[1,14,1,16]]}
[{"$f":"muni&\" - \"& TableA25","v":"Choose name from list - Supporting Table SA25 Budgeted monthly revenue and expenditure"}]
[{"$f":"desc","v":"Description"},{"$f":"head27","v":"Ref"},{"$f":"Head9","v":"Budget Year 2025/26"},null,null,null,null,null,null,null,null,null,null,null,"Medium Term Revenue and Expenditure Framework"]
["R thousand",null,"July","August","Sept.","October","November","December","January","February","March","April","May","June",{"$f":"Head9","v":"Budget Year 2025/26"},{"$f":"Head10","v":"Budget Year +1 2026/27"},{"$f":"Head11","v":"Budget Year +2 2027/28"}]
["Revenue"," "]
["Exchange Revenue"," "]
["Service charges - Electricity",null,22551719,22551719,22551719,22551719,22551719,22551719,22551719,22551719,22551719,22551719,22551719,{"$f":"O6-SUM(C6:M6)","v":22551736},{"$f":"'A4-FinPerf RE'!J6","v":270620645},{"$f":"'A4-FinPerf RE'!K6","v":283069194},{"$f":"'A4-FinPerf RE'!L6","v":295524243}]
["Service charges - Water",null,6163016,6163016,6163016,6163016,6163016,6163016,6163016,6163016,6163016,6163016,6163016,{"$f":"O7-SUM(C7:M7)","v":6163011},{"$f":"'A4-FinPerf RE'!J7","v":73956187},{"$f":"'A4-FinPerf RE'!K7","v":77358172},{"$f":"'A4-FinPerf RE'!L7","v":80761932}]
["Service charges - Waste Water Management",null,2664494,2664494,2664494,2664494,2664494,2664494,2664494,2664494,2664494,2664494,2664494,2664489,{"$f":"'A4-FinPerf RE'!J8","v":31973923},{"$f":"'A4-FinPerf RE'!K8","v":33444723},{"$f":"'A4-FinPerf RE'!L8","v":34916291}]
["Service charges - Waste Management",null,2208341,2208341,2208341,2208341,2208341,2208341,2208341,2208341,2208341,2208341,2208341,2208327,{"$f":"'A4-FinPerf RE'!J9","v":26500078},{"$f":"'A4-FinPerf RE'!K9","v":27719082},{"$f":"'A4-FinPerf RE'!L9","v":28938722}]
["Sale of Goods and Rendering of Services",null,159549,159549,159549,159549,159549,159549,159549,159549,159549,159549,159549,159546,{"$f":"'A4-FinPerf RE'!J10","v":1914585},{"$f":"'A4-FinPerf RE'!K10","v":2002656},{"$f":"'A4-FinPerf RE'!L10","v":2090772}]
["Agency services"," ",1074137,1074137,1074137,1074137,1074137,1074137,1074137,1074137,1074137,1074137,1074137,1074138,{"$f":"'A4-FinPerf RE'!J11","v":12889645},{"$f":"'A4-FinPerf RE'!K11","v":13482568},{"$f":"'A4-FinPerf RE'!L11","v":14075801}]
["Interest"," ",0,0,0,0,0,0,0,0,0,0,0,0,{"$f":"'A4-FinPerf RE'!J12","v":0},{"$f":"'A4-FinPerf RE'!K12","v":0},{"$f":"'A4-FinPerf RE'!L12","v":0}]
["Interest earned from Receivables"," ",4518926,4518926,4518926,4518926,4518926,4518926,4518926,4518926,4518926,4518926,4518926,4518912,{"$f":"'A4-FinPerf RE'!J13","v":54227098},{"$f":"'A4-FinPerf RE'!K13","v":56721545},{"$f":"'A4-FinPerf RE'!L13","v":59217296}]
["Interest earned from Current and Non Current Assets"," ",632654,632654,632654,632654,632654,632654,632654,632654,632654,632654,632654,632655,{"$f":"'A4-FinPerf RE'!J14","v":7591849},{"$f":"'A4-FinPerf RE'!K14","v":7941074},{"$f":"'A4-FinPerf RE'!L14","v":8290483}]
["Dividends"," ",0,0,0,0,0,0,0,0,0,0,0,0,{"$f":"'A4-FinPerf RE'!J15","v":0},{"$f":"'A4-FinPerf RE'!K15","v":0},{"$f":"'A4-FinPerf RE'!L15","v":0}]
["Rent on Land"," ",0,0,0,0,0,0,0,0,0,0,0,0,{"$f":"'A4-FinPerf RE'!J16","v":0},{"$f":"'A4-FinPerf RE'!K16","v":0},{"$f":"'A4-FinPerf RE'!L16","v":0}]
["Rental from Fixed Assets"," ",69877,69877,69877,69877,69877,69877,69877,69877,69877,69877,69877,69872,{"$f":"'A4-FinPerf RE'!J17","v":838519},{"$f":"'A4-FinPerf RE'!K17","v":877091},{"$f":"'A4-FinPerf RE'!L17","v":915683}]
["Licence and permits"," ",0,0,0,0,0,0,0,0,0,0,0,0,{"$f":"'A4-FinPerf RE'!J18","v":0},{"$f":"'A4-FinPerf RE'!K18","v":0},{"$f":"'A4-FinPerf RE'!L18","v":1}]
["Special rating levies",null,0,0,0,0,0,0,0,0,0,0,0]
["Operational Revenue"," ",231346,231346,231346,231346,231346,231346,231346,231346,231346,231346,231346,231359,{"$f":"'A4-FinPerf RE'!J20","v":2776165},{"$f":"'A4-FinPerf RE'!K20","v":2903869},{"$f":"'A4-FinPerf RE'!L20","v":3031639}]
["Non-Exchange Revenue"," "]
["Property rates",null,11140021,11140021,11140021,11140021,11140021,11140021,11140021,11140021,11140021,11140021,11140021,{"$f":"O22-SUM(C22:M22)","v":11140014},{"$f":"'A4-FinPerf RE'!J22","v":133680245},{"$f":"'A4-FinPerf RE'!K22","v":139829537},{"$f":"'A4-FinPerf RE'!L22","v":145982036}]
["Surcharges and Taxes"," ",0,0,0,0,0,0,0,0,0,0,0,0,{"$f":"'A4-FinPerf RE'!J23","v":0},{"$f":"'A4-FinPerf RE'!K23","v":0},{"$f":"'A4-FinPerf RE'!L23","v":1}]
["Fines, penalties and forfeits"," ",513144,513144,513144,513144,513144,513144,513144,513144,513144,513144,513144,513151,{"$f":"'A4-FinPerf RE'!J24","v":6157735},{"$f":"'A4-FinPerf RE'!K24","v":6440991},{"$f":"'A4-FinPerf RE'!L24","v":6724394}]
["Licences or permits"," ",0,0,0,0,0,0,0,0,0,0,0,0,{"$f":"'A4-FinPerf RE'!J25","v":0},{"$f":"'A4-FinPerf RE'!K25","v":0},{"$f":"'A4-FinPerf RE'!L25","v":0}]
["Transfer and subsidies - Operational"," ",21684108,21684108,21684108,21684108,21684108,21684108,21684108,21684108,21684108,21684108,21684108,21684112,{"$f":"'A4-FinPerf RE'!J26","v":260209300},{"$f":"'A4-FinPerf RE'!K26","v":270519300},{"$f":"'A4-FinPerf RE'!L26","v":282880901}]
["Interest"," ",1739466,1739466,1739466,1739466,1739466,1739466,1739466,1739466,1739466,1739466,1739466,1739466,{"$f":"'A4-FinPerf RE'!J27","v":20873592},{"$f":"'A4-FinPerf RE'!K27","v":21833777},{"$f":"'A4-FinPerf RE'!L27","v":22794464}]
["Fuel Levy"," ",0,0,0,0,0,0,0,0,0,0,0,0,{"$f":"'A4-FinPerf RE'!J28","v":0},{"$f":"'A4-FinPerf RE'!K28","v":0},{"$f":"'A4-FinPerf RE'!L28","v":0}]
["Operational Revenue"," ",0,0,0,0,0,0,0,0,0,0,0,0,{"$f":"'A4-FinPerf RE'!J29","v":0},{"$f":"'A4-FinPerf RE'!K29","v":0},{"$f":"'A4-FinPerf RE'!L29","v":0}]
["Gains on disposal of Assets"," ",0,0,0,0,0,0,0,0,0,0,0,0,{"$f":"'A4-FinPerf RE'!J30","v":0},{"$f":"'A4-FinPerf RE'!K30","v":0},{"$f":"'A4-FinPerf RE'!L30","v":0}]
["Other Gains"," ",0,0,0,0,0,0,0,0,0,0,0,0,{"$f":"'A4-FinPerf RE'!J31","v":0},{"$f":"'A4-FinPerf RE'!K31","v":0},{"$f":"'A4-FinPerf RE'!L31","v":0}]
["Discontinued Operations"," ",0,0,0,0,0,0,0,0,0,0,0,0,{"$f":"'A4-FinPerf RE'!J32","v":0},{"$f":"'A4-FinPerf RE'!K32","v":0},{"$f":"'A4-FinPerf RE'!L32","v":0}]
["Total Revenue (excluding capital transfers and contributions)"," ",{"$f":"SUM(C6:C20)+SUM(C22:C32)","v":75350798},{"$f":"SUM(D6:D20)+SUM(D22:D32)","v":75350798},75350798,75350798,75350798,75350798,75350798,75350798,75350798,75350798,75350798,{"$f":"SUM(N6:N20)+SUM(N22:N32)","v":75350788},{"$f":"SUM(O6:O20)+SUM(O22:O32)","v":904209566},{"$f":"SUM(P6:P20)+SUM(P22:P32)","v":944143579},{"$f":"SUM(Q6:Q20)+SUM(Q22:Q32)","v":986144659}]
["Expenditure"]
["Employee related costs",null,22821427,22821427,22821427,22821427,22821427,22821427,22821427,22821427,22821427,22821427,22821427,{"$f":"O35-SUM(C35:M35)","v":22821206},{"$f":"'A4-FinPerf RE'!J35","v":273856903},{"$f":"'A4-FinPerf RE'!K35","v":286454318},{"$f":"'A4-FinPerf RE'!L35","v":299058309}]
["Remuneration of councillors",null,1338603,1338603,1338603,1338603,1338603,1338603,1338603,1338603,1338603,1338603,1338603,1338593,{"$f":"'A4-FinPerf RE'!J36","v":16063226},{"$f":"'A4-FinPerf RE'!K36","v":16786070},{"$f":"'A4-FinPerf RE'!L36","v":17524658}]
["Bulk purchases - electricity",null,17084500,17084500,17084500,17084500,17084500,17084500,17084500,17084500,17084500,17084500,17084500,17084494,{"$f":"'A4-FinPerf RE'!J37","v":205013994},{"$f":"'A4-FinPerf RE'!K37","v":214444638},{"$f":"'A4-FinPerf RE'!L37","v":223880202}]
["Inventory consumed",null,4862559,4862559,4862559,4862559,4862559,4862559,4862559,4862559,4862559,4862559,4862559,4862512,{"$f":"'A4-FinPerf RE'!J38","v":58350661},{"$f":"'A4-FinPerf RE'!K38","v":61034792},{"$f":"'A4-FinPerf RE'!L38","v":63720323}]
["Debt impairment",null,4360236,4360236,4360236,4360236,4360236,4360236,4360236,4360236,4360236,4360236,4360236,4360230,{"$f":"'A4-FinPerf RE'!J39","v":52322826},{"$f":"'A4-FinPerf RE'!K39","v":54488335},{"$f":"'A4-FinPerf RE'!L39","v":51775049}]
["Depreciation and amortisation",null,7972546,7972546,7972546,7972546,7972546,7972546,7972546,7972546,7972546,7972546,7972546,7972530,{"$f":"'A4-FinPerf RE'!J40","v":95670536},{"$f":"'A4-FinPerf RE'!K40","v":100089500},{"$f":"'A4-FinPerf RE'!L40","v":104492645}]
["Interest"," ",1790821,1790821,1790821,1790821,1790821,1790821,1790821,1790821,1790821,1790821,1790821,1790820,{"$f":"'A4-FinPerf RE'!J41","v":21489851},{"$f":"'A4-FinPerf RE'!K41","v":22478384},{"$f":"'A4-FinPerf RE'!L41","v":23467433}]
["Contracted services"," ",6965795,6965795,6965795,6965795,6965795,6965795,6965795,6965795,6965795,6965795,6965795,6965786,{"$f":"'A4-FinPerf RE'!J42","v":83589531},{"$f":"'A4-FinPerf RE'!K42","v":87434648},{"$f":"'A4-FinPerf RE'!L42","v":91281779}]
["Transfers and subsidies"," ",178541,178541,178541,178541,178541,178541,178541,178541,178541,178541,178541,178516,{"$f":"'A4-FinPerf RE'!J43","v":2142467},{"$f":"'A4-FinPerf RE'!K43","v":2241018},{"$f":"'A4-FinPerf RE'!L43","v":2339622}]
["Irrecoverable debts written off"," ",1291667,1291667,1291667,1291667,1291667,1291667,1291667,1291667,1291667,1291667,1291667,1291663,{"$f":"'A4-FinPerf RE'!J44","v":15500000},{"$f":"'A4-FinPerf RE'!K44","v":16213000},{"$f":"'A4-FinPerf RE'!L44","v":16926375}]
["Operational costs"," ",0,0,0,0,0,0,0,0,0,0,0,77405114,{"$f":"'A4-FinPerf RE'!J45","v":77405114},{"$f":"'A4-FinPerf RE'!K45","v":80965749},{"$f":"'A4-FinPerf RE'!L45","v":84528245}]
["Losses on disposal of Assets"," ",0,0,0,0,0,0,0,0,0,0,0,0,{"$f":"'A4-FinPerf RE'!J46","v":0},{"$f":"'A4-FinPerf RE'!K46","v":0},{"$f":"'A4-FinPerf RE'!L46","v":0}]
["Other Losses"," ",0,0,0,0,0,0,0,0,0,0,0,0,{"$f":"'A4-FinPerf RE'!J47","v":0},{"$f":"'A4-FinPerf RE'!K47","v":0},{"$f":"'A4-FinPerf RE'!L47","v":0}]
["Total Expenditure"," ",{"$f":"SUM(C35:C47)","v":68666695},{"$f":"SUM(D35:D47)","v":68666695},68666695,68666695,68666695,68666695,68666695,68666695,68666695,68666695,68666695,146071464,{"$f":"SUM(O35:O47)","v":901405109},942630452,978994640]
["Surplus/(Deficit)",null,{"$f":"+C33-C48","v":6684103},{"$f":"+D33-D48","v":6684103},6684103,6684103,6684103,6684103,6684103,6684103,6684103,6684103,6684103,-70720676,{"$f":"+O33-O48","v":2804457},1513127,7150019]
["Transfers and subsidies - capital (monetary allocations)",null,9769808,9769808,9769808,9769808,9769808,9769808,9769808,9769808,9769808,9769808,9769808,{"$f":"O50-SUM(C50:M50)","v":9769812},{"$f":"'A4-FinPerf RE'!J50","v":117237700},{"$f":"'A4-FinPerf RE'!K50","v":142940700},{"$f":"'A4-FinPerf RE'!L50","v":145253102}]
["Transfers and subsidies - capital (in-kind)",null,0,0,0,0,0,0,0,0,0,0,0,0,{"$f":"'A4-FinPerf RE'!J51","v":0},{"$f":"'A4-FinPerf RE'!K51","v":0},{"$f":"'A4-FinPerf RE'!L51","v":0}]
["Surplus/(Deficit) after capital transfers & contributions",null,{"$f":"SUM(C49:C51)","v":16453911},{"$f":"SUM(D49:D51)","v":16453911},16453911,16453911,16453911,16453911,16453911,16453911,16453911,16453911,16453911,-60950864,{"$f":"SUM(O49:O51)","v":120042157},144453827,152403121]
["Income Tax",null,0,0,0,0,0,0,0,0,0,0,0,{"$f":"O53-SUM(C53:M53)","v":0},{"$f":"'A4-FinPerf RE'!J53","v":0},{"$f":"'A4-FinPerf RE'!K53","v":0},{"$f":"'A4-FinPerf RE'!L53","v":0}]
["Surplus/(Deficit) after income tax",null,{"$f":"+C52-C53","v":16453911},{"$f":"+D52-D53","v":16453911},16453911,16453911,16453911,16453911,16453911,16453911,16453911,16453911,16453911,{"$f":"O54-SUM(C54:M54)","v":-60950864},{"$f":"+O52-O53","v":120042157},144453827,152403121]
["Share of Surplus/Deficit attributable to Joint Venture",null,0,0,0,0,0,0,0,0,0,0,0,0,{"$f":"'A4-FinPerf RE'!J55","v":0},{"$f":"'A4-FinPerf RE'!K55","v":0},{"$f":"'A4-FinPerf RE'!L55","v":0}]
["Share of Surplus/Deficit attributable to Minorities",null,0,0,0,0,0,0,0,0,0,0,0,0,{"$f":"'A4-FinPerf RE'!J56","v":0},{"$f":"'A4-FinPerf RE'!K56","v":0},{"$f":"'A4-FinPerf RE'!L56","v":0}]
["Surplus/(Deficit) attributable to municipality",null,{"$f":"SUM(C54:C56)","v":16453911},{"$f":"SUM(D54:D56)","v":16453911},16453911,16453911,16453911,16453911,16453911,16453911,16453911,16453911,16453911,-60950864,{"$f":"SUM(O54:O56)","v":120042157},144453827,152403121]
["Share of Surplus/Deficit attributable to Associate",null,0,0,0,0,0,0,0,0,0,0,0,{"$f":"O58-SUM(C58:M58)","v":0},{"$f":"'A4-FinPerf RE'!J58","v":0},{"$f":"'A4-FinPerf RE'!K58","v":0},{"$f":"'A4-FinPerf RE'!L58","v":0}]
["Intercompany/Parent subsidiary transactions",null,0,0,0,0,0,0,0,0,0,0,0,0,{"$f":"'A4-FinPerf RE'!J59","v":0},{"$f":"'A4-FinPerf RE'!K59","v":0},{"$f":"'A4-FinPerf RE'!L59","v":0}]
[{"$f":"result","v":"Surplus/(Deficit) for the year"},1,{"$f":"SUM(C57:C59)","v":16453911},{"$f":"SUM(D57:D59)","v":16453911},16453911,16453911,16453911,16453911,16453911,16453911,16453911,16453911,16453911,-60950864,{"$f":"SUM(O57:O59)","v":120042157},144453827,152403121]
[{"$f":"head27a","v":"References"}]
["1. Surplus (Deficit) must reconcile with Budgeted Financial Performance"]
[null,null,null,null,null,null,null,null,null,null,null,null,null,null,{"$f":"O60-'A4-FinPerf RE'!J60","v":0},{"$f":"P60-'A4-FinPerf RE'!K60","v":0},{"$f":"Q60-'A4-FinPerf RE'!L60","v":0}]

{"sheet":"SA26","index":48,"n_rows":48,"n_cols":17,"rows_kept":48,"cut":false,"hidden":false,"merged":[[1,2,1,13],[1,14,1,16]]}
[{"$f":"muni&\" - \"&TableA26","v":"Choose name from list - Supporting Table SA26 Budgeted monthly revenue and expenditure (municipal vote)"}]
[{"$f":"desc","v":"Description"},{"$f":"head27","v":"Ref"},{"$f":"Head9","v":"Budget Year 2025/26"},null,null,null,null,null,null,null,null,null,null,null,"Medium Term Revenue and Expenditure Framework"]
["R thousand",null,"July","August","Sept.","October","November","December","January","February","March","April","May","June",{"$f":"Head9","v":"Budget Year 2025/26"},{"$f":"Head10","v":"Budget Year +1 2026/27"},{"$f":"Head11","v":"Budget Year +2 2027/28"}]
[{"$f":"'A3-FinPerf V'!A4","v":"Revenue by Vote"}]
[{"$f":"'A3-FinPerf V'!A5","v":"Vote 1 - Office of Municipal Manager"},null,64157,64157,64157,64157,64157,64157,64157,64157,64157,64157,64157,{"$f":"O5-SUM(C5:M5)","v":64158},{"$f":"'A3-FinPerf V'!I5","v":769885},{"$f":"'A3-FinPerf V'!J5","v":774991},{"$f":"'A3-FinPerf V'!K5","v":302260}]
[{"$f":"'A3-FinPerf V'!A6","v":"Vote 2 - Budget and Treasury"},null,35147989,35147989,35147989,35147989,35147989,35147989,35147989,35147989,35147989,35147989,35147989,35147999,{"$f":"'A3-FinPerf V'!I6","v":421775878},{"$f":"'A3-FinPerf V'!J6","v":439437347},{"$f":"'A3-FinPerf V'!K6","v":459819187}]
[{"$f":"'A3-FinPerf V'!A7","v":"Vote 3 - Corporate Services"},null,0,0,0,0,0,0,0,0,0,0,0,0,{"$f":"'A3-FinPerf V'!I7","v":0},{"$f":"'A3-FinPerf V'!J7","v":0},{"$f":"'A3-FinPerf V'!K7","v":0}]
[{"$f":"'A3-FinPerf V'!A8","v":"Vote 4 - Social Service"},null,4130207,4130207,4130207,4130207,4130207,4130207,4130207,4130207,4130207,4130207,4130207,4130187,{"$f":"'A3-FinPerf V'!I8","v":49562464},{"$f":"'A3-FinPerf V'!J8","v":51836038},{"$f":"'A3-FinPerf V'!K8","v":54006179}]
[{"$f":"'A3-FinPerf V'!A9","v":"Vote 5 - Technical and Engineering Services"},null,45675265,45675265,45675265,45675265,45675265,45675265,45675265,45675265,45675265,45675265,45675265,45675267,{"$f":"'A3-FinPerf V'!I9","v":548103182},{"$f":"'A3-FinPerf V'!J9","v":593704032},{"$f":"'A3-FinPerf V'!K9","v":615851366}]
[{"$f":"'A3-FinPerf V'!A10","v":"Vote 6 - Property, Planning & Development"},null,111491,111491,111491,111491,111491,111491,111491,111491,111491,111491,111491,111495,{"$f":"'A3-FinPerf V'!I10","v":1337896},{"$f":"'A3-FinPerf V'!J10","v":1438502},{"$f":"'A3-FinPerf V'!K10","v":1525400}]
[{"$f":"'A3-FinPerf V'!A11","v":"Vote 7 - Office of the Mayor/Strategic Office"},null,0,0,0,0,0,0,0,0,0,0,0,{"$f":"O11-SUM(C11:M11)","v":0},{"$f":"'A3-FinPerf V'!I11","v":0},{"$f":"'A3-FinPerf V'!J11","v":0},{"$f":"'A3-FinPerf V'!K11","v":0}]
[{"$f":"'A3-FinPerf V'!A12","v":"Vote 8 - COMMUNITY & SOCIAL SERVICES"},null,-8503,-8503,-8503,-8503,-8503,-8503,-8503,-8503,-8503,-8503,-8503,{"$f":"O12-SUM(C12:M12)","v":-8506},{"$f":"'A3-FinPerf V'!I12","v":-102039},{"$f":"'A3-FinPerf V'!J12","v":-106631},{"$f":"'A3-FinPerf V'!K12","v":-106631}]
[{"$f":"'A3-FinPerf V'!A13","v":"Vote 9 - [NAME OF VOTE 9]"},null,null,null,null,null,null,null,null,null,null,null,null,{"$f":"O13-SUM(C13:M13)","v":0},{"$f":"'A3-FinPerf V'!I13","v":0},{"$f":"'A3-FinPerf V'!J13","v":0},{"$f":"'A3-FinPerf V'!K13","v":0}]
[{"$f":"'A3-FinPerf V'!A14","v":"Vote 10 - [NAME OF VOTE 10]"},null,null,null,null,null,null,null,null,null,null,null,null,{"$f":"O14-SUM(C14:M14)","v":0},{"$f":"'A3-FinPerf V'!I14","v":0},{"$f":"'A3-FinPerf V'!J14","v":0},{"$f":"'A3-FinPerf V'!K14","v":0}]
[{"$f":"'A3-FinPerf V'!A15","v":"Vote 11 - [NAME OF VOTE 11]"},null,null,null,null,null,null,null,null,null,null,null,null,0,{"$f":"'A3-FinPerf V'!I15","v":0},{"$f":"'A3-FinPerf V'!J15","v":0},{"$f":"'A3-FinPerf V'!K15","v":0}]
[{"$f":"'A3-FinPerf V'!A16","v":"Vote 12 - [NAME OF VOTE 12]"},null,null,null,null,null,null,null,null,null,null,null,null,0,{"$f":"'A3-FinPerf V'!I16","v":0},{"$f":"'A3-FinPerf V'!J16","v":0},{"$f":"'A3-FinPerf V'!K16","v":0}]
[{"$f":"'A3-FinPerf V'!A17","v":"Vote 13 - [NAME OF VOTE 13]"},null,null,null,null,null,null,null,null,null,null,null,null,0,{"$f":"'A3-FinPerf V'!I17","v":0},{"$f":"'A3-FinPerf V'!J17","v":0},{"$f":"'A3-FinPerf V'!K17","v":0}]
[{"$f":"'A3-FinPerf V'!A18","v":"Vote 14 - [NAME OF VOTE 14]"},null,null,null,null,null,null,null,null,null,null,null,null,0,{"$f":"'A3-FinPerf V'!I18","v":0},{"$f":"'A3-FinPerf V'!J18","v":0},{"$f":"'A3-FinPerf V'!K18","v":0}]
[{"$f":"'A3-FinPerf V'!A19","v":"Vote 15 - [NAME OF VOTE 15]"},null,null,null,null,null,null,null,null,null,null,null,null,0,{"$f":"'A3-FinPerf V'!I19","v":0},{"$f":"'A3-FinPerf V'!J19","v":0},{"$f":"'A3-FinPerf V'!K19","v":0}]
[{"$f":"'A3-FinPerf V'!A20","v":"Total Revenue by Vote"},null,{"$f":"SUM(C5:C19)","v":85120606},{"$f":"SUM(D5:D19)","v":85120606},85120606,{"$f":"SUM(F5:F19)","v":85120606},85120606,85120606,85120606,85120606,85120606,85120606,85120606,{"$f":"SUM(N5:N19)","v":85120600},1021447266,1087084279,1131397761]
[]
[{"$f":"'A3-FinPerf V'!A22","v":"Expenditure by Vote to be appropriated"}]
[{"$f":"A5","v":"Vote 1 - Office of Municipal Manager"},null,5258580,5258580,5258580,5258580,5258580,5258580,5258580,5258580,5258580,5258580,5258580,{"$f":"O23-SUM(C23:M23)","v":5258522},{"$f":"'A3-FinPerf V'!I23","v":63102902},{"$f":"'A3-FinPerf V'!J23","v":62242764},{"$f":"'A3-FinPerf V'!K23","v":63753452}]
["Vote 2 - Budget and Treasury",null,11432121,11432121,11432121,11432121,11432121,11432121,11432121,11432121,11432121,11432121,11432121,11432010,{"$f":"'A3-FinPerf V'!I24","v":137185341},{"$f":"'A3-FinPerf V'!J24","v":145380590},{"$f":"'A3-FinPerf V'!K24","v":161942420}]
["Vote 3 - Corporate Services",null,4975429,4975429,4975429,4975429,4975429,4975429,4975429,4975429,4975429,4975429,4975429,4975385,{"$f":"'A3-FinPerf V'!I25","v":59705104},{"$f":"'A3-FinPerf V'!J25","v":63970211},{"$f":"'A3-FinPerf V'!K25","v":69047889}]
["Vote 4 - Social Service",null,8336383,8336383,8336383,8336383,8336383,8336383,8336383,8336383,8336383,8336383,8336383,8336295,{"$f":"'A3-FinPerf V'!I26","v":100036508},{"$f":"'A3-FinPerf V'!J26","v":102598511},{"$f":"'A3-FinPerf V'!K26","v":109496864}]
["Vote 5 - Technical and Engineering Services",null,39041062,39041062,39041062,39041062,39041062,39041062,39041062,39041062,39041062,39041062,39041062,39040997,{"$f":"'A3-FinPerf V'!I27","v":468492679},{"$f":"'A3-FinPerf V'!J27","v":501641397},{"$f":"'A3-FinPerf V'!K27","v":508830671}]
["Vote 6 - Property, Planning & Development",null,1675516,1675516,1675516,1675516,1675516,1675516,1675516,1675516,1675516,1675516,1675516,1675534,{"$f":"'A3-FinPerf V'!I28","v":20106210},{"$f":"'A3-FinPerf V'!J28","v":21484245},{"$f":"'A3-FinPerf V'!K28","v":20786708}]
["Vote 7 - Office of the Mayor/Strategic Office",null,3016227,3016227,3016227,3016227,3016227,3016227,3016227,3016227,3016227,3016227,3016227,3016240,{"$f":"'A3-FinPerf V'!I29","v":36194737},{"$f":"'A3-FinPerf V'!J29","v":26294587},{"$f":"'A3-FinPerf V'!K29","v":24784998}]
["Vote 8 - COMMUNITY & SOCIAL SERVICES",null,0,0,0,0,0,0,0,0,0,0,0,{"$f":"O30-SUM(C30:M30)","v":0},{"$f":"'A3-FinPerf V'!I30","v":0},{"$f":"'A3-FinPerf V'!J30","v":0},{"$f":"'A3-FinPerf V'!K30","v":0}]
["Vote 9 - [NAME OF VOTE 9]",null,null,null,null,null,null,null,null,null,null,null,null,{"$f":"O31-SUM(C31:M31)","v":0},{"$f":"'A3-FinPerf V'!I31","v":0},{"$f":"'A3-FinPerf V'!J31","v":0},{"$f":"'A3-FinPerf V'!K31","v":0}]
[{"$f":"A14","v":"Vote 10 - [NAME OF VOTE 10]"},null,null,null,null,null,null,null,null,null,null,null,null,{"$f":"O32-SUM(C32:M32)","v":0},{"$f":"'A3-FinPerf V'!I32","v":0},{"$f":"'A3-FinPerf V'!J32","v":0},{"$f":"'A3-FinPerf V'!K32","v":0}]
["Vote 11 - [NAME OF VOTE 11]",null,null,null,null,null,null,null,null,null,null,null,null,0,{"$f":"'A3-FinPerf V'!I33","v":0},{"$f":"'A3-FinPerf V'!J33","v":0},{"$f":"'A3-FinPerf V'!K33","v":0}]
["Vote 12 - [NAME OF VOTE 12]",null,null,null,null,null,null,null,null,null,null,null,null,0,{"$f":"'A3-FinPerf V'!I34","v":0},{"$f":"'A3-FinPerf V'!J34","v":0},{"$f":"'A3-FinPerf V'!K34","v":0}]
["Vote 13 - [NAME OF VOTE 13]",null,null,null,null,null,null,null,null,null,null,null,null,0,{"$f":"'A3-FinPerf V'!I35","v":0},{"$f":"'A3-FinPerf V'!J35","v":0},{"$f":"'A3-FinPerf V'!K35","v":0}]
["Vote 14 - [NAME OF VOTE 14]",null,null,null,null,null,null,null,null,null,null,null,null,0,{"$f":"'A3-FinPerf V'!I36","v":0},{"$f":"'A3-FinPerf V'!J36","v":0},{"$f":"'A3-FinPerf V'!K36","v":0}]
["Vote 15 - [NAME OF VOTE 15]",null,null,null,null,null,null,null,null,null,null,null,null,0,{"$f":"'A3-FinPerf V'!I37","v":0},{"$f":"'A3-FinPerf V'!J37","v":0},{"$f":"'A3-FinPerf V'!K37","v":0}]
[{"$f":"'A3-FinPerf V'!A38","v":"Total Expenditure by Vote"},null,{"$f":"SUM(C23:C37)","v":73735318},{"$f":"SUM(D23:D37)","v":73735318},73735318,73735318,73735318,73735318,73735318,73735318,73735318,73735318,73735318,73734983,{"$f":"SUM(O23:O37)","v":884823481},{"$f":"SUM(P23:P37)","v":923612305},{"$f":"SUM(Q23:Q37)","v":958643002}]
[]
[{"$f":"'A4-FinPerf RE'!A49&\" before assoc.\"","v":"Surplus/(Deficit) before assoc."},null,{"$f":"C20-C38","v":11385288},{"$f":"D20-D38","v":11385288},11385288,11385288,11385288,11385288,11385288,11385288,11385288,11385288,11385288,11385617,136623785,163471974,172754759]
[]
[{"$f":"'SA25'!A53","v":"Income Tax"},null,0,0,0,0,0,0,0,0,0,0,0,{"$f":"O42-SUM(C42:M42)","v":0},{"$f":"'SA25'!O53","v":0},{"$f":"'SA25'!P53","v":0},{"$f":"'SA25'!Q53","v":0}]
[{"$f":"'SA25'!A56","v":"Share of Surplus/Deficit attributable to Minorities"},null,0,0,0,0,0,0,0,0,0,0,0,{"$f":"O43-SUM(C43:M43)","v":0},{"$f":"'SA25'!O56","v":0},{"$f":"'SA25'!P56","v":0},{"$f":"'SA25'!Q56","v":0}]
[{"$f":"'A4-FinPerf RE'!A59","v":"Intercompany/Parent subsidiary transactions"},null,0,0,0,0,0,0,0,0,0,0,0,{"$f":"O44-SUM(C44:M44)","v":0},{"$f":"'A4-FinPerf RE'!J59","v":0},{"$f":"'A4-FinPerf RE'!K59","v":0},{"$f":"'A4-FinPerf RE'!L59","v":0}]
[{"$f":"'A4-FinPerf RE'!A49","v":"Surplus/(Deficit)"},1,{"$f":"C40+C44+C42+C43","v":11385288},{"$f":"D40+D44+D42+D43","v":11385288},11385288,11385288,11385288,11385288,11385288,11385288,11385288,11385288,11385288,11385617,136623785,163471974,172754759]
[{"$f":"head27a","v":"References"}]
["1. Surplus (Deficit) must reconcile with Budgeted Financial Performance"]
[null,null,null,null,null,null,null,null,null,null,null,null,null,null,{"$f":"O45-'A4-FinPerf RE'!J60","v":16581628},{"$f":"P45-'A4-FinPerf RE'!K60","v":19018147},{"$f":"Q45-'A4-FinPerf RE'!L60","v":20351638}]

{"sheet":"SA27","index":49,"n_rows":55,"n_cols":17,"rows_kept":55,"cut":false,"hidden":false,"merged":[[1,2,1,13],[1,14,1,16]]}
[{"$f":"muni&\" - \"&TableA27","v":"Choose name from list - Supporting Table SA27 Budgeted monthly revenue and expenditure (functional classification)"}]
[{"$f":"desc","v":"Description"},{"$f":"head27","v":"Ref"},{"$f":"Head9","v":"Budget Year 2025/26"},null,null,null,null,null,null,null,null,null,null,null,"Medium Term Revenue and Expenditure Framework"]
["R thousand",null,"July","August","Sept.","October","November","December","January","February","March","April","May","June",{"$f":"Head9","v":"Budget Year 2025/26"},{"$f":"Head10","v":"Budget Year +1 2026/27"},{"$f":"Head11","v":"Budget Year +2 2027/28"}]
[{"$f":"'A2-FinPerf SC'!A4","v":"Revenue - Functional"}]
[{"$f":"'A2-FinPerf SC'!A5","v":"Governance and administration"},null,{"$f":"SUM(C6:C8)","v":35431171},{"$f":"SUM(D6:D8)","v":35431171},{"$f":"SUM(E6:E8)","v":35431171},35431171,35431171,35431171,35431171,35431171,35431171,35431171,35431171,{"$f":"O5-SUM(C5:M5)","v":35431182},{"$f":"'A2-FinPerf SC'!I5","v":425174063},{"$f":"'A2-FinPerf SC'!J5","v":443073487},{"$f":"'A2-FinPerf SC'!K5","v":462982598}]
[{"$f":"'A2-FinPerf SC'!A6","v":"Executive and council"},null,64157,64157,64157,64157,64157,64157,64157,64157,64157,64157,64157,{"$f":"O6-SUM(C6:M6)","v":64158},{"$f":"'A2-FinPerf SC'!I6","v":769885},{"$f":"'A2-FinPerf SC'!J6","v":774991},{"$f":"'A2-FinPerf SC'!K6","v":302260}]
[{"$f":"'A2-FinPerf SC'!A7","v":"Finance and administration"},null,35367014,35367014,35367014,35367014,35367014,35367014,35367014,35367014,35367014,35367014,35367014,{"$f":"O7-SUM(C7:M7)","v":35367024},{"$f":"'A2-FinPerf SC'!I7","v":424404178},{"$f":"'A2-FinPerf SC'!J7","v":442298496},{"$f":"'A2-FinPerf SC'!K7","v":462680338}]
[{"$f":"'A2-FinPerf SC'!A8","v":"Internal audit"},null,0,0,0,0,0,0,0,0,0,0,0,{"$f":"O8-SUM(C8:M8)","v":0},{"$f":"'A2-FinPerf SC'!I8","v":0},{"$f":"'A2-FinPerf SC'!J8","v":0},{"$f":"'A2-FinPerf SC'!K8","v":0}]
[{"$f":"'A2-FinPerf SC'!A9","v":"Community and public safety"},null,{"$f":"SUM(C10:C14)","v":501091},{"$f":"SUM(D10:D14)","v":501091},501091,501091,501091,501091,501091,501091,501091,501091,501091,{"$f":"O9-SUM(C9:M9)","v":501086},{"$f":"'A2-FinPerf SC'!I9","v":6013087},{"$f":"'A2-FinPerf SC'!J9","v":6287549},{"$f":"'A2-FinPerf SC'!K9","v":6644815}]
[{"$f":"'A2-FinPerf SC'!A10","v":"Community and social services"},null,18266,18266,18266,18266,18266,18266,18266,18266,18266,18266,18266,{"$f":"O10-SUM(C10:M10)","v":18267},{"$f":"'A2-FinPerf SC'!I10","v":219193},{"$f":"'A2-FinPerf SC'!J10","v":226773},{"$f":"'A2-FinPerf SC'!K10","v":300636}]
[{"$f":"'A2-FinPerf SC'!A11","v":"Sport and recreation"},null,0,0,0,0,0,0,0,0,0,0,0,0,{"$f":"'A2-FinPerf SC'!I11","v":0},{"$f":"'A2-FinPerf SC'!J11","v":0},{"$f":"'A2-FinPerf SC'!K11","v":0}]
[{"$f":"'A2-FinPerf SC'!A12","v":"Public safety"},null,482825,482825,482825,482825,482825,482825,482825,482825,482825,482825,482825,482819,{"$f":"'A2-FinPerf SC'!I12","v":5793894},{"$f":"'A2-FinPerf SC'!J12","v":6060776},{"$f":"'A2-FinPerf SC'!K12","v":6344179}]
[{"$f":"'A2-FinPerf SC'!A13","v":"Housing"},null,0,0,0,0,0,0,0,0,0,0,0,0,{"$f":"'A2-FinPerf SC'!I13","v":0},{"$f":"'A2-FinPerf SC'!J13","v":0},{"$f":"'A2-FinPerf SC'!K13","v":0}]
[{"$f":"'A2-FinPerf SC'!A14","v":"Health"},null,0,0,0,0,0,0,0,0,0,0,0,0,{"$f":"'A2-FinPerf SC'!I14","v":0},{"$f":"'A2-FinPerf SC'!J14","v":0},{"$f":"'A2-FinPerf SC'!K14","v":0}]
[{"$f":"'A2-FinPerf SC'!A15","v":"Economic and environmental services"},null,{"$f":"SUM(C16:C18)","v":4384783},{"$f":"SUM(D16:D18)","v":4384783},4384783,4384783,4384783,4384783,4384783,4384783,4384783,4384783,4384783,4384782,{"$f":"'A2-FinPerf SC'!I15","v":52617395},{"$f":"'A2-FinPerf SC'!J15","v":56929312},{"$f":"'A2-FinPerf SC'!K15","v":59456470}]
[{"$f":"'A2-FinPerf SC'!A16","v":"Planning and development"},null,111491,111491,111491,111491,111491,111491,111491,111491,111491,111491,111491,111495,{"$f":"'A2-FinPerf SC'!I16","v":1337896},{"$f":"'A2-FinPerf SC'!J16","v":1438502},{"$f":"'A2-FinPerf SC'!K16","v":1525400}]
[{"$f":"'A2-FinPerf SC'!A17","v":"Road transport"},null,4273292,4273292,4273292,4273292,4273292,4273292,4273292,4273292,4273292,4273292,4273292,4273287,{"$f":"'A2-FinPerf SC'!I17","v":51279499},{"$f":"'A2-FinPerf SC'!J17","v":55490810},{"$f":"'A2-FinPerf SC'!K17","v":57931070}]
[{"$f":"'A2-FinPerf SC'!A18","v":"Environmental protection"},null,0,0,0,0,0,0,0,0,0,0,0,0,{"$f":"'A2-FinPerf SC'!I18","v":0},{"$f":"'A2-FinPerf SC'!J18","v":0},{"$f":"'A2-FinPerf SC'!K18","v":0}]
[{"$f":"'A2-FinPerf SC'!A19","v":"Trading services"},null,{"$f":"SUM(C20:C23)","v":43729424},{"$f":"SUM(D20:D23)","v":43729424},43729424,43729424,43729424,43729424,43729424,43729424,43729424,43729424,43729424,{"$f":"O19-SUM(C19:M19)","v":43729412},{"$f":"'A2-FinPerf SC'!I19","v":524753076},{"$f":"'A2-FinPerf SC'!J19","v":567311363},{"$f":"'A2-FinPerf SC'!K19","v":588238076}]
[{"$f":"'A2-FinPerf SC'!A20","v":"Energy sources"},null,26420084,26420084,26420084,26420084,26420084,26420084,26420084,26420084,26420084,26420084,26420084,26420100,{"$f":"'A2-FinPerf SC'!I20","v":317041024},{"$f":"'A2-FinPerf SC'!J20","v":338660144},{"$f":"'A2-FinPerf SC'!K20","v":357980277}]
[{"$f":"'A2-FinPerf SC'!A21","v":"Water management"},null,11586706,11586706,11586706,11586706,11586706,11586706,11586706,11586706,11586706,11586706,11586706,11586699,{"$f":"'A2-FinPerf SC'!I21","v":139040465},{"$f":"'A2-FinPerf SC'!J21","v":156832806},{"$f":"'A2-FinPerf SC'!K21","v":154616671}]
[{"$f":"'A2-FinPerf SC'!A22","v":"Waste water management"},null,3176158,3176158,3176158,3176158,3176158,3176158,3176158,3176158,3176158,3176158,3176158,3176156,{"$f":"'A2-FinPerf SC'!I22","v":38113894},{"$f":"'A2-FinPerf SC'!J22","v":39859123},{"$f":"'A2-FinPerf SC'!K22","v":42462197}]
[{"$f":"'A2-FinPerf SC'!A23","v":"Waste management"},null,2546476,2546476,2546476,2546476,2546476,2546476,2546476,2546476,2546476,2546476,2546476,2546457,{"$f":"'A2-FinPerf SC'!I23","v":30557693},{"$f":"'A2-FinPerf SC'!J23","v":31959290},{"$f":"'A2-FinPerf SC'!K23","v":33178931}]
[{"$f":"'A2-FinPerf SC'!A24","v":"Other"},null,1074137,1074137,1074137,1074137,1074137,1074137,1074137,1074137,1074137,1074137,1074137,1074138,{"$f":"'A2-FinPerf SC'!I24","v":12889645},{"$f":"'A2-FinPerf SC'!J24","v":13482568},{"$f":"'A2-FinPerf SC'!K24","v":14075802}]
[{"$f":"'A2-FinPerf SC'!A25","v":"Total Revenue - Functional"},null,{"$f":"C5+C9+C15+C19+C24","v":85120606},{"$f":"D5+D9+D15+D19+D24","v":85120606},{"$f":"E5+E9+E15+E19+E24","v":85120606},85120606,85120606,85120606,85120606,85120606,85120606,85120606,85120606,{"$f":"N5+N9+N15+N19+N24","v":85120600},1021447266,1087084279,1131397761]
[]
[{"$f":"'A2-FinPerf SC'!A27","v":"Expenditure - Functional"}]
[{"$f":"'A2-FinPerf SC'!A28","v":"Governance and administration"},null,{"$f":"SUM(C29:C31)","v":27367135},{"$f":"SUM(D29:D31)","v":27367135},{"$f":"SUM(E29:E31)","v":27367135},27367135,27367135,27367135,27367135,27367135,27367135,27367135,27367135,{"$f":"O28-SUM(C28:M28)","v":27366909},{"$f":"'A2-FinPerf SC'!I28","v":328405394},{"$f":"'A2-FinPerf SC'!J28","v":332473494},{"$f":"'A2-FinPerf SC'!K28","v":355322268}]
[{"$f":"'A2-FinPerf SC'!A29","v":"Executive and council"},null,5669969,5669969,5669969,5669969,5669969,5669969,5669969,5669969,5669969,5669969,5669969,{"$f":"O29-SUM(C29:M29)","v":5669948},{"$f":"'A2-FinPerf SC'!I29","v":68039607},{"$f":"'A2-FinPerf SC'!J29","v":57280304},{"$f":"'A2-FinPerf SC'!K29","v":58557856}]
[{"$f":"'A2-FinPerf SC'!A30","v":"Finance and administration"},null,21351436,21351436,21351436,21351436,21351436,21351436,21351436,21351436,21351436,21351436,21351436,21351237,{"$f":"'A2-FinPerf SC'!I30","v":256217033},{"$f":"'A2-FinPerf SC'!J30","v":270853591},{"$f":"'A2-FinPerf SC'!K30","v":292253773}]
[{"$f":"'A2-FinPerf SC'!A31","v":"Internal audit"},null,345730,345730,345730,345730,345730,345730,345730,345730,345730,345730,345730,345724,{"$f":"'A2-FinPerf SC'!I31","v":4148754},{"$f":"'A2-FinPerf SC'!J31","v":4339599},{"$f":"'A2-FinPerf SC'!K31","v":4510639}]
[{"$f":"'A2-FinPerf SC'!A32","v":"Community and public safety"},null,{"$f":"SUM(C33:C37)","v":5213187},{"$f":"SUM(D33:D37)","v":5213187},5213187,5213187,5213187,5213187,5213187,5213187,5213187,5213187,5213187,5213083,{"$f":"'A2-FinPerf SC'!I32","v":62558140},{"$f":"'A2-FinPerf SC'!J32","v":64275927},{"$f":"'A2-FinPerf SC'!K32","v":69517632}]
[{"$f":"'A2-FinPerf SC'!A33","v":"Community and social services"},null,2808367,2808367,2808367,2808367,2808367,2808367,2808367,2808367,2808367,2808367,2808367,2808298,{"$f":"'A2-FinPerf SC'!I33","v":33700335},{"$f":"'A2-FinPerf SC'!J33","v":34776198},{"$f":"'A2-FinPerf SC'!K33","v":39501525}]
[{"$f":"'A2-FinPerf SC'!A34","v":"Sport and recreation"},null,44281,44281,44281,44281,44281,44281,44281,44281,44281,44281,44281,44277,{"$f":"'A2-FinPerf SC'!I34","v":531368},{"$f":"'A2-FinPerf SC'!J34","v":552110},{"$f":"'A2-FinPerf SC'!K34","v":551966}]
[{"$f":"'A2-FinPerf SC'!A35","v":"Public safety"},null,1964458,1964458,1964458,1964458,1964458,1964458,1964458,1964458,1964458,1964458,1964458,1964429,{"$f":"'A2-FinPerf SC'!I35","v":23573467},{"$f":"'A2-FinPerf SC'!J35","v":24061809},{"$f":"'A2-FinPerf SC'!K35","v":24455414}]
[{"$f":"'A2-FinPerf SC'!A36","v":"Housing"},null,396081,396081,396081,396081,396081,396081,396081,396081,396081,396081,396081,396079,{"$f":"'A2-FinPerf SC'!I36","v":4752970},{"$f":"'A2-FinPerf SC'!J36","v":4885810},{"$f":"'A2-FinPerf SC'!K36","v":5008727}]
[{"$f":"'A2-FinPerf SC'!A37","v":"Health"},null,0,0,0,0,0,0,0,0,0,0,0,0,{"$f":"'A2-FinPerf SC'!I37","v":0},{"$f":"'A2-FinPerf SC'!J37","v":0},{"$f":"'A2-FinPerf SC'!K37","v":0}]
[{"$f":"'A2-FinPerf SC'!A38","v":"Economic and environmental services"},null,{"$f":"SUM(C39:C41)","v":6457089},{"$f":"SUM(D39:D41)","v":6457089},6457089,6457089,6457089,6457089,6457089,6457089,6457089,6457089,6457089,{"$f":"O38-SUM(C38:M38)","v":6457077},{"$f":"'A2-FinPerf SC'!I38","v":77485056},{"$f":"'A2-FinPerf SC'!J38","v":80806999},{"$f":"'A2-FinPerf SC'!K38","v":82803017}]
[{"$f":"'A2-FinPerf SC'!A39","v":"Planning and development"},null,2030024,2030024,2030024,2030024,2030024,2030024,2030024,2030024,2030024,2030024,2030024,2030026,{"$f":"'A2-FinPerf SC'!I39","v":24360290},{"$f":"'A2-FinPerf SC'!J39","v":25704003},{"$f":"'A2-FinPerf SC'!K39","v":24959058}]
[{"$f":"'A2-FinPerf SC'!A40","v":"Road transport"},null,4427065,4427065,4427065,4427065,4427065,4427065,4427065,4427065,4427065,4427065,4427065,4427051,{"$f":"'A2-FinPerf SC'!I40","v":53124766},{"$f":"'A2-FinPerf SC'!J40","v":55102996},{"$f":"'A2-FinPerf SC'!K40","v":57843959}]
[{"$f":"'A2-FinPerf SC'!A41","v":"Environmental protection"},null,0,0,0,0,0,0,0,0,0,0,0,0,{"$f":"'A2-FinPerf SC'!I41","v":0},{"$f":"'A2-FinPerf SC'!J41","v":0},{"$f":"'A2-FinPerf SC'!K41","v":0}]
[{"$f":"'A2-FinPerf SC'!A42","v":"Trading services"},null,{"$f":"SUM(C43:C46)","v":36079711},{"$f":"SUM(D43:D46)","v":36079711},36079711,36079711,36079711,36079711,36079711,36079711,36079711,36079711,36079711,{"$f":"O42-SUM(C42:M42)","v":36079698},{"$f":"'A2-FinPerf SC'!I42","v":432956519},{"$f":"'A2-FinPerf SC'!J42","v":465074032},{"$f":"'A2-FinPerf SC'!K42","v":471351723}]
[{"$f":"'A2-FinPerf SC'!A43","v":"Energy sources"},null,20097756,20097756,20097756,20097756,20097756,20097756,20097756,20097756,20097756,20097756,20097756,20097755,{"$f":"'A2-FinPerf SC'!I43","v":241173071},{"$f":"'A2-FinPerf SC'!J43","v":251683069},{"$f":"'A2-FinPerf SC'!K43","v":260773065}]
[{"$f":"'A2-FinPerf SC'!A44","v":"Water management"},null,11129032,11129032,11129032,11129032,11129032,11129032,11129032,11129032,11129032,11129032,11129032,11129010,{"$f":"'A2-FinPerf SC'!I44","v":133548362},{"$f":"'A2-FinPerf SC'!J44","v":152882869},{"$f":"'A2-FinPerf SC'!K44","v":146481485}]
[{"$f":"'A2-FinPerf SC'!A45","v":"Waste water management"},null,2875618,2875618,2875618,2875618,2875618,2875618,2875618,2875618,2875618,2875618,2875618,2875624,{"$f":"'A2-FinPerf SC'!I45","v":34507422},{"$f":"'A2-FinPerf SC'!J45","v":35813043},{"$f":"'A2-FinPerf SC'!K45","v":37586563}]
[{"$f":"'A2-FinPerf SC'!A46","v":"Waste management"},null,1977305,1977305,1977305,1977305,1977305,1977305,1977305,1977305,1977305,1977305,1977305,1977309,{"$f":"'A2-FinPerf SC'!I46","v":23727664},{"$f":"'A2-FinPerf SC'!J46","v":24695051},{"$f":"'A2-FinPerf SC'!K46","v":26510610}]
[{"$f":"'A2-FinPerf SC'!A47","v":"Other"},null,0,0,0,0,0,0,0,0,0,0,0,0,{"$f":"'A2-FinPerf SC'!I47","v":0},{"$f":"'A2-FinPerf SC'!J47","v":0},{"$f":"'A2-FinPerf SC'!K47","v":0}]
[{"$f":"'A2-FinPerf SC'!A48","v":"Total Expenditure - Functional"},null,{"$f":"C28+C32+C38+C42+C47","v":75117122},{"$f":"D28+D32+D38+D42+D47","v":75117122},75117122,75117122,75117122,75117122,75117122,75117122,75117122,75117122,75117122,75116767,901405109,942630452,{"$f":"Q28+Q32+Q38+Q42+Q47","v":978994640}]
[]
[{"$f":"'A4-FinPerf RE'!A49&\" before assoc.\"","v":"Surplus/(Deficit) before assoc."},null,{"$f":"C25-C48","v":10003484},{"$f":"D25-D48","v":10003484},10003484,10003484,10003484,10003484,10003484,10003484,10003484,10003484,10003484,10003833,120042157,144453827,152403121]
[]
[{"$f":"'A4-FinPerf RE'!A59","v":"Intercompany/Parent subsidiary transactions"},null,0,0,0,0,0,0,0,0,0,0,0,{"$f":"O52-SUM(C52:M52)","v":0},{"$f":"'A4-FinPerf RE'!J59","v":0},{"$f":"'A4-FinPerf RE'!K59","v":0},{"$f":"'A4-FinPerf RE'!L59","v":0}]
[{"$f":"'A4-FinPerf RE'!A49","v":"Surplus/(Deficit)"},1,{"$f":"C50+C52","v":10003484},{"$f":"D50+D52","v":10003484},10003484,10003484,10003484,10003484,10003484,10003484,10003484,10003484,10003484,10003833,120042157,144453827,152403121]
[{"$f":"head27a","v":"References"}]
["1. Surplus (Deficit) must reconcile with Budeted Financial Performance"]

{"sheet":"SA28","index":50,"n_rows":46,"n_cols":17,"rows_kept":46,"cut":false,"hidden":false,"merged":[[1,2,1,13],[1,14,1,16]]}
[{"$f":"muni&\" - \"& TableA28","v":"Choose name from list - Supporting Table SA28 Budgeted monthly capital expenditure (municipal vote)"}]
[{"$f":"desc","v":"Description"},{"$f":"head27","v":"Ref"},{"$f":"Head9","v":"Budget Year 2025/26"},null,null,null,null,null,null,null,null,null,null,null,"Medium Term Revenue and Expenditure Framework"]
["R thousand",null,"July","August","Sept.","October","Nov.","Dec.","January","Feb.","March","April","May","June",{"$f":"Head9","v":"Budget Year 2025/26"},{"$f":"Head10","v":"Budget Year +1 2026/27"},{"$f":"Head11","v":"Budget Year +2 2027/28"}]
["Multi-year expenditure to be appropriated",1]
[{"$f":"'A5-Capex'!A6","v":"Vote 1 - Office of Municipal Manager"},null,0,0,0,0,0,0,0,0,0,0,0,{"$f":"O5-SUM(C5:M5)","v":0},{"$f":"'A5-Capex'!J6","v":0},{"$f":"'A5-Capex'!K6","v":0},{"$f":"'A5-Capex'!L6","v":1}]
[{"$f":"'A5-Capex'!A7","v":"Vote 2 - Budget and Treasury"},null,0,0,0,0,0,0,0,0,0,0,0,{"$f":"O6-SUM(C6:M6)","v":0},{"$f":"'A5-Capex'!J7","v":0},{"$f":"'A5-Capex'!K7","v":0},{"$f":"'A5-Capex'!L7","v":0}]
[{"$f":"'A5-Capex'!A8","v":"Vote 3 - Corporate Services"},null,291667,291667,291667,291667,291667,291667,291667,291667,291667,291667,291667,291663,{"$f":"'A5-Capex'!J8","v":3500000},{"$f":"'A5-Capex'!K8","v":3500000},{"$f":"'A5-Capex'!L8","v":0}]
[{"$f":"'A5-Capex'!A9","v":"Vote 4 - Social Service"},null,83333,83333,83333,83333,83333,83333,83333,83333,83333,83333,83333,83337,{"$f":"'A5-Capex'!J9","v":1000000},{"$f":"'A5-Capex'!K9","v":0},{"$f":"'A5-Capex'!L9","v":0}]
[{"$f":"'A5-Capex'!A10","v":"Vote 5 - Technical and Engineering Services"},null,7398193,7398193,7398193,7398193,7398193,7398193,7398193,7398193,7398193,7398193,7398193,7398188,{"$f":"'A5-Capex'!J10","v":88778311},{"$f":"'A5-Capex'!K10","v":111519785},{"$f":"'A5-Capex'!L10","v":96114041}]
[{"$f":"'A5-Capex'!A11","v":"Vote 6 - Property, Planning & Development"},null,166666,166666,166666,166666,166666,166666,166666,166666,166666,166666,166666,166674,{"$f":"'A5-Capex'!J11","v":2000000},{"$f":"'A5-Capex'!K11","v":0},{"$f":"'A5-Capex'!L11","v":0}]
[{"$f":"'A5-Capex'!A12","v":"Vote 7 - Office of the Mayor/Strategic Office"},null,0,0,0,0,0,0,0,0,0,0,0,0,{"$f":"'A5-Capex'!J12","v":0},{"$f":"'A5-Capex'!K12","v":0},{"$f":"'A5-Capex'!L12","v":0}]
[{"$f":"'A5-Capex'!A13","v":"Vote 8 - COMMUNITY & SOCIAL SERVICES"},null,0,0,0,0,0,0,0,0,0,0,0,{"$f":"O12-SUM(C12:M12)","v":0},{"$f":"'A5-Capex'!J13","v":0},{"$f":"'A5-Capex'!K13","v":0},{"$f":"'A5-Capex'!L13","v":0}]
[{"$f":"'A5-Capex'!A14","v":"Vote 9 - [NAME OF VOTE 9]"},null,null,null,null,null,null,null,null,null,null,null,null,{"$f":"O13-SUM(C13:M13)","v":0},{"$f":"'A5-Capex'!J14","v":0},{"$f":"'A5-Capex'!K14","v":0},{"$f":"'A5-Capex'!L14","v":0}]
[{"$f":"'A5-Capex'!A15","v":"Vote 10 - [NAME OF VOTE 10]"},null,null,null,null,null,null,null,null,null,null,null,null,{"$f":"O14-SUM(C14:M14)","v":0},{"$f":"'A5-Capex'!J15","v":0},{"$f":"'A5-Capex'!K15","v":0},{"$f":"'A5-Capex'!L15","v":0}]
[{"$f":"'A5-Capex'!A16","v":"Vote 11 - [NAME OF VOTE 11]"},null,null,null,null,null,null,null,null,null,null,null,null,0,{"$f":"'A5-Capex'!J16","v":0},{"$f":"'A5-Capex'!K16","v":0},{"$f":"'A5-Capex'!L16","v":0}]
[{"$f":"'A5-Capex'!A17","v":"Vote 12 - [NAME OF VOTE 12]"},null,null,null,null,null,null,null,null,null,null,null,null,0,{"$f":"'A5-Capex'!J17","v":0},{"$f":"'A5-Capex'!K17","v":0},{"$f":"'A5-Capex'!L17","v":0}]
[{"$f":"'A5-Capex'!A18","v":"Vote 13 - [NAME OF VOTE 13]"},null,null,null,null,null,null,null,null,null,null,null,null,0,{"$f":"'A5-Capex'!J18","v":0},{"$f":"'A5-Capex'!K18","v":0},{"$f":"'A5-Capex'!L18","v":0}]
[{"$f":"'A5-Capex'!A19","v":"Vote 14 - [NAME OF VOTE 14]"},null,null,null,null,null,null,null,null,null,null,null,null,0,{"$f":"'A5-Capex'!J19","v":0},{"$f":"'A5-Capex'!K19","v":0},{"$f":"'A5-Capex'!L19","v":0}]
[{"$f":"'A5-Capex'!A20","v":"Vote 15 - [NAME OF VOTE 15]"},null,null,null,null,null,null,null,null,null,null,null,null,0,{"$f":"'A5-Capex'!J20","v":0},{"$f":"'A5-Capex'!K20","v":0},{"$f":"'A5-Capex'!L20","v":0}]
["Capital multi-year expenditure sub-total",2,{"$f":"SUM(C5:C19)","v":7939859},{"$f":"SUM(D5:D19)","v":7939859},7939859,7939859,7939859,7939859,7939859,7939859,7939859,7939859,{"$f":"SUM(M5:M19)","v":7939859},7939862,{"$f":"SUM(O5:O19)","v":95278311},115019785,96114042]
[]
["Single-year expenditure to be appropriated"]
[{"$f":"'A5-Capex'!A24","v":"Vote 1 - Office of Municipal Manager"},null,0,0,0,0,0,0,0,0,0,0,0,{"$f":"O23-SUM(C23:M23)","v":0},{"$f":"'A5-Capex'!J24","v":0},{"$f":"'A5-Capex'!K24","v":0},{"$f":"'A5-Capex'!L24","v":2}]
[{"$f":"'A5-Capex'!A25","v":"Vote 2 - Budget and Treasury"},null,0,0,0,0,0,0,0,0,0,0,0,{"$f":"O24-SUM(C24:M24)","v":0},{"$f":"'A5-Capex'!J25","v":0},{"$f":"'A5-Capex'!K25","v":0},{"$f":"'A5-Capex'!L25","v":0}]
[{"$f":"'A5-Capex'!A26","v":"Vote 3 - Corporate Services"},null,85000,85000,85000,85000,85000,85000,85000,85000,85000,85000,85000,85000,{"$f":"'A5-Capex'!J26","v":1020000},{"$f":"'A5-Capex'!K26","v":800000},{"$f":"'A5-Capex'!L26","v":800004}]
[{"$f":"'A5-Capex'!A27","v":"Vote 4 - Social Service"},null,453864,453864,453864,453864,453864,453864,453864,453864,453864,453864,453864,453843,{"$f":"'A5-Capex'!J27","v":5446347},{"$f":"'A5-Capex'!K27","v":0},{"$f":"'A5-Capex'!L27","v":6}]
[{"$f":"'A5-Capex'!A28","v":"Vote 5 - Technical and Engineering Services"},null,4204950,4204950,4204950,4204950,4204950,4204950,4204950,4204950,4204950,4204950,4204950,4204939,{"$f":"'A5-Capex'!J28","v":50459389},{"$f":"'A5-Capex'!K28","v":38220917},{"$f":"'A5-Capex'!L28","v":37420100}]
[{"$f":"'A5-Capex'!A29","v":"Vote 6 - Property, Planning & Development"},null,0,0,0,0,0,0,0,0,0,0,0,0,{"$f":"'A5-Capex'!J29","v":0},{"$f":"'A5-Capex'!K29","v":0},{"$f":"'A5-Capex'!L29","v":4}]
[{"$f":"'A5-Capex'!A30","v":"Vote 7 - Office of the Mayor/Strategic Office"},null,8334,8334,8334,8334,8334,8334,8334,8334,8334,8334,8334,8326,{"$f":"'A5-Capex'!J30","v":100000},{"$f":"'A5-Capex'!K30","v":0},{"$f":"'A5-Capex'!L30","v":0}]
[{"$f":"'A5-Capex'!A31","v":"Vote 8 - COMMUNITY & SOCIAL SERVICES"},null,0,0,0,0,0,0,0,0,0,0,0,{"$f":"O30-SUM(C30:M30)","v":0},{"$f":"'A5-Capex'!J31","v":0},{"$f":"'A5-Capex'!K31","v":0},{"$f":"'A5-Capex'!L31","v":0}]
[{"$f":"'A5-Capex'!A32","v":"Vote 9 - [NAME OF VOTE 9]"},null,null,null,null,null,null,null,null,null,null,null,null,{"$f":"O31-SUM(C31:M31)","v":0},{"$f":"'A5-Capex'!J32","v":0},{"$f":"'A5-Capex'!K32","v":0},{"$f":"'A5-Capex'!L32","v":0}]
[{"$f":"'A5-Capex'!A33","v":"Vote 10 - [NAME OF VOTE 10]"},null,null,null,null,null,null,null,null,null,null,null,null,{"$f":"O32-SUM(C32:M32)","v":0},{"$f":"'A5-Capex'!J33","v":0},{"$f":"'A5-Capex'!K33","v":0},{"$f":"'A5-Capex'!L33","v":0}]
[{"$f":"'A5-Capex'!A34","v":"Vote 11 - [NAME OF VOTE 11]"},null,null,null,null,null,null,null,null,null,null,null,null,0,{"$f":"'A5-Capex'!J34","v":0},{"$f":"'A5-Capex'!K34","v":0},{"$f":"'A5-Capex'!L34","v":0}]
[{"$f":"'A5-Capex'!A35","v":"Vote 12 - [NAME OF VOTE 12]"},null,null,null,null,null,null,null,null,null,null,null,null,0,{"$f":"'A5-Capex'!J35","v":0},{"$f":"'A5-Capex'!K35","v":0},{"$f":"'A5-Capex'!L35","v":0}]
[{"$f":"'A5-Capex'!A36","v":"Vote 13 - [NAME OF VOTE 13]"},null,null,null,null,null,null,null,null,null,null,null,null,0,{"$f":"'A5-Capex'!J36","v":0},{"$f":"'A5-Capex'!K36","v":0},{"$f":"'A5-Capex'!L36","v":0}]
[{"$f":"'A5-Capex'!A37","v":"Vote 14 - [NAME OF VOTE 14]"},null,null,null,null,null,null,null,null,null,null,null,null,0,{"$f":"'A5-Capex'!J37","v":0},{"$f":"'A5-Capex'!K37","v":0},{"$f":"'A5-Capex'!L37","v":0}]
[{"$f":"'A5-Capex'!A38","v":"Vote 15 - [NAME OF VOTE 15]"},null,null,null,null,null,null,null,null,null,null,null,null,0,{"$f":"'A5-Capex'!J38","v":0},{"$f":"'A5-Capex'!K38","v":0},{"$f":"'A5-Capex'!L38","v":0}]
["Capital single-year expenditure sub-total",2,{"$f":"SUM(C23:C37)","v":4752148},{"$f":"SUM(D23:D37)","v":4752148},4752148,4752148,4752148,4752148,4752148,4752148,4752148,4752148,4752148,4752108,57025736,39020917,38220116]
["Total Capital Expenditure",2,{"$f":"C20+C38","v":12692007},{"$f":"D20+D38","v":12692007},12692007,12692007,12692007,12692007,12692007,12692007,12692007,12692007,12692007,12691970,{"$f":"O20+O38","v":152304047},{"$f":"P20+P38","v":154040702},{"$f":"Q20+Q38","v":134334158}]
[]
[]
[{"$f":"head27a","v":"References"}]
["1. Table should be completed as either Multi-Year expenditure appropriation or Budget Year and Forward Year estimates"]
["2. Total Capital Expenditure must reconcile to Budgeted Capital Expenditure"]
[]
[null,null,null,null,"Add single year stuff"]

{"sheet":"SA29","index":51,"n_rows":39,"n_cols":17,"rows_kept":39,"cut":false,"hidden":false,"merged":[[1,2,1,13],[1,14,1,16]]}
[{"$f":"muni&\" - \"& TableA29","v":"Choose name from list - Supporting Table SA29 Budgeted monthly capital expenditure (functional classification)"}]
[{"$f":"desc","v":"Description"},{"$f":"head27","v":"Ref"},{"$f":"Head9","v":"Budget Year 2025/26"},null,null,null,null,null,null,null,null,null,null,null,"Medium Term Revenue and Expenditure Framework"]
["R thousand",null,"July","August","Sept.","October","Nov.","Dec.","January","Feb.","March","April","May","June",{"$f":"Head9","v":"Budget Year 2025/26"},{"$f":"Head10","v":"Budget Year +1 2026/27"},{"$f":"Head11","v":"Budget Year +2 2027/28"}]
[{"$f":"'A5-Capex'!A42","v":"Capital Expenditure - Functional"},1]
[{"$f":"'A5-Capex'!A43","v":"Governance and administration"},null,{"$f":"SUM(C6:C8)","v":565835},{"$f":"SUM(D6:D8)","v":565835},{"$f":"SUM(E6:E8)","v":565835},565835,565835,565835,565835,565835,565835,565835,565835,{"$f":"O5-SUM(C5:M5)","v":565815},{"$f":"'A5-Capex'!J43","v":6790000},{"$f":"'A5-Capex'!K43","v":4300000},{"$f":"'A5-Capex'!L43","v":800007}]
[{"$f":"'A5-Capex'!A44","v":"Executive and council"},null,0,0,0,0,0,0,0,0,0,0,0,{"$f":"O6-SUM(C6:M6)","v":0},{"$f":"'A5-Capex'!J44","v":0},{"$f":"'A5-Capex'!K44","v":0},{"$f":"'A5-Capex'!L44","v":3}]
[{"$f":"'A5-Capex'!A45","v":"Finance and administration"},null,565835,565835,565835,565835,565835,565835,565835,565835,565835,565835,565835,565815,{"$f":"'A5-Capex'!J45","v":6790000},{"$f":"'A5-Capex'!K45","v":4300000},{"$f":"'A5-Capex'!L45","v":800004}]
[{"$f":"'A5-Capex'!A46","v":"Internal audit"},null,0,0,0,0,0,0,0,0,0,0,0,0,{"$f":"'A5-Capex'!J46","v":0},{"$f":"'A5-Capex'!K46","v":0},{"$f":"'A5-Capex'!L46","v":0}]
[{"$f":"'A5-Capex'!A47","v":"Community and public safety"},null,{"$f":"SUM(C10:C14)","v":198864},{"$f":"SUM(D10:D14)","v":198864},198864,198864,198864,198864,198864,198864,198864,198864,198864,198843,{"$f":"'A5-Capex'!J47","v":2386347},{"$f":"'A5-Capex'!K47","v":8137689},{"$f":"'A5-Capex'!L47","v":14755856}]
[{"$f":"'A5-Capex'!A48","v":"Community and social services"},null,132197,132197,132197,132197,132197,132197,132197,132197,132197,132197,132197,132180,{"$f":"'A5-Capex'!J48","v":1586347},{"$f":"'A5-Capex'!K48","v":0},{"$f":"'A5-Capex'!L48","v":0}]
[{"$f":"'A5-Capex'!A49","v":"Sport and recreation"},null,0,0,0,0,0,0,0,0,0,0,0,0,{"$f":"'A5-Capex'!J49","v":0},{"$f":"'A5-Capex'!K49","v":8137689},{"$f":"'A5-Capex'!L49","v":14755855}]
[{"$f":"'A5-Capex'!A50","v":"Public safety"},null,66667,66667,66667,66667,66667,66667,66667,66667,66667,66667,66667,66663,{"$f":"'A5-Capex'!J50","v":800000},{"$f":"'A5-Capex'!K50","v":0},{"$f":"'A5-Capex'!L50","v":1}]
[{"$f":"'A5-Capex'!A51","v":"Housing"},null,0,0,0,0,0,0,0,0,0,0,0,0,{"$f":"'A5-Capex'!J51","v":0},{"$f":"'A5-Capex'!K51","v":0},{"$f":"'A5-Capex'!L51","v":0}]
[{"$f":"'A5-Capex'!A52","v":"Health"},null,0,0,0,0,0,0,0,0,0,0,0,0,{"$f":"'A5-Capex'!J52","v":0},{"$f":"'A5-Capex'!K52","v":0},{"$f":"'A5-Capex'!L52","v":0}]
[{"$f":"'A5-Capex'!A53","v":"Economic and environmental services"},null,{"$f":"SUM(C16:C18)","v":4596485},{"$f":"SUM(D16:D18)","v":4596485},4596485,4596485,4596485,4596485,4596485,4596485,4596485,4596485,4596485,4596503,{"$f":"'A5-Capex'!J53","v":55157838},{"$f":"'A5-Capex'!K53","v":26930305},{"$f":"'A5-Capex'!L53","v":23132061}]
[{"$f":"'A5-Capex'!A54","v":"Planning and development"},null,166666,166666,166666,166666,166666,166666,166666,166666,166666,166666,166666,166674,{"$f":"'A5-Capex'!J54","v":2000000},{"$f":"'A5-Capex'!K54","v":0},{"$f":"'A5-Capex'!L54","v":4}]
[{"$f":"'A5-Capex'!A55","v":"Road transport"},null,4429819,4429819,4429819,4429819,4429819,4429819,4429819,4429819,4429819,4429819,4429819,4429829,{"$f":"'A5-Capex'!J55","v":53157838},{"$f":"'A5-Capex'!K55","v":26930305},{"$f":"'A5-Capex'!L55","v":23132057}]
[{"$f":"'A5-Capex'!A56","v":"Environmental protection"},null,0,0,0,0,0,0,0,0,0,0,0,0,{"$f":"'A5-Capex'!J56","v":0},{"$f":"'A5-Capex'!K56","v":0},{"$f":"'A5-Capex'!L56","v":0}]
[{"$f":"'A5-Capex'!A57","v":"Trading services"},null,{"$f":"SUM(C20:C23)","v":7798323},{"$f":"SUM(D20:D23)","v":7798323},7798323,7798323,7798323,7798323,7798323,7798323,7798323,7798323,7798323,{"$f":"O19-SUM(C19:M19)","v":7798309},{"$f":"'A5-Capex'!J57","v":93579862},{"$f":"'A5-Capex'!K57","v":114672708},{"$f":"'A5-Capex'!L57","v":95646234}]
[{"$f":"'A5-Capex'!A58","v":"Energy sources"},null,791918,791918,791918,791918,791918,791918,791918,791918,791918,791918,791918,791919,{"$f":"'A5-Capex'!J58","v":9503017},{"$f":"'A5-Capex'!K58","v":26755333},{"$f":"'A5-Capex'!L58","v":18000006}]
[{"$f":"'A5-Capex'!A59","v":"Water management"},null,5715257,5715257,5715257,5715257,5715257,5715257,5715257,5715257,5715257,5715257,5715257,5715248,{"$f":"'A5-Capex'!J59","v":68583075},{"$f":"'A5-Capex'!K59","v":72883075},{"$f":"'A5-Capex'!L59","v":58300012}]
[{"$f":"'A5-Capex'!A60","v":"Waste water management"},null,1082815,1082815,1082815,1082815,1082815,1082815,1082815,1082815,1082815,1082815,1082815,1082805,{"$f":"'A5-Capex'!J60","v":12993770},{"$f":"'A5-Capex'!K60","v":15034300},{"$f":"'A5-Capex'!L60","v":19346216}]
[{"$f":"'A5-Capex'!A61","v":"Waste management"},null,208333,208333,208333,208333,208333,208333,208333,208333,208333,208333,208333,208337,{"$f":"'A5-Capex'!J61","v":2500000},{"$f":"'A5-Capex'!K61","v":0},{"$f":"'A5-Capex'!L61","v":0}]
[{"$f":"'A5-Capex'!A62","v":"Other"},null,0,0,0,0,0,0,0,0,0,0,0,{"$f":"O24-SUM(C24:M24)","v":0},{"$f":"'A5-Capex'!J62","v":0},{"$f":"'A5-Capex'!K62","v":0},{"$f":"'A5-Capex'!L62","v":0}]
[{"$f":"'A5-Capex'!A63","v":"Total Capital Expenditure - Functional"},2,{"$f":"C5+C9+C15+C19+C24","v":13159507},{"$f":"D5+D9+D15+D19+D24","v":13159507},13159507,13159507,13159507,13159507,13159507,13159507,13159507,13159507,13159507,{"$f":"N5+N9+N15+N19+N24","v":13159470},157914047,154040702,134334158]
[]
["Funded by:"]
["National Government",null,9769809,9769809,9769809,9769809,9769809,9769809,9769809,9769809,9769809,9769809,9769809,{"$f":"O28-SUM(C28:M28)","v":9769801},{"$f":"'A5-Capex'!J66","v":117237700},{"$f":"'A5-Capex'!K66","v":142940700},{"$f":"'A5-Capex'!L66","v":133534118}]
["Provincial Government",null,0,0,0,0,0,0,0,0,0,0,0,{"$f":"O29-SUM(C29:M29)","v":0},{"$f":"'A5-Capex'!J67","v":0},{"$f":"'A5-Capex'!K67","v":0},{"$f":"'A5-Capex'!L67","v":0}]
["District Municipality",null,0,0,0,0,0,0,0,0,0,0,0,{"$f":"O30-SUM(C30:M30)","v":0},{"$f":"'A5-Capex'!J68","v":0},{"$f":"'A5-Capex'!K68","v":0},{"$f":"'A5-Capex'!L68","v":0}]
[{"$f":"'A5-Capex'!A69","v":"Transfers and subsidies - capital (monetary allocations) (Nat / Prov Departm Agencies, Households, Non-profit Institutions, Private Enterprises, Public Corporatons, Higher Educ Institutions)"},null,0,0,0,0,0,0,0,0,0,0,0,{"$f":"O31-SUM(C31:M31)","v":0},{"$f":"'A5-Capex'!J69","v":0},{"$f":"'A5-Capex'!K69","v":0},{"$f":"'A5-Capex'!L69","v":0}]
["Transfers recognised - capital",null,{"$f":"SUM(C28:C31)","v":9769809},{"$f":"SUM(D28:D31)","v":9769809},9769809,9769809,9769809,9769809,9769809,9769809,9769809,9769809,9769809,{"$f":"SUM(N28:N31)","v":9769801},117237700,142940700,133534118]
[]
["Borrowing",null,0,0,0,0,0,0,0,0,0,0,0,0,{"$f":"'A5-Capex'!J72","v":0},{"$f":"'A5-Capex'!K72","v":0},{"$f":"'A5-Capex'!L72","v":0}]
["Internally generated funds",null,3389698,3389698,3389698,3389698,3389698,3389698,3389698,3389698,3389698,3389698,3389698,3389669,{"$f":"'A5-Capex'!J73","v":40676347},{"$f":"'A5-Capex'!K73","v":11100002},{"$f":"'A5-Capex'!L73","v":800040}]
["Total Capital Funding",null,{"$f":"+C32+C34+C35","v":13159507},{"$f":"+D32+D34+D35","v":13159507},13159507,13159507,13159507,13159507,13159507,13159507,13159507,13159507,13159507,13159470,157914047,154040702,134334158]
[{"$f":"head27a","v":"References"}]
["1. Table should be completed as either Multi-Year expenditure appropriation or Budget Year and Forward Year estimates"]
[{"$f":"'SA28'!A44","v":"2. Total Capital Expenditure must reconcile to Budgeted Capital Expenditure"}]

{"sheet":"SA30","index":52,"n_rows":63,"n_cols":19,"rows_kept":63,"cut":false,"hidden":false,"merged":[[1,13,1,15],[1,1,1,12],[56,0,56,15]]}
[{"$f":"muni&\" - \"& TableA30","v":"Choose name from list - Supporting Table SA30 Budgeted monthly cash flow"}]
["MONTHLY CASH FLOWS",{"$f":"Head9","v":"Budget Year 2025/26"},null,null,null,null,null,null,null,null,null,null,null,"Medium Term Revenue and Expenditure Framework"]
["R thousand","July","August","Sept.","October","November","December","January","February","March","April","May","June",{"$f":"Head9","v":"Budget Year 2025/26"},{"$f":"Head10","v":"Budget Year +1 2026/27"},{"$f":"Head11","v":"Budget Year +2 2027/28"}]
["Cash Receipts By Source"]
["Property rates",8006806,8006806,8006806,8006806,8006806,8006806,8006806,8006806,8006806,8006806,8006806,{"$f":"N5-SUM(B5:L5)","v":8006811},96081677,101780198,107253549,100001,100001,100001]
["Service charges - electricity revenue",23850049,23850049,23850049,23850049,23850049,23850049,23850049,23850049,23850049,23850049,23850049,23850052,286200591,299373052,311950883]
["Service charges - water revenue",5815456,5815456,5815456,5815456,5815456,5815456,5815456,5815456,5815456,5815456,5815456,5815452,69785468,72993854,76125314]
["Service charges - sanitation revenue",2957538,2957538,2957538,2957538,2957538,2957538,2957538,2957538,2957538,2957538,2957538,2957532,35490450,37116935,39604071]
["Service charges - refuse revenue",2367851,2367851,2367851,2367851,2367851,2367851,2367851,2367851,2367851,2367851,2367851,2367857,28414218,29717238,30839308]
[" "]
["Rental of facilities and equipment",80359,80359,80359,80359,80359,80359,80359,80359,80359,80359,80359,80348,964297,1008655,1053037]
["Interest earned - external investments",632654,632654,632654,632654,632654,632654,632654,632654,632654,632654,632654,632655,7591849,7941074,8290484]
["Interest earned - outstanding debtors",0,0,0,0,0,0,0,0,0,0,0,0,0,0,5]
["Dividends received",0,0,0,0,0,0,0,0,0,0,0,0,0,0,0]
["Fines, penalties and forfeits",513144,513144,513144,513144,513144,513144,513144,513144,513144,513144,513144,513151,6157735,6440990,6724394]
["Licences and permits",0,0,0,0,0,0,0,0,0,0,0,0,0,0,1]
["Agency services",1235258,1235258,1235258,1235258,1235258,1235258,1235258,1235258,1235258,1235258,1235258,1235254,14823092,15504953,16187172]
["Transfers and Subsidies - Operational",21684108,21684108,21684108,21684108,21684108,21684108,21684108,21684108,21684108,21684108,21684108,21684112,260209300,270519300,282880915]
["Other revenue",423972,423972,423972,423972,423972,423972,423972,423972,423972,423972,423972,423985,5087677,5334521,5586858]
["Cash Receipts by Source",{"$f":"SUM(B5:B9)+SUM(B11:B19)","v":67567195},{"$f":"SUM(C5:C9)+SUM(C11:C19)","v":67567195},67567195,67567195,67567195,67567195,67567195,67567195,67567195,67567195,67567195,67567209,{"$f":"SUM(N5:N9)+SUM(N11:N19)","v":810806354},847730770,886495991]
[]
["Other Cash Flows by Source"]
["Transfers and subsidies - capital (monetary allocations) (National / Provincial and District)",9436475,9436475,9436475,9436475,9436475,9436475,9436475,9436475,9436475,9436475,9436475,{"$f":"N23-SUM(B23:L23)","v":9436475},113237700,142940700,140253106]
["Transfers and subsidies - capital (monetary allocations) (Nat / Prov Departm Agencies, Households, Non-profit Institutions, Private Enterprises, Public Corporatons, Higher Educ Institutions)",0,0,0,0,0,0,0,0,0,0,0,{"$f":"N24-SUM(B24:L24)","v":0},0,0,0]
["Proceeds on Disposal of Fixed and Intangible Assets",0,0,0,0,0,0,0,0,0,0,0,0,0,0,0]
["Short term loans",0,0,0,0,0,0,0,0,0,0,0,0,0,0,0]
["Borrowing long term/refinancing",0,0,0,0,0,0,0,0,0,0,0,0,0,0,0]
["Increase (decrease) in consumer deposits",0,0,0,0,0,0,0,0,0,0,0,0,0,0,0]
["VAT Control (receipts)",7029311,7029311,7029311,7029311,7029311,7029311,7029311,7029311,7029311,7029311,7029311,7029305,84351726,86369068,86127873]
["Decrease (increase) in non-current receivables",0,0,0,0,0,0,0,0,0,0,0,0,0,0,0]
["Decrease (increase) in non-current investments",0,0,0,0,0,0,0,0,0,0,0,0,0,0,0]
["Total Cash Receipts by Source",{"$f":"SUM(B20:B31)","v":84032981},{"$f":"SUM(C20:C31)","v":84032981},84032981,84032981,84032981,84032981,84032981,84032981,84032981,84032981,84032981,84032989,1008395780,1077040538,1112876970]
[]
["Cash Payments by Type"]
["Employee related costs",-23020801,-23020801,-23020801,-23020801,-23020801,-23020801,-23020801,-23020801,-23020801,-23020801,-23020801,{"$f":"(N35-SUM(B35:L35))*-1","v":23020634},-276249445,-288855641,-301437338]
["Remuneration of councillors",-1338603,-1338603,-1338603,-1338603,-1338603,-1338603,-1338603,-1338603,-1338603,-1338603,-1338603,{"$f":"(N36-SUM(B36:L36))*-1","v":1338593},-16063226,-16786070,-17524659]
["Interest",-1790821,-1790821,-1790821,-1790821,-1790821,-1790821,-1790821,-1790821,-1790821,-1790821,-1790821,1790820,-21489851,-22478384,-23467435]
["Bulk purchases - electricity ",-19647174,-19647174,-19647174,-19647174,-19647174,-19647174,-19647174,-19647174,-19647174,-19647174,-19647174,19647179,-235766093,-246611334,-257462233]
["Acquisitions - water & other inventory",-5591319,-5591319,-5591319,-5591319,-5591319,-5591319,-5591319,-5591319,-5591319,-5591319,-5591319,5591268,-67095777,-70182198,-73270886]
[]
["Contracted services",-8010665,-8010665,-8010665,-8010665,-8010665,-8010665,-8010665,-8010665,-8010665,-8010665,-8010665,8010647,-96127962,-100549842,-104974052]
["Transfers and subsidies - other municipalities",0,0,0,0,0,0,0,0,0,0,0,0,0,0,-1]
["Transfers and subsidies - other",-10925,-10925,-10925,-10925,-10925,-10925,-10925,-10925,-10925,-10925,10925,32769,-131094,-137124,-143158]
["Other expenditure",-6903142,-6903142,-6903142,6903142,-6903142,-6903142,-6903142,-6903142,-6903142,-6903142,-6903142,20709407,-82837685,-86591920,-90497571]
["Cash Payments by Type",{"$f":"SUM(B35:B44)","v":-66313450},{"$f":"SUM(C35:C44)","v":-66313450},-66313450,-52507166,-66313450,-66313450,-66313450,-66313450,-66313450,-66313450,-66291600,80141317,{"$f":"SUM(N35:N44)","v":-795761133},-832192513,{"$f":"SUM(P35:P44)","v":-868777333}]
[]
["Other Cash Flows/Payments by Type"]
["Capital assets",-15133431,-15133431,-15133431,-15133431,-15133431,-15133431,-15133431,-15133431,-15133431,-15133431,-15133431,{"$f":"N48-SUM(B48:L48)","v":-15133415},-181601156,-177146807,-154484280]
["Repayment of borrowing",0,0,0,0,0,0,0,0,0,0,0,{"$f":"N49-SUM(B49:L49)","v":0},0,0,-2]
["Other Cash Flows/Payments",-4706933,-4706933,-4706933,-4706933,-4706933,-4706933,-4706933,4706933,-4706933,-4706933,-4706933,{"$f":"N50-SUM(B50:L50)","v":-14120795},-56483192,-59035294,-61581669]
["Total Cash Payments by Type",{"$f":"SUM(B45:B50)","v":-86153814},{"$f":"SUM(C45:C50)","v":-86153814},-86153814,-72347530,-86153814,-86153814,-86153814,-76739948,-86153814,-86153814,-86131964,50887107,-1033845481,-1068374614,-1084843284,null,"Check"]
[]
["NET INCREASE/(DECREASE) IN CASH HELD",{"$f":"B32-B51","v":170186795},{"$f":"C32-C51","v":170186795},170186795,156380511,170186795,170186795,170186795,160772929,170186795,170186795,170164945,33145882,{"$f":"N32+N51","v":-25449701},{"$f":"O32+O51","v":8665924},{"$f":"P32+P51","v":28033686}]
["Cash/cash equivalents at the month/year begin:",91274182,{"$f":"B55","v":261460977},{"$f":"C55","v":431647772},601834567,758215078,928401873,1098588668,1268775463,1429548392,1599735187,1769921982,1940086927,{"$f":"B54","v":91274182},{"$f":"N55","v":65824481},{"$f":"O55","v":74490405}]
["Cash/cash equivalents at the month/year end:",{"$f":"B54+B53","v":261460977},{"$f":"C54+C53","v":431647772},{"$f":"D54+D53","v":601834567},758215078,928401873,1098588668,1268775463,1429548392,1599735187,1769921982,1940086927,1973232809,{"$f":"N54+N53","v":65824481},74490405,102524091]
[{"$f":"head27a","v":"References"}]
["1. Note that this section of Table SA 30 is deliberately not linked to Table A4 because timing differences between the invoicing of clients and receiving the cash means that the cashflow will differ from budgeted revenue, and similarly for budgeted expenditure. However for the MTREF it is now directly linked to A7."]
["2. Bulk purchases - Electricity & Waste Water - use detail information from Table SA1"]
["3. Acquisition Inventory - Water & other inventory - use detail information from Table SA3"]
[]
[]
[null,null,null,null,{"$f":"E45+E61","v":-52507166},-66313450,-66313450,-66313450,-66313450,-66313450,-66313450,-66291600]
[null,null,null,null,{"$f":"E53-E61","v":156380511},170186795,170186795,170186795,160772929,170186795,170186795,170164945]

{"sheet":"SA31","index":53,"n_rows":41,"n_cols":11,"rows_kept":41,"cut":false,"hidden":false,"merged":[[1,5,1,7],[1,8,1,10],[1,1,2,1]]}
[{"$f":"muni&\" - \"& TableA31","v":"Choose name from list - NOT REQUIRED - municipality does not have entities"}]
[{"$f":"desc","v":"Description"},{"$f":"head27","v":"Ref"},{"$f":"head1b","v":"2021/22"},{"$f":"head1A","v":"2022/23"},{"$f":"Head1","v":"2023/24"},{"$f":"Head2","v":"Current Year 2024/25"},null,null,{"$f":"Head3","v":"2025/26 Medium Term Revenue & Expenditure Framework"}]
["R million",null,{"$f":"Head5","v":"Audited Outcome"},{"$f":"Head5","v":"Audited Outcome"},{"$f":"Head5","v":"Audited Outcome"},{"$f":"Head6","v":"Original Budget"},{"$f":"Head7","v":"Adjusted Budget"},{"$f":"Head8","v":"Full Year Forecast"},{"$f":"Head9","v":"Budget Year 2025/26"},{"$f":"Head10","v":"Budget Year +1 2026/27"},{"$f":"Head11","v":"Budget Year +2 2027/28"}]
["Financial Performance"]
["Property rates"]
["Service charges"]
["Investment revenue"]
["Transfer and subsidies - Operational"]
["Other own revenue"]
["Transfers and subsidies - capital (monetary allocations) (National / Provincial Departmental Agencies, Households, Non-profit Institutions, Private Enterprises, Public Corporatons, Higher Educational Institutions) & Transfers and subsidies - capital (in-kind - all) "]
[{"$f":"'A4-FinPerf RE'!A33","v":"Total Revenue (excluding capital transfers and contributions)"},null,{"$f":"SUM(C5:C10)","v":0},{"$f":"SUM(D5:D10)","v":0},0,0,0,0,0,{"$f":"SUM(J5:J10)","v":0},{"$f":"SUM(K5:K10)","v":0}]
["Employee costs"]
["Remuneration of Board Members"]
["Depreciation and amortisation"]
["Interest"]
["Inventory consumed and bulk purchases"]
["Transfers and subsidies"]
["Other expenditure"]
[{"$f":"'A4-FinPerf RE'!A48","v":"Total Expenditure"},null,{"$f":"SUM(C12:C18)","v":0},{"$f":"SUM(D12:D18)","v":0},0,0,0,0,0,0,0]
[{"$f":"'A4-FinPerf RE'!A49","v":"Surplus/(Deficit)"},null,{"$f":"+C11-C19","v":0},{"$f":"+D11-D19","v":0},0,0,0,0,0,0,0]
[]
["Capital expenditure & funds sources"]
["Capital expenditure"]
["Transfers recognised - capital"]
[]
[{"$f":"'A5-Capex'!A72","v":"Borrowing"}]
[{"$f":"'A5-Capex'!A73","v":"Internally generated funds"}]
["Total sources",null,{"$f":"SUM(C24:C27)","v":0},{"$f":"SUM(D24:D27)","v":0},0,0,0,0,0,0,0]
[]
["Financial position"]
[{"$f":"'A6-FinPos'!A13","v":"Total current assets"}]
[{"$f":"'A6-FinPos'!A25","v":"Total non current assets"}]
[{"$f":"'A6-FinPos'!A37","v":"Total current liabilities"}]
[{"$f":"'A6-FinPos'!A43","v":"Total non current liabilities"}]
["Community wealth/Equity"]
[]
["Cash flows"]
["Net cash from (used) operating"]
["Net cash from (used) investing"]
["Net cash from (used) financing"]
[{"$f":"LEFT('A7-CFlow'!A40,37)","v":"Cash/cash equivalents at the year end"}]

{"sheet":"SA32","index":54,"n_rows":27,"n_cols":6,"rows_kept":27,"cut":false,"hidden":false,"merged":[[1,3,2,3],[1,4,2,4],[1,1,2,1]]}
[{"$f":"muni&\" - \"&TableA32","v":"Choose name from list - Supporting Table SA32 List of external mechanisms"}]
["External mechanism","Yrs/ Mths","Period of agreement 1.","Service provided","Expiry date of service delivery agreement or contract","Monetary value of agreement 2."]
["Name of organisation",null,"Number",null,null,"R thousand"]
[]
[]
[]
[]
[]
[]
[]
[]
[]
[]
[]
[]
[]
[]
[]
[]
[]
[]
[]
[]
[]
[{"$f":"head27a","v":"References"}]
["1. Total agreement period from commencement until end"]
["2. Annual value"]

{"sheet":"SA33","index":55,"n_rows":48,"n_cols":15,"rows_kept":48,"cut":false,"hidden":false,"merged":[[1,4,1,6],[47,0,47,13]]}
[{"$f":"muni&\" - \"& TableA33","v":"Choose name from list - Supporting Table SA33 Contracts having future budgetary implications"}]
[{"$f":"desc","v":"Description"},{"$f":"head27","v":"Ref"},"Preceding Years",{"$f":"Head2","v":"Current Year 2024/25"},{"$f":"Head3","v":"2025/26 Medium Term Revenue & Expenditure Framework"},null,null,{"$f":"Head12","v":"Forecast 2028/29"},{"$f":"Head13","v":"Forecast 2029/30"},{"$f":"Head14","v":"Forecast 2030/31"},{"$f":"Head15","v":"Forecast 2031/32"},{"$f":"Head16","v":"Forecast 2032/33"},{"$f":"Head17","v":"Forecast 2033/34"},{"$f":"Head18","v":"Forecast 2034/35"},"Total Contract Value"]
["R thousand","1,3","Total",{"$f":"Head6","v":"Original Budget"},{"$f":"Head9","v":"Budget Year 2025/26"},{"$f":"Head10","v":"Budget Year +1 2026/27"},{"$f":"Head11","v":"Budget Year +2 2027/28"},"Estimate","Estimate","Estimate","Estimate","Estimate","Estimate","Estimate","Estimate"]
["Parent Municipality:"]
["Revenue Obligation By Contract",2]
["Contract 1",null,null,null,null,null,null,null,null,null,null,null,null,null,{"$f":"SUM(C6:N6)","v":0}]
["Contract 2",null,null,null,null,null,null,null,null,null,null,null,null,null,{"$f":"SUM(C7:N7)","v":0}]
["Contract 3 etc",null,null,null,null,null,null,null,null,null,null,null,null,null,{"$f":"SUM(C8:N8)","v":0}]
["Total Operating Revenue Implication",null,{"$f":"SUM(C6:C8)","v":0},{"$f":"SUM(D6:D8)","v":0},0,0,0,0,0,0,0,0,0,0,{"$f":"SUM(C9:N9)","v":0}]
[]
["Expenditure Obligation By Contract",2]
["Contract 1",null,null,null,null,null,null,null,null,null,null,null,null,null,{"$f":"SUM(C12:N12)","v":0}]
["Contract 2",null,null,null,null,null,null,null,null,null,null,null,null,null,{"$f":"SUM(C13:N13)","v":0}]
["Contract 3 etc",null,null,null,null,null,null,null,null,null,null,null,null,null,{"$f":"SUM(C14:N14)","v":0}]
["Total Operating Expenditure Implication",null,{"$f":"SUM(C12:C14)","v":0},{"$f":"SUM(D12:D14)","v":0},0,0,0,0,0,0,0,0,0,0,{"$f":"SUM(C15:N15)","v":0}]
[]
["Capital Expenditure Obligation By Contract",2]
["Contract 1",null,null,null,null,null,null,null,null,null,null,null,null,null,{"$f":"SUM(C18:N18)","v":0}]
["Contract 2",null,null,null,null,null,null,null,null,null,null,null,null,null,{"$f":"SUM(C19:N19)","v":0}]
["Contract 3 etc",null,null,null,null,null,null,null,null,null,null,null,null,null,{"$f":"SUM(C20:N20)","v":0}]
["Total Capital Expenditure Implication",null,{"$f":"SUM(C18:C20)","v":0},{"$f":"SUM(D18:D20)","v":0},0,0,0,0,0,0,0,0,0,0,{"$f":"SUM(C21:N21)","v":0}]
[]
["Total Parent Expenditure Implication",null,{"$f":"C15+C21","v":0},{"$f":"D15+D21","v":0},0,0,0,0,0,0,0,0,0,0,0]
[]
["Entities:"]
["Revenue Obligation By Contract",2]
["Contract 1",null,null,null,null,null,null,null,null,null,null,null,null,null,{"$f":"SUM(C27:N27)","v":0}]
["Contract 2",null,null,null,null,null,null,null,null,null,null,null,null,null,{"$f":"SUM(C28:N28)","v":0}]
["Contract 3 etc",null,null,null,null,null,null,null,null,null,null,null,null,null,{"$f":"SUM(C29:N29)","v":0}]
["Total Operating Revenue Implication",null,{"$f":"SUM(C27:C29)","v":0},{"$f":"SUM(D27:D29)","v":0},0,0,0,0,0,0,0,0,0,0,{"$f":"SUM(C30:N30)","v":0}]
[]
["Expenditure Obligation By Contract",2]
["Contract 1",null,null,null,null,null,null,null,null,null,null,null,null,null,{"$f":"SUM(C33:N33)","v":0}]
["Contract 2",null,null,null,null,null,null,null,null,null,null,null,null,null,{"$f":"SUM(C34:N34)","v":0}]
["Contract 3 etc",null,null,null,null,null,null,null,null,null,null,null,null,null,{"$f":"SUM(C35:N35)","v":0}]
["Total Operating Expenditure Implication",null,{"$f":"SUM(C33:C35)","v":0},{"$f":"SUM(D33:D35)","v":0},0,0,0,0,0,0,0,0,0,0,{"$f":"SUM(C36:N36)","v":0}]
[]
["Capital Expenditure Obligation By Contract",2]
["Contract 1",null,null,null,null,null,null,null,null,null,null,null,null,null,{"$f":"SUM(C39:N39)","v":0}]
["Contract 2",null,null,null,null,null,null,null,null,null,null,null,null,null,{"$f":"SUM(C40:N40)","v":0}]
["Contract 3 etc",null,null,null,null,null,null,null,null,null,null,null,null,null,{"$f":"SUM(C41:N41)","v":0}]
["Total Capital Expenditure Implication",null,{"$f":"SUM(C39:C41)","v":0},{"$f":"SUM(D39:D41)","v":0},0,0,0,0,0,0,0,0,0,0,{"$f":"SUM(C42:N42)","v":0}]
[]
["Total Entity Expenditure Implication",null,{"$f":"C36+C42","v":0},{"$f":"D36+D42","v":0},0,0,0,0,0,0,0,0,0,0,0]
[{"$f":"head27a","v":"References"}]
["1. Total implication for all preceding years to be summed and total stated in 'Preceding Years' column"]
["2. List all contracts with future financial obligations beyond the three years covered by the MTREF (MFMA s33)"]
["3. For municipalities with approved total revenue not exceeding R250 m - all contracts with an annual cost greater than R500 000. For municipalities with approved total revenue greater than R250 m - all contracts with an annual cost greater than R1million. For municipalities with approved total revenue greater than R500 m - all contracts with an annual cost greater than R5 million"]

{"sheet":"SA34a","index":56,"n_rows":178,"n_cols":11,"rows_kept":178,"cut":false,"hidden":false,"merged":[[1,5,1,7],[1,8,1,10]]}
[{"$f":"muni&\" - \"&TableA34a","v":"Choose name from list - Supporting Table SA34a Capital expenditure on new assets by asset class"}]
[{"$f":"desc","v":"Description"},{"$f":"head27","v":"Ref"},{"$f":"head1b","v":"2021/22"},{"$f":"head1A","v":"2022/23"},{"$f":"Head1","v":"2023/24"},{"$f":"Head2","v":"Current Year 2024/25"},null,null,{"$f":"Head3","v":"2025/26 Medium Term Revenue & Expenditure Framework"}]
["R thousand",1,{"$f":"Head5","v":"Audited Outcome"},{"$f":"Head5","v":"Audited Outcome"},{"$f":"Head5","v":"Audited Outcome"},{"$f":"Head6","v":"Original Budget"},{"$f":"Head7","v":"Adjusted Budget"},{"$f":"Head8","v":"Full Year Forecast"},{"$f":"Head9","v":"Budget Year 2025/26"},{"$f":"Head10","v":"Budget Year +1 2026/27"},{"$f":"Head11","v":"Budget Year +2 2027/28"}]
["Capital expenditure on new assets by Asset Class/Sub-class"]
[]
["Infrastructure",null,{"$f":"C7+C12+C16+C26+C37+C44+C52+C62+C68","v":101099062.58},{"$f":"D7+D12+D16+D26+D37+D44+D52+D62+D68","v":50815818.840000011},48971913.31000001,147115761,178888534,178888534,128003734,133303013,107008094]
["Roads Infrastructure",null,{"$f":"SUM(C8:C11)","v":1677962.37},871384.89,3365336.5,22353750,54373673,54373673,34863872,16930305,11361865]
["Roads",null,1677962.37,871384.89,3365336.5,22353750,54160261,54160261,34863872,16930304,11361863]
["Road Structures",null,0,0,0,0,213412,213412,0,0,1]
["Road Furniture",null,0,0,0,0,0,0,0,0,0]
["Capital Spares",null,0,0,0,0,0,0,0,1,1]
["Storm water Infrastructure",null,{"$f":"SUM(C13:C15)","v":0},{"$f":"SUM(D13:D15)","v":0},0,0,0,0,0,0,0]
["Drainage Collection",null,0,0,0,0,0,0,0,0,0]
["Storm water Conveyance",null,0,0,0,0,0,0,0,0,0]
["Attenuation",null,0,0,0,0,0,0,0,0,0]
["Electrical Infrastructure",null,{"$f":"SUM(C17:C25)","v":28077070.939999998},9565217.4100000001,10778537.129999999,24806200,18906855,18906855,10703017,24955333,18000005]
["Power Plants",null,0,0,0,0,0,0,0,0,0]
["HV Substations",null,0,0,0,0,0,0,0,0,0]
["HV Switching Station",null,0,0,0,0,0,0,0,0,0]
["HV Transmission Conductors",null,0,0,0,0,0,0,0,0,0]
["MV Substations",null,0,0,0,0,0,0,0,0,0]
["MV Switching Stations",null,0,0,0,0,0,0,0,0,0]
["MV Networks",null,0,0,0,0,1,1,0,0,1]
["LV Networks",null,27927288.329999998,9565217.4100000001,7248500.9699999997,24806200,18253948,18253948,10703017,24955333,18000003]
["Capital Spares",null,149782.60999999999,0,3530036.16,0,652906,652906,0,0,1]
["Water Supply Infrastructure",null,{"$f":"SUM(C27:C36)","v":40687190.719999999},{"$f":"SUM(D27:D36)","v":32917641.020000003},34205765.240000002,83995251,65237694,65237694,66883075,72883075,58300009]
["Dams and Weirs",null,0,0,0,0,0,0,0,0,0]
["Boreholes",null,0,0,0,0,0,0,0,0,1]
["Reservoirs",null,832548,0,3578491.01,3972752,18745218,18745218,0,0,1]
["Pump Stations",null,0,0,0,0,0,0,0,0,0]
["Water Treatment Works",null,0,0,0,0,0,0,0,0,0]
["Bulk Mains",null,37049056.969999999,9452451.9700000007,0,13987039,13069152,13069152,8972226,13972226,8972226]
["Distribution",null,2805585.75,23315189.050000001,30555628.23,66035460,31092475,31092475,57910849,58910849,49327779]
["Distribution Points",null,0,0,0,0,0,0,0,0,0]
["PRV Stations",null,0,0,0,0,0,0,0,0,0]
["Capital Spares",null,0,150000,71646,0,2330849,2330849,0,0,2]
["Sanitation Infrastructure",null,{"$f":"SUM(C38:C43)","v":28975191},{"$f":"SUM(D38:D43)","v":7461575.5200000005},0,15960560,39078170,39078170,11493770,15034300,19346213]
["Pump Station",null,2822711.54,0,0,15960560,31490682,31490682,5000000,9311000,13692000]
["Reticulation",null,26152479.460000001,5969113.4800000004,0,0,300000,300000,0,0,1]
["Waste Water Treatment Works",null,0,1492462.04,0,0,5307488,5307488,4993770,5723300,5654210]
["Outfall Sewers",null,0,0,0,0,0,0,0,0,0]
["Toilet Facilities",null,0,0,0,0,0,0,0,0,0]
["Capital Spares",null,0,0,0,0,1980000,1980000,1500000,0,2]
["Solid Waste Infrastructure",null,{"$f":"SUM(C45:C51)","v":1681647.55},{"$f":"SUM(D45:D51)","v":0},-0.4,0,0,0,0,0,0]
["Landfill Sites",null,347826.07,0,-0.4,0,0,0,0,0,0]
["Waste Transfer Stations",null,1333821.48,0,0,0,0,0,0,0,0]
["Waste Processing Facilities",null,0,0,0,0,0,0,0,0,0]
["Waste Drop-off Points",null,0,0,0,0,0,0,0,0,0]
["Waste Separation Facilities",null,0,0,0,0,0,0,0,0,0]
["Electricity Generation Facilities",null,0,0,0,0,0,0,0,0,0]
["Capital Spares",null,0,0,0,0,0,0,0,0,0]
["Rail Infrastructure",null,{"$f":"SUM(C53:C61)","v":0},0,0,0,0,0,0,0,0]
["Rail Lines",null,0,0,0,0,0,0,0,0,0]
["Rail Structures",null,0,0,0,0,0,0,0,0,0]
["Rail Furniture",null,0,0,0,0,0,0,0,0,0]
["Drainage Collection",null,0,0,0,0,0,0,0,0,0]
["Storm water Conveyance",null,0,0,0,0,0,0,0,0,0]
["Attenuation",null,0,0,0,0,0,0,0,0,0]
["MV Substations",null,0,0,0,0,0,0,0,0,0]
["LV Networks",null,0,0,0,0,0,0,0,0,0]
["Capital Spares",null,0,0,0,0,0,0,0,0,0]
["Coastal Infrastructure",null,{"$f":"SUM(C63:C67)","v":0},{"$f":"SUM(D63:D67)","v":0},0,0,0,0,0,0,0]
["Sand Pumps",null,0,0,0,0,0,0,0,0,0]
["Piers",null,0,0,0,0,0,0,0,0,0]
["Revetments",null,0,0,0,0,0,0,0,0,0]
["Promenades",null,0,0,0,0,0,0,0,0,0]
["Capital Spares",null,0,0,0,0,0,0,0,0,0]
["Information and Communication Infrastructure",null,{"$f":"SUM(C69:C72)","v":0},{"$f":"SUM(D69:D72)","v":0},622274.84,0,1292142,1292142,4060000,3500000,2]
["Data Centres",null,0,0,0,0,0,0,3500000,3500000,0]
["Core Layers",null,0,0,0,0,0,0,0,0,0]
["Distribution Layers",null,0,0,260030.84,0,0,0,0,0,0]
["Capital Spares",null,0,0,362244,0,1292142,1292142,560000,0,2]
[]
["Community Assets",null,{"$f":"C75+C98","v":2926851.45},{"$f":"D75+D98","v":1395930},294894,10000000,10000000,10000000,500000,8137689,14755850]
["Community Facilities",null,{"$f":"SUM(C76:C97)","v":2926851.45},{"$f":"SUM(D76:D97)","v":1395930},294894,0,0,0,0,0,0]
["Halls",null,0,0,0,0,0,0,0,0,0]
["Centres",null,0,0,0,0,0,0,0,0,0]
["Crèches",null,0,0,0,0,0,0,0,0,0]
["Clinics/Care Centres",null,0,0,0,0,0,0,0,0,0]
["Fire/Ambulance Stations",null,0,0,0,0,0,0,0,0,0]
["Testing Stations",null,0,0,0,0,0,0,0,0,0]
["Museums",null,0,0,0,0,0,0,0,0,0]
["Galleries",null,0,0,0,0,0,0,0,0,0]
["Theatres",null,0,0,0,0,0,0,0,0,0]
["Libraries",null,0,0,0,0,0,0,0,0,0]
["Cemeteries/Crematoria",null,2926851.45,1395930,294894,0,0,0,0,0,0]
["Police",null,0,0,0,0,0,0,0,0,0]
["Parks",null,0,0,0,0,0,0,0,0,0]
["Public Open Space",null,0,0,0,0,0,0,0,0,0]
["Nature Reserves",null,0,0,0,0,0,0,0,0,0]
["Public Ablution Facilities",null,0,0,0,0,0,0,0,0,0]
["Markets",null,0,0,0,0,0,0,0,0,0]
["Stalls",null,0,0,0,0,0,0,0,0,0]
["Abattoirs",null,0,0,0,0,0,0,0,0,0]
["Airports",null,0,0,0,0,0,0,0,0,0]
["Taxi Ranks/Bus Terminals",null,0,0,0,0,0,0,0,0,0]
["Capital Spares",null,0,0,0,0,0,0,0,0,0]
["Sport and Recreation Facilities",null,{"$f":"SUM(C99:C101)","v":0},{"$f":"SUM(D99:D101)","v":0},0,10000000,10000000,10000000,500000,8137689,14755850]
["Indoor Facilities",null,0,0,0,0,0,0,0,0,0]
["Outdoor Facilities",null,0,0,0,10000000,10000000,10000000,500000,8137689,14755850]
["Capital Spares",null,0,0,0,0,0,0,0,0,0]
[]
["Heritage assets",null,{"$f":"SUM(C104:C108)","v":0},{"$f":"SUM(D104:D108)","v":0},0,0,0,0,0,0,0]
["Monuments",null,0,0,0,0,0,0,0,0,0]
["Historic Buildings",null,0,0,0,0,0,0,0,0,0]
["Works of Art",null,0,0,0,0,0,0,0,0,0]
["Conservation Areas",null,0,0,0,0,0,0,0,0,0]
["Other Heritage",null,0,0,0,0,0,0,0,0,0]
[]
["Investment properties",null,{"$f":"+C111+C114","v":0},{"$f":"+D111+D114","v":0},0,0,0,0,0,0,0]
["Revenue Generating",null,{"$f":"SUM(C112:C113)","v":0},0,0,0,0,0,0,0,0]
["Improved Property",null,0,0,0,0,0,0,0,0,0]
["Unimproved Property",null,0,0,0,0,0,0,0,0,0]
["Non-revenue Generating",null,{"$f":"SUM(C115:C116)","v":0},{"$f":"SUM(D115:D116)","v":0},0,0,0,0,0,0,0]
["Improved Property",null,0,0,0,0,0,0,0,0,0]
["Unimproved Property",null,0,0,0,0,0,0,0,0,0]
[]
["Other assets",null,{"$f":"+C119+C131","v":0},{"$f":"+D119+D131","v":157979.17000000001},104439.98,1000000,2200000,2200000,500000,0,2]
["Operational Buildings",null,{"$f":"SUM(C120:C130)","v":0},{"$f":"SUM(D120:D130)","v":157979.17000000001},104439.98,1000000,2200000,2200000,500000,0,2]
["Municipal Offices",null,0,0,0,0,0,0,0,0,0]
["Pay/Enquiry Points",null,0,0,0,0,0,0,0,0,0]
["Building Plan Offices",null,0,0,0,0,0,0,0,0,0]
["Workshops",null,0,0,0,0,0,0,0,0,0]
["Yards",null,0,0,0,0,0,0,500000,0,0]
["Stores",null,0,157979.17000000001,104439.98,0,0,0,0,0,0]
["Laboratories",null,0,0,0,0,0,0,0,0,0]
["Training Centres",null,0,0,0,0,0,0,0,0,0]
["Manufacturing Plant",null,0,0,0,0,0,0,0,0,0]
["Depots",null,0,0,0,0,0,0,0,0,0]
["Capital Spares",null,0,0,0,1000000,2200000,2200000,0,0,2]
["Housing",null,{"$f":"SUM(C132:C134)","v":0},{"$f":"SUM(D132:D134)","v":0},0,0,0,0,0,0,0]
["Staff Housing",null,0,0,0,0,0,0,0,0,0]
["Social Housing",null,0,0,0,0,0,0,0,0,0]
["Capital Spares",null,0,0,0,0,0,0,0,0,0]
[]
["Biological or Cultivated Assets",null,{"$f":"SUM(C137:C137)","v":0},0,0,0,0,0,0,0,0]
["Biological or Cultivated Assets",null,0,0,0,0,0,0,0,0,0]
[]
["Intangible Assets",null,{"$f":"+C140+C141","v":0},{"$f":"+D140+D141","v":1457933.78},1685341.5,0,0,0,0,0,0]
["Servitudes",null,0,0,0,0,0,0,0,0,0]
["Licences and Rights",null,{"$f":"SUM(C142:C147)","v":0},{"$f":"SUM(D142:D147)","v":1457933.78},1685341.5,0,0,0,0,0,0]
["Water Rights",null,0,0,0,0,0,0,0,0,0]
["Effluent Licenses",null,0,0,0,0,0,0,0,0,0]
["Solid Waste Licenses",null,0,0,0,0,0,0,0,0,0]
["Computer Software and Applications",null,0,0,0,0,0,0,0,0,0]
["Load Settlement Software Applications",null,0,0,0,0,0,0,0,0,0]
["Unspecified",null,0,1457933.78,1685341.5,0,0,0,0,0,0]
[]
["Computer Equipment",null,{"$f":"SUM(C150:C150)","v":528400.01},891710.04,472072,1000000,1300000,1300000,1000000,500000,500000]
["Computer Equipment",null,528400.01,891710.04,472072,1000000,1300000,1300000,1000000,500000,500000]
[]
["Furniture and Office Equipment",null,{"$f":"SUM(C153:C153)","v":172904},18669.8,1173896.08,1100000,1100000,1100000,300000,300000,300003]
["Furniture and Office Equipment",null,172904,18669.8,1173896.08,1100000,1100000,1100000,300000,300000,300003]
[]
["Machinery and Equipment",null,{"$f":"SUM(C156:C156)","v":48000},500416.52,2065945.81,3708000,3658000,3658000,10255147,1800000,11]
["Machinery and Equipment",null,48000,500416.52,2065945.81,3708000,3658000,3658000,10255147,1800000,11]
[]
["Transport Assets",null,{"$f":"SUM(C159:C159)","v":8083784.8899999997},726071.96,35273106.640000001,1400000,1400000,1400000,13861200,0,3]
["Transport Assets",null,8083784.8899999997,726071.96,35273106.640000001,1400000,1400000,1400000,13861200,0,3]
[]
["Land",null,{"$f":"SUM(C162:C162)","v":0},0,0,5425000,6025000,6025000,2000000,0,2]
["Land",null,0,0,0,5425000,6025000,6025000,2000000,0,2]
[]
["Zoo's, Marine and Non-biological Animals",null,{"$f":"SUM(C165:C165)","v":0},{"$f":"SUM(D165:D165)","v":0},0,0,0,0,0,0,0]
["Zoo's, Marine and Non-biological Animals",null,0,0,0,0,0,0,0,0,0]
[]
["Living resources"," ",{"$f":"+C168+C171","v":0},{"$f":"+D168+D171","v":0},0,0,0,0,0,0,0]
["Mature"," ",{"$f":"SUM(C169:C170)","v":0},{"$f":"SUM(D169:D170)","v":0},0,0,0,0,0,0,0]
["Policing and Protection"," ",0,0,0,0,0,0,0,0,0]
["Zoological plants and animals"," ",0,0,0,0,0,0,0,0,0]
["Immature"," ",{"$f":"SUM(C172:C173)","v":0},{"$f":"SUM(D172:D173)","v":0},0,0,0,0,0,0,0]
["Policing and Protection"," ",0,0,0,0,0,0,0,0,0]
["Zoological plants and animals"," ",0,0,0,0,0,0,0,0,0]
[""]
["Total Capital Expenditure on new assets ",1,{"$f":"C6+C74+C103+C110+C118+C136+C139+C149+C152+C155+C158+C161+C164+C167","v":112859002.93000001},{"$f":"D6+D74+D103+D110+D118+D136+D139+D149+D152+D155+D158+D161+D164+D167","v":55964530.110000014},90041609.320000008,170748761,204571534,204571534,156420081,144040702,122563965]
[]
[{"$f":"head27a","v":"References"}]
["1. Total Capital Expenditure on new assets (SA34a) plus Total Capital Expenditure on renewal of existing assets (SA34b) plus Total Capital Expenditure  on upgrading of existing assets (SA34e) must reconcile to total capital expenditure in Budgeted Capital Expenditure"]

{"sheet":"SA34b","index":57,"n_rows":180,"n_cols":11,"rows_kept":180,"cut":false,"hidden":false,"merged":[[1,5,1,7],[1,8,1,10]]}
[{"$f":"muni&\" - \"&TableA34b","v":"Choose name from list - Supporting Table SA34b Capital expenditure on the renewal of existing assets by asset class"}]
[{"$f":"desc","v":"Description"},{"$f":"head27","v":"Ref"},{"$f":"head1b","v":"2021/22"},{"$f":"head1A","v":"2022/23"},{"$f":"Head1","v":"2023/24"},{"$f":"Head2","v":"Current Year 2024/25"},null,null,{"$f":"Head3","v":"2025/26 Medium Term Revenue & Expenditure Framework"}]
["R thousand",1,{"$f":"Head5","v":"Audited Outcome"},{"$f":"Head5","v":"Audited Outcome"},{"$f":"Head5","v":"Audited Outcome"},{"$f":"Head6","v":"Original Budget"},{"$f":"Head7","v":"Adjusted Budget"},{"$f":"Head8","v":"Full Year Forecast"},{"$f":"Head9","v":"Budget Year 2025/26"},{"$f":"Head10","v":"Budget Year +1 2026/27"},{"$f":"Head11","v":"Budget Year +2 2027/28"}]
["Capital expenditure on renewal of existing assets by Asset Class/Sub-class"]
[]
["Infrastructure",null,{"$f":"C7+C12+C16+C26+C37+C44+C52+C62+C68","v":0},{"$f":"D7+D12+D16+D26+D37+D44+D52+D62+D68","v":0},23921171.48,45445189,53170139,53170139,493966,10000000,11770192]
["Roads Infrastructure",null,{"$f":"SUM(C8:C11)","v":0},0,0,0,135794,135794,493966,10000000,11770190]
["Roads",null,0,0,0,0,135794,135794,493966,10000000,11770190]
["Road Structures",null,0,0,0,0,0,0,0,0,0]
["Road Furniture",null,0,0,0,0,0,0,0,0,0]
["Capital Spares",null,0,0,0,0,0,0,0,0,0]
["Storm water Infrastructure",null,{"$f":"SUM(C13:C15)","v":0},{"$f":"SUM(D13:D15)","v":0},0,0,0,0,0,0,0]
["Drainage Collection",null,0,0,0,0,0,0,0,0,0]
["Storm water Conveyance",null,0,0,0,0,0,0,0,0,0]
["Attenuation",null,0,0,0,0,0,0,0,0,0]
["Electrical Infrastructure",null,{"$f":"SUM(C17:C25)","v":0},0,0,0,0,0,0,0,0]
["Power Plants",null,0,0,0,0,0,0,0,0,0]
["HV Substations",null,0,0,0,0,0,0,0,0,0]
["HV Switching Station",null,0,0,0,0,0,0,0,0,0]
["HV Transmission Conductors",null,0,0,0,0,0,0,0,0,0]
["MV Substations",null,0,0,0,0,0,0,0,0,0]
["MV Switching Stations",null,0,0,0,0,0,0,0,0,0]
["MV Networks",null,0,0,0,0,0,0,0,0,0]
["LV Networks",null,0,0,0,0,0,0,0,0,0]
["Capital Spares",null,0,0,0,0,0,0,0,0,0]
["Water Supply Infrastructure",null,{"$f":"SUM(C27:C36)","v":0},{"$f":"SUM(D27:D36)","v":0},23921171.48,45445189,53034345,53034345,0,0,2]
["Dams and Weirs",null,0,0,0,0,0,0,0,0,0]
["Boreholes",null,0,0,0,0,0,0,0,0,0]
["Reservoirs",null,0,0,0,0,0,0,0,0,0]
["Pump Stations",null,0,0,0,0,0,0,0,0,0]
["Water Treatment Works",null,0,0,0,0,0,0,0,0,0]
["Bulk Mains",null,0,0,0,0,0,0,0,0,0]
["Distribution",null,0,0,23921171.48,45445189,53034345,53034345,0,0,2]
["Distribution Points",null,0,0,0,0,0,0,0,0,0]
["PRV Stations",null,0,0,0,0,0,0,0,0,0]
["Capital Spares",null,0,0,0,0,0,0,0,0,0]
["Sanitation Infrastructure",null,{"$f":"SUM(C38:C43)","v":0},{"$f":"SUM(D38:D43)","v":0},0,0,0,0,0,0,0]
["Pump Station",null,0,0,0,0,0,0,0,0,0]
["Reticulation",null,0,0,0,0,0,0,0,0,0]
["Waste Water Treatment Works",null,0,0,0,0,0,0,0,0,0]
["Outfall Sewers",null,0,0,0,0,0,0,0,0,0]
["Toilet Facilities",null,0,0,0,0,0,0,0,0,0]
["Capital Spares",null,0,0,0,0,0,0,0,0,0]
["Solid Waste Infrastructure",null,{"$f":"SUM(C45:C51)","v":0},{"$f":"SUM(D45:D51)","v":0},0,0,0,0,0,0,0]
["Landfill Sites",null,0,0,0,0,0,0,0,0,0]
["Waste Transfer Stations",null,0,0,0,0,0,0,0,0,0]
["Waste Processing Facilities",null,0,0,0,0,0,0,0,0,0]
["Waste Drop-off Points",null,0,0,0,0,0,0,0,0,0]
["Waste Separation Facilities",null,0,0,0,0,0,0,0,0,0]
["Electricity Generation Facilities",null,0,0,0,0,0,0,0,0,0]
["Capital Spares",null,0,0,0,0,0,0,0,0,0]
["Rail Infrastructure",null,{"$f":"SUM(C53:C61)","v":0},0,0,0,0,0,0,0,0]
["Rail Lines",null,0,0,0,0,0,0,0,0,0]
["Rail Structures",null,0,0,0,0,0,0,0,0,0]
["Rail Furniture",null,0,0,0,0,0,0,0,0,0]
["Drainage Collection",null,0,0,0,0,0,0,0,0,0]
["Storm water Conveyance",null,0,0,0,0,0,0,0,0,0]
["Attenuation",null,0,0,0,0,0,0,0,0,0]
["MV Substations",null,0,0,0,0,0,0,0,0,0]
["LV Networks",null,0,0,0,0,0,0,0,0,0]
["Capital Spares",null,0,0,0,0,0,0,0,0,0]
["Coastal Infrastructure",null,{"$f":"SUM(C63:C67)","v":0},{"$f":"SUM(D63:D67)","v":0},0,0,0,0,0,0,0]
["Sand Pumps",null,0,0,0,0,0,0,0,0,0]
["Piers",null,0,0,0,0,0,0,0,0,0]
["Revetments",null,0,0,0,0,0,0,0,0,0]
["Promenades",null,0,0,0,0,0,0,0,0,0]
["Capital Spares",null,0,0,0,0,0,0,0,0,0]
["Information and Communication Infrastructure",null,{"$f":"SUM(C69:C72)","v":0},{"$f":"SUM(D69:D72)","v":0},0,0,0,0,0,0,0]
["Data Centres",null,0,0,0,0,0,0,0,0,0]
["Core Layers",null,0,0,0,0,0,0,0,0,0]
["Distribution Layers",null,0,0,0,0,0,0,0,0,0]
["Capital Spares",null,0,0,0,0,0,0,0,0,0]
[]
["Community Assets",null,{"$f":"C75+C98","v":0},{"$f":"D75+D98","v":0},0,0,0,0,0,0,0]
["Community Facilities",null,{"$f":"SUM(C76:C97)","v":0},{"$f":"SUM(D76:D97)","v":0},0,0,0,0,0,0,0]
["Halls",null,0,0,0,0,0,0,0,0,0]
["Centres",null,0,0,0,0,0,0,0,0,0]
["Crèches",null,0,0,0,0,0,0,0,0,0]
["Clinics/Care Centres",null,0,0,0,0,0,0,0,0,0]
["Fire/Ambulance Stations",null,0,0,0,0,0,0,0,0,0]
["Testing Stations",null,0,0,0,0,0,0,0,0,0]
["Museums",null,0,0,0,0,0,0,0,0,0]
["Galleries",null,0,0,0,0,0,0,0,0,0]
["Theatres",null,0,0,0,0,0,0,0,0,0]
["Libraries",null,0,0,0,0,0,0,0,0,0]
["Cemeteries/Crematoria",null,0,0,0,0,0,0,0,0,0]
["Police",null,0,0,0,0,0,0,0,0,0]
["Parks",null,0,0,0,0,0,0,0,0,0]
["Public Open Space",null,0,0,0,0,0,0,0,0,0]
["Nature Reserves",null,0,0,0,0,0,0,0,0,0]
["Public Ablution Facilities",null,0,0,0,0,0,0,0,0,0]
["Markets",null,0,0,0,0,0,0,0,0,0]
["Stalls",null,0,0,0,0,0,0,0,0,0]
["Abattoirs",null,0,0,0,0,0,0,0,0,0]
["Airports",null,0,0,0,0,0,0,0,0,0]
["Taxi Ranks/Bus Terminals",null,0,0,0,0,0,0,0,0,0]
["Capital Spares",null,0,0,0,0,0,0,0,0,0]
["Sport and Recreation Facilities",null,{"$f":"SUM(C99:C101)","v":0},{"$f":"SUM(D99:D101)","v":0},0,0,0,0,0,0,0]
["Indoor Facilities",null,0,0,0,0,0,0,0,0,0]
["Outdoor Facilities",null,0,0,0,0,0,0,0,0,0]
["Capital Spares",null,0,0,0,0,0,0,0,0,0]
[]
["Heritage assets",null,{"$f":"SUM(C104:C108)","v":0},{"$f":"SUM(D104:D108)","v":0},0,0,0,0,0,0,0]
["Monuments",null,0,0,0,0,0,0,0,0,0]
["Historic Buildings",null,0,0,0,0,0,0,0,0,0]
["Works of Art",null,0,0,0,0,0,0,0,0,0]
["Conservation Areas",null,0,0,0,0,0,0,0,0,0]
["Other Heritage",null,0,0,0,0,0,0,0,0,0]
[]
["Investment properties",null,{"$f":"+C111+C114","v":0},{"$f":"+D111+D114","v":0},0,0,0,0,0,0,0]
["Revenue Generating",null,{"$f":"SUM(C112:C113)","v":0},0,0,0,0,0,0,0,0]
["Improved Property",null,0,0,0,0,0,0,0,0,0]
["Unimproved Property",null,0,0,0,0,0,0,0,0,0]
["Non-revenue Generating",null,{"$f":"SUM(C115:C116)","v":0},{"$f":"SUM(D115:D116)","v":0},0,0,0,0,0,0,0]
["Improved Property",null,0,0,0,0,0,0,0,0,0]
["Unimproved Property",null,0,0,0,0,0,0,0,0,0]
[]
["Other assets",null,{"$f":"+C119+C131","v":0},{"$f":"+D119+D131","v":0},0,0,0,0,0,0,0]
["Operational Buildings",null,{"$f":"SUM(C120:C130)","v":0},{"$f":"SUM(D120:D130)","v":0},0,0,0,0,0,0,0]
["Municipal Offices",null,0,0,0,0,0,0,0,0,0]
["Pay/Enquiry Points",null,0,0,0,0,0,0,0,0,0]
["Building Plan Offices",null,0,0,0,0,0,0,0,0,0]
["Workshops",null,0,0,0,0,0,0,0,0,0]
["Yards",null,0,0,0,0,0,0,0,0,0]
["Stores",null,0,0,0,0,0,0,0,0,0]
["Laboratories",null,0,0,0,0,0,0,0,0,0]
["Training Centres",null,0,0,0,0,0,0,0,0,0]
["Manufacturing Plant",null,0,0,0,0,0,0,0,0,0]
["Depots",null,0,0,0,0,0,0,0,0,0]
["Capital Spares",null,0,0,0,0,0,0,0,0,0]
["Housing",null,{"$f":"SUM(C132:C134)","v":0},{"$f":"SUM(D132:D134)","v":0},0,0,0,0,0,0,0]
["Staff Housing",null,0,0,0,0,0,0,0,0,0]
["Social Housing",null,0,0,0,0,0,0,0,0,0]
["Capital Spares",null,0,0,0,0,0,0,0,0,0]
[]
["Biological or Cultivated Assets",null,{"$f":"SUM(C137:C137)","v":0},0,0,0,0,0,0,0,0]
["Biological or Cultivated Assets",null,0,0,0,0,0,0,0,0,0]
[]
["Intangible Assets",null,{"$f":"+C140+C141","v":0},{"$f":"+D140+D141","v":0},0,0,0,0,0,0,0]
["Servitudes",null,0,0,0,0,0,0,0,0,0]
["Licences and Rights",null,{"$f":"SUM(C142:C147)","v":0},{"$f":"SUM(D142:D147)","v":0},0,0,0,0,0,0,0]
["Water Rights",null,0,0,0,0,0,0,0,0,0]
["Effluent Licenses",null,0,0,0,0,0,0,0,0,0]
["Solid Waste Licenses",null,0,0,0,0,0,0,0,0,0]
["Computer Software and Applications",null,0,0,0,0,0,0,0,0,0]
["Load Settlement Software Applications",null,0,0,0,0,0,0,0,0,0]
["Unspecified",null,0,0,0,0,0,0,0,0,0]
[]
["Computer Equipment",null,{"$f":"SUM(C150:C150)","v":0},0,0,0,0,0,0,0,0]
["Computer Equipment",null,0,0,0,0,0,0,0,0,0]
[]
["Furniture and Office Equipment",null,{"$f":"SUM(C153:C153)","v":0},0,0,0,0,0,0,0,0]
["Furniture and Office Equipment",null,0,0,0,0,0,0,0,0,0]
[]
["Machinery and Equipment",null,{"$f":"SUM(C156:C156)","v":0},491000,0,0,0,0,0,0,0]
["Machinery and Equipment",null,0,491000,0,0,0,0,0,0,0]
[]
["Transport Assets",null,{"$f":"SUM(C159:C159)","v":0},0,0,0,0,0,0,0,0]
["Transport Assets",null,0,0,0,0,0,0,0,0,0]
[]
["Land",null,{"$f":"SUM(C162:C162)","v":0},0,0,0,0,0,0,0,0]
["Land"]
[]
["Zoo's, Marine and Non-biological Animals",null,{"$f":"SUM(C165:C165)","v":0},0,0,0,0,0,0,0,0]
["Zoo's, Marine and Non-biological Animals",null,0,0,0,0,0,0,0,0,0]
[]
["Living resources"," ",{"$f":"+C168+C171","v":0},{"$f":"+D168+D171","v":0},0,0,0,0,0,0,0]
["Mature"," ",{"$f":"SUM(C169:C170)","v":0},0,0,0,0,0,0,0,0]
["Policing and Protection"," ",0,0,0,0,0,0,0,0,0]
["Zoological plants and animals"," ",0,0,0,0,0,0,0,0,0]
["Immature"," ",{"$f":"SUM(C172:C173)","v":0},{"$f":"SUM(D172:D173)","v":0},0,0,0,0,0,0,0]
["Policing and Protection"," ",0,0,0,0,0,0,0,0,0]
["Zoological plants and animals"," ",0,0,0,0,0,0,0,0,0]
[""]
["Total Capital Expenditure on renewal of existing assets ",1,{"$f":"C6+C74+C103+C110+C118+C136+C139+C149+C152+C155+C158+C161+C164+C167","v":0},{"$f":"D6+D74+D103+D110+D118+D136+D139+D149+D152+D155+D158+D161+D164+D167","v":491000},23921171.48,45445189,53170139,53170139,493966,10000000,11770192]
[]
["Renewal of Existing Assets as % of total capex",null,{"$f":"IF(ISERROR(C175/'A9-Asset'!C110),0,(C175/'A9-Asset'!C110))","v":0},{"$f":"IF(ISERROR(D175/'A9-Asset'!D110),0,(D175/'A9-Asset'!D110))","v":8.6971107886741599E-3},{"$f":"IF(ISERROR(E175/'A9-Asset'!E110),0,(E175/'A9-Asset'!E110))","v":0.20990336767914317},{"$f":"IF(ISERROR(F175/'A9-Asset'!F110),0,(F175/'A9-Asset'!F110))","v":0.20279525172366322},{"$f":"IF(ISERROR(G175/'A9-Asset'!G110),0,(G175/'A9-Asset'!G110))","v":0.20015737139255255},{"$f":"IF(ISERROR(H175/'A9-Asset'!H110),0,(H175/'A9-Asset'!H110))","v":0.20015737139255255},{"$f":"IF(ISERROR(I175/'A9-Asset'!I110),0,(I175/'A9-Asset'!I110))","v":3.1280687778206329E-3},{"$f":"IF(ISERROR(J175/'A9-Asset'!J110),0,(J175/'A9-Asset'!J110))","v":6.4917907216496581E-2},{"$f":"IF(ISERROR(K175/'A9-Asset'!K110),0,(K175/'A9-Asset'!K110))","v":8.7618757397504216E-2}]
["Renewal of Existing Assets as % of deprecn\"",null,{"$f":"IF(ISERROR(C175/'A9-Asset'!C183),0,(C175/'A9-Asset'!C183))","v":0},{"$f":"IF(ISERROR(D175/'A9-Asset'!D183),0,(D175/'A9-Asset'!D183))","v":5.5962175609100065E-3},{"$f":"IF(ISERROR(E175/'A9-Asset'!E183),0,(E175/'A9-Asset'!E183))","v":0.25256796958959005},{"$f":"IF(ISERROR(F175/'A9-Asset'!F183),0,(F175/'A9-Asset'!F183))","v":0.47975257263805898},{"$f":"IF(ISERROR(G175/'A9-Asset'!G183),0,(G175/'A9-Asset'!G183))","v":0.57966074639482379},{"$f":"IF(ISERROR(H175/'A9-Asset'!H183),0,(H175/'A9-Asset'!H183))","v":0.57966074639482379},{"$f":"IF(ISERROR(I175/'A9-Asset'!I183),0,(I175/'A9-Asset'!I183))","v":5.1631988348011344E-3},{"$f":"IF(ISERROR(J175/'A9-Asset'!J183),0,(J175/'A9-Asset'!J183))","v":9.9910594005847925E-2},{"$f":"IF(ISERROR(K175/'A9-Asset'!K183),0,(K175/'A9-Asset'!K183))","v":0.11264135937011673}]
[{"$f":"head27a","v":"References"}]
["1. Total Capital Expenditure  on renewal of existing assets (SA34b) plus Total Capital Expenditure on new assets (SA34a) plus Total Capital Expenditure  on upgrading of existing assets (SA34e) must reconcile to total capital expenditure in Budgeted Capital Expenditure"]

{"sheet":"SA34c","index":58,"n_rows":180,"n_cols":11,"rows_kept":180,"cut":false,"hidden":false,"merged":[[1,5,1,7],[1,8,1,10]]}
[{"$f":"muni&\" - \"&TableA34c","v":"Choose name from list - Supporting Table SA34c Repairs and maintenance expenditure by asset class"}]
[{"$f":"desc","v":"Description"},{"$f":"head27","v":"Ref"},{"$f":"head1b","v":"2021/22"},{"$f":"head1A","v":"2022/23"},{"$f":"Head1","v":"2023/24"},{"$f":"Head2","v":"Current Year 2024/25"},null,null,{"$f":"Head3","v":"2025/26 Medium Term Revenue & Expenditure Framework"}]
["R thousand",1,{"$f":"Head5","v":"Audited Outcome"},{"$f":"Head5","v":"Audited Outcome"},{"$f":"Head5","v":"Audited Outcome"},{"$f":"Head6","v":"Original Budget"},{"$f":"Head7","v":"Adjusted Budget"},{"$f":"Head8","v":"Full Year Forecast"},{"$f":"Head9","v":"Budget Year 2025/26"},{"$f":"Head10","v":"Budget Year +1 2026/27"},{"$f":"Head11","v":"Budget Year +2 2027/28"}]
["Repairs and maintenance expenditure by Asset Class/Sub-class"]
[]
["Infrastructure",null,{"$f":"C7+C12+C16+C26+C37+C44+C52+C62+C68","v":2216408.4900000002},{"$f":"D7+D12+D16+D26+D37+D44+D52+D62+D68","v":11056073.539999999},12008789.75,13807462,17742762,17742762,12896806,13113542,13021124]
["Roads Infrastructure",null,{"$f":"SUM(C8:C11)","v":-3003243.52},1140024.08,1690054.8,1409384,3909384,3909384,1926030,1593811,1550413]
["Roads",null,518181.42,1072136.6000000001,1135987.8,1180446,3680446,3680446,1682287,1339070,1294512]
["Road Structures",null,-3629368.03,67887.48,55989,103391,103391,103391,112797,117772,112905]
["Road Furniture",null,107943.09,0,498078,125547,125547,125547,130946,136969,142996]
["Capital Spares",null,0,0,0,0,0,0,0,0,0]
["Storm water Infrastructure",null,{"$f":"SUM(C13:C15)","v":151176.29},{"$f":"SUM(D13:D15)","v":240908.88},165831,333059,333059,333059,358360,374372,368600]
["Drainage Collection",null,151176.29,240908.88,165831,333059,333059,333059,358360,374372,368600]
["Storm water Conveyance",null,0,0,0,0,0,0,0,0,0]
["Attenuation",null,0,0,0,0,0,0,0,0,0]
["Electrical Infrastructure",null,{"$f":"SUM(C17:C25)","v":1617643.48},1348577.5,1605005.55,2078461,2078461,2078461,2205827,2305658,2330144]
["Power Plants",null,15800,0,0,69749,69749,69749,72748,76095,79443]
["HV Substations",null,0,0,0,0,0,0,0,0,0]
["HV Switching Station",null,0,0,0,0,0,0,0,0,0]
["HV Transmission Conductors",null,0,0,0,0,0,0,0,0,0]
["MV Substations",null,0,0,0,0,0,0,0,0,0]
["MV Switching Stations",null,0,0,0,0,0,0,0,0,0]
["MV Networks",null,0,0,0,0,0,0,0,0,0]
["LV Networks",null,1601843.48,1348577.5,1605005.55,2008712,2008712,2008712,2133079,2229563,2250701]
["Capital Spares",null,0,0,0,0,0,0,0,0,0]
["Water Supply Infrastructure",null,{"$f":"SUM(C27:C36)","v":691444.7},{"$f":"SUM(D27:D36)","v":1084903.3799999999},2874095.2,3480969,6480969,6480969,3785280,3952734,3813418]
["Dams and Weirs",null,0,0,0,0,0,0,0,0,0]
["Boreholes",null,0,0,0,0,0,0,0,0,0]
["Reservoirs",null,0,0,0,0,0,0,0,0,0]
["Pump Stations",null,0,408.69,0,0,0,0,0,0,0]
["Water Treatment Works",null,0,0,0,0,0,0,0,0,0]
["Bulk Mains",null,0,0,0,0,0,0,0,0,0]
["Distribution",null,691444.7,1084494.69,2874095.2,3480969,6480969,6480969,3785280,3952734,3813418]
["Distribution Points",null,0,0,0,0,0,0,0,0,0]
["PRV Stations",null,0,0,0,0,0,0,0,0,0]
["Capital Spares",null,0,0,0,0,0,0,0,0,0]
["Sanitation Infrastructure",null,{"$f":"SUM(C38:C43)","v":2759387.54},{"$f":"SUM(D38:D43)","v":7241659.7000000002},5673803.2000000002,6505589,4940889,4940889,4621309,4886967,4958549]
["Pump Station",null,0,0,0,0,0,0,0,0,0]
["Reticulation",null,2759387.54,3523315.22,4421620.32,4440799,4940799,4940799,4621309,4886967,4958548]
["Waste Water Treatment Works",null,0,3718344.48,1252182.8799999999,2064790,90,90,0,0,1]
["Outfall Sewers",null,0,0,0,0,0,0,0,0,0]
["Toilet Facilities",null,0,0,0,0,0,0,0,0,0]
["Capital Spares",null,0,0,0,0,0,0,0,0,0]
["Solid Waste Infrastructure",null,{"$f":"SUM(C45:C51)","v":0},{"$f":"SUM(D45:D51)","v":0},0,0,0,0,0,0,0]
["Landfill Sites",null,0,0,0,0,0,0,0,0,0]
["Waste Transfer Stations",null,0,0,0,0,0,0,0,0,0]
["Waste Processing Facilities",null,0,0,0,0,0,0,0,0,0]
["Waste Drop-off Points",null,0,0,0,0,0,0,0,0,0]
["Waste Separation Facilities",null,0,0,0,0,0,0,0,0,0]
["Electricity Generation Facilities",null,0,0,0,0,0,0,0,0,0]
["Capital Spares",null,0,0,0,0,0,0,0,0,0]
["Rail Infrastructure",null,{"$f":"SUM(C53:C61)","v":0},0,0,0,0,0,0,0,0]
["Rail Lines",null,0,0,0,0,0,0,0,0,0]
["Rail Structures",null,0,0,0,0,0,0,0,0,0]
["Rail Furniture",null,0,0,0,0,0,0,0,0,0]
["Drainage Collection",null,0,0,0,0,0,0,0,0,0]
["Storm water Conveyance",null,0,0,0,0,0,0,0,0,0]
["Attenuation",null,0,0,0,0,0,0,0,0,0]
["MV Substations",null,0,0,0,0,0,0,0,0,0]
["LV Networks",null,0,0,0,0,0,0,0,0,0]
["Capital Spares",null,0,0,0,0,0,0,0,0,0]
["Coastal Infrastructure",null,{"$f":"SUM(C63:C67)","v":0},{"$f":"SUM(D63:D67)","v":0},0,0,0,0,0,0,0]
["Sand Pumps",null,0,0,0,0,0,0,0,0,0]
["Piers",null,0,0,0,0,0,0,0,0,0]
["Revetments",null,0,0,0,0,0,0,0,0,0]
["Promenades",null,0,0,0,0,0,0,0,0,0]
["Capital Spares",null,0,0,0,0,0,0,0,0,0]
["Information and Communication Infrastructure",null,{"$f":"SUM(C69:C72)","v":0},{"$f":"SUM(D69:D72)","v":0},0,0,0,0,0,0,0]
["Data Centres",null,0,0,0,0,0,0,0,0,0]
["Core Layers",null,0,0,0,0,0,0,0,0,0]
["Distribution Layers",null,0,0,0,0,0,0,0,0,0]
["Capital Spares",null,0,0,0,0,0,0,0,0,0]
[]
["Community Assets",null,{"$f":"C75+C98","v":125969.76000000001},{"$f":"D75+D98","v":51320.68},39277,292815,292815,292815,319454,320373,319760]
["Community Facilities",null,{"$f":"SUM(C76:C97)","v":93140.66},{"$f":"SUM(D76:D97)","v":4820.68},39277,0,0,0,0,0,0]
["Halls",null,0,0,0,0,0,0,0,0,0]
["Centres",null,0,0,0,0,0,0,0,0,0]
["Crèches",null,0,0,0,0,0,0,0,0,0]
["Clinics/Care Centres",null,0,0,0,0,0,0,0,0,0]
["Fire/Ambulance Stations",null,0,0,0,0,0,0,0,0,0]
["Testing Stations",null,0,0,0,0,0,0,0,0,0]
["Museums",null,0,0,0,0,0,0,0,0,0]
["Galleries",null,0,0,0,0,0,0,0,0,0]
["Theatres",null,0,0,0,0,0,0,0,0,0]
["Libraries",null,0,0,0,0,0,0,0,0,0]
["Cemeteries/Crematoria",null,0,0,0,0,0,0,0,0,0]
["Police",null,0,0,0,0,0,0,0,0,0]
["Parks",null,93140.66,4820.68,39277,0,0,0,0,0,0]
["Public Open Space",null,0,0,0,0,0,0,0,0,0]
["Nature Reserves",null,0,0,0,0,0,0,0,0,0]
["Public Ablution Facilities",null,0,0,0,0,0,0,0,0,0]
["Markets",null,0,0,0,0,0,0,0,0,0]
["Stalls",null,0,0,0,0,0,0,0,0,0]
["Abattoirs",null,0,0,0,0,0,0,0,0,0]
["Airports",null,0,0,0,0,0,0,0,0,0]
["Taxi Ranks/Bus Terminals",null,0,0,0,0,0,0,0,0,0]
["Capital Spares",null,0,0,0,0,0,0,0,0,0]
["Sport and Recreation Facilities",null,{"$f":"SUM(C99:C101)","v":32829.1},{"$f":"SUM(D99:D101)","v":46500},0,292815,292815,292815,319454,320373,319760]
["Indoor Facilities",null,0,0,0,0,0,0,0,0,0]
["Outdoor Facilities",null,32829.1,46500,0,292815,292815,292815,319454,320373,319760]
["Capital Spares",null,0,0,0,0,0,0,0,0,0]
[]
["Heritage assets",null,{"$f":"SUM(C104:C108)","v":0},{"$f":"SUM(D104:D108)","v":0},0,0,0,0,0,0,0]
["Monuments",null,0,0,0,0,0,0,0,0,0]
["Historic Buildings",null,0,0,0,0,0,0,0,0,0]
["Works of Art",null,0,0,0,0,0,0,0,0,0]
["Conservation Areas",null,0,0,0,0,0,0,0,0,0]
["Other Heritage",null,0,0,0,0,0,0,0,0,0]
[]
["Investment properties",null,{"$f":"+C111+C114","v":0},{"$f":"+D111+D114","v":0},0,0,0,0,0,0,0]
["Revenue Generating",null,{"$f":"SUM(C112:C113)","v":0},0,0,0,0,0,0,0,0]
["Improved Property",null,0,0,0,0,0,0,0,0,0]
["Unimproved Property",null,0,0,0,0,0,0,0,0,0]
["Non-revenue Generating",null,{"$f":"SUM(C115:C116)","v":0},{"$f":"SUM(D115:D116)","v":0},0,0,0,0,0,0,0]
["Improved Property",null,0,0,0,0,0,0,0,0,0]
["Unimproved Property",null,0,0,0,0,0,0,0,0,0]
[]
["Other assets",null,{"$f":"+C119+C131","v":716426.29},{"$f":"+D119+D131","v":693615.69},535283.21,883192,883192,883192,937831,980253,989631]
["Operational Buildings",null,{"$f":"SUM(C120:C130)","v":716426.29},{"$f":"SUM(D120:D130)","v":693615.69},535283.21,883192,883192,883192,937831,980253,989631]
["Municipal Offices",null,0,0,0,0,0,0,0,0,0]
["Pay/Enquiry Points",null,0,0,0,0,0,0,0,0,0]
["Building Plan Offices",null,0,0,0,0,0,0,0,0,0]
["Workshops",null,0,0,0,0,0,0,0,0,0]
["Yards",null,0,0,0,0,0,0,0,0,0]
["Stores",null,0,0,0,0,0,0,0,0,0]
["Laboratories",null,0,0,0,0,0,0,0,0,0]
["Training Centres",null,0,0,0,0,0,0,0,0,0]
["Manufacturing Plant",null,0,0,0,0,0,0,0,0,0]
["Depots",null,716426.29,693615.69,535283.21,883192,883192,883192,937831,980253,989631]
["Capital Spares",null,0,0,0,0,0,0,0,0,0]
["Housing",null,{"$f":"SUM(C132:C134)","v":0},{"$f":"SUM(D132:D134)","v":0},0,0,0,0,0,0,0]
["Staff Housing",null,0,0,0,0,0,0,0,0,0]
["Social Housing",null,0,0,0,0,0,0,0,0,0]
["Capital Spares",null,0,0,0,0,0,0,0,0,0]
[]
["Biological or Cultivated Assets",null,{"$f":"SUM(C137:C137)","v":0},0,0,0,0,0,0,0,0]
["Biological or Cultivated Assets",null,0,0,0,0,0,0,0,0,0]
[]
["Intangible Assets",null,{"$f":"+C140+C141","v":0},{"$f":"+D140+D141","v":0},0,0,0,0,0,0,0]
["Servitudes",null,0,0,0,0,0,0,0,0,0]
["Licences and Rights",null,{"$f":"SUM(C142:C147)","v":0},{"$f":"SUM(D142:D147)","v":0},0,0,0,0,0,0,0]
["Water Rights",null,0,0,0,0,0,0,0,0,0]
["Effluent Licenses",null,0,0,0,0,0,0,0,0,0]
["Solid Waste Licenses",null,0,0,0,0,0,0,0,0,0]
["Computer Software and Applications",null,0,0,0,0,0,0,0,0,0]
["Load Settlement Software Applications",null,0,0,0,0,0,0,0,0,0]
["Unspecified",null,0,0,0,0,0,0,0,0,0]
[]
["Computer Equipment",null,{"$f":"SUM(C150:C150)","v":0},0,0,0,0,0,0,0,0]
["Computer Equipment",null,0,0,0,0,0,0,0,0,0]
[]
["Furniture and Office Equipment",null,{"$f":"SUM(C153:C153)","v":71764.69},-5089277.58,0,209800,209800,209800,228887,229546,229107]
["Furniture and Office Equipment",null,71764.69,-5089277.58,0,209800,209800,209800,228887,229546,229107]
[]
["Machinery and Equipment",null,{"$f":"SUM(C156:C156)","v":1761137.7},247206.1,131620.01,738013,988013,988013,869748,805156,840583]
["Machinery and Equipment",null,1761137.7,247206.1,131620.01,738013,988013,988013,869748,805156,840583]
[]
["Transport Assets",null,{"$f":"SUM(C159:C159)","v":4715885.68},5716308.9000000004,5803736.8200000003,26225,26225,26225,28611,28693,28644]
["Transport Assets",null,4715885.68,5716308.9000000004,5803736.8200000003,26225,26225,26225,28611,28693,28644]
[]
["Land",null,{"$f":"SUM(C162:C162)","v":0},0,0,0,0,0,0,0,0]
["Land"]
[]
["Zoo's, Marine and Non-biological Animals",null,{"$f":"SUM(C165:C165)","v":0},{"$f":"SUM(D165:D165)","v":0},0,0,0,0,0,0,0]
["Zoo's, Marine and Non-biological Animals",null,0,0,0,0,0,0,0,0,0]
[]
["Living resources"," ",{"$f":"+C168+C171","v":0},{"$f":"+D168+D171","v":0},0,0,0,0,0,0,0]
["Mature"," ",{"$f":"SUM(C169:C170)","v":0},{"$f":"SUM(D169:D170)","v":0},0,0,0,0,0,0,0]
["Policing and Protection"," ",0,0,0,0,0,0,0,0,0]
["Zoological plants and animals"," ",0,0,0,0,0,0,0,0,0]
["Immature"," ",{"$f":"SUM(C172:C173)","v":0},{"$f":"SUM(D172:D173)","v":0},0,0,0,0,0,0,0]
["Policing and Protection"," ",0,0,0,0,0,0,0,0,0]
["Zoological plants and animals"," ",0,0,0,0,0,0,0,0,0]
[""]
["Total Repairs and Maintenance Expenditure",1,{"$f":"C6+C74+C103+C110+C118+C136+C139+C149+C152+C155+C158+C161+C164+C167","v":9607592.6099999994},{"$f":"D6+D74+D103+D110+D118+D136+D139+D149+D152+D155+D158+D161+D164+D167","v":12675247.329999998},18518706.789999999,15957507,20142807,20142807,15281337,15477563,15428849]
[]
["R&M as a % of PPE & Investment Property ",null,{"$f":"'A9-Asset'!C223","v":6.9785362329576632E-3},{"$f":"'A9-Asset'!D223","v":1.0564706624012009E-2},{"$f":"'A9-Asset'!E223","v":1.4436795713927985E-2},{"$f":"'A9-Asset'!F223","v":1.1082878499989466E-2},{"$f":"'A9-Asset'!G223","v":1.3463334994555775E-2},{"$f":"'A9-Asset'!H223","v":1.3463334994555775E-2},{"$f":"'A9-Asset'!I223","v":1.1088039984536469E-2},{"$f":"'A9-Asset'!J223","v":1.1297684909584016E-2},{"$f":"'A9-Asset'!K223","v":1.1463875423966463E-2}]
["R&M as % Operating Expenditure",null,{"$f":"IF(ISERROR(ROUND(C175/'A1-Sum'!B18,3)),0,(ROUND(C175/'A1-Sum'!B18,3)))","v":1.4E-2},{"$f":"IF(ISERROR(ROUND(D175/'A1-Sum'!C18,3)),0,(ROUND(D175/'A1-Sum'!C18,3)))","v":1.7999999999999999E-2},{"$f":"IF(ISERROR(ROUND(E175/'A1-Sum'!D18,3)),0,(ROUND(E175/'A1-Sum'!D18,3)))","v":2.3E-2},{"$f":"IF(ISERROR(ROUND(F175/'A1-Sum'!E18,3)),0,(ROUND(F175/'A1-Sum'!E18,3)))","v":1.9E-2},{"$f":"IF(ISERROR(ROUND(G175/'A1-Sum'!F18,3)),0,(ROUND(G175/'A1-Sum'!F18,3)))","v":2.4E-2},{"$f":"IF(ISERROR(ROUND(H175/'A1-Sum'!G18,3)),0,(ROUND(H175/'A1-Sum'!G18,3)))","v":2.4E-2},{"$f":"IF(ISERROR(ROUND(I175/'A1-Sum'!H18,3)),0,(ROUND(I175/'A1-Sum'!H18,3)))","v":1.7999999999999999E-2},{"$f":"IF(ISERROR(ROUND(J175/'A1-Sum'!I18,3)),0,(ROUND(J175/'A1-Sum'!I18,3)))","v":1.7000000000000001E-2},{"$f":"IF(ISERROR(ROUND(K175/'A1-Sum'!J18,3)),0,(ROUND(K175/'A1-Sum'!J18,3)))","v":1.6E-2}]
[{"$f":"head27a","v":"References"}]
["1. Total Repairs and Maintenance Expenditure by Asset Category must reconcile to total repairs and maintenance expenditure on Table SA1"]

{"sheet":"SA34d","index":59,"n_rows":178,"n_cols":11,"rows_kept":178,"cut":false,"hidden":false,"merged":[[1,5,1,7],[1,8,1,10]]}
[{"$f":"muni&\" - \"&TableA34d","v":"Choose name from list - Supporting Table SA34d Depreciation by asset class"}]
[{"$f":"desc","v":"Description"},{"$f":"head27","v":"Ref"},{"$f":"head1b","v":"2021/22"},{"$f":"head1A","v":"2022/23"},{"$f":"Head1","v":"2023/24"},{"$f":"Head2","v":"Current Year 2024/25"},null,null,{"$f":"Head3","v":"2025/26 Medium Term Revenue & Expenditure Framework"}]
["R thousand",1,{"$f":"Head5","v":"Audited Outcome"},{"$f":"Head5","v":"Audited Outcome"},{"$f":"Head5","v":"Audited Outcome"},{"$f":"Head6","v":"Original Budget"},{"$f":"Head7","v":"Adjusted Budget"},{"$f":"Head8","v":"Full Year Forecast"},{"$f":"Head9","v":"Budget Year 2025/26"},{"$f":"Head10","v":"Budget Year +1 2026/27"},{"$f":"Head11","v":"Budget Year +2 2027/28"}]
["Depreciation by Asset Class/Sub-class"]
[]
["Infrastructure",null,{"$f":"C7+C12+C16+C26+C37+C44+C52+C62+C68","v":0},{"$f":"D7+D12+D16+D26+D37+D44+D52+D62+D68","v":73733309.350000009},68399907.840000004,77427067,74427067,74427067,77575530,81162083,85565225]
["Roads Infrastructure",null,{"$f":"SUM(C8:C11)","v":0},36719408.159999996,30568791.969999999,35169832,35169832,35169832,33374463,35163853,37670435]
["Roads",null,0,36719408.159999996,30568791.969999999,35169832,35169832,35169832,33374463,35163853,37670435]
["Road Structures",null,0,0,0,0,0,0,0,0,0]
["Road Furniture",null,0,0,0,0,0,0,0,0,0]
["Capital Spares",null,0,0,0,0,0,0,0,0,0]
["Storm water Infrastructure",null,{"$f":"SUM(C13:C15)","v":0},{"$f":"SUM(D13:D15)","v":582223.69999999995},584626.51,672566,672566,672566,703504,735163,735163]
["Drainage Collection",null,0,0,0,0,0,0,0,0,0]
["Storm water Conveyance",null,0,582223.69999999995,584626.51,672566,672566,672566,703504,735163,735163]
["Attenuation",null,0,0,0,0,0,0,0,0,0]
["Electrical Infrastructure",null,{"$f":"SUM(C17:C25)","v":0},5456624.8399999999,6705784.3599999994,6414313,6414313,6414313,6709371,7011297,7011297]
["Power Plants",null,0,0,0,0,0,0,0,1,1]
["HV Substations",null,0,447606.08,439183.46,505248,505248,505248,528489,552271,552271]
["HV Switching Station",null,0,0,0,0,0,0,0,1,1]
["HV Transmission Conductors",null,0,320036.89,321363.7,369703,369703,369703,386710,404112,404112]
["MV Substations",null,0,0,12251.13,14095,14095,14095,14743,15407,15407]
["MV Switching Stations",null,0,20044.02,117294.39,134937,134937,134937,141144,147497,147497]
["MV Networks",null,0,1065613.98,602192.55000000005,696541,696541,696541,728582,761368,761368]
["LV Networks",null,0,3603323.87,5213499.13,4693789,4693789,4693789,4909703,5130640,5130640]
["Capital Spares",null,0,0,0,0,0,0,0,0,0]
["Water Supply Infrastructure",null,{"$f":"SUM(C27:C36)","v":0},{"$f":"SUM(D27:D36)","v":24740667.150000002},25286427.98,29124246,26124246,26124246,30463961,31642949,32539509]
["Dams and Weirs",null,0,2108527.02,274963.34999999998,316324,316324,316324,330875,345764,345765]
["Boreholes",null,0,496608.43,441446.86,507849,507849,507849,531210,555115,555115]
["Reservoirs",null,0,5214817.25,5461921.5099999998,6307575,6307575,6307575,6597724,6894621,6894621]
["Pump Stations",null,0,339934.93,2484507.79,2868017,2868017,2868017,2999946,3134943,3134943]
["Water Treatment Works",null,0,3863726.74,2554167.4500000002,2938368,2938368,2938368,3073533,3211842,3211842]
["Bulk Mains",null,0,4052994.62,4069673.6,4681838,4681838,4681838,4897202,4925686,5822245]
["Distribution",null,0,8664058.1600000001,9999747.4199999999,11504275,8504275,8504275,12033471,12574978,12574978]
["Distribution Points",null,0,0,0,0,0,0,0,0,0]
["PRV Stations",null,0,0,0,0,0,0,0,0,0]
["Capital Spares",null,0,0,0,0,0,0,0,0,0]
["Sanitation Infrastructure",null,{"$f":"SUM(C38:C43)","v":0},{"$f":"SUM(D38:D43)","v":6234385.5},4960452.16,5708087,5708087,5708087,5970659,6239338,7239338]
["Pump Station",null,0,6234385.5,4960452.16,5708087,5708087,5708087,5970659,6239338,7239338]
["Reticulation",null,0,0,0,0,0,0,0,0,0]
["Waste Water Treatment Works",null,0,0,0,0,0,0,0,0,0]
["Outfall Sewers",null,0,0,0,0,0,0,0,0,0]
["Toilet Facilities",null,0,0,0,0,0,0,0,0,0]
["Capital Spares",null,0,0,0,0,0,0,0,0,0]
["Solid Waste Infrastructure",null,{"$f":"SUM(C45:C51)","v":0},{"$f":"SUM(D45:D51)","v":0},293824.86,338023,338023,338023,353572,369482,369482]
["Landfill Sites",null,0,0,293824.86,338023,338023,338023,353572,369482,369482]
["Waste Transfer Stations",null,0,0,0,0,0,0,0,0,0]
["Waste Processing Facilities",null,0,0,0,0,0,0,0,0,0]
["Waste Drop-off Points",null,0,0,0,0,0,0,0,0,0]
["Waste Separation Facilities",null,0,0,0,0,0,0,0,0,0]
["Electricity Generation Facilities",null,0,0,0,0,0,0,0,0,0]
["Capital Spares",null,0,0,0,0,0,0,0,0,0]
["Rail Infrastructure",null,{"$f":"SUM(C53:C61)","v":0},0,0,0,0,0,0,1,1]
["Rail Lines",null,0,0,0,0,0,0,0,0,0]
["Rail Structures",null,0,0,0,0,0,0,0,0,0]
["Rail Furniture",null,0,0,0,0,0,0,0,0,0]
["Drainage Collection",null,0,0,0,0,0,0,0,0,0]
["Storm water Conveyance",null,0,0,0,0,0,0,0,0,0]
["Attenuation",null,0,0,0,0,0,0,0,0,0]
["MV Substations",null,0,0,0,0,0,0,0,1,1]
["LV Networks",null,0,0,0,0,0,0,0,0,0]
["Capital Spares",null,0,0,0,0,0,0,0,0,0]
["Coastal Infrastructure",null,{"$f":"SUM(C63:C67)","v":0},{"$f":"SUM(D63:D67)","v":0},0,0,0,0,0,0,0]
["Sand Pumps",null,0,0,0,0,0,0,0,0,0]
["Piers",null,0,0,0,0,0,0,0,0,0]
["Revetments",null,0,0,0,0,0,0,0,0,0]
["Promenades",null,0,0,0,0,0,0,0,0,0]
["Capital Spares",null,0,0,0,0,0,0,0,0,0]
["Information and Communication Infrastructure",null,{"$f":"SUM(C69:C72)","v":0},{"$f":"SUM(D69:D72)","v":0},0,0,0,0,0,0,0]
["Data Centres",null,0,0,0,0,0,0,0,0,0]
["Core Layers",null,0,0,0,0,0,0,0,0,0]
["Distribution Layers",null,0,0,0,0,0,0,0,0,0]
["Capital Spares",null,0,0,0,0,0,0,0,0,0]
[]
["Community Assets",null,{"$f":"C75+C98","v":0},{"$f":"D75+D98","v":4279032.9400000004},12482694.139999997,4085773,4085773,4085773,4273718,4466043,4466043]
["Community Facilities",null,{"$f":"SUM(C76:C97)","v":0},{"$f":"SUM(D76:D97)","v":4279032.9400000004},11054566.689999998,2442824,2442824,2442824,2555196,2670184,2670184]
["Halls",null,0,4143517.24,8764189.3499999996,307092,307092,307092,321218,335674,335674]
["Centres",null,0,135515.70000000001,894965.34,1029587,1029587,1029587,1076949,1125412,1125412]
["Crèches",null,0,0,0,0,0,0,0,0,0]
["Clinics/Care Centres",null,0,0,20240.54,23285,23285,23285,24356,25452,25452]
["Fire/Ambulance Stations",null,0,0,0,0,0,0,0,0,0]
["Testing Stations",null,0,0,0,0,0,0,0,0,0]
["Museums",null,0,0,0,0,0,0,0,0,0]
["Galleries",null,0,0,0,0,0,0,0,0,0]
["Theatres",null,0,0,0,0,0,0,0,0,0]
["Libraries",null,0,0,343051.36,394654,394654,394654,412808,431384,431384]
["Cemeteries/Crematoria",null,0,0,624608.76,219397,219397,219397,229490,239818,239818]
["Police",null,0,0,0,0,0,0,0,0,0]
["Parks",null,0,0,379029.97,436044,436044,436044,456102,476627,476627]
["Public Open Space",null,0,0,0,0,0,0,0,1,1]
["Nature Reserves",null,0,0,0,0,0,0,0,0,0]
["Public Ablution Facilities",null,0,0,0,0,0,0,0,0,0]
["Markets",null,0,0,0,0,0,0,0,0,0]
["Stalls",null,0,0,0,0,0,0,0,1,1]
["Abattoirs",null,0,0,0,0,0,0,0,0,0]
["Airports",null,0,0,0,0,0,0,0,0,0]
["Taxi Ranks/Bus Terminals",null,0,0,28481.37,32765,32765,32765,34273,35815,35815]
["Capital Spares",null,0,0,0,0,0,0,0,0,0]
["Sport and Recreation Facilities",null,{"$f":"SUM(C99:C101)","v":0},{"$f":"SUM(D99:D101)","v":0},1428127.45,1642949,1642949,1642949,1718522,1795859,1795859]
["Indoor Facilities",null,0,0,0,0,0,0,0,0,0]
["Outdoor Facilities",null,0,0,1428127.45,1642949,1642949,1642949,1718522,1795859,1795859]
["Capital Spares",null,0,0,0,0,0,0,0,0,0]
[]
["Heritage assets",null,{"$f":"SUM(C104:C108)","v":0},{"$f":"SUM(D104:D108)","v":0},0,0,0,0,0,0,0]
["Monuments",null,0,0,0,0,0,0,0,0,0]
["Historic Buildings",null,0,0,0,0,0,0,0,0,0]
["Works of Art",null,0,0,0,0,0,0,0,0,0]
["Conservation Areas",null,0,0,0,0,0,0,0,0,0]
["Other Heritage",null,0,0,0,0,0,0,0,0,0]
[]
["Investment properties",null,{"$f":"+C111+C114","v":0},{"$f":"+D111+D114","v":0},0,0,0,0,0,0,0]
["Revenue Generating",null,{"$f":"SUM(C112:C113)","v":0},0,0,0,0,0,0,0,0]
["Improved Property",null,0,0,0,0,0,0,0,0,0]
["Unimproved Property",null,0,0,0,0,0,0,0,0,0]
["Non-revenue Generating",null,{"$f":"SUM(C115:C116)","v":0},{"$f":"SUM(D115:D116)","v":0},0,0,0,0,0,0,0]
["Improved Property",null,0,0,0,0,0,0,0,0,0]
["Unimproved Property",null,0,0,0,0,0,0,0,0,0]
[]
["Other assets",null,{"$f":"+C119+C131","v":0},{"$f":"+D119+D131","v":762935.94},812794.66,935056,935056,935056,978071,1022085,1022085]
["Operational Buildings",null,{"$f":"SUM(C120:C130)","v":0},{"$f":"SUM(D120:D130)","v":762935.94},812794.66,935056,935056,935056,978071,1022085,1022085]
["Municipal Offices",null,0,762935.94,812794.66,935056,935056,935056,978070,1022084,1022084]
["Pay/Enquiry Points",null,0,0,0,0,0,0,0,0,0]
["Building Plan Offices",null,0,0,0,0,0,0,1,1,1]
["Workshops",null,0,0,0,0,0,0,0,0,0]
["Yards",null,0,0,0,0,0,0,0,0,0]
["Stores",null,0,0,0,0,0,0,0,0,0]
["Laboratories",null,0,0,0,0,0,0,0,0,0]
["Training Centres",null,0,0,0,0,0,0,0,0,0]
["Manufacturing Plant",null,0,0,0,0,0,0,0,0,0]
["Depots",null,0,0,0,0,0,0,0,0,0]
["Capital Spares",null,0,0,0,0,0,0,0,0,0]
["Housing",null,{"$f":"SUM(C132:C134)","v":0},{"$f":"SUM(D132:D134)","v":0},0,0,0,0,0,0,0]
["Staff Housing",null,0,0,0,0,0,0,0,0,0]
["Social Housing",null,0,0,0,0,0,0,0,0,0]
["Capital Spares",null,0,0,0,0,0,0,0,0,0]
[]
["Biological or Cultivated Assets",null,{"$f":"SUM(C137:C137)","v":0},0,0,0,0,0,0,0,0]
["Biological or Cultivated Assets",null,0,0,0,0,0,0,0,0,0]
[]
["Intangible Assets",null,{"$f":"+C140+C141","v":0},{"$f":"+D140+D141","v":459560.92},2921859.52,1844337,1844337,1844337,1929176,2015990,2015990]
["Servitudes",null,0,0,0,0,0,0,0,0,0]
["Licences and Rights",null,{"$f":"SUM(C142:C147)","v":0},{"$f":"SUM(D142:D147)","v":459560.92},2921859.52,1844337,1844337,1844337,1929176,2015990,2015990]
["Water Rights",null,0,0,0,0,0,0,0,0,0]
["Effluent Licenses",null,0,0,0,0,0,0,0,0,0]
["Solid Waste Licenses",null,0,0,0,0,0,0,0,0,0]
["Computer Software and Applications",null,0,459560.92,2921859.52,1844337,1844337,1844337,1929176,2015990,2015990]
["Load Settlement Software Applications",null,0,0,0,0,0,0,0,0,0]
["Unspecified",null,0,0,0,0,0,0,0,0,0]
[]
["Computer Equipment",null,{"$f":"SUM(C150:C150)","v":0},483894.68,528339.18000000005,609214,609214,609214,637238,665914,665914]
["Computer Equipment",null,0,483894.68,528339.18000000005,609214,609214,609214,637238,665914,665914]
[]
["Furniture and Office Equipment",null,{"$f":"SUM(C153:C153)","v":87197833.969999999},4657190.51,2554488.62,1388851,1388851,1388851,1452739,1536224,1536225]
["Furniture and Office Equipment",null,87197833.969999999,4657190.51,2554488.62,1388851,1388851,1388851,1452739,1536224,1536225]
[]
["Machinery and Equipment",null,{"$f":"SUM(C156:C156)","v":0},234703,454797.5,523857,523857,523857,547954,572612,572613]
["Machinery and Equipment",null,0,234703,454797.5,523857,523857,523857,547954,572612,572613]
[]
["Transport Assets",null,{"$f":"SUM(C159:C159)","v":0},3127205.34,6556936.1900000004,7912151,7912151,7912151,8276110,8648535,8648536]
["Transport Assets",null,0,3127205.34,6556936.1900000004,7912151,7912151,7912151,8276110,8648535,8648536]
[]
["Land",null,{"$f":"SUM(C162:C162)","v":0},0,0,0,0,0,0,0,0]
["Land"]
[]
["Zoo's, Marine and Non-biological Animals",null,{"$f":"SUM(C165:C165)","v":0},0,0,0,0,0,0,0,0]
["Zoo's, Marine and Non-biological Animals",null,0,0,0,0,0,0,0,0,0]
[]
["Living resources"," ",{"$f":"+C168+C171","v":0},{"$f":"+D168+D171","v":0},0,0,0,0,0,0,0]
["Mature"," ",{"$f":"SUM(C169:C170)","v":0},0,0,0,0,0,0,0,0]
["Policing and Protection"," ",0,0,0,0,0,0,0,0,0]
["Zoological plants and animals"," ",0,0,0,0,0,0,0,0,0]
["Immature"," ",{"$f":"SUM(C172:C173)","v":0},{"$f":"SUM(D172:D173)","v":0},0,0,0,0,0,0,0]
["Policing and Protection"," ",0,0,0,0,0,0,0,0,0]
["Zoological plants and animals"," ",0,0,0,0,0,0,0,0,0]
[""]
["Total Depreciation",1,{"$f":"C6+C74+C103+C110+C118+C136+C139+C149+C152+C155+C158+C161+C164+C167","v":87197833.969999999},{"$f":"D6+D74+D103+D110+D118+D136+D139+D149+D152+D155+D158+D161+D164+D167","v":87737832.680000022},94711817.650000006,94726306,91726306,91726306,95670536,100089486,104492631]
[]
[{"$f":"head27a","v":"References"}]
["1. Depreciation based on write down values. Not including Depreciation resulting from revaluation."]

{"sheet":"SA34e","index":60,"n_rows":180,"n_cols":11,"rows_kept":180,"cut":false,"hidden":false,"merged":[[1,5,1,7],[1,8,1,10]]}
[{"$f":"muni&\" - \"&TableA34e","v":"Choose name from list - Supporting Table SA34e Capital expenditure on the upgrading of existing assets by asset class"}]
[{"$f":"desc","v":"Description"},{"$f":"head27","v":"Ref"},{"$f":"head1b","v":"2021/22"},{"$f":"head1A","v":"2022/23"},{"$f":"Head1","v":"2023/24"},{"$f":"Head2","v":"Current Year 2024/25"},null,null,{"$f":"Head3","v":"2025/26 Medium Term Revenue & Expenditure Framework"}]
["R thousand",1,{"$f":"Head5","v":"Audited Outcome"},{"$f":"Head5","v":"Audited Outcome"},{"$f":"Head5","v":"Audited Outcome"},{"$f":"Head6","v":"Original Budget"},{"$f":"Head7","v":"Adjusted Budget"},{"$f":"Head8","v":"Full Year Forecast"},{"$f":"Head9","v":"Budget Year 2025/26"},{"$f":"Head10","v":"Budget Year +1 2026/27"},{"$f":"Head11","v":"Budget Year +2 2027/28"}]
["Capital expenditure on upgrading of existing assets by Asset Class/Sub-class"]
[]
["Infrastructure",null,{"$f":"C7+C12+C16+C26+C37+C44+C52+C62+C68","v":0},{"$f":"D7+D12+D16+D26+D37+D44+D52+D62+D68","v":0},0,7900000,7900000,7900000,1000000,0,1]
["Roads Infrastructure",null,{"$f":"SUM(C8:C11)","v":0},0,0,0,0,0,0,0,0]
["Roads",null,0,0,0,0,0,0,0,0,0]
["Road Structures",null,0,0,0,0,0,0,0,0,0]
["Road Furniture",null,0,0,0,0,0,0,0,0,0]
["Capital Spares",null,0,0,0,0,0,0,0,0,0]
["Storm water Infrastructure",null,{"$f":"SUM(C13:C15)","v":0},{"$f":"SUM(D13:D15)","v":0},0,0,0,0,0,0,0]
["Drainage Collection",null,0,0,0,0,0,0,0,0,0]
["Storm water Conveyance",null,0,0,0,0,0,0,0,0,0]
["Attenuation",null,0,0,0,0,0,0,0,0,0]
["Electrical Infrastructure",null,{"$f":"SUM(C17:C25)","v":0},0,0,0,0,0,0,0,0]
["Power Plants",null,0,0,0,0,0,0,0,0,0]
["HV Substations",null,0,0,0,0,0,0,0,0,0]
["HV Switching Station",null,0,0,0,0,0,0,0,0,0]
["HV Transmission Conductors",null,0,0,0,0,0,0,0,0,0]
["MV Substations",null,0,0,0,0,0,0,0,0,0]
["MV Switching Stations",null,0,0,0,0,0,0,0,0,0]
["MV Networks",null,0,0,0,0,0,0,0,0,0]
["LV Networks",null,0,0,0,0,0,0,0,0,0]
["Capital Spares",null,0,0,0,0,0,0,0,0,0]
["Water Supply Infrastructure",null,{"$f":"SUM(C27:C36)","v":0},{"$f":"SUM(D27:D36)","v":0},0,7900000,7900000,7900000,0,0,1]
["Dams and Weirs",null,0,0,0,0,0,0,0,0,0]
["Boreholes",null,0,0,0,0,0,0,0,0,0]
["Reservoirs",null,0,0,0,0,0,0,0,0,0]
["Pump Stations",null,0,0,0,0,0,0,0,0,0]
["Water Treatment Works",null,0,0,0,7900000,7900000,7900000,0,0,1]
["Bulk Mains",null,0,0,0,0,0,0,0,0,0]
["Distribution",null,0,0,0,0,0,0,0,0,0]
["Distribution Points",null,0,0,0,0,0,0,0,0,0]
["PRV Stations",null,0,0,0,0,0,0,0,0,0]
["Capital Spares",null,0,0,0,0,0,0,0,0,0]
["Sanitation Infrastructure",null,{"$f":"SUM(C38:C43)","v":0},{"$f":"SUM(D38:D43)","v":0},0,0,0,0,0,0,0]
["Pump Station",null,0,0,0,0,0,0,0,0,0]
["Reticulation",null,0,0,0,0,0,0,0,0,0]
["Waste Water Treatment Works",null,0,0,0,0,0,0,0,0,0]
["Outfall Sewers",null,0,0,0,0,0,0,0,0,0]
["Toilet Facilities",null,0,0,0,0,0,0,0,0,0]
["Capital Spares",null,0,0,0,0,0,0,0,0,0]
["Solid Waste Infrastructure",null,{"$f":"SUM(C45:C51)","v":0},{"$f":"SUM(D45:D51)","v":0},0,0,0,0,1000000,0,0]
["Landfill Sites",null,0,0,0,0,0,0,0,0,0]
["Waste Transfer Stations",null,0,0,0,0,0,0,1000000,0,0]
["Waste Processing Facilities",null,0,0,0,0,0,0,0,0,0]
["Waste Drop-off Points",null,0,0,0,0,0,0,0,0,0]
["Waste Separation Facilities",null,0,0,0,0,0,0,0,0,0]
["Electricity Generation Facilities",null,0,0,0,0,0,0,0,0,0]
["Capital Spares",null,0,0,0,0,0,0,0,0,0]
["Rail Infrastructure",null,{"$f":"SUM(C53:C61)","v":0},0,0,0,0,0,0,0,0]
["Rail Lines",null,0,0,0,0,0,0,0,0,0]
["Rail Structures",null,0,0,0,0,0,0,0,0,0]
["Rail Furniture",null,0,0,0,0,0,0,0,0,0]
["Drainage Collection",null,0,0,0,0,0,0,0,0,0]
["Storm water Conveyance",null,0,0,0,0,0,0,0,0,0]
["Attenuation",null,0,0,0,0,0,0,0,0,0]
["MV Substations",null,0,0,0,0,0,0,0,0,0]
["LV Networks",null,0,0,0,0,0,0,0,0,0]
["Capital Spares",null,0,0,0,0,0,0,0,0,0]
["Coastal Infrastructure",null,{"$f":"SUM(C63:C67)","v":0},{"$f":"SUM(D63:D67)","v":0},0,0,0,0,0,0,0]
["Sand Pumps",null,0,0,0,0,0,0,0,0,0]
["Piers",null,0,0,0,0,0,0,0,0,0]
["Revetments",null,0,0,0,0,0,0,0,0,0]
["Promenades",null,0,0,0,0,0,0,0,0,0]
["Capital Spares",null,0,0,0,0,0,0,0,0,0]
["Information and Communication Infrastructure",null,{"$f":"SUM(C69:C72)","v":0},{"$f":"SUM(D69:D72)","v":0},0,0,0,0,0,0,0]
["Data Centres",null,0,0,0,0,0,0,0,0,0]
["Core Layers",null,0,0,0,0,0,0,0,0,0]
["Distribution Layers",null,0,0,0,0,0,0,0,0,0]
["Capital Spares",null,0,0,0,0,0,0,0,0,0]
[]
["Community Assets",null,{"$f":"C75+C98","v":0},{"$f":"D75+D98","v":0},0,0,0,0,0,0,0]
["Community Facilities",null,{"$f":"SUM(C76:C97)","v":0},{"$f":"SUM(D76:D97)","v":0},0,0,0,0,0,0,0]
["Halls",null,0,0,0,0,0,0,0,0,0]
["Centres",null,0,0,0,0,0,0,0,0,0]
["Crèches",null,0,0,0,0,0,0,0,0,0]
["Clinics/Care Centres",null,0,0,0,0,0,0,0,0,0]
["Fire/Ambulance Stations",null,0,0,0,0,0,0,0,0,0]
["Testing Stations",null,0,0,0,0,0,0,0,0,0]
["Museums",null,0,0,0,0,0,0,0,0,0]
["Galleries",null,0,0,0,0,0,0,0,0,0]
["Theatres",null,0,0,0,0,0,0,0,0,0]
["Libraries",null,0,0,0,0,0,0,0,0,0]
["Cemeteries/Crematoria",null,0,0,0,0,0,0,0,0,0]
["Police",null,0,0,0,0,0,0,0,0,0]
["Parks",null,0,0,0,0,0,0,0,0,0]
["Public Open Space",null,0,0,0,0,0,0,0,0,0]
["Nature Reserves",null,0,0,0,0,0,0,0,0,0]
["Public Ablution Facilities",null,0,0,0,0,0,0,0,0,0]
["Markets",null,0,0,0,0,0,0,0,0,0]
["Stalls",null,0,0,0,0,0,0,0,0,0]
["Abattoirs",null,0,0,0,0,0,0,0,0,0]
["Airports",null,0,0,0,0,0,0,0,0,0]
["Taxi Ranks/Bus Terminals",null,0,0,0,0,0,0,0,0,0]
["Capital Spares",null,0,0,0,0,0,0,0,0,0]
["Sport and Recreation Facilities",null,{"$f":"SUM(C99:C101)","v":0},{"$f":"SUM(D99:D101)","v":0},0,0,0,0,0,0,0]
["Indoor Facilities",null,0,0,0,0,0,0,0,0,0]
["Outdoor Facilities",null,0,0,0,0,0,0,0,0,0]
["Capital Spares",null,0,0,0,0,0,0,0,0,0]
[]
["Heritage assets",null,{"$f":"SUM(C104:C108)","v":0},{"$f":"SUM(D104:D108)","v":0},0,0,0,0,0,0,0]
["Monuments",null,0,0,0,0,0,0,0,0,0]
["Historic Buildings",null,0,0,0,0,0,0,0,0,0]
["Works of Art",null,0,0,0,0,0,0,0,0,0]
["Conservation Areas",null,0,0,0,0,0,0,0,0,0]
["Other Heritage",null,0,0,0,0,0,0,0,0,0]
[]
["Investment properties",null,{"$f":"+C111+C114","v":0},{"$f":"+D111+D114","v":0},0,0,0,0,0,0,0]
["Revenue Generating",null,{"$f":"SUM(C112:C113)","v":0},0,0,0,0,0,0,0,0]
["Improved Property",null,0,0,0,0,0,0,0,0,0]
["Unimproved Property",null,0,0,0,0,0,0,0,0,0]
["Non-revenue Generating",null,{"$f":"SUM(C115:C116)","v":0},{"$f":"SUM(D115:D116)","v":0},0,0,0,0,0,0,0]
["Improved Property",null,0,0,0,0,0,0,0,0,0]
["Unimproved Property",null,0,0,0,0,0,0,0,0,0]
[]
["Other assets",null,{"$f":"+C119+C131","v":0},{"$f":"+D119+D131","v":0},0,0,0,0,0,0,0]
["Operational Buildings",null,{"$f":"SUM(C120:C130)","v":0},{"$f":"SUM(D120:D130)","v":0},0,0,0,0,0,0,0]
["Municipal Offices",null,0,0,0,0,0,0,0,0,0]
["Pay/Enquiry Points",null,0,0,0,0,0,0,0,0,0]
["Building Plan Offices",null,0,0,0,0,0,0,0,0,0]
["Workshops",null,0,0,0,0,0,0,0,0,0]
["Yards",null,0,0,0,0,0,0,0,0,0]
["Stores",null,0,0,0,0,0,0,0,0,0]
["Laboratories",null,0,0,0,0,0,0,0,0,0]
["Training Centres",null,0,0,0,0,0,0,0,0,0]
["Manufacturing Plant",null,0,0,0,0,0,0,0,0,0]
["Depots",null,0,0,0,0,0,0,0,0,0]
["Capital Spares",null,0,0,0,0,0,0,0,0,0]
["Housing",null,{"$f":"SUM(C132:C134)","v":0},{"$f":"SUM(D132:D134)","v":0},0,0,0,0,0,0,0]
["Staff Housing",null,0,0,0,0,0,0,0,0,0]
["Social Housing",null,0,0,0,0,0,0,0,0,0]
["Capital Spares",null,0,0,0,0,0,0,0,0,0]
[]
["Biological or Cultivated Assets",null,{"$f":"SUM(C137:C137)","v":0},0,0,0,0,0,0,0,0]
["Biological or Cultivated Assets",null,0,0,0,0,0,0,0,0,0]
[]
["Intangible Assets",null,{"$f":"+C140+C141","v":0},{"$f":"+D140+D141","v":0},0,0,0,0,0,0,0]
["Servitudes",null,0,0,0,0,0,0,0,0,0]
["Licences and Rights",null,{"$f":"SUM(C142:C147)","v":0},{"$f":"SUM(D142:D147)","v":0},0,0,0,0,0,0,0]
["Water Rights",null,0,0,0,0,0,0,0,0,0]
["Effluent Licenses",null,0,0,0,0,0,0,0,0,0]
["Solid Waste Licenses",null,0,0,0,0,0,0,0,0,0]
["Computer Software and Applications",null,0,0,0,0,0,0,0,0,0]
["Load Settlement Software Applications",null,0,0,0,0,0,0,0,0,0]
["Unspecified",null,0,0,0,0,0,0,0,0,0]
[]
["Computer Equipment",null,{"$f":"SUM(C150:C150)","v":0},0,0,0,0,0,0,0,0]
["Computer Equipment",null,0,0,0,0,0,0,0,0,0]
[]
["Furniture and Office Equipment",null,{"$f":"SUM(C153:C153)","v":0},0,0,0,0,0,0,0,0]
["Furniture and Office Equipment",null,0,0,0,0,0,0,0,0,0]
[]
["Machinery and Equipment",null,{"$f":"SUM(C156:C156)","v":0},0,0,0,0,0,0,0,0]
["Machinery and Equipment",null,0,0,0,0,0,0,0,0,0]
[]
["Transport Assets",null,{"$f":"SUM(C159:C159)","v":0},0,0,0,0,0,0,0,0]
["Transport Assets",null,0,0,0,0,0,0,0,0,0]
[]
["Land",null,{"$f":"SUM(C162:C162)","v":0},{"$f":"SUM(D162:D162)","v":0},0,0,0,0,0,0,0]
["Land"]
[]
["Zoo's, Marine and Non-biological Animals",null,{"$f":"SUM(C165:C165)","v":0},{"$f":"SUM(D165:D165)","v":0},0,0,0,0,0,0,0]
["Zoo's, Marine and Non-biological Animals",null,0,0,0,0,0,0,0,0,0]
[]
["Living resources"," ",{"$f":"+C168+C171","v":0},{"$f":"+D168+D171","v":0},0,0,0,0,0,0,0]
["Mature"," ",{"$f":"SUM(C169:C170)","v":0},{"$f":"SUM(D169:D170)","v":0},0,0,0,0,0,0,0]
["Policing and Protection"," ",0,0,0,0,0,0,0,0,0]
["Zoological plants and animals"," ",0,0,0,0,0,0,0,0,0]
["Immature"," ",{"$f":"SUM(C172:C173)","v":0},{"$f":"SUM(D172:D173)","v":0},0,0,0,0,0,0,0]
["Policing and Protection"," ",0,0,0,0,0,0,0,0,0]
["Zoological plants and animals"," ",0,0,0,0,0,0,0,0,0]
[""]
["Total Capital Expenditure on upgrading of existing assets ",1,{"$f":"C6+C74+C103+C110+C118+C136+C139+C149+C152+C155+C158+C161+C164+C167","v":0},{"$f":"D6+D74+D103+D110+D118+D136+D139+D149+D152+D155+D158+D161+D164+D167","v":0},0,7900000,7900000,7900000,1000000,0,1]
[]
["Upgrading of Existing Assets as % of total capex",null,{"$f":"IF(ISERROR(C175/'A9-Asset'!C110),0,(C175/'A9-Asset'!C110))","v":0},{"$f":"IF(ISERROR(D175/'A9-Asset'!D110),0,(D175/'A9-Asset'!D110))","v":0},{"$f":"IF(ISERROR(E175/'A9-Asset'!E110),0,(E175/'A9-Asset'!E110))","v":0},{"$f":"IF(ISERROR(F175/'A9-Asset'!F110),0,(F175/'A9-Asset'!F110))","v":3.5253071312277728E-2},{"$f":"IF(ISERROR(G175/'A9-Asset'!G110),0,(G175/'A9-Asset'!G110))","v":2.973930976560293E-2},{"$f":"IF(ISERROR(H175/'A9-Asset'!H110),0,(H175/'A9-Asset'!H110))","v":2.973930976560293E-2},{"$f":"IF(ISERROR(I175/'A9-Asset'!I110),0,(I175/'A9-Asset'!I110))","v":6.33255887615875E-3},{"$f":"IF(ISERROR(J175/'A9-Asset'!J110),0,(J175/'A9-Asset'!J110))","v":0},{"$f":"IF(ISERROR(K175/'A9-Asset'!K110),0,(K175/'A9-Asset'!K110))","v":7.4441230353340214E-9}]
["Upgrading of Existing Assets as % of deprecn\"",null,{"$f":"IF(ISERROR(C175/'A9-Asset'!C183),0,(C175/'A9-Asset'!C183))","v":0},{"$f":"IF(ISERROR(D175/'A9-Asset'!D183),0,(D175/'A9-Asset'!D183))","v":0},{"$f":"IF(ISERROR(E175/'A9-Asset'!E183),0,(E175/'A9-Asset'!E183))","v":0},{"$f":"IF(ISERROR(F175/'A9-Asset'!F183),0,(F175/'A9-Asset'!F183))","v":8.3398163969362435E-2},{"$f":"IF(ISERROR(G175/'A9-Asset'!G183),0,(G175/'A9-Asset'!G183))","v":8.612578380731914E-2},{"$f":"IF(ISERROR(H175/'A9-Asset'!H183),0,(H175/'A9-Asset'!H183))","v":8.612578380731914E-2},{"$f":"IF(ISERROR(I175/'A9-Asset'!I183),0,(I175/'A9-Asset'!I183))","v":1.0452538909157988E-2},{"$f":"IF(ISERROR(J175/'A9-Asset'!J183),0,(J175/'A9-Asset'!J183))","v":0},{"$f":"IF(ISERROR(K175/'A9-Asset'!K183),0,(K175/'A9-Asset'!K183))","v":9.5700528394198439E-9}]
[{"$f":"head27a","v":"References"}]
["1.  Total Capital Expenditure  on upgrading of existing assets (SA34e) plus Total Capital Expenditure on new assets (SA34a)  plus Total Capital Expenditure  on renewal of existing assets (SA34b) must reconcile to total capital expenditure in Budgeted Capital Expenditure"]

{"sheet":"SA35","index":61,"n_rows":57,"n_cols":9,"rows_kept":57,"cut":false,"hidden":false,"merged":[[1,5,1,8],[1,2,1,4]]}
[{"$f":"muni&\" - \"&TableA35","v":"Choose name from list - Supporting Table SA35 Future financial implications of the capital budget"}]
[{"$f":"Vdesc","v":"Vote Description"},{"$f":"head27","v":"Ref"},{"$f":"Head3","v":"2025/26 Medium Term Revenue & Expenditure Framework"},null,null,"Forecasts"]
["R thousand",null,{"$f":"Head9","v":"Budget Year 2025/26"},{"$f":"Head10","v":"Budget Year +1 2026/27"},{"$f":"Head11","v":"Budget Year +2 2027/28"},{"$f":"Head12","v":"Forecast 2028/29"},{"$f":"Head13","v":"Forecast 2029/30"},{"$f":"Head14","v":"Forecast 2030/31"},{"$f":"Head48","v":"Present value"}]
["Capital expenditure",1]
[{"$f":"'A5-Capex'!A6","v":"Vote 1 - Office of Municipal Manager"},null,{"$f":"'A5-Capex'!J6+'A5-Capex'!J24","v":0},{"$f":"'A5-Capex'!K6+'A5-Capex'!K24","v":0},{"$f":"'A5-Capex'!L6+'A5-Capex'!L24","v":3}]
[{"$f":"'A5-Capex'!A7","v":"Vote 2 - Budget and Treasury"},null,{"$f":"'A5-Capex'!J7+'A5-Capex'!J25","v":0},{"$f":"'A5-Capex'!K7+'A5-Capex'!K25","v":0},{"$f":"'A5-Capex'!L7+'A5-Capex'!L25","v":0}]
[{"$f":"'A5-Capex'!A8","v":"Vote 3 - Corporate Services"},null,{"$f":"'A5-Capex'!J8+'A5-Capex'!J26","v":4520000},{"$f":"'A5-Capex'!K8+'A5-Capex'!K26","v":4300000},{"$f":"'A5-Capex'!L8+'A5-Capex'!L26","v":800004}]
[{"$f":"'A5-Capex'!A9","v":"Vote 4 - Social Service"},null,{"$f":"'A5-Capex'!J9+'A5-Capex'!J27","v":6446347},{"$f":"'A5-Capex'!K9+'A5-Capex'!K27","v":0},{"$f":"'A5-Capex'!L9+'A5-Capex'!L27","v":6}]
[{"$f":"'A5-Capex'!A10","v":"Vote 5 - Technical and Engineering Services"},null,{"$f":"'A5-Capex'!J10+'A5-Capex'!J28","v":139237700},{"$f":"'A5-Capex'!K10+'A5-Capex'!K28","v":149740702},{"$f":"'A5-Capex'!L10+'A5-Capex'!L28","v":133534141}]
[{"$f":"'A5-Capex'!A11","v":"Vote 6 - Property, Planning & Development"},null,{"$f":"'A5-Capex'!J11+'A5-Capex'!J29","v":2000000},{"$f":"'A5-Capex'!K11+'A5-Capex'!K29","v":0},{"$f":"'A5-Capex'!L11+'A5-Capex'!L29","v":4}]
[{"$f":"'A5-Capex'!A12","v":"Vote 7 - Office of the Mayor/Strategic Office"},null,{"$f":"'A5-Capex'!J12+'A5-Capex'!J30","v":100000},{"$f":"'A5-Capex'!K12+'A5-Capex'!K30","v":0},{"$f":"'A5-Capex'!L12+'A5-Capex'!L30","v":0}]
[{"$f":"'A5-Capex'!A13","v":"Vote 8 - COMMUNITY & SOCIAL SERVICES"},null,{"$f":"'A5-Capex'!J13+'A5-Capex'!J31","v":0},{"$f":"'A5-Capex'!K13+'A5-Capex'!K31","v":0},{"$f":"'A5-Capex'!L13+'A5-Capex'!L31","v":0}]
[{"$f":"'A5-Capex'!A14","v":"Vote 9 - [NAME OF VOTE 9]"},null,{"$f":"'A5-Capex'!J14+'A5-Capex'!J32","v":0},{"$f":"'A5-Capex'!K14+'A5-Capex'!K32","v":0},{"$f":"'A5-Capex'!L14+'A5-Capex'!L32","v":0}]
[{"$f":"'A5-Capex'!A15","v":"Vote 10 - [NAME OF VOTE 10]"},null,{"$f":"'A5-Capex'!J15+'A5-Capex'!J33","v":0},{"$f":"'A5-Capex'!K15+'A5-Capex'!K33","v":0},{"$f":"'A5-Capex'!L15+'A5-Capex'!L33","v":0}]
[{"$f":"'A5-Capex'!A16","v":"Vote 11 - [NAME OF VOTE 11]"},null,{"$f":"'A5-Capex'!J16+'A5-Capex'!J34","v":0},{"$f":"'A5-Capex'!K16+'A5-Capex'!K34","v":0},{"$f":"'A5-Capex'!L16+'A5-Capex'!L34","v":0}]
[{"$f":"'A5-Capex'!A17","v":"Vote 12 - [NAME OF VOTE 12]"},null,{"$f":"'A5-Capex'!J17+'A5-Capex'!J35","v":0},{"$f":"'A5-Capex'!K17+'A5-Capex'!K35","v":0},{"$f":"'A5-Capex'!L17+'A5-Capex'!L35","v":0}]
[{"$f":"'A5-Capex'!A18","v":"Vote 13 - [NAME OF VOTE 13]"},null,{"$f":"'A5-Capex'!J18+'A5-Capex'!J36","v":0},{"$f":"'A5-Capex'!K18+'A5-Capex'!K36","v":0},{"$f":"'A5-Capex'!L18+'A5-Capex'!L36","v":0}]
[{"$f":"'A5-Capex'!A19","v":"Vote 14 - [NAME OF VOTE 14]"},null,{"$f":"'A5-Capex'!J19+'A5-Capex'!J37","v":0},{"$f":"'A5-Capex'!K19+'A5-Capex'!K37","v":0},{"$f":"'A5-Capex'!L19+'A5-Capex'!L37","v":0}]
[{"$f":"'A5-Capex'!A20","v":"Vote 15 - [NAME OF VOTE 15]"},null,{"$f":"'A5-Capex'!J20+'A5-Capex'!J38","v":0},{"$f":"'A5-Capex'!K20+'A5-Capex'!K38","v":0},{"$f":"'A5-Capex'!L20+'A5-Capex'!L38","v":0}]
["List entity summary if applicable"]
["Total Capital Expenditure ",null,{"$f":"SUM(C5:C20)","v":152304047},{"$f":"SUM(D5:D20)","v":154040702},134334158,{"$f":"SUM(F5:F20)","v":0},0,0,0]
[]
["Future operational costs by vote",2]
[{"$f":"A5","v":"Vote 1 - Office of Municipal Manager"}]
[{"$f":"A6","v":"Vote 2 - Budget and Treasury"}]
["Vote 3 - Corporate Services"]
["Vote 4 - Social Service"]
["Vote 5 - Technical and Engineering Services"]
["Vote 6 - Property, Planning & Development"]
["Vote 7 - Office of the Mayor/Strategic Office"]
["Vote 8 - COMMUNITY & SOCIAL SERVICES"]
["Vote 9 - [NAME OF VOTE 9]"]
["Vote 10 - [NAME OF VOTE 10]"]
["Vote 11 - [NAME OF VOTE 11]"]
["Vote 12 - [NAME OF VOTE 12]"]
["Vote 13 - [NAME OF VOTE 13]"]
["Vote 14 - [NAME OF VOTE 14]"]
["Vote 15 - [NAME OF VOTE 15]"]
["List entity summary if applicable"]
["Total future operational costs",null,{"$f":"SUM(C24:C39)","v":0},{"$f":"SUM(D24:D39)","v":0},0,0,0,0,0]
[]
["Future revenue by source",3]
[{"$f":"'A4-FinPerf RE'!A5","v":"Exchange Revenue"}]
[{"$f":"'A4-FinPerf RE'!A6","v":"Service charges - Electricity"}]
[{"$f":"'A4-FinPerf RE'!A7","v":"Service charges - Water"}]
[{"$f":"'A4-FinPerf RE'!A8","v":"Service charges - Waste Water Management"}]
[{"$f":"'A4-FinPerf RE'!A9","v":"Service charges - Waste Management"}]
[]
[{"$f":"'A4-FinPerf RE'!A11","v":"Agency services"}]
["List other revenues sources if applicable"]
["List entity summary if applicable"]
["Total future revenue",null,{"$f":"SUM(C43:C47)+SUM(C49:C51)","v":0},{"$f":"SUM(D43:D47)+SUM(D49:D51)","v":0},0,0,0,0,0]
["Net Financial Implications",null,{"$f":"C21+C40-C52","v":152304047},{"$f":"D21+D40-D52","v":154040702},134334158,0,0,0,0]
[{"$f":"head27a","v":"References"}]
["1. Summarise the total capital cost until capital project is operational (MFMA s19(2)(a))"]
["2. Summary of future operational costs from when projects operational (present value until the end of each asset's useful life) (MFMA s19(2)(b))"]
["3. Summarise the future revenue from when projects are operational, including municipal tax and tariff implications, (present value until the end of asset's useful life)"]

{"sheet":"SA36","index":62,"n_rows":134,"n_cols":17,"rows_kept":134,"cut":false,"hidden":false,"merged":[[1,12,1,13],[1,14,1,16]]}
[{"$f":"muni&\" - \"&TableA36","v":"Choose name from list - Supporting Table SA36 Detailed capital budget"}]
["R thousand",null,null,null,null,null,null,null,null,null,null,null,null,null,{"$f":"Head3","v":"2025/26 Medium Term Revenue & Expenditure Framework"}]
["Function","Project Description","Project Number","Type","MTSF Service Outcome","IUDF","Own Strategic Objectives","Asset Class","Asset Sub-Class","Ward Location","GPS Longitude","GPS Lattitude",{"$f":"Head5&\"    \"&Head1","v":"Audited Outcome    2023/24"},{"$f":"Head2 & \"        \"&Head8","v":"Current Year 2024/25        Full Year Forecast"},{"$f":"Head9","v":"Budget Year 2025/26"},{"$f":"Head10","v":"Budget Year +1 2026/27"},{"$f":"Head11","v":"Budget Year +2 2027/28"}]
["Parent municipality:"]
["List all capital projects grouped by Function"]
[]
["Administrative and Corporate Support","Office equipments and Furniture","PC002003005000000000000000000000000000_16594","New","Responsive, accountable, effective and efficient local government",null,"Improved and informed decision making","Furniture and Office Equipment","Furniture and Office Equipment","Whole of the Municipality",0,0,0,350000,300000,300000,300000]
["Administrative and Corporate Support","0307_Office Equipments","PC002003005000000000000000000000000000_16643","New","Responsive, accountable, effective and efficient local government",null,"Improved and informed decision making","Furniture and Office Equipment","Furniture and Office Equipment","Administrative or Head Office (Including Satellite Offices)",0,0,0,200000,0,0,1]
["Administrative and Corporate Support","Two Hoist Lift","PC002003009000000000000000000000000000_20313","New","Responsive, accountable, effective and efficient local government",null,"Improved and informed decision making","Machinery and Equipment","Machinery and Equipment","Whole of the Municipality",0,0,0,0,220000,0,0]
["Administrative and Corporate Support","New Project  Strong room","PC001002009000000000000000000000000000_20228","New","Responsive, accountable, effective and efficient local government",null,"Promote sustainable environment system and improve community awareness","Infrastructure","Information and Communication Infrastructure","Whole of the Municipality",0,0,0,833399,0,0,1]
["Billboards","Branding of Entrance to Town","PC002003003001000000000000000000000000_16626","New","Responsive, accountable, effective and efficient local government",null,"Good stake holder relations","Other Assets","Operational Buildings","Whole of the Municipality",0,0,0,1000000,0,0,1]
["Community Halls and Facilities","Rezoning of Park","PC002003002002000000000000000000000000_20316","New","Responsive, accountable, effective and efficient local government",null,"Protect the environment and\r\nimprove community wellbeing\r\n","Community Assets","Sport and Recreation Facilities","Whole of the Municipality",0,0,0,0,500000,0,0]
["Community Halls and Facilities","Acquisition of Brush cutters X5","PC002003009000000000000000000000000000_20296","New","Responsive, accountable, effective and efficient local government",null,"Protect the environment and\r\nimprove community wellbeing\r\n","Machinery and Equipment","Machinery and Equipment","Whole of the Municipality",0,0,0,0,106662,0,0]
["Community Halls and Facilities","Acquisition of Tractor X1","PC002003010000000000000000000000000000_20297","New","Responsive, accountable, effective and efficient local government",null,"Protect the environment and\r\nimprove community wellbeing\r\n","Transport Assets","Transport Assets","Whole of the Municipality",0,0,0,0,561200,0,0]
["Community Halls and Facilities","Acquisition of Slasher X2","PC002003009000000000000000000000000000_20298","New","Responsive, accountable, effective and efficient local government",null,"Protect the environment and\r\nimprove community wellbeing\r\n","Machinery and Equipment","Machinery and Equipment","Whole of the Municipality",0,0,0,0,165600,0,0]
["Community Halls and Facilities","Acquisition of ride-on X1","PC002003009000000000000000000000000000_20299","New","Responsive, accountable, effective and efficient local government",null,"Protect the environment and\r\nimprove community wellbeing\r\n","Machinery and Equipment","Machinery and Equipment","Whole of the Municipality",0,0,0,0,252885,0,0]
["Community Parks (including Nurseries)","Purchasing of x6 Walk behind Loan mower machines","PC002003009000000000000000000000000000_16635","New","Responsive, accountable, effective and efficient local government",null,"Protect the environment and\r\nimprove community","Machinery and Equipment","Machinery and Equipment","Whole of the Municipality",0,0,0,200000,0,0,1]
["Community Parks (including Nurseries)","Purchase pf 2 x Lawn mowers","PC002003009000000000000000000000000000_16637","New","Responsive, accountable, effective and efficient local government",null,"Protect the environment and\r\nimprove community wellbeing\r\n","Machinery and Equipment","Machinery and Equipment","Whole of the Municipality",0,0,0,90000,0,0,1]
["Community Parks (including Nurseries)","Purchase of 6 x Chainsaws","PC002003009000000000000000000000000000_16638","New","Responsive, accountable, effective and efficient local government",null,"Protect the environment and\r\nimprove community wellbeing\r\n","Machinery and Equipment","Machinery and Equipment","Whole of the Municipality",0,0,0,18000,0,0,1]
["Community Parks (including Nurseries)","Purchase of 4 x Chain pole pruners","PC002003009000000000000000000000000000_16639","New","Responsive, accountable, effective and efficient local government",null,"Protect the environment and\r\nimprove community wellbeing\r\n","Machinery and Equipment","Machinery and Equipment","Whole of the Municipality",0,0,0,20000,0,0,1]
["Development Facilitation","Establish township at steenbokpan, township establishment process including the opening of the township register and its declaration","PC002001000000000000000000000000000000_20315",null,"Responsive, accountable, effective and efficient local government",null,"Land availability for development in urban areas","Land","Land","Whole of the Municipality",0,0,0,0,1000000,0,0]
["Economic Development/Planning","Land Acquisition","PC002001000000000000000000000000000000_11185",null,"Responsive, accountable, effective and efficient local government",null,"Land availability for development in urban areas","Land","Land","Whole of the Municipality",0,0,0,5425000,0,0,1]
["Electricity","Repacement of Switchgears","PC002003009000000000000000000000000000_16418","New","Responsive, accountable, effective and efficient local government",null,"Sound maintenance plan for electricity","Machinery and Equipment","Machinery and Equipment","Whole of the Municipality",0,0,0,1400000,0,1800000,1]
["Electricity","0553_2 Highmast Lights Phahladira","PC001002001000000000000000000000000000_20227","New","Responsive, accountable, effective and efficient local government",null,"Energy Efficiency","Infrastructure","Electrical Infrastructure","Whole of the Municipality",0,0,0,652906,0,0,1]
["Electricity","Capital_Energy Efficiency and Demand Side Management","PC001002001000000000000000000000000000_20245","New","Responsive, accountable, effective and efficient local government",null,"Sustainable and integrated rural development","Infrastructure","Electrical Infrastructure","Whole of the Municipality",0,0,0,1,0,0,1]
["Electricity","Highmast installation in various villages 16 highmast","PC001002001000000000000000000000000000_20246","New","Responsive, accountable, effective and efficient local government",null,"Energy Efficiency","Infrastructure","Electrical Infrastructure","Whole of the Municipality",0,0,0,2064224,0,0,1]
["Electricity","Electricification of various Villages","PC001002001000000000000000000000000000_16628","New","Responsive, accountable, effective and efficient local government",null,"Energy Efficiency","Infrastructure","Electrical Infrastructure","Whole of the Municipality",0,0,0,3256200,0,0,1]
["Electricity","_0553_Electrification Project 2","PC001002001000000000000000000000000000_16604","New","Responsive, accountable, effective and efficient local government",null,"Sound maintenance plan for electricity","Infrastructure","Electrical Infrastructure","Whole of the Municipality",0,0,0,0,0,11212000,1]
["Electricity","Energy Efficiency 5A","PC001002001000000000000000000000000000_16407","New","Responsive, accountable, effective and efficient local government",null,"Energy Efficiency","Infrastructure","Electrical Infrastructure","Whole of the Municipality",0,0,0,4000000,4000000,0,5000000]
["Fire Fighting and Protection","Acquire of 2 X LDV Vehicles for Disaster","PC002003010000000000000000000000000000_20301","New","Responsive, accountable, effective and efficient local government",null,"Protect the environment and improve community well-being","Transport Assets","Transport Assets","Whole of the Municipality",0,0,0,0,800000,0,0]
["Fleet Management","Acquisition of 8 Ton Towing truck X1","PC002003010000000000000000000000000000_20311","New","Responsive, accountable, effective and efficient local government",null,"Mechanical fleet maintenance plan","Transport Assets","Transport Assets","Whole of the Municipality",0,0,0,0,1500000,0,0]
["Fleet Management","Diagnostic Machine for light Motor Vehicles and trucks X2","PC002003009000000000000000000000000000_20312","New","Responsive, accountable, effective and efficient local government",null,"Mechanical fleet maintenance plan","Machinery and Equipment","Machinery and Equipment","Whole of the Municipality",0,0,0,0,110000,0,0]
["Information Technology","_0309_ITEquipment","PC002003004000000000000000000000000000_11171","New","Responsive, accountable, effective and efficient local government",null,"Business intelligence","Computer Equipment","Computer Equipment","Whole of the Municipality",0,0,0,1300000,500000,500000,500000]
["Information Technology","Relocation of Server","PC001002009000000000000000000000000000_20314","New","Responsive, accountable, effective and efficient local government",null,"Business intelligence","Infrastructure","Information and Communication Infrastructure","Whole of the Municipality",0,0,0,0,3500000,3500000,0]
["Marketing, Customer Relations, Publicity and Media Co-ordination","Acquisition of 1X Drone for Communication","PC002003009000000000000000000000000000_20318","New","Responsive, accountable, effective and efficient local government",null,"Informed and engaged stakeholders","Machinery and Equipment","Machinery and Equipment","Whole of the Municipality",0,0,0,0,50000,0,0]
["Marketing, Customer Relations, Publicity and Media Co-ordination","Acquisition of 1X camera for Communication","PC002003009000000000000000000000000000_20319","New","Responsive, accountable, effective and efficient local government",null,"Informed and engaged stakeholders","Machinery and Equipment","Machinery and Equipment","Whole of the Municipality",0,0,0,0,50000,0,0]
["Mayor and Council","0101_Mayoral Vehicle 2","PC002003010000000000000000000000000000_16605","New","Responsive, accountable, effective and efficient local government",null,"Sustainable assets","Transport Assets","Transport Assets","Whole of the Municipality",0,0,0,700000,0,0,1]
["Mayor and Council","Installation and upgrade of  recording system in the council chamber","PC002003005000000000000000000000000000_16631","New","Responsive, accountable, effective and efficient local government",null,"Sustainable infrastructure","Furniture and Office Equipment","Furniture and Office Equipment","Administrative or Head Office (Including Satellite Offices)",0,0,0,400000,0,0,1]
["Municipal Manager, Town Secretary and Chief Executive","0307_Saferoom Furniture","PC002003005000000000000000000000000000_16469","New","Responsive, accountable, effective and efficient local government",null,"Improved and informed decision making","Furniture and Office Equipment","Furniture and Office Equipment","Whole of the Municipality",0,0,0,150000,0,0,1]
["Police Forces, Traffic and Street Parking Control","Purchase OF 1x  Breatherlisor","PC002003009000000000000000000000000000_16640","New","Responsive, accountable, effective and efficient local government",null,"Protect the environment and improve community well-being","Machinery and Equipment","Machinery and Equipment","Whole of the Municipality",0,0,0,30000,0,0,1]
["Public Transport","Acquire of 10 X LDV Vehicles for Service Delivery","PC002003010000000000000000000000000000_20302","New","Responsive, accountable, effective and efficient local government",null,"Mechanical fleet maintenance plan","Transport Assets","Transport Assets","Whole of the Municipality",0,0,0,0,4000000,0,0]
["Public Transport","Acquire of 2 X Sedan Vehicles for Traffic Division","PC002003010000000000000000000000000000_20300","New","Responsive, accountable, effective and efficient local government",null,"Mechanical fleet maintenance plan","Transport Assets","Transport Assets","Whole of the Municipality",0,0,0,0,1000000,0,0]
["Roads","Walk Behind Rollers","PC002003009000000000000000000000000000_16644","New","Responsive, accountable, effective and efficient local government",null,"Provide quality and wellmaintained infrastructural\r\nservices","Machinery and Equipment","Machinery and Equipment","Whole of the Municipality",0,0,0,0,0,0,1]
["Roads","Acquisition of 1X Jet Patcher","PC002003009000000000000000000000000000_20304","New","Responsive, accountable, effective and efficient local government",null,"Provide quality and wellmaintained infrastructural\r\nservices","Machinery and Equipment","Machinery and Equipment","Whole of the Municipality",0,0,0,0,6500000,0,0]
["Roads","Acquisition of 1X Grader","PC002003010000000000000000000000000000_20305","New","Responsive, accountable, effective and efficient local government",null,"Provide quality and wellmaintained infrastructural\r\nservices in all municipal areas","Transport Assets","Transport Assets","Whole of the Municipality",0,0,0,0,4500000,0,0]
["Roads","Acquisition of 1X Compactor","PC002003010000000000000000000000000000_20306","New","Responsive, accountable, effective and efficient local government",null,"Provide quality and wellmaintained infrastructural\r\nservices in all municipal areas","Transport Assets","Transport Assets","Whole of the Municipality",0,0,0,0,1500000,0,0]
["Roads","Supply and delivery of Asbestos cutting machine X1","PC002003009000000000000000000000000000_20308","New","Responsive, accountable, effective and efficient local government",null,"Smooth flowing traffic","Machinery and Equipment","Machinery and Equipment","Whole of the Municipality",0,0,0,0,100000,0,0]
["Roads","Supply and delivery of Dicing machine (100mm) X1","PC002003009000000000000000000000000000_20309","New","Responsive, accountable, effective and efficient local government",null,"Smooth flowing traffic","Machinery and Equipment","Machinery and Equipment","Whole of the Municipality",0,0,0,0,200000,0,0]
["Roads","Purchase of 1 X  LDV Vehicle (Mechanical )","PC002003010000000000000000000000000000_16623","New","Responsive, accountable, effective and efficient local government",null,"Mechanical fleet maintenance plan","Transport Assets","Transport Assets","Whole of the Municipality",0,0,0,350000,0,0,1]
["Roads","Construction of Mmatladi Cemetry low level bridge","PC001002006000000000000000000000000000_20252","New","Responsive, accountable, effective and efficient local government",null,"Provide quality and wellmaintained infrastructural\r\nservices","Infrastructure","Roads Infrastructure","Whole of the Municipality",0,0,0,950000,0,0,1]
["Roads","Construction of Bangalong Cemetry low level bridge","PC001002006000000000000000000000000000_20253","New","Responsive, accountable, effective and efficient local government",null,"Smooth flowing traffic","Infrastructure","Roads Infrastructure","Whole of the Municipality",0,0,0,950000,0,0,1]
["Roads","Construction of Kgobagodimo Cemetry low level bridge","PC001002006000000000000000000000000000_20254","New","Responsive, accountable, effective and efficient local government",null,"Smooth flowing traffic","Infrastructure","Roads Infrastructure","Whole of the Municipality",0,0,0,950000,0,0,1]
["Roads","Construction of Phahladira Cemetry low level bridge","PC001002006000000000000000000000000000_20255","New","Responsive, accountable, effective and efficient local government",null,"Roads and  Storm water  (New  infrastructure)","Infrastructure","Roads Infrastructure","Whole of the Municipality",0,0,0,950000,0,0,1]
["Roads","Refurbishment of Setateng (Shongoane 1) access road","PC001002006000000000000000000000000000_20256","New","Responsive, accountable, effective and efficient local government",null,"Provide quality and wellmaintained infrastructural\r\nservices","Infrastructure","Roads Infrastructure","Whole of the Municipality",0,0,0,6275000,0,0,1]
["Roads","Lephalale Roads","PC001002006000000000000000000000000000_20289","New","Responsive, accountable, effective and efficient local government",null,"Provide quality and wellmaintained infrastructural\r\nservices","Infrastructure","Roads Infrastructure","Whole of the Municipality",0,0,0,0,0,0,1]
["Roads","Weigh bridge system operationalize","PC001002006000000000000000000000000000_20233","New","Responsive, accountable, effective and efficient local government",null,"Roads and  Storm water  (New  infrastructure)","Infrastructure","Roads Infrastructure","Whole of the Municipality",0,0,0,0,0,1,1]
["Roads","Upgrading of Ben Matsoma Road from Gravel to surfaced road using paving blocks","PC001002006000000000000000000000000000_20249","New","Responsive, accountable, effective and efficient local government",null,"Provide quality and wellmaintained infrastructural\r\nservices","Infrastructure","Roads Infrastructure","Whole of the Municipality",0,0,0,7500000,0,0,1]
["Roads","Construction of Nikara Cemetry low level bridge","PC001002006000000000000000000000000000_20250","New","Responsive, accountable, effective and efficient local government",null,"Smooth flowing traffic","Infrastructure","Roads Infrastructure","Whole of the Municipality",0,0,0,950000,0,0,1]
["Roads","Construction of Motlhasedi Cemetry low level bridge","PC001002006000000000000000000000000000_20251","New","Responsive, accountable, effective and efficient local government",null,"Roads and  Storm water  (New  infrastructure)","Infrastructure","Roads Infrastructure","Whole of the Municipality",0,0,0,950000,0,0,1]
["Roads","Municipal disaster response grant (IA National Government - Municipal Disaster Response Grant )","PC001002006000000000000000000000000000_20241","New","Responsive, accountable, effective and efficient local government",null,"Formalised structures and revenue generation","Infrastructure","Roads Infrastructure","Whole of the Municipality",0,0,0,7600000,0,0,1]
["Roads","0540_TLB+Detagible Broom","PC001002006000000000000000000000000000_20225","New","Responsive, accountable, effective and efficient local government",null,"Mechanical fleet maintenance plan","Infrastructure","Roads Infrastructure","Whole of the Municipality",0,0,0,1690000,0,0,1]
["Roads","Resealing of roads in Town, Onverwacht and Marapong","PC001002006000000000000000000000000000_16410","New","Responsive, accountable, effective and efficient local government",null,"Roads and  Storm water  (New  infrastructure)","Infrastructure","Roads Infrastructure","Whole of the Municipality",0,0,0,5000000,4500000,5000000,0]
["Roads","Refurbishment of Reuben Mohashoa Stadium","PC001001001006000000000000000000000000_16432","New","Responsive, accountable, effective and efficient local government",null,"Roads and  Storm water  (New  infrastructure)","Infrastructure","Roads Infrastructure","Whole of the Municipality",0,0,0,135794,493966,0,0]
["Roads","Upgrading of Letlora Access Road","PC001002006000000000000000000000000000_16397","New","Responsive, accountable, effective and efficient local government",null,"Smooth flowing traffic","Infrastructure","Roads Infrastructure","Whole of the Municipality",0,0,0,0,15376709,11930303,11361850]
["Roads","0540_Onverwacht Roads_Technical report","PC001002006000000000000000000000000000_20223","New","Responsive, accountable, effective and efficient local government",null,"Provide quality and wellmaintained infrastructural\r\nservices in all municipal areas","Infrastructure","Roads Infrastructure","Whole of the Municipality",0,0,0,213412,0,0,1]
["Roads","0540_Marapong Roads & Stormwater","PC001002006000000000000000000000000000_20224","New","Responsive, accountable, effective and efficient local government",null,"Roads and  Storm water  (New  infrastructure)","Infrastructure","Roads Infrastructure","Whole of the Municipality",0,0,0,963412,0,0,1]
["Roads","Upgrading of Sefitlhogo Access Road","PC001002006000000000000000000000000000_16592","New","Responsive, accountable, effective and efficient local government",null,"Roads and  Storm water  (New  infrastructure)","Infrastructure","Roads Infrastructure","Whole of the Municipality",0,0,0,19431849,14987163,0,0]
["Roads","OR Tambo Road","PC001002006000000000000000000000000000_20230","New","Responsive, accountable, effective and efficient local government",null,"Roads and  Storm water  (New  infrastructure)","Infrastructure","Roads Infrastructure","Whole of the Municipality",0,0,0,0,0,1,1]
["Roads","Construction of VIP Toilets in Variou Villages","PC001001001006000000000000000000000000_16645","New","Responsive, accountable, effective and efficient local government",null,"Provide quality and wellmaintained infrastructural\r\nservices","Infrastructure","Roads Infrastructure","Whole of the Municipality",0,0,0,0,0,10000000,11770190]
["Security Services","0441_Conduct Security assessment of all strategic assets","PC001002009000000000000000000000000000_20220","New","Responsive, accountable, effective and efficient local government",null,"Prevent and manage outbreak of fire and emergency incidence","Infrastructure","Information and Communication Infrastructure","Whole of the Municipality",0,0,0,458743,0,0,1]
["Security Services","Upgrading of 2 Security Systems in LLM Facilities","PC001002009000000000000000000000000000_20320","New","Responsive, accountable, effective and efficient local government",null,"Protect the environment and improve community well-being","Infrastructure","Information and Communication Infrastructure","Whole of the Municipality",0,0,0,0,560000,0,0]
["Security Services","Mobile walk-through metal detector","PC002003009000000000000000000000000000_11148","New","Responsive, accountable, effective and efficient local government",null,"Protect the environment and improve community well-being","Machinery and Equipment","Machinery and Equipment","Whole of the Municipality",0,0,0,0,0,0,1]
["Sewerage","0573_Refurbishment of Zongesien & sewer dumping site","PC002003009000000000000000000000000000_16416","New","Responsive, accountable, effective and efficient local government",null,"Sanitation (Upgrading and maintenance","Machinery and Equipment","Machinery and Equipment","Whole of the Municipality",0,0,0,0,0,0,1]
["Sewerage","Technical report for construction of King Bird line and substation 4","PC002003009000000000000000000000000000_16417","New","Responsive, accountable, effective and efficient local government",null,"Sanitation (Upgrading and maintenance","Machinery and Equipment","Machinery and Equipment","Whole of the Municipality",0,0,0,0,1000000,0,0]
["Sewerage","Purchase of 1 X  LDV Vehicle (Sanitaion )","PC002003010000000000000000000000000000_16622","New","Responsive, accountable, effective and efficient local government",null,"Sustainable environment and infrastructure","Transport Assets","Transport Assets","Whole of the Municipality",0,0,0,350000,0,0,1]
["Sewerage","Sewer PipeLine  inspection Camera","PC002003009000000000000000000000000000_16625","New","Responsive, accountable, effective and efficient local government",null,"Sustainable environment and infrastructure","Machinery and Equipment","Machinery and Equipment","Whole of the Municipality",0,0,0,200000,0,0,1]
["Sewerage","0573_Refurbishment and Upgrading of sewer pump stations,Network pipes and Replacement of AC pipes in Town and Onverwacht","PC001002005000000000000000000000000000_11119","New","Responsive, accountable, effective and efficient local government",null,"Sustainable environment and infrastructure","Infrastructure","Sanitation Infrastructure","Whole of the Municipality",0,0,0,31490682,5000000,9311000,13692000]
["Sewerage","Installation of palisade fencing for storage facilities and pump stations","PC002003003001000000000000000000000000_20310","New","Responsive, accountable, effective and efficient local government",null,"Sanitation (New Infrastructure)","Other Assets","Operational Buildings","Whole of the Municipality",0,0,0,0,500000,0,0]
["Sewerage","Thabo Mbeki Sewer Network Sanitation","PC001002005000000000000000000000000000_20226","New","Responsive, accountable, effective and efficient local government",null,"Sustainable environment and infrastructure","Infrastructure","Sanitation Infrastructure","Whole of the Municipality",0,0,0,300000,0,0,1]
["Sewerage","0573_Maintenance and Closing of he ring Circuits+12","PC001002005000000000000000000000000000_20232","New","Responsive, accountable, effective and efficient local government",null,"Sustainable environment and infrastructure","Infrastructure","Sanitation Infrastructure","Whole of the Municipality",0,0,0,1300000,0,0,1]
["Sewerage","Refurbishment of Sanitation Components","PC001002005000000000000000000000000000_20247","New","Responsive, accountable, effective and efficient local government",null,"Sanitation (New Infrastructure)","Infrastructure","Sanitation Infrastructure","Whole of the Municipality",0,0,0,5307488,4993770,5723300,5654210]
["Sewerage","Review of water Conservation and Water Management Strategy","PC001002005000000000000000000000000000_16414","New","Responsive, accountable, effective and efficient local government",null,"Sanitation (Upgrading and maintenance","Infrastructure","Sanitation Infrastructure","Whole of the Municipality",0,0,0,0,1500000,0,0]
["Solid Waste Disposal (Landfill Sites)","Establishment of 2 Transfer stations (stalled)","PC001001002002000000000000000000000000_20303","Upgrading","Responsive, accountable, effective and efficient local government",null,"Sustainable environment and infrastructure","Infrastructure","Solid Waste Infrastructure","Whole of the Municipality",0,0,0,0,1000000,0,0]
["Solid Waste Removal","10 x 30 Cubic  meter Skip Bins","PC002003009000000000000000000000000000_16633","New","Responsive, accountable, effective and efficient local government",null,"Sustainable environment and infrastructure","Machinery and Equipment","Machinery and Equipment","Whole of the Municipality",0,0,0,1500000,1500000,0,0]
["Sports Grounds and Stadiums","Purchasing 1 x Road marking machine","PC002003009000000000000000000000000000_16636","New","Responsive, accountable, effective and efficient local government",null,"Protect the environment and\r\nimprove community","Machinery and Equipment","Machinery and Equipment","Whole of the Municipality",0,0,0,200000,0,0,1]
["Sports Grounds and Stadiums","Design and installation of infrastructure bulk services Thabo mbeki Ext 2","PC002003002002000000000000000000000000_16593","New","Responsive, accountable, effective and efficient local government",null,"Protect the environment and\r\nimprove community ","Community Assets","Sport and Recreation Facilities","Whole of the Municipality",0,0,0,10000000,0,8137689,14755850]
["Street Lighting and Signal Systems","30 Highmast lights installation at varios villages","PC001002001000000000000000000000000000_16431","New","Responsive, accountable, effective and efficient local government",null,"Energy Efficiency","Infrastructure","Electrical Infrastructure","Whole of the Municipality",0,0,0,8933524,5503017,13743333,13000000]
["Support to Local Municipalities","Formalisation of informal settlement - Steve Biko & Ga-phahladira","PC002001000000000000000000000000000000_20317",null,"Responsive, accountable, effective and efficient local government",null,"Informed spatial planning","Land","Land","Whole of the Municipality",0,0,0,0,1000000,0,0]
["Town Planning, Building Regulations and Enforcement, and City Engineer","0615_Revision of Land use scheme","PC002001000000000000000000000000000000_20222",null,"Responsive, accountable, effective and efficient local government",null,"Informed spatial planning","Land","Land","Whole of the Municipality",0,0,0,600000,0,0,1]
["Town Planning, Building Regulations and Enforcement, and City Engineer","0615_Revision of Spatial Development Framework","PC002003003001000000000000000000000000_20221","New","Responsive, accountable, effective and efficient local government",null,"Informed spatial planning","Other Assets","Operational Buildings","Whole of the Municipality",0,0,0,1200000,0,0,1]
["Waste Water Treatment","Supply,delivery and Off-loading  and Licencing of sewer unblocking machine","PC001002005000000000000000000000000000_20234","New","Responsive, accountable, effective and efficient local government",null,"Sustainable environment and infrastructure","Infrastructure","Sanitation Infrastructure","Whole of the Municipality",0,0,0,680000,0,0,1]
["Water Distribution","Mokuruanyane and Shongwane RWS phase 4","PC001002004000000000000000000000000000_20229","New","Responsive, accountable, effective and efficient local government",null,"Water supply","Infrastructure","Water Supply Infrastructure","Whole of the Municipality",0,0,0,2188611,0,0,1]
["Water Distribution","Witpoort Seleka Regional Water Scheme","PC001002004000000000000000000000000000_20243","New","Responsive, accountable, effective and efficient local government",null,"Water supply","Infrastructure","Water Supply Infrastructure","Whole of the Municipality",0,0,0,2030871,8583075,4583075,0]
["Water Distribution","_0563_Marapong Bulk Water Supply (LEPLEP03)","PC001002004000000000000000000000000000_00654","New","Responsive, accountable, effective and efficient local government",null,"Water infrastructure maintenance and upgrading","Infrastructure","Water Supply Infrastructure","Whole of the Municipality",0,0,0,13069152,8972226,13972226,8972226]
["Water Distribution","Installation of Statistical meters at all distribution points","PC001002001000000000000000000000000000_20307","New","Responsive, accountable, effective and efficient local government",null,"Water supply","Infrastructure","Electrical Infrastructure","Whole of the Municipality",0,0,0,0,1200000,0,0]
["Water Distribution","Purchase and Installation of telemetric system","PC002003004000000000000000000000000000_20295","New","Responsive, accountable, effective and efficient local government",null,"Business intelligence","Computer Equipment","Computer Equipment","Whole of the Municipality",0,0,0,0,500000,0,0]
["Water Distribution","Conduct an assessment and compile technical report for Ga-Seleka water scheme","PC001002004000000000000000000000000000_16616","New","Responsive, accountable, effective and efficient local government",null,"Water supply","Infrastructure","Water Supply Infrastructure","Whole of the Municipality",0,0,0,1500000,0,0,1]
["Water Distribution","Conduct an assessment  and compile technical report for Shogoane  Water Scheme","PC001002004000000000000000000000000000_16617","New","Responsive, accountable, effective and efficient local government",null,"Water infrastructure maintenance and upgrading","Infrastructure","Water Supply Infrastructure","Whole of the Municipality",0,0,0,1500000,0,0,1]
["Water Distribution","Supply ,deIlvery ,offlaoding and instalation of Jojo  Tanks in various  Villages","PC001002004000000000000000000000000000_16619","New","Responsive, accountable, effective and efficient local government",null,"Water supply","Infrastructure","Water Supply Infrastructure","Whole of the Municipality",0,0,0,300000,0,0,1]
["Water Distribution","Installation of Cages  (Drilled boreholes )","PC001002004000000000000000000000000000_16620","New","Responsive, accountable, effective and efficient local government",null,"Water supply","Infrastructure","Water Supply Infrastructure","Whole of the Municipality",0,0,0,0,0,0,1]
["Water Distribution","EXTENSION AND AUGMENTATION OF WATER SUPPLY IN GA-SELEKA PHASE 6","PC001002004000000000000000000000000000_16601","New","Responsive, accountable, effective and efficient local government",null,"Water supply","Infrastructure","Water Supply Infrastructure","Whole of the Municipality",0,0,0,0,0,0,1]
["Water Distribution","Replavement of Asbestos cement pipe (ac)  to HDPE/uPVC water pipes in Marapong (Zone 1) 2","PC001002004000000000000000000000000000_16606","New","Responsive, accountable, effective and efficient local government",null,"Water supply","Infrastructure","Water Supply Infrastructure","Whole of the Municipality",0,0,0,0,10533884,10533884,10533884]
["Water Distribution","Mokuruanyane and Shongwane RWS phase 4 & 5","PC001001002004000000000000000000000000_12364","Upgrading","Responsive, accountable, effective and efficient local government",null,"Water infrastructure maintenance and upgrading","Infrastructure","Water Supply Infrastructure","Whole of the Municipality",0,0,0,7900000,0,0,1]
["Water Distribution","REPLACEMENT OF ASBESTOS CEMENT PIPE (AC) TO HDPE/uPVC WATER PIPES IN LEPHALALE TOWN (RESIDENTIAL)","PC001001001004000000000000000000000000_16433","New","Responsive, accountable, effective and efficient local government",null,"Roads and  Storm water  (New  infrastructure)","Infrastructure","Water Supply Infrastructure","Whole of the Municipality",0,0,0,24263796,0,0,1]
["Water Distribution","REPLACEMENT OF ASBESTOS CEMENT PIPE (AC) TO HDPE/uPVC WATER PIPES IN LEPHALALE","PC001001001004000000000000000000000000_16434","New","Responsive, accountable, effective and efficient local government",null,"Reduce water loss to less than 14%.","Infrastructure","Water Supply Infrastructure","Whole of the Municipality",0,0,0,28770549,0,0,1]
["Water Distribution","Replacement of Asbestos Cement Pipe(AC) to HDPE/uPVC Water pipes in Onverwacht (Section B)","PC001002004000000000000000000000000000_16471","New","Responsive, accountable, effective and efficient local government",null,"Water infrastructure maintenance and upgrading","Infrastructure","Water Supply Infrastructure","Whole of the Municipality",0,0,0,23588505,0,0,1]
["Water Distribution","Replacement of Asbestos cement Pipe(AC) To HDPE/uPVC Water Pipes in Marapong (Zone 2)","PC001002004000000000000000000000000000_16402","New","Responsive, accountable, effective and efficient local government",null,"Water infrastructure maintenance and upgrading","Infrastructure","Water Supply Infrastructure","Whole of the Municipality",0,0,0,0,11701462,16701462,11701462]
["Water Distribution","Replacement of Absbestos cement pipe (ac) to HDPE/uPVC Water pipes in onverwacht (Section C)","PC001002004000000000000000000000000000_16403","New","Responsive, accountable, effective and efficient local government",null,"Water infrastructure maintenance and upgrading","Infrastructure","Water Supply Infrastructure","Whole of the Municipality",0,0,0,0,11392865,11392865,11392865]
["Water Distribution","Replacement of Asbestos cement pipe (ac) to HDPE/uPVC water pipes in onverwacht (section A)","PC001002004000000000000000000000000000_16405","New","Responsive, accountable, effective and efficient local government",null,"Water infrastructure maintenance and upgrading","Infrastructure","Water Supply Infrastructure","Whole of the Municipality",0,0,0,2173099,10699563,10699563,10699563]
["Water Distribution","Refurbishment and Upgrading of sewer pump stations, waste water treatment works, network","PC001002004000000000000000000000000000_16406","New","Responsive, accountable, effective and efficient local government",null,"Water infrastructure maintenance and upgrading","Infrastructure","Water Supply Infrastructure","Whole of the Municipality",0,0,0,0,5000000,5000000,5000000]
["Water Storage","Marapong Bulk Water Supply Storage","PC001002004000000000000000000000000000_11184","New","Responsive, accountable, effective and efficient local government",null,"Reduce water loss to less than 14%.","Infrastructure","Water Supply Infrastructure","Whole of the Municipality",0,0,0,18745218,0,0,1]
["Water Storage","0563_Fencing of storage facilities","PC001002004000000000000000000000000000_20231","New","Responsive, accountable, effective and efficient local government",null,"Water infrastructure maintenance and upgrading","Infrastructure","Water Supply Infrastructure","Whole of the Municipality",0,0,0,142238,0,0,1]
["Parent Capital expenditure",null,null,null,null,null,null,null,null,null,null,null,{"$f":"SUM(M7:M112)","v":0},{"$f":"SUM(N7:N112)","v":265641673},{"$f":"SUM(O7:O112)","v":157914047},{"$f":"SUM(P7:P112)","v":154040702},{"$f":"SUM(Q7:Q112)","v":134334158}]
[]
["Entities:"]
["List all capital projects grouped by Entity"]
[]
["Entity A"]
["Water project A"]
[]
["Entity B"]
["Electricity project B"]
[]
[]
[]
["Entity Capital expenditure",null,null,null,null,null,null,null,null,null,null,null,{"$f":"SUM(M118:M125)","v":0},{"$f":"SUM(N118:N125)","v":0},{"$f":"SUM(O118:O125)","v":0},{"$f":"SUM(P118:P125)","v":0},{"$f":"SUM(Q118:Q125)","v":0}]
["Total Capital expenditure",null,null,null,null,null,null,null,null,null,null,null,{"$f":"SUM(M7:M112)+SUM(M118:M125)","v":0},{"$f":"SUM(N7:N112)+SUM(N118:N125)","v":265641673},{"$f":"SUM(O7:O112)+SUM(O118:O125)","v":157914047},{"$f":"SUM(P7:P112)+SUM(P118:P125)","v":154040702},{"$f":"SUM(Q7:Q112)+SUM(Q118:Q125)","v":134334158}]
[{"$f":"head27a","v":"References"}]
["Must reconcile with Budgeted Capital Expenditure"]
["Projects that fall above the threshold values applicable to the municipality as identified in regulation 13 of the Municipal Budget and Reporting Regulations must be listed individually. Other projects by Function"]
["Asset class as per table A9 and asset sub-class as per table SA34"]
["GPS coordinates correct to seconds. Provide a logical starting point on networked infrastructure."]
["Distinguish projects approved in terms of MFMA section 19(1)(b) and MRRR Regulation 13",null,null,null,null,null,null,null,null,null,null,"check",{"$f":"SUM(SA34a!E175+SA34b!E175+SA34e!E175)-'SA36'!M127","v":113962780.80000001},{"$f":"SUM(SA34a!H175+SA34b!H175+SA34e!H175)-'SA36'!N127","v":0},{"$f":"SUM(SA34a!I175+SA34b!I175+SA34e!I175)-'SA36'!O127","v":0},{"$f":"SUM(SA34a!J175+SA34b!J175+SA34e!J175)-'SA36'!P127","v":0},{"$f":"SUM(SA34a!K175+SA34b!K175+SA34e!K175)-'SA36'!Q127","v":0}]
["Project Number consists of MSCOA Project Longcode and seq No (sample PC001002006002_00002)"]

{"sheet":"SA37","index":63,"n_rows":27,"n_cols":18,"rows_kept":27,"cut":false,"hidden":false,"merged":[[1,12,2,12],[1,13,1,14],[1,15,1,17]]}
[{"$f":"muni&\" - \"&TableA37","v":"Choose name from list - Supporting Table SA37 Projects delayed from previous financial year/s"}]
["R thousand",null,null,null,null,null,null,null,null,null,null,null,{"$f":"Head47","v":"Previous target year to complete"},{"$f":"Head2","v":"Current Year 2024/25"},null,{"$f":"Head3","v":"2025/26 Medium Term Revenue & Expenditure Framework"}]
["Function","Project name","Project number","Type","MTSF Service Outcome","IUDF","Own Strategic Objectives","Asset Class","Asset Sub-Class","Ward Location","GPS Longitude","GPS Lattitude",null,{"$f":"Head6","v":"Original Budget"},{"$f":"Head8","v":"Full Year Forecast"},{"$f":"Head9","v":"Budget Year 2025/26"},{"$f":"Head10","v":"Budget Year +1 2026/27"},{"$f":"Head11","v":"Budget Year +2 2027/28"}]
["Parent municipality:"]
["List all capital projects grouped by Function"]
[]
[]
[]
[]
[]
[]
[]
[]
["Entities:"]
["List all capital projects grouped by Entity"]
[]
["Entity Name"]
["Project name"]
[]
[]
[]
[]
[{"$f":"head27a","v":"References"}]
["List all projects with planned completion dates in current year that have been re-budgeted in the MTREF"]
["Asset class as per table A9 and asset sub-class as per table SA34"]
["GPS coordinates correct to seconds. Provide a logical starting point on networked infrastructure."]
["Project Number consists of MSCOA Project Longcode and seq No (sample PC001002006002_00002)"]

{"sheet":"SA38","index":64,"n_rows":262,"n_cols":17,"rows_kept":262,"cut":false,"hidden":false,"merged":[[1,12,1,13],[1,14,1,16]]}
[{"$f":"muni&\" - \"&TableA38","v":"Choose name from list - Supporting Table SA38 Consolidated detailed operational projects"}]
["R thousand",null,null,null,null,null,null,null,null,null,null,null,"Prior year outcomes",null,{"$f":"Head3","v":"2025/26 Medium Term Revenue & Expenditure Framework"}]
["Function","Project Description","Project Number","Type","MTSF Service Outcome","IUDF","Own Strategic Objectives","Asset Class","Asset Sub-Class","Ward Location","GPS Longitude","GPS Lattitude",{"$f":"Head5&\"    \"&Head1","v":"Audited Outcome    2023/24"},{"$f":"Head2 & \"        \"&Head8","v":"Current Year 2024/25        Full Year Forecast"},{"$f":"Head9","v":"Budget Year 2025/26"},{"$f":"Head10","v":"Budget Year +1 2026/27"},{"$f":"Head11","v":"Budget Year +2 2027/28"}]
["Parent municipality:"]
["List all operational projects grouped by Function"]
[]
["Electricity","Debt Impairment_1","PD000000000000000000000000000000000000_20257",null,"Responsive, accountable, effective and efficient local government",null,"Orderly land use",null,null,"Whole of the Municipality",0,0,0,6505489,0,0,0]
["Fleet Management","0575_Maintenance of Vehicles","PO002000000000000000000000000000000000_16654",null,"Responsive, accountable, effective and efficient local government",null,"Mechanical fleet maintenance plan",null,null,"Whole of the Municipality",0,0,0,3468903,0,0,0]
["Municipal Manager, Town Secretary and Chief Executive","_0200_10001: Employee Related Cost Senior Management","PO002000000000000000000000000000000000_00049",null,"Responsive, accountable, effective and efficient local government",null,"Continuous  compliance  with  regulatory  frameworks",null,null,"Whole of the Municipality",0,0,0,50906,0,0,0]
["Municipal Manager, Town Secretary and Chief Executive","0200_10001: Employee Related Cost Senior Management2","PO002000000000000000000000000000000000_00004",null,"Responsive, accountable, effective and efficient local government",null,"Continuous  compliance  with  regulatory  frameworks",null,null,"Whole of the Municipality",0,0,0,1484227,0,0,0]
["Security Services","_0441_1002: Employee Related Cost Municipal Staff ","PO002000000000000000000000000000000000_00324",null,"Responsive, accountable, effective and efficient local government",null,"Protect the environment and improve community well-being",null,null,"Whole of the Municipality",0,0,0,3796131,0,0,0]
["Sewerage","Debt Impairment_1","PD000000000000000000000000000000000000_20257",null,"Responsive, accountable, effective and efficient local government",null,"Orderly land use",null,null,"Whole of the Municipality",0,0,0,4953341,0,0,0]
["Solid Waste Removal","Debt Impairment_1","PD000000000000000000000000000000000000_20257",null,"Responsive, accountable, effective and efficient local government",null,"Orderly land use",null,null,"Whole of the Municipality",0,0,0,7394814,0,0,0]
["Administrative and Corporate Support","_0081_30000: Municipal Running Cost","PO002000000000000000000000000000000000_00029",null,"Responsive, accountable, effective and efficient local government",null,"Empowered workforce that is more efficient and effective",null,null,"Whole of the Municipality",0,0,0,1748330,1962958,1909970,1952705]
["Administrative and Corporate Support","_0300_10001: Employee Related Cost Senior Management","PO002000000000000000000000000000000000_00086",null,"Responsive, accountable, effective and efficient local government",null,"Empowered workforce that is more efficient and effective",null,null,"Whole of the Municipality",0,0,0,42716,1379877,1383845,1381200]
["Administrative and Corporate Support","_0307_22623: Operational  Maintenance Non-infrastructure Corrective Maintenance Planned Transport Assets_","PO001002001002010000000000000000000000_00090","Preventative Maintenance","Responsive, accountable, effective and efficient local government",null,"Improved and informed decision making","Transport Assets","Transport Assets","Whole of the Municipality",0,0,0,0,0,0,1]
["Administrative and Corporate Support","_0307_30000: Municipal Running Cost","PO002000000000000000000000000000000000_00091",null,"Responsive, accountable, effective and efficient local government",null,"Improved and informed decision making",null,null,"Whole of the Municipality",0,0,0,552299,602545,604278,603123]
["Administrative and Corporate Support","0051_30000: Salaries","PO002000000000000000000000000000000000_00022",null,"Responsive, accountable, effective and efficient local government",null,"Fully functional council committees",null,null,"Whole of the Municipality",0,0,0,9099296,9847488,12083340,11302669]
["Administrative and Corporate Support","0061_General expense","PO002000000000000000000000000000000000_00251",null,"Responsive, accountable, effective and efficient local government",null,"Informed and engaged stakeholders",null,null,"Whole of the Municipality",0,0,0,410000,490940,492352,491411]
["Administrative and Corporate Support","0061_Salaries","PO002000000000000000000000000000000000_00252",null,"Responsive, accountable, effective and efficient local government",null,"Informed and engaged stakeholders",null,null,"Whole of the Municipality",0,0,0,1901583,2038177,2086447,2129685]
["Administrative and Corporate Support","0081_10002: Employee Related Cost Municipal Staff","PO002000000000000000000000000000000000_00028",null,"Responsive, accountable, effective and efficient local government",null,"Empowered workforce that is more efficient and effective",null,null,"Whole of the Municipality",0,0,0,4370521,5593524,4750550,3858886]
["Administrative and Corporate Support","0307_Franking machines","PO002000000000000000000000000000000000_16649",null,"Responsive, accountable, effective and efficient local government",null,"Fully functional council committees",null,null,"Whole of the Municipality",0,0,0,0,436391,437646,436810]
["Administrative and Corporate Support","0307_Newsletters","PO002000000000000000000000000000000000_16648",null,"Responsive, accountable, effective and efficient local government",null,"Fully functional council committees",null,null,"Whole of the Municipality",0,0,0,500000,545489,547058,546012]
["Administrative and Corporate Support","0307_Salaries","PO002000000000000000000000000000000000_00261",null,"Responsive, accountable, effective and efficient local government",null,"Improved and informed decision making",null,null,"Whole of the Municipality",0,0,0,12729207,9797856,9833929,9823915]
["Administrative and Corporate Support","0501_Salaries2020","PO002000000000000000000000000000000000_00268",null,"Responsive, accountable, effective and efficient local government",null,"Fully functional council committees",null,null,"Whole of the Municipality",0,0,0,1357725,1495241,1499540,1496677]
["Asset Management","0215_Asset Management","PO002000000000000000000000000000000000_16651",null,"Responsive, accountable, effective and efficient local government",null,"Credible AFS Reporting",null,null,"Whole of the Municipality",0,0,0,8558670,10045955,11365654,12462225]
["Asset Management","Asset Depreciation Expence","PO002000000000000000000000000000000000_16453",null,"Responsive, accountable, effective and efficient local government",null,"Sustainable assets",null,null,"Whole of the Municipality",0,0,0,9371064,978070,1022083,1022084]
["Cemeteries, Funeral Parlours and Crematoriums","_0421_10002: Employee Related Cost Municipal Staff","PO002000000000000000000000000000000000_00118",null,"Responsive, accountable, effective and efficient local government",null,"Improved mental and physical well-being",null,null,"Whole of the Municipality",0,0,0,14027790,14843692,15352510,17842244]
["Cemeteries, Funeral Parlours and Crematoriums","_0421_21720: Operational  Maintenance Non-infrastructure Preventative Maintenance Interval Based Community Assets Sport and Recreation Facilities Outdoor Facilities Land_","PO001002001001002002002001000000000000_00119","Preventative Maintenance","Responsive, accountable, effective and efficient local government",null,"Improved mental and physical well-being","Land","Land","Whole of the Municipality",0,0,0,223825,244188,244891,244422]
["Cemeteries, Funeral Parlours and Crematoriums","_0421_30000: Municipal Running Cost","PO002000000000000000000000000000000000_00123",null,"Responsive, accountable, effective and efficient local government",null,"Improved mental and physical well-being",null,null,"Whole of the Municipality",0,0,0,410189,447508,448797,447939]
["Cemeteries, Funeral Parlours and Crematoriums","_0421_30000: Municipal Running Cost_1","PO002000000000000000000000000000000000_00124",null,"Responsive, accountable, effective and efficient local government",null,"Improved mental and physical well-being",null,null,"Whole of the Municipality",0,0,0,443003,484398,505762,484863]
["Cemeteries, Funeral Parlours and Crematoriums","_0421_30000: Municipal Running Cost_2","PO002000000000000000000000000000000000_00127",null,"Responsive, accountable, effective and efficient local government",null,"Improved mental and physical well-being",null,null,"Whole of the Municipality",0,0,0,441324,481474,502709,481935]
["Cemeteries, Funeral Parlours and Crematoriums","_0421_30000: Municipal Running Cost_9","PO002000000000000000000000000000000000_00128",null,"Responsive, accountable, effective and efficient local government",null,"Improved mental and physical well-being",null,null,"Whole of the Municipality",0,0,0,57881,63146,63328,63207]
["Cemeteries, Funeral Parlours and Crematoriums","Asset Depreciation Expence","PO002000000000000000000000000000000000_16453",null,"Responsive, accountable, effective and efficient local government",null,"Sustainable assets",null,null,"Whole of the Municipality",0,0,0,219397,229490,239817,239817]
["Community Halls and Facilities","_0400_10001: Employee Related Cost Senior Management","PO002000000000000000000000000000000000_00106",null,"Responsive, accountable, effective and efficient local government",null,"Ownership of decision making",null,null,"Whole of the Municipality",0,0,0,0,1306147,1309902,1307399]
["Community Halls and Facilities","_0401_30000: Municipal Running Cost","PO002000000000000000000000000000000000_00109",null,"Responsive, accountable, effective and efficient local government",null,"Fully functional council committees",null,null,"Whole of the Municipality",0,0,0,6700,7310,7633,7317]
["Community Halls and Facilities","0400_Queue Management Services","PO002000000000000000000000000000000000_16634",null,"Responsive, accountable, effective and efficient local government",null,"Community capacity",null,null,"Whole of the Municipality",0,0,0,500000,0,0,1]
["Community Halls and Facilities","0400_Salaries","PO002000000000000000000000000000000000_00262",null,"Responsive, accountable, effective and efficient local government",null,"Ownership of decision making",null,null,"Whole of the Municipality",0,0,0,0,0,0,1]
["Community Halls and Facilities","0401_Salaries","PO002000000000000000000000000000000000_00263",null,"Responsive, accountable, effective and efficient local government",null,"Fully functional council committees",null,null,"Whole of the Municipality",0,0,0,630290,694028,696026,694695]
["Community Halls and Facilities","Asset Depreciation Expence","PO002000000000000000000000000000000000_16453",null,"Responsive, accountable, effective and efficient local government",null,"Sustainable assets",null,null,"Whole of the Municipality",0,0,0,3002913,3141045,3282394,3282394]
["Disaster Management","0441_Covid-19 Expence_New","PO003014003000000000000000000000000000_03806","Work Streams","Responsive, accountable, effective and efficient local government",null,"Protect the environment and improve community well-being",null,null,"Whole of the Municipality",0,0,0,400000,436391,455638,436810]
["Economic Development/Planning","_0630_10002: Employee Related Cost Municipal Staff","PO002000000000000000000000000000000000_00248",null,"Responsive, accountable, effective and efficient local government",null,"Job Creation",null,null,"Whole of the Municipality",0,0,0,3161046,3368278,3456283,3536894]
["Economic Development/Planning","_0630_30000: Municipal Running Cost","PO002000000000000000000000000000000000_00249",null,"Responsive, accountable, effective and efficient local government",null,"Job Creation",null,null,"Whole of the Municipality",0,0,0,661648,732753,734862,733456]
["Economic Development/Planning","_0630_70000: Operational  Typical Work Streams Local Economic Development Compilation of Plan_","PO003023001000000000000000000000000000_00250","Work Streams","Responsive, accountable, effective and efficient local government",null,"Job Creation",null,null,"Whole of the Municipality",0,0,0,600532,655168,657052,655796]
["Electricity","_0553_10002: Employee Related Cost Municipal Staff","PO002000000000000000000000000000000000_00196",null,"Responsive, accountable, effective and efficient local government",null,"Sound maintenance plan for electricity",null,null,"Whole of the Municipality",0,0,0,18374397,20322733,21047745,21749801]
["Electricity","_0553_20005: Operational  Maintenance Infrastructure Preventative Maintenance Interval Based Electrical Infrastructure Power Plants Electrical Equipment_","PO001001001001001001005000000000000000_00197","Preventative Maintenance","Responsive, accountable, effective and efficient local government",null,"Sound maintenance plan for electricity",null,null,"Whole of the Municipality",0,0,0,69749,72748,76095,79443]
["Electricity","_0553_22623: Operational  Maintenance Non-infrastructure Corrective Maintenance Planned Transport Assets_","PO001002001002010000000000000000000000_00199","Preventative Maintenance","Responsive, accountable, effective and efficient local government",null,"Sound maintenance plan for electricity","Transport Assets","Transport Assets","Whole of the Municipality",0,0,0,0,0,0,1]
["Electricity","_0553_30000: Municipal Running Cost","PO002000000000000000000000000000000000_00200",null,"Responsive, accountable, effective and efficient local government",null,"Sound maintenance plan for electricity",null,null,"Administrative or Head Office (Including Satellite Offices)",0,0,0,0,0,3,3]
["Electricity","_0553_30000: Municipal Running Cost","PO002000000000000000000000000000000000_00200",null,"Responsive, accountable, effective and efficient local government",null,"Sound maintenance plan for electricity",null,null,"Administrative or Head Office (Including Satellite Offices)",0,0,0,6154792,0,3,3]
["Electricity","_0553_30000: Municipal Running Cost","PO002000000000000000000000000000000000_00200",null,"Responsive, accountable, effective and efficient local government",null,"Sound maintenance plan for electricity",null,null,"Whole of the Municipality",0,0,0,0,6363283,6290487,5205879]
["Electricity","_0553_30000: Municipal Running Cost","PO002000000000000000000000000000000000_00200",null,"Responsive, accountable, effective and efficient local government",null,"Sound maintenance plan for electricity",null,null,"Whole of the Municipality",0,0,0,6154792,6363283,6290487,5205879]
["Electricity","_0553_30000: Municipal Running Cost_1","PO002000000000000000000000000000000000_00201",null,"Responsive, accountable, effective and efficient local government",null,"Sound maintenance plan for electricity",null,null,"Whole of the Municipality",0,0,0,142447,155406,162260,155555]
["Electricity","0553_ Electricity Bulk","PO002000000000000000000000000000000000_10133",null,"Responsive, accountable, effective and efficient local government",null,"Energy Efficiency",null,null,"Ward 2",0,0,0,184166362,205013994,214444638,223880202]
["Electricity","0553_Repairs and Maintenance -Electricity","PO001001001002001008001000000000000000_10134","Preventative Maintenance","Responsive, accountable, effective and efficient local government",null,"Energy Efficiency",null,null,"Whole of the Municipality",0,0,0,10574,11029,11536,12044]
["Electricity","0553_Solar Plant Technucal Report","PO004002001008000000000000000000000000_16621","New","Responsive, accountable, effective and efficient local government",null,"Energy Efficiency",null,null,"Whole of the Municipality",0,0,0,400000,417200,436391,455593]
["Electricity","0563_NETWORK ELECTRICAL","PO001001001001001008001000000000000000_00630","Preventative Maintenance","Responsive, accountable, effective and efficient local government",null,"Reduce Electricity Losses",null,null,"Whole of the Municipality",0,0,0,1998138,2122050,2218027,2238657]
["Electricity","Asset Depreciation","PO002000000000000000000000000000000000_16395",null,"Responsive, accountable, effective and efficient local government",null,"Sustainable environment and infrastructure",null,null,"Whole of the Municipality",0,0,0,6265281,6553484,6848391,6848391]
["Electricity","Asset Depreciation Expence","PO002000000000000000000000000000000000_16453",null,"Responsive, accountable, effective and efficient local government",null,"Sustainable assets",null,null,"Whole of the Municipality",0,0,0,134937,141144,147496,147496]
["Finance","_0200_10001: Employee Related Cost Senior Management","PO002000000000000000000000000000000000_00049",null,"Responsive, accountable, effective and efficient local government",null,"Continuous  compliance  with  regulatory  frameworks",null,null,"Whole of the Municipality",0,0,0,0,55537,55696,55590]
["Finance","_0200_30000: Municipal Running Cost","PO002000000000000000000000000000000000_00050",null,"Responsive, accountable, effective and efficient local government",null,"Continuous  compliance  with  regulatory  frameworks",null,null,"Whole of the Municipality",0,0,0,0,7599124,7999872,8297395]
["Finance","_0205_70000: Operational  Typical Work Streams Capacity Building Training and Development Workshops Seminars and Subject Matter Training_","PO003004010000000000000000000000000000_00056","Work Streams","Responsive, accountable, effective and efficient local government",null,"Continuous  compliance  with  regulatory  frameworks",null,null,"Whole of the Municipality",0,0,0,163177,170194,178023,185856]
["Finance","_0211_10002: Employee Related Cost Municipal Staff","PO002000000000000000000000000000000000_00059",null,"Responsive, accountable, effective and efficient local government",null,"Continuous  compliance  with  regulatory  frameworks",null,null,"Whole of the Municipality",0,0,0,4898223,6381891,6542861,6695306]
["Finance","_0211_30000: Municipal Running Cost","PO002000000000000000000000000000000000_00060",null,"Responsive, accountable, effective and efficient local government",null,"Continuous  compliance  with  regulatory  frameworks",null,null,"Whole of the Municipality",0,0,0,0,0,0,1]
["Finance","_0211_30000: Municipal Running Cost_1","PO002000000000000000000000000000000000_00061",null,"Responsive, accountable, effective and efficient local government",null,"Continuous  compliance  with  regulatory  frameworks",null,null,"Whole of the Municipality",0,0,0,78912,64273,67107,64334]
["Finance","_0223_10002: Employee Related Cost Municipal Staff","PO002000000000000000000000000000000000_00064",null,"Responsive, accountable, effective and efficient local government",null,"Continuous  compliance  with  regulatory  frameworks",null,null,"Whole of the Municipality",0,0,0,5763233,6345850,7517987,8677919]
["Finance","_0223_30000: Municipal Running Cost","PO002000000000000000000000000000000000_00067",null,"Responsive, accountable, effective and efficient local government",null,"Continuous  compliance  with  regulatory  frameworks",null,null,"Whole of the Municipality",0,0,0,5771529,6027934,6036187,6028113]
["Finance","_0223_30000: Municipal Running Cost_1","PO002000000000000000000000000000000000_00068",null,"Responsive, accountable, effective and efficient local government",null,"Continuous  compliance  with  regulatory  frameworks",null,null,"Whole of the Municipality",0,0,0,13401,14620,15265,14634]
["Finance","_0235_10002: Employee Related Cost Municipal Staff","PO002000000000000000000000000000000000_00071",null,"Responsive, accountable, effective and efficient local government",null,"Continuous  compliance  with  regulatory  frameworks",null,null,"Whole of the Municipality",0,0,0,11648377,13430914,14805746,16159380]
["Finance","_0235_30000: Municipal Running Cost","PO002000000000000000000000000000000000_00072",null,"Responsive, accountable, effective and efficient local government",null,"Continuous  compliance  with  regulatory  frameworks",null,null,"Whole of the Municipality",0,0,0,3108239,3783650,3906262,4023220]
["Finance","_0235_30000: Municipal Running Cost_1","PO002000000000000000000000000000000000_00073",null,"Responsive, accountable, effective and efficient local government",null,"Continuous  compliance  with  regulatory  frameworks",null,null,"Whole of the Municipality",0,0,0,6363,6942,7248,6949]
["Finance","_0235_30000: Municipal Running Cost_2","PO002000000000000000000000000000000000_00074",null,"Responsive, accountable, effective and efficient local government",null,"Continuous  compliance  with  regulatory  frameworks",null,null,"Whole of the Municipality",0,0,0,285254,327570,342017,327884]
["Finance","_0235_70000: Operational  Typical Work Streams Capacity Building Training and Development Workshops Seminars and Subject Matter Training_","PO003004010000000000000000000000000000_00075","Work Streams","Responsive, accountable, effective and efficient local government",null,"Continuous  compliance  with  regulatory  frameworks",null,null,"Whole of the Municipality",0,0,0,12726,13883,13923,13897]
["Finance","_0235_70000: Operational  Typical Work Streams Property Rates Act Implementation Valuation _","PO003036003000000000000000000000000000_00076","Work Streams","Responsive, accountable, effective and efficient local government",null,"Continuous  compliance  with  regulatory  frameworks",null,null,"Whole of the Municipality",0,0,0,2500000,3129000,3138000,16200001]
["Finance","_0441_1002: Employee Related Cost Municipal Staff","PO002000000000000000000000000000000000_00324",null,"Responsive, accountable, effective and efficient local government",null,"Protect the environment and improve community well-being",null,null,"Whole of the Municipality",0,0,0,0,4087756,4099512,4091676]
["Finance","0200_10001: Employee Related Cost Senior Management2","PO002000000000000000000000000000000000_00004",null,"Responsive, accountable, effective and efficient local government",null,"Continuous  compliance  with  regulatory  frameworks",null,null,"Whole of the Municipality",0,0,0,0,1634616,1639318,1636184]
["Finance","0205_30000: Municipal Running Costs","PO002000000000000000000000000000000000_00620",null,"Responsive, accountable, effective and efficient local government",null,"Continuous  compliance  with  regulatory  frameworks",null,null,"Whole of the Municipality",0,0,0,734996,766601,801864,837147]
["Finance","0205_Salaries","PO002000000000000000000000000000000000_00259",null,"Responsive, accountable, effective and efficient local government",null,"Continuous  compliance  with  regulatory  frameworks",null,null,"Whole of the Municipality",0,0,0,901829,963206,1020113,976997]
["Finance","0235_BI System and Revenue enhancement Tool","PO005003009000000000000000000000000000_16630","New","Responsive, accountable, effective and efficient local government",null,"Free basic services","Machinery and Equipment","Machinery and Equipment","Whole of the Municipality",0,0,0,0,0,0,1]
["Finance","0235_Contracted Services Prepaid Electricity","PO002000000000000000000000000000000000_10123",null,"Responsive, accountable, effective and efficient local government",null,"Free basic services",null,null,"Whole of the Municipality",0,0,0,16500000,11460000,12941160,12422571]
["Finance","0235_Nicks Collections","PO002000000000000000000000000000000000_10122",null,"Responsive, accountable, effective and efficient local government",null,"Free basic services",null,null,"Whole of the Municipality",0,0,0,1500000,2607500,2615000,2730060]
["Finance","Asset Depreciation","PO002000000000000000000000000000000000_16395",null,"Responsive, accountable, effective and efficient local government",null,"Sustainable environment and infrastructure",null,null,"Whole of the Municipality",0,0,0,0,9824064,10239265,10239265]
["Finance","Asset Depreciation Expence","PO002000000000000000000000000000000000_16453",null,"Responsive, accountable, effective and efficient local government",null,"Sustainable assets",null,null,"Whole of the Municipality",0,0,0,0,0,0,1]
["Finance","Debt Impairment_1","PD000000000000000000000000000000000000_20257",null,"Responsive, accountable, effective and efficient local government",null,"Orderly land use",null,null,"Whole of the Municipality",0,0,0,9932557,39940808,41682945,39198814]
["Finance","Debt Write-off","PO002000000000000000000000000000000000_20213",null,"Responsive, accountable, effective and efficient local government",null,"Free basic services",null,null,"Administrative or Head Office (Including Satellite Offices)",0,0,0,7,8200000,8900000,10600004]
["Finance","Disaster Relief Grant","PO002000000000000000000000000000000000_20235",null,"Responsive, accountable, effective and efficient local government",null,"Protect the environment and improve community well-being",null,null,"Whole of the Municipality",0,0,0,297124,0,0,1]
["Finance","Gains and Losses Impairment Asset Management","PD000000000000000000000000000000000000_11083",null,"Responsive, accountable, effective and efficient local government",null,"Continuous  compliance  with  regulatory  frameworks",null,null,"Whole of the Municipality",0,0,0,0,0,14,14]
["Finance","Municipal Running Cost_Operational Cost:Cash Discount","PO002000000000000000000000000000000000_20248",null,"Responsive, accountable, effective and efficient local government",null,"Credible AFS Reporting",null,null,"Whole of the Municipality",0,0,0,0,0,0,1]
["Finance","Small Differences","PO002000000000000000000000000000000000_16537",null,"Responsive, accountable, effective and efficient local government",null,"Clean audit",null,null,"Administrative or Head Office (Including Satellite Offices)",0,0,0,1000,1042,1088,1043]
["Fleet Management","0575_ Fleet Management Licence and Registrations","PO002000000000000000000000000000000000_16653",null,"Responsive, accountable, effective and efficient local government",null,"Mechanical fleet maintenance plan",null,null,"Whole of the Municipality",0,0,0,156222,170435,170925,270598]
["Fleet Management","0575_Fleet Management Employee Related Cost","PO002000000000000000000000000000000000_16652",null,"Responsive, accountable, effective and efficient local government",null,"Mechanical fleet maintenance plan",null,null,"Whole of the Municipality",0,0,0,5633130,4097840,5109629,4317276]
["Fleet Management","0575_Fleet Management Inventory Consumed","PO002000000000000000000000000000000000_16655",null,"Responsive, accountable, effective and efficient local government",null,"Mechanical fleet maintenance plan",null,null,"Whole of the Municipality",0,0,0,2179274,2377539,2482397,3411785]
["Governance Function","0001_Financial Misconduct Board","PO002000000000000000000000000000000000_20322",null,"Responsive, accountable, effective and efficient local government",null,"Clean audit",null,null,"Whole of the Municipality",0,0,0,0,200000,209200,218405]
["Governance Function","0021_10002: Employee Related Cost Municipal Staff","PO002000000000000000000000000000000000_00013",null,"Responsive, accountable, effective and efficient local government",null,"Clean audit",null,null,"Whole of the Municipality",0,0,0,1931504,2014559,2107228,2180045]
["Governance Function","0021_30000: Municipal Running Cost","PO002000000000000000000000000000000000_00014",null,"Responsive, accountable, effective and efficient local government",null,"Clean audit",null,null,"Whole of the Municipality",0,0,0,398683,664065,694615,725178]
["Governance Function","0021_70000: Operational  Typical Work Streams Capacity Building Training and Development Workshops Seminars and Subject Matter Training_","PO003004010000000000000000000000000000_00015","Work Streams","Responsive, accountable, effective and efficient local government",null,"Clean audit",null,null,"Whole of the Municipality",0,0,0,15702,16377,17131,17884]
["Governance Function","0021_Audit  Committe Fees","PO002000000000000000000000000000000000_10131",null,"Responsive, accountable, effective and efficient local government",null,"Clean audit",null,null,"Whole of the Municipality",0,0,0,625114,403753,422325,440907]
["Governance Function","0021_Software Licenses","PO002000000000000000000000000000000000_20321",null,"Responsive, accountable, effective and efficient local government",null,"Clean audit",null,null,"Whole of the Municipality",0,0,0,0,850000,889100,928220]
["Housing","_0663_10002: Employee Related Cost Municipal Staff","PO002000000000000000000000000000000000_00155",null,"Responsive, accountable, effective and efficient local government",null,"Safe and formalised housing structures",null,null,"Whole of the Municipality",0,0,0,4452531,4747792,4880403,5003544]
["Housing","_0663_30000: Municipal Running Cost","PO002000000000000000000000000000000000_00157",null,"Responsive, accountable, effective and efficient local government",null,"Safe and formalised housing structures",null,null,"Whole of the Municipality",0,0,0,4746,5178,5407,5183]
["Human Resources","_0321_10002: Employee Related Cost Municipal Staff","PO002000000000000000000000000000000000_00095",null,"Responsive, accountable, effective and efficient local government",null,"Competent and skilled workforce",null,null,"Whole of the Municipality",0,0,0,10857969,10897741,11132270,14337261]
["Human Resources","_0321_30000: Municipal Running Cost","PO002000000000000000000000000000000000_00096",null,"Responsive, accountable, effective and efficient local government",null,"Competent and skilled workforce",null,null,"Whole of the Municipality",0,0,0,496143,650379,652250,651003]
["Human Resources","_0321_30000: Municipal Running Cost_12","PO002000000000000000000000000000000000_00097",null,"Responsive, accountable, effective and efficient local government",null,"Competent and skilled workforce",null,null,"Whole of the Municipality",0,0,0,1047067,1060802,1109598,1158420]
["Human Resources","_0321_30000: Municipal Running Cost_2","PO002000000000000000000000000000000000_00098",null,"Responsive, accountable, effective and efficient local government",null,"Competent and skilled workforce",null,null,"Whole of the Municipality",0,0,0,1578210,1612695,1617334,1614241]
["Human Resources","0321_Professional Bodies,Membership & Subscription","PO002000000000000000000000000000000000_16650",null,"Responsive, accountable, effective and efficient local government",null,"Competent and skilled workforce",null,null,"Whole of the Municipality",0,0,0,2871292,3132516,3141526,4135519]
["Information Technology","_0307_30000: Municipal Running Cost","PO002000000000000000000000000000000000_00091",null,"Responsive, accountable, effective and efficient local government",null,"Improved and informed decision making",null,null,"Whole of the Municipality",0,0,0,13180050,9126198,11310802,11759070]
["Information Technology","0309_30000: Municipal Running Costs","PO002000000000000000000000000000000000_00369",null,"Responsive, accountable, effective and efficient local government",null,"Business intelligence",null,null,"Whole of the Municipality",0,0,0,6216190,8735946,8870260,8857348]
["Information Technology","0309_Salaries _IT","PO002000000000000000000000000000000000_00345",null,"Responsive, accountable, effective and efficient local government",null,"Business intelligence",null,null,"Whole of the Municipality",0,0,0,3030990,2979127,3525565,2986223]
["Legal Services","_0330_10002: Employee Related Cost Municipal Staff","PO002000000000000000000000000000000000_00102",null,"Responsive, accountable, effective and efficient local government",null,"Accountable and responsible administration",null,null,"Whole of the Municipality",0,0,0,2144828,2377152,3384250,4379986]
["Legal Services","_0330_30000: Municipal Running Cost","PO002000000000000000000000000000000000_00103",null,"Responsive, accountable, effective and efficient local government",null,"Accountable and responsible administration",null,null,"Whole of the Municipality",0,0,0,7514801,5546051,5562598,5552626]
["Legal Services","_0330_70000: Operational  Typical Work Streams Capacity Building Training and Development Workshops Seminars and Subject Matter Training_","PO003004010000000000000000000000000000_00104","Work Streams","Responsive, accountable, effective and efficient local government",null,"Accountable and responsible administration",null,null,"Whole of the Municipality",0,0,0,6624,7227,7248,7234]
["Libraries and Archives","_0413_10002: Employee Related Cost Municipal Staff","PO002000000000000000000000000000000000_00111",null,"Responsive, accountable, effective and efficient local government",null,"Free access to information sources and resources",null,null,"Whole of the Municipality",0,0,0,10121503,10766781,11090366,13395029]
["Libraries and Archives","_0413_30000: Municipal Running Cost_1","PO002000000000000000000000000000000000_00114",null,"Responsive, accountable, effective and efficient local government",null,"Free access to information sources and resources",null,null,"Whole of the Municipality",0,0,0,1341,1462,1466,1464]
["Libraries and Archives","0413_30000: Municipal Running Costs","PO002000000000000000000000000000000000_00362",null,"Responsive, accountable, effective and efficient local government",null,"Free access to information sources and resources",null,null,"Whole of the Municipality",0,0,0,259824,123054,126112,123174]
["Libraries and Archives","Asset Depreciation Expence","PO002000000000000000000000000000000000_16453",null,"Responsive, accountable, effective and efficient local government",null,"Sustainable assets",null,null,"Whole of the Municipality",0,0,0,394654,412808,431384,431384]
["Licensing and Control of Animals","_0453_10002: Employee Related Cost Municipal Staff","PO002000000000000000000000000000000000_00149",null,"Responsive, accountable, effective and efficient local government",null,"Competent drivers and roadworthy vehicles on public roads",null,null,"Whole of the Municipality",0,0,0,12030151,12720254,13163519,13591244]
["Licensing and Control of Animals","_0453_22605: Operational  Maintenance Non-infrastructure Corrective Maintenance Planned Furniture and Office Equipment_","PO001002001002005000000000000000000000_00150","Preventative Maintenance","Responsive, accountable, effective and efficient local government",null,"Competent drivers and roadworthy vehicles on public roads","Furniture and Office Equipment","Furniture and Office Equipment","Whole of the Municipality",0,0,0,209800,228887,229546,229107]
["Licensing and Control of Animals","_0453_30000: Municipal Running Cost","PO002000000000000000000000000000000000_00151",null,"Responsive, accountable, effective and efficient local government",null,"Competent drivers and roadworthy vehicles on public roads",null,null,"Whole of the Municipality",0,0,0,90355,98576,102866,98671]
["Licensing and Control of Animals","_0453_30000: Municipal Running Cost_1","PO002000000000000000000000000000000000_00152",null,"Responsive, accountable, effective and efficient local government",null,"Competent drivers and roadworthy vehicles on public roads",null,null,"Whole of the Municipality",0,0,0,152714,166608,173956,166768]
["Mayor and Council","_0101_30000: Municipal Running Cost","PO002000000000000000000000000000000000_00031",null,"Responsive, accountable, effective and efficient local government",null,"Community involvement in council affairs",null,null,"Whole of the Municipality",0,0,0,6455124,3940333,4061838,4176766]
["Mayor and Council","_0101_30000: Municipal Running Cost_11","PO002000000000000000000000000000000000_00033",null,"Responsive, accountable, effective and efficient local government",null,"Community involvement in council affairs",null,null,"Whole of the Municipality",0,0,0,76036,82954,83193,83033]
["Mayor and Council","_0101_30000: Municipal Running Cost_12","PO002000000000000000000000000000000000_00034",null,"Responsive, accountable, effective and efficient local government",null,"Community involvement in council affairs",null,null,"Whole of the Municipality",0,0,0,0,0,0,1]
["Mayor and Council","_0101_70000: Operational  Typical Work Streams Capacity Building Training and Development Capacity Building Councillors_","PO003004002000000000000000000000000000_00037","Work Streams","Responsive, accountable, effective and efficient local government",null,"Community involvement in council affairs",null,null,"Whole of the Municipality",0,0,0,111598,121750,122101,121867]
["Mayor and Council","_0101_70000: Operational  Typical Work Streams Capacity Building Training and Development Workshops Seminars and Subject Matter Training_","PO003004010000000000000000000000000000_00038","Work Streams","Responsive, accountable, effective and efficient local government",null,"Community involvement in council affairs",null,null,"Whole of the Municipality",0,0,0,66238,72264,72472,72334]
["Mayor and Council","_0101_70000: Operational  Typical Work Streams Community Development Gender Development_","PO003007011000000000000000000000000000_00041","Work Streams","Responsive, accountable, effective and efficient local government",null,"Community involvement in council affairs",null,null,"Whole of the Municipality",0,0,0,330000,545489,547058,546012]
["Mayor and Council","_0101_70000: Operational  Typical Work Streams Community Development Youth Projects_","PO003007017002000000000000000000000000_00042","Work Streams","Responsive, accountable, effective and efficient local government",null,"Community involvement in council affairs",null,null,"Whole of the Municipality",0,0,0,200000,545489,547058,546012]
["Mayor and Council","_0101_70000: Operational  Typical Work Streams Sport Development Marathons Sport and Recreation _","PO003043002000000000000000000000000000_00043","Work Streams","Responsive, accountable, effective and efficient local government",null,"Community involvement in council affairs",null,null,"Whole of the Municipality",0,0,0,500167,545670,547240,546194]
["Mayor and Council","_0101_70000: Operational  Typical Work Streams Ward Committees Meetings_","PO003048002000000000000000000000000000_00044","Work Streams","Responsive, accountable, effective and efficient local government",null,"Community involvement in council affairs",null,null,"Whole of the Municipality",0,0,0,1754666,2023399,2029219,2025339]
["Mayor and Council","0011_Development of Lephalale Economic Growth Strategy for Vision 2050 - Lephalale Development Agency","PO002000000000000000000000000000000000_16632",null,"Responsive, accountable, effective and efficient local government",null,"Good stake holder relations",null,null,"Whole of the Municipality",0,0,0,3000000,11382075,0,1]
["Mayor and Council","0011_Development of Lephalale Economic Growth Strategy for Vision 2050 - Lephalale Development Agency","PO002000000000000000000000000000000000_16632",null,"Responsive, accountable, effective and efficient local government",null,"Good stake holder relations",null,null,"Whole of the Municipality",0,0,0,3000000,11382075,0,1]
["Mayor and Council","0101_10001: Employee Related Cost Senior Management1","PO002000000000000000000000000000000000_00003",null,"Responsive, accountable, effective and efficient local government",null,"Community involvement in council affairs",null,null,"Whole of the Municipality",0,0,0,13679877,14130726,14712618,15354690]
["Mayor and Council","0101_70000_Operational Typical Work Streams MPAC Activities","PO002000000000000000000000000000000000_03760",null,"Responsive, accountable, effective and efficient local government",null,"Community involvement in council affairs",null,null,"Whole of the Municipality",0,0,0,100000,109098,109412,109202]
["Mayor and Council","0101_70000_Operational Typical Work Streams_Grants and Subsidies_AGRI CONTRIBUTION","PO003001001000000000000000000000000000_03762","Work Streams","Responsive, accountable, effective and efficient local government",null,"Community involvement in council affairs",null,null,"Whole of the Municipality",0,0,0,125689,131094,137124,143157]
["Mayor and Council","0101_70000_Operational Typical Work Streams_Grants and Subsidies_Community Safety Forum","PO003007002000000000000000000000000000_03763","Work Streams","Responsive, accountable, effective and efficient local government",null,"Community involvement in council affairs",null,null,"Whole of the Municipality",0,0,0,125689,131094,137124,143157]
["Mayor and Council","0101_70000_Operational Typical Work Streams_Grants and Subsidies_DONATIONS ORGANISATIONS","PO002000000000000000000000000000000000_00619",null,"Responsive, accountable, effective and efficient local government",null,"Community involvement in council affairs",null,null,"Whole of the Municipality",0,0,0,828565,1174094,1228102,1282138]
["Mayor and Council","0101_70000_Operational Typical Work Streams_Grants and Subsidies_Enterprise Development","PO003007002000000000000000000000000000_00635","Work Streams","Responsive, accountable, effective and efficient local government",null,"Fully functional council committees",null,null,"Whole of the Municipality",0,0,0,300000,312900,327293,341694]
["Mayor and Council","0101_70000_Operational Typical Work Streams_Grants and Subsidies_MOGOL CLUB","PO003043004000000000000000000000000000_03765","Work Streams","Responsive, accountable, effective and efficient local government",null,"Community involvement in council affairs",null,null,"Whole of the Municipality",0,0,0,125689,131094,137124,143157]
["Mayor and Council","0101_70000_Operational Typical Work Streams_Grants and Subsidies_SPCA","PO002000000000000000000000000000000000_03767",null,"Responsive, accountable, effective and efficient local government",null,"Community involvement in council affairs",null,null,"Whole of the Municipality",0,0,0,125689,131094,137124,143157]
["Mayor and Council","0101_70000_Operational Typical Work Streams_Grants and Subsidies_SPORT CLUB MARAPONG","PO003043003000000000000000000000000000_03768","Work Streams","Responsive, accountable, effective and efficient local government",null,"Community involvement in council affairs",null,null,"Whole of the Municipality",0,0,0,125692,131097,137127,143161]
["Mayor and Council","0101_70000_Operational Typical Work Streams_HIV/AIDS Programmes","PO003002002001000000000000000000000000_03769","Work Streams","Responsive, accountable, effective and efficient local government",null,"Community involvement in council affairs",null,null,"Whole of the Municipality",0,0,0,175981,115623,115955,115734]
["Mayor and Council","0101_Chief Whip:Remuneration of Councillors","PO002000000000000000000000000000000000_09062",null,"Responsive, accountable, effective and efficient local government",null,"Community involvement in council affairs",null,null,"Whole of the Municipality",0,0,0,888583,1039957,1087527,1135091]
["Mayor and Council","0101_Irrecoverable Debts Written Off","PO002000000000000000000000000000000000_16538",null,"Responsive, accountable, effective and efficient local government",null,"Provide quality and wellmaintained infrastructural\r\nservices in all municipal areas",null,null,"Whole of the Municipality",0,0,0,16584482,7300000,7313000,6326371]
["Mayor and Council","0101_Mayor:Remuneration of Councillors","PO002000000000000000000000000000000000_09060",null,"Responsive, accountable, effective and efficient local government",null,"Community involvement in council affairs",null,null,"Whole of the Municipality",0,0,0,1255525,1245170,1297937,1367754]
["Mayor and Council","0101_Municipal Running Cost_","PO002000000000000000000000000000000000_00256",null,"Responsive, accountable, effective and efficient local government",null,"Community involvement in council affairs",null,null,"Whole of the Municipality",0,0,0,8214659,8294168,8652716,9008896]
["Mayor and Council","0101_Salaries","PO002000000000000000000000000000000000_00257",null,"Responsive, accountable, effective and efficient local government",null,"Community involvement in council affairs",null,null,"Whole of the Municipality",0,0,0,118644,129437,129810,129561]
["Mayor and Council","0101_Speaker:Remuneration of Councillors","PO002000000000000000000000000000000000_09061",null,"Responsive, accountable, effective and efficient local government",null,"Community involvement in council affairs",null,null,"Whole of the Municipality",0,0,0,944609,972285,1016711,993307]
["Municipal Manager, Town Secretary and Chief Executive","_0200_30000: Municipal Running Cost","PO002000000000000000000000000000000000_00050",null,"Responsive, accountable, effective and efficient local government",null,"Continuous  compliance  with  regulatory  frameworks",null,null,"Whole of the Municipality",0,0,0,6952270,92384,96458,92472]
["Municipal Manager, Town Secretary and Chief Executive","_0300_10001: Employee Related Cost Senior Management","PO002000000000000000000000000000000000_00086",null,"Responsive, accountable, effective and efficient local government",null,"Empowered workforce that is more efficient and effective",null,null,"Whole of the Municipality",0,0,0,1272770,46141,46274,46186]
["Municipal Manager, Town Secretary and Chief Executive","_0300_30000: Municipal Running Cost","PO002000000000000000000000000000000000_00087",null,"Responsive, accountable, effective and efficient local government",null,"Empowered workforce that is more efficient and effective",null,null,"Whole of the Municipality",0,0,0,186728,749205,781651,749923]
["Municipal Manager, Town Secretary and Chief Executive","_0400_10001: Employee Related Cost Senior Management","PO002000000000000000000000000000000000_00106",null,"Responsive, accountable, effective and efficient local government",null,"Ownership of decision making",null,null,"Whole of the Municipality",0,0,0,1232205,50528,50673,50577]
["Municipal Manager, Town Secretary and Chief Executive","_0400_30000: Municipal Running Cost","PO002000000000000000000000000000000000_00107",null,"Responsive, accountable, effective and efficient local government",null,"Ownership of decision making",null,null,"Whole of the Municipality",0,0,0,12726,66622,32036,32010]
["Municipal Manager, Town Secretary and Chief Executive","_0500_10001: Employee Related Cost Senior Management","PO002000000000000000000000000000000000_00169",null,"Responsive, accountable, effective and efficient local government",null,"Projects and contracts management",null,null,"Whole of the Municipality",0,0,0,1410553,52946,53098,52997]
["Municipal Manager, Town Secretary and Chief Executive","_0500_30000: Municipal Running Costs","PO002000000000000000000000000000000000_00170",null,"Responsive, accountable, effective and efficient local government",null,"Projects and contracts management",null,null,"Whole of the Municipality",0,0,0,35511,38741,39854,38779]
["Municipal Manager, Town Secretary and Chief Executive","_0600_10001: Employee Related Cost Senior Management","PO002000000000000000000000000000000000_00234",null,"Responsive, accountable, effective and efficient local government",null,"Land availability for development in urban areas",null,null,"Whole of the Municipality",0,0,0,1543040,81784,82020,81862]
["Municipal Manager, Town Secretary and Chief Executive","_0600_30000: Municipal Running Costs","PO002000000000000000000000000000000000_00235",null,"Responsive, accountable, effective and efficient local government",null,"Land availability for development in urban areas",null,null,"Whole of the Municipality",0,0,0,102997,112368,115673,112475]
["Municipal Manager, Town Secretary and Chief Executive","0001_10001: Employee Related Cost Senior Management","PO002000000000000000000000000000000000_00002",null,"Responsive, accountable, effective and efficient local government",null,"Fully functional council committees",null,null,"Whole of the Municipality",0,0,0,2244387,3009114,3153808,3292574]
["Municipal Manager, Town Secretary and Chief Executive","0001_30000: Municipal Running Cost","PO002000000000000000000000000000000000_00005",null,"Responsive, accountable, effective and efficient local government",null,"Fully functional council committees",null,null,"Whole of the Municipality",0,0,0,1443905,57421,60062,62706]
["Municipal Manager, Town Secretary and Chief Executive","0001_70000: Operational  Typical Work Streams Capacity Building Training and Development Workshops Seminars and Subject Matter Training_","PO003004010000000000000000000000000000_00006","Work Streams","Responsive, accountable, effective and efficient local government",null,"Fully functional council committees",null,null,"Whole of the Municipality",0,0,0,7001,7302,7638,7974]
["Municipal Manager, Town Secretary and Chief Executive","0001_Forensic Investigation","PO002000000000000000000000000000000000_10124",null,"Responsive, accountable, effective and efficient local government",null,"Fully functional council committees",null,null,"Whole of the Municipality",0,0,0,2549000,1564500,1636467,1708473]
["Municipal Manager, Town Secretary and Chief Executive","0001_Strategic Session","PO002000000000000000000000000000000000_20323",null,"Responsive, accountable, effective and efficient local government",null,"Fully functional council committees",null,null,"Whole of the Municipality",0,0,0,0,1094107,1144436,1947910]
["Municipal Manager, Town Secretary and Chief Executive","0011_10001: Employee Related Cost Senior Management","PO002000000000000000000000000000000000_00009",null,"Responsive, accountable, effective and efficient local government",null,"Continuous  compliance  with  regulatory  frameworks",null,null,"Whole of the Municipality",0,0,0,98089,123376,123731,123495]
["Municipal Manager, Town Secretary and Chief Executive","0011_30000: Municipal Running Costs","PO002000000000000000000000000000000000_16599",null,"Responsive, accountable, effective and efficient local government",null,"Clean audit",null,null,"Whole of the Municipality",0,0,0,5000,5455,5471,5460]
["Municipal Manager, Town Secretary and Chief Executive","0011_30000: Municipal Running Costs","PO002000000000000000000000000000000000_16599",null,"Responsive, accountable, effective and efficient local government",null,"Clean audit",null,null,"Whole of the Municipality",0,0,0,5000,5455,5471,5460]
["Municipal Manager, Town Secretary and Chief Executive","0359_0011_10001: Employee Related Cost Senior Management","PO002000000000000000000000000000000000_00359",null,"Responsive, accountable, effective and efficient local government",null,"Empowered workforce that is more efficient and effective",null,null,"Whole of the Municipality",0,0,0,1324341,1458640,1462836,1460039]
["Municipal Manager, Town Secretary and Chief Executive","0400_Salaries","PO002000000000000000000000000000000000_00262",null,"Responsive, accountable, effective and efficient local government",null,"Ownership of decision making",null,null,"Whole of the Municipality",0,0,0,65873,72553,72762,72623]
["Municipal Manager, Town Secretary and Chief Executive","0575_Maintenance of Vehicles","PO002000000000000000000000000000000000_16654",null,"Responsive, accountable, effective and efficient local government",null,"Mechanical fleet maintenance plan",null,null,"Whole of the Municipality",0,0,0,0,4618066,3628473,3621535]
["Police Forces, Traffic and Street Parking Control","_0445_30000: Municipal Running Cost","PO002000000000000000000000000000000000_00140",null,"Responsive, accountable, effective and efficient local government",null,"Reduction of fatal and road traffic accidents",null,null,"Whole of the Municipality",0,0,0,138121,85229,88867,85310]
["Police Forces, Traffic and Street Parking Control","_0445_30000: Municipal Running Cost_1","PO002000000000000000000000000000000000_00141",null,"Responsive, accountable, effective and efficient local government",null,"Reduction of fatal and road traffic accidents",null,null,"Whole of the Municipality",0,0,0,1341,1462,1466,1464]
["Police Forces, Traffic and Street Parking Control","_0445_30000: Municipal Running Cost_3","PO002000000000000000000000000000000000_00143",null,"Responsive, accountable, effective and efficient local government",null,"Reduction of fatal and road traffic accidents",null,null,"Whole of the Municipality",0,0,0,22806,24881,25978,24905]
["Police Forces, Traffic and Street Parking Control","0445_Salaries","PO002000000000000000000000000000000000_00265",null,"Responsive, accountable, effective and efficient local government",null,"Reduction of fatal and road traffic accidents",null,null,"Whole of the Municipality",0,0,0,12128288,10213297,10239796,10222130]
["Police Forces, Traffic and Street Parking Control","Asset Depreciation Expence","PO002000000000000000000000000000000000_16453",null,"Responsive, accountable, effective and efficient local government",null,"Sustainable assets",null,null,"Whole of the Municipality",0,0,0,32765,34273,35815,35815]
["Project Management Unit","_0500_10001: Employee Related Cost Senior Management","PO002000000000000000000000000000000000_00169",null,"Responsive, accountable, effective and efficient local government",null,"Projects and contracts management",null,null,"Whole of the Municipality",0,0,0,0,1500144,1504458,1501582]
["Project Management Unit","_0503_30000: Municipal Running Cost","PO002000000000000000000000000000000000_00173",null,"Responsive, accountable, effective and efficient local government",null,"Projects and contracts management",null,null,"Whole of the Municipality",0,0,0,42115,29579,29665,29608]
["Project Management Unit","0501_Municipal Running Costs","PO002000000000000000000000000000000000_09067",null,"Responsive, accountable, effective and efficient local government",null,"Projects and contracts management",null,null,"Whole of the Municipality",0,0,0,24055,26244,27401,26269]
["Project Management Unit","0503_Salaries","PO002000000000000000000000000000000000_00269",null,"Responsive, accountable, effective and efficient local government",null,"Projects and contracts management",null,null,"Whole of the Municipality",0,0,0,2708885,2981420,2989998,2984281]
["Property Services","0235_Credit Control System","PO002000000000000000000000000000000000_16646",null,"Responsive, accountable, effective and efficient local government",null,"Free basic services",null,null,"Whole of the Municipality",0,0,0,900000,512900,527293,541694]
["Property Services","0235_Indigent Management System","PO002000000000000000000000000000000000_16647",null,"Responsive, accountable, effective and efficient local government",null,"Free basic services",null,null,"Whole of the Municipality",0,0,0,600000,312900,327293,341694]
["Public Toilets","0573_Technical report for VIP Toilets","PO004002007005000000000000000000000000_16618","New","Responsive, accountable, effective and efficient local government",null,"Sanitation (New Infrastructure)",null,null,"Whole of the Municipality",0,0,0,600000,0,0,1]
["Public Transport","0540_Maintenace Vehicles","PO001002002001010000000000000000000000_10125","Corrective Maintenance","Responsive, accountable, effective and efficient local government",null,"Mechanical fleet maintenance plan","Transport Assets","Transport Assets","Whole of the Municipality",0,0,0,0,0,0,1]
["Recreational Facilities","Asset Depreciation Expence","PO002000000000000000000000000000000000_16453",null,"Responsive, accountable, effective and efficient local government",null,"Sustainable assets",null,null,"Whole of the Municipality",0,0,0,436044,456102,476626,476626]
["Risk Management","0071_30000: Municipal Running Cost","PO002000000000000000000000000000000000_00024",null,"Responsive, accountable, effective and efficient local government",null,"Risk conscious and responsive environment",null,null,"Whole of the Municipality",0,0,0,296418,475072,494896,514677]
["Risk Management","0071_30000: Salaries","PO002000000000000000000000000000000000_00025",null,"Responsive, accountable, effective and efficient local government",null,"Risk conscious and responsive environment",null,null,"Whole of the Municipality",0,0,0,1385606,3212661,1522269,1519357]
["Risk Management","0071_Professional Services","PO002000000000000000000000000000000000_11183",null,"Responsive, accountable, effective and efficient local government",null,"Functional Risk  Management  Committee",null,null,"Whole of the Municipality",0,0,0,241593,95531,99926,104323]
["Roads","_0540_10002: Employee Related Cost Municipal Staff","PO002000000000000000000000000000000000_00176",null,"Responsive, accountable, effective and efficient local government",null,"Ownership of decision making",null,null,"Administrative or Head Office (Including Satellite Offices)",0,0,0,72990,57811,57978,57867]
["Roads","_0540_10002: Employee Related Cost Municipal Staff","PO002000000000000000000000000000000000_00176",null,"Responsive, accountable, effective and efficient local government",null,"Ownership of decision making",null,null,"Administrative or Head Office (Including Satellite Offices)",0,0,0,13674912,57811,57978,57867]
["Roads","_0540_10002: Employee Related Cost Municipal Staff","PO002000000000000000000000000000000000_00176",null,"Responsive, accountable, effective and efficient local government",null,"Ownership of decision making",null,null,"Whole of the Municipality",0,0,0,72990,14402642,14916455,15152215]
["Roads","_0540_10002: Employee Related Cost Municipal Staff","PO002000000000000000000000000000000000_00176",null,"Responsive, accountable, effective and efficient local government",null,"Ownership of decision making",null,null,"Whole of the Municipality",0,0,0,13674912,14402642,14916455,15152215]
["Roads","_0540_22246: Operational  Maintenance Non-infrastructure Preventative Maintenance Condition Based Machinery and Equipment","PO001002001002009000000000000000000000_00181","Preventative Maintenance","Responsive, accountable, effective and efficient local government",null,"Ownership of decision making","Machinery and Equipment","Machinery and Equipment","Whole of the Municipality",0,0,0,967088,847923,782327,816750]
["Roads","_0540_22623: Operational  Maintenance Non-infrastructure Corrective Maintenance Planned Transport Assets","PO001002001002010000000000000000000000_00182","Preventative Maintenance","Responsive, accountable, effective and efficient local government",null,"Ownership of decision making","Transport Assets","Transport Assets","Whole of the Municipality",0,0,0,0,0,0,1]
["Roads","_0540_30000: Municipal Running Cost","PO002000000000000000000000000000000000_00183",null,"Responsive, accountable, effective and efficient local government",null,"Ownership of decision making",null,null,"Whole of the Municipality",0,0,0,36158914,34487374,36286213,38797609]
["Roads","_0540_30000: Municipal Running Cost_1","PO002000000000000000000000000000000000_00184",null,"Responsive, accountable, effective and efficient local government",null,"Ownership of decision making",null,null,"Whole of the Municipality",0,0,0,57881,63146,65931,63207]
["Roads","0540_Operational Maintenance Non-infrastructure Corrective Maintenance Emergency Other Assets Operational Buildings Depots Civil Structures","PO001002002002003001010004000000000000_00621","Corrective Maintenance","Responsive, accountable, effective and efficient local government",null,"Smooth flowing traffic",null,null,"Whole of the Municipality",0,0,0,883192,937831,980253,989631]
["Roads","0540_Road maintenance Urban","PO001001002001002001003000000000000000_00623","Corrective Maintenance","Responsive, accountable, effective and efficient local government",null,"Smooth flowing traffic",null,null,"Whole of the Municipality",0,0,0,3680446,1682287,1339070,1294512]
["Roads","0540_ROAD SIGNS","PO001001001001002003002000000000000000_00626","Preventative Maintenance","Responsive, accountable, effective and efficient local government",null,"Smooth flowing traffic",null,null,"Whole of the Municipality",0,0,0,125547,130946,136969,142996]
["Roads","0540_Road upgrade_villages_2","PO001001002001002002003000000000000000_00627","Corrective Maintenance","Responsive, accountable, effective and efficient local government",null,"Smooth flowing traffic",null,null,"Whole of the Municipality",0,0,0,103391,112797,117772,112905]
["Roads","0540_STORMWATER DRAINAGE","PO001001002001003001003000000000000000_00628","Corrective Maintenance","Responsive, accountable, effective and efficient local government",null,"Smooth flowing traffic",null,null,"Whole of the Municipality",0,0,0,333059,358360,374372,368600]
["Roads","0540_TOOL REPLACEMENT","PO005002001003001010000000000000000000_00629","New","Responsive, accountable, effective and efficient local government",null,"Smooth flowing traffic",null,null,"Whole of the Municipality",0,0,0,41489,43649,45656,47665]
["Security Services","_0441_30000: Municipal Running Cost","PO002000000000000000000000000000000000_00133",null,"Responsive, accountable, effective and efficient local government",null,"Protect the environment and improve community well-being",null,null,"Whole of the Municipality",0,0,0,96578,105366,106271,105465]
["Security Services","_0441_30000: Municipal Running Cost_13","PO002000000000000000000000000000000000_00135",null,"Responsive, accountable, effective and efficient local government",null,"Protect the environment and improve community well-being",null,null,"Whole of the Municipality",0,0,0,14079897,18223348,18267007,18232080]
["Sewerage","_0573_10002: Employee Related Cost Municipal Staff","PO002000000000000000000000000000000000_00223",null,"Responsive, accountable, effective and efficient local government",null,"Sustainable environment and infrastructure",null,null,"Whole of the Municipality",0,0,0,18735130,18884133,19436988,19955012]
["Sewerage","_0573_22623: Operational  Maintenance Non-infrastructure Corrective Maintenance Planned Transport Assets_","PO001002001002010000000000000000000000_00226","Preventative Maintenance","Responsive, accountable, effective and efficient local government",null,"Sanitation (Upgrading and maintenance","Transport Assets","Transport Assets","Whole of the Municipality",0,0,0,26225,28611,28693,28639]
["Sewerage","_0573_30000: Municipal Running Cost","PO002000000000000000000000000000000000_00227",null,"Responsive, accountable, effective and efficient local government",null,"Sustainable environment and infrastructure",null,null,"Whole of the Municipality",0,0,0,5752023,6018592,6288161,7287317]
["Sewerage","_0573_30000: Municipal Running Cost_16","PO002000000000000000000000000000000000_00229",null,"Responsive, accountable, effective and efficient local government",null,"Sustainable environment and infrastructure",null,null,"Whole of the Municipality",0,0,0,207469,226345,226996,226562]
["Sewerage","_0573_Huilbos _Maintenance","PO001001001001008003010000000000000000_12350","Preventative Maintenance","Responsive, accountable, effective and efficient local government",null,"Sustainable environment and infrastructure",null,null,"Whole of the Municipality",0,0,0,90,0,0,1]
["Sewerage","0573_30000: Municipal Running Cost-7","PO002000000000000000000000000000000000_00357",null,"Responsive, accountable, effective and efficient local government",null,"Sanitation (Upgrading and maintenance",null,null,"Whole of the Municipality",0,0,0,658538,4024928,4210075,4395318]
["Sewerage","0573_30000: Municipal Running Cost-9","PO002000000000000000000000000000000000_00358",null,"Responsive, accountable, effective and efficient local government",null,"Sanitation (Upgrading and maintenance",null,null,"Whole of the Municipality",0,0,0,1282818,0,0,1]
["Sewerage","0573_Sanitation NETWORK","PO001001001001008002001000000000000000_00632","Preventative Maintenance","Responsive, accountable, effective and efficient local government",null,"Sanitation (Upgrading and maintenance",null,null,"Whole of the Municipality",0,0,0,4940799,4621309,4886967,4958548]
["Sewerage","Asset Depreciation","PO002000000000000000000000000000000000_16395",null,"Responsive, accountable, effective and efficient local government",null,"Sustainable environment and infrastructure",null,null,"Whole of the Municipality",0,0,0,0,0,1,1]
["Solid Waste Disposal (Landfill Sites)","Asset Depreciation Expence","PO002000000000000000000000000000000000_16453",null,"Responsive, accountable, effective and efficient local government",null,"Sustainable assets",null,null,"Whole of the Municipality",0,0,0,352118,368315,384888,384888]
["Solid Waste Removal","_0483_10001: Employee Related Cost Senior Management","PO002000000000000000000000000000000000_00158",null,"Responsive, accountable, effective and efficient local government",null,"Sustainable environment and infrastructure",null,null,"Whole of the Municipality",0,0,0,23984,15256,15300,15271]
["Solid Waste Removal","_0483_10002: Employee Related Cost Municipal Staff","PO002000000000000000000000000000000000_00159",null,"Responsive, accountable, effective and efficient local government",null,"Sustainable environment and infrastructure",null,null,"Whole of the Municipality",0,0,0,19039050,19966333,20766859,22507672]
["Solid Waste Removal","_0483_30000: Municipal Running Cost","PO002000000000000000000000000000000000_00161",null,"Responsive, accountable, effective and efficient local government",null,"Sustainable environment and infrastructure",null,null,"Whole of the Municipality",0,0,0,1128780,81159,81393,81238]
["Solid Waste Removal","_0483_30000: Municipal Running Cost_4","PO002000000000000000000000000000000000_00164",null,"Responsive, accountable, effective and efficient local government",null,"Sustainable environment and infrastructure",null,null,"Whole of the Municipality",0,0,0,1683422,2293248,2398738,2504283]
["Solid Waste Removal","_0483_70000: Operational  Typical Work Streams Expanded Public Works Programme Project_","PO003016001000000000000000000000000000_00168","Work Streams","Responsive, accountable, effective and efficient local government",null,"Sustainable environment and infrastructure",null,null,"Whole of the Municipality",0,0,0,1311000,0,0,1]
["Solid Waste Removal","0483_30000: Municipal Running Cost_5","PO002000000000000000000000000000000000_00356",null,"Responsive, accountable, effective and efficient local government",null,"Sustainable environment and infrastructure",null,null,"Whole of the Municipality",0,0,0,789421,861241,899224,862067]
["Solid Waste Removal","0483_60X 1 75 Cubic Metres Bin","PO004002004004000000000000000000000000_11100","New","Responsive, accountable, effective and efficient local government",null,"Sustainable environment and infrastructure",null,null,"Whole of the Municipality",0,0,0,136253,142112,148649,155190]
["Sports Grounds and Stadiums","_0421_21720: Operational  Maintenance Non-infrastructure Preventative Maintenance Interval Based Community Assets Sport and Recreation Facilities Outdoor Facilities Land_","PO001002001001002002002001000000000000_00119","Preventative Maintenance","Responsive, accountable, effective and efficient local government",null,"Improved mental and physical well-being","Land","Land","Whole of the Municipality",0,0,0,68990,75266,75482,75338]
["Sports Grounds and Stadiums","_0421_30000: Municipal Running Cost_11","PO002000000000000000000000000000000000_00126",null,"Responsive, accountable, effective and efficient local government",null,"Improved mental and physical well-being",null,null,"Whole of the Municipality",0,0,0,0,0,2,2]
["Storm Water Management","Asset Depreciation Expence","PO002000000000000000000000000000000000_16453",null,"Responsive, accountable, effective and efficient local government",null,"Sustainable assets",null,null,"Whole of the Municipality",0,0,0,672566,703504,735162,735162]
["Supply Chain Management","_0242_10002: Employee Related Cost Municipal Staff","PO002000000000000000000000000000000000_00079",null,"Responsive, accountable, effective and efficient local government",null,"Demand and acquisition",null,null,"Whole of the Municipality",0,0,0,7438292,8213005,8601541,10220881]
["Supply Chain Management","_0242_30000: Municipal Running Cost","PO002000000000000000000000000000000000_00081",null,"Responsive, accountable, effective and efficient local government",null,"Demand and acquisition",null,null,"Whole of the Municipality",0,0,0,75760,82652,86297,82732]
["Supply Chain Management","_0242_30000: Municipal Running Cost_1","PO002000000000000000000000000000000000_00082",null,"Responsive, accountable, effective and efficient local government",null,"Demand and acquisition",null,null,"Whole of the Municipality",0,0,0,1216,1326,1384,1327]
["Town Planning, Building Regulations and Enforcement, and City Engineer","_0600_10001: Employee Related Cost Senior Management","PO002000000000000000000000000000000000_00234",null,"Responsive, accountable, effective and efficient local government",null,"Land availability for development in urban areas",null,null,"Whole of the Municipality",0,0,0,0,1616951,1621601,1618500]
["Town Planning, Building Regulations and Enforcement, and City Engineer","_0615_10002: Employee Related Cost Municipal Staff","PO002000000000000000000000000000000000_00238",null,"Responsive, accountable, effective and efficient local government",null,"Sustainable and integrated rural development",null,null,"Whole of the Municipality",0,0,0,7257624,7740984,7956473,8156441]
["Town Planning, Building Regulations and Enforcement, and City Engineer","_0615_30000: Municipal Running Costs","PO002000000000000000000000000000000000_00239",null,"Responsive, accountable, effective and efficient local government",null,"Sustainable and integrated rural development",null,null,"Whole of the Municipality",0,0,0,1770,1933,2018,1935]
["Town Planning, Building Regulations and Enforcement, and City Engineer","_0615_70000: Operational  Typical Work Streams Capacity Building Training and Development Workshops Seminars and Subject Matter Training","PO003004010000000000000000000000000000_00241","Work Streams","Responsive, accountable, effective and efficient local government",null,"Sustainable and integrated rural development",null,null,"Whole of the Municipality",0,0,0,3497,3815,3826,3819]
["Town Planning, Building Regulations and Enforcement, and City Engineer","_0623_22246: Operational  Maintenance Non-infrastructure Preventative Maintenance Condition Based Machinery and Equipment_","PO001002001002009000000000000000000000_16598","Preventative Maintenance","Responsive, accountable, effective and efficient local government",null,"Formalised structures and revenue generation","Machinery and Equipment","Machinery and Equipment","Whole of the Municipality",0,0,0,20925,21825,22829,23833]
["Town Planning, Building Regulations and Enforcement, and City Engineer","0615_GIS INTEGRATION","PO002000000000000000000000000000000000_11097",null,"Responsive, accountable, effective and efficient local government",null,"Informed spatial planning",null,null,"Whole of the Municipality",0,0,0,283664,2027333,2033165,2029277]
["Town Planning, Building Regulations and Enforcement, and City Engineer","0623_10002: Employee Related Cost Municipal Staff","PO002000000000000000000000000000000000_00365",null,"Responsive, accountable, effective and efficient local government",null,"Informed spatial planning",null,null,"Whole of the Municipality",0,0,0,4662285,3645190,4655674,3648686]
["Town Planning, Building Regulations and Enforcement, and City Engineer","0623_30000: Municipal Running Costs","PO002000000000000000000000000000000000_00366",null,"Responsive, accountable, effective and efficient local government",null,"Informed spatial planning",null,null,"Whole of the Municipality",0,0,0,7948,8673,8698,8681]
["Waste Water Treatment","0573_Grey Water From Paarl Waste Water Treatment Works - Appointment of Transactional Advisor","PO004002007003000000000000000000000000_16629","New","Responsive, accountable, effective and efficient local government",null,"Sustainable environment and infrastructure",null,null,"Whole of the Municipality",0,0,0,1300000,0,0,1]
["Water Distribution","_0563_10002: Employee Related Cost Municipal Staff","PO002000000000000000000000000000000000_00211",null,"Responsive, accountable, effective and efficient local government",null,"Smooth flowing traffic",null,null,"Whole of the Municipality",0,0,0,19664252,26882915,27141428,27291310]
["Water Distribution","_0563_20268: Operational  Maintenance Infrastructure Preventative Maintenance Interval Based Water Supply Infrastructure Distribution Pipe Work__21","PO001001001001007004002000000000000000_00212","Preventative Maintenance","Responsive, accountable, effective and efficient local government",null,"Smooth flowing traffic",null,null,"Whole of the Municipality",0,0,0,6480969,3785280,3952734,3813418]
["Water Distribution","_0563_22623: Operational  Maintenance Non-infrastructure Corrective Maintenance Planned Transport Assets_","PO001002001002010000000000000000000000_00216","Preventative Maintenance","Responsive, accountable, effective and efficient local government",null,"Smooth flowing traffic","Transport Assets","Transport Assets","Whole of the Municipality",0,0,0,0,0,0,1]
["Water Distribution","_0563_30000: Municipal Running Cost","PO002000000000000000000000000000000000_00217",null,"Responsive, accountable, effective and efficient local government",null,"Smooth flowing traffic",null,null,"Whole of the Municipality",0,0,0,33729489,39730799,42061008,46444129]
["Water Distribution","0563_Equipping and Electrification of borehole at madibaneng village","PO004002006002000000000000000000000000_16627","New","Responsive, accountable, effective and efficient local government",null,"Water supply",null,null,"Whole of the Municipality",0,0,0,650000,0,14078245,3385125]
["Water Distribution","0563_Water Bulk Purchases Raw Water","PO002000000000000000000000000000000000_11182",null,"Responsive, accountable, effective and efficient local government",null,"Water infrastructure maintenance and upgrading",null,null,"Whole of the Municipality",0,0,0,17670781,19278364,20128608,19296847]
["Water Distribution","0563_Zeeland Water Treatment Works - Appointment of Transactional Advisor","PO004002006005000000000000000000000000_16624","New","Responsive, accountable, effective and efficient local government",null,"Water supply",null,null,"Whole of the Municipality",0,0,0,1300000,1355900,1418271,1480675]
["Water Distribution","Asset Depreciation","PO002000000000000000000000000000000000_16395",null,"Responsive, accountable, effective and efficient local government",null,"Sustainable environment and infrastructure",null,null,"Administrative or Head Office (Including Satellite Offices)",0,0,0,2868017,2999946,3134943,3134943]
["Water Distribution","Asset Depreciation","PO002000000000000000000000000000000000_16395",null,"Responsive, accountable, effective and efficient local government",null,"Sustainable environment and infrastructure",null,null,"Administrative or Head Office (Including Satellite Offices)",0,0,0,23256229,2999946,3134943,3134943]
["Water Distribution","Asset Depreciation","PO002000000000000000000000000000000000_16395",null,"Responsive, accountable, effective and efficient local government",null,"Sustainable environment and infrastructure",null,null,"Whole of the Municipality",0,0,0,2868017,27133140,28162242,29058802]
["Water Distribution","Asset Depreciation","PO002000000000000000000000000000000000_16395",null,"Responsive, accountable, effective and efficient local government",null,"Sustainable environment and infrastructure",null,null,"Whole of the Municipality",0,0,0,23256229,27133140,28162242,29058802]
["Water Distribution","Debt Impairment","PD000000000000000000000000000000000000_16450",null,"Responsive, accountable, effective and efficient local government",null,"Free basic services",null,null,"Whole of the Municipality",0,0,0,9939571,12382018,12805390,12576235]
["Parent Operational expenditure",null,null,null,null,null,null,null,null,null,null,null,{"$f":"SUM(M7:M242)","v":0},{"$f":"SUM(N7:N242)","v":881502720},{"$f":"SUM(O7:O242)","v":963572910},{"$f":"SUM(P7:P242)","v":995020971},{"$f":"SUM(Q7:Q242)","v":1031433088}]
[]
["Entities:"]
["List all Operational projects grouped by Entity"]
[]
["Entity A"]
["Water project A"]
[]
["Entity B"]
["Electricity project B"]
[]
[]
[]
["Entity Operational expenditure",null,null,null,null,null,null,null,null,null,null,null,{"$f":"SUM(M248:M255)","v":0},{"$f":"SUM(N248:N255)","v":0},{"$f":"SUM(O248:O255)","v":0},{"$f":"SUM(P248:P255)","v":0},{"$f":"SUM(Q248:Q255)","v":0}]
["Total Operational expenditure",null,null,null,null,null,null,null,null,null,null,null,{"$f":"SUM(M7:M242)+SUM(M248:M255)","v":0},{"$f":"SUM(N7:N242)+SUM(N248:N255)","v":881502720},{"$f":"SUM(O7:O242)+SUM(O248:O255)","v":963572910},{"$f":"SUM(P7:P242)+SUM(P248:P255)","v":995020971},{"$f":"SUM(Q7:Q242)+SUM(Q248:Q255)","v":1031433088}]
[{"$f":"head27a","v":"References"}]
["Must reconcile with Budgeted Operating Expenditure"]
["Asset class as per table A9 and asset sub-class as per table SA34"]
["GPS coordinates correct to seconds. Provide a logical starting point on networked infrastructure."]
["Project Number consists of MSCOA Project Longcode and seq No (sample PO001001002001002001002_00066)",null,null,null,null,null,null,null,null,null,null,"check",{"$f":"+'A4-FinPerf RE'!E48-'SA38'!M257","v":796142060.74000001},{"$f":"+'A4-FinPerf RE'!H48-'SA38'!N257","v":-49436035},{"$f":"+'A4-FinPerf RE'!J48-'SA38'!O257","v":-62167801},{"$f":"+'A4-FinPerf RE'!K48-'SA38'!P257","v":-52390519},{"$f":"+'A4-FinPerf RE'!L48-'SA38'!Q257","v":-52438448}]

{"sheet":"LGDB_EXPORT","index":65,"n_rows":2876,"n_cols":23,"rows_kept":2876,"cut":false,"hidden":false,"merged":[]}
["FORM","YEAR END","MUNCDE","ITEMCODE","SEQ","DESCRIPTION",null,null,null,null,null,null,null,null,null,null,null,null,null,null,null,null,"~"]
["BSD",{"$f":"+MTREF","v":2025},{"$f":"LEFT(muni,(FIND(\" \",muni,1)-1))","v":"Choose"},"1000",1,"Household service targets (000)",null,null,null,null,null,null,null,null,null,null,null,null,null,null,null,null,"~"]
["BSD",2025,"Choose","1100",2,"Water:",null,null,null,null,null,null,null,null,null,null,null,null,null,null,null,null,"~"]
["BSD",2025,"Choose","1101",3,"Piped water inside dwelling",null,null,null,null,null,null,null,null,null,null,null,null,null,null,null,null,"~"]
["BSD",2025,"Choose","1102",4,"Piped water inside yard (but not in dwelling)",null,null,null,null,null,null,null,null,null,null,null,null,null,null,null,null,"~"]
["BSD",2025,"Choose","1103",5,"Using public tap (at least min.service level)",null,null,null,null,null,null,null,null,null,null,null,null,null,null,null,null,"~"]
["BSD",2025,"Choose","1104",6,"Other water supply (at least min.service level)",null,null,null,null,null,null,null,null,null,null,null,null,null,null,null,null,"~"]
["BSD",2025,"Choose","1105",7,"Minimum Service Level and Above sub-total",null,null,null,null,null,null,null,null,null,null,null,null,null,null,null,null,"~"]
["BSD",2025,"Choose","1106",8,"Using public tap (< min.service level)",null,null,null,null,null,null,null,null,null,null,null,null,null,null,null,null,"~"]
["BSD",2025,"Choose","1107",9,"Other water supply (< min.service level)",null,null,null,null,null,null,null,null,null,null,null,null,null,null,null,null,"~"]
["BSD",2025,"Choose","1108",10,"No water supply",null,null,null,null,null,null,null,null,null,null,null,null,null,null,null,null,"~"]
["BSD",2025,"Choose","1109",11,"Below Minimum Service Level sub-total",null,null,null,null,null,null,null,null,null,null,null,null,null,null,null,null,"~"]
["BSD",2025,"Choose","1110",12,"Total number of households",null,null,null,null,null,null,null,null,null,null,null,null,null,null,null,null,"~"]
["BSD",2025,"Choose","1200",13,"Sanitation/sewerage:",null,null,null,null,null,null,null,null,null,null,null,null,null,null,null,null,"~"]
["BSD",2025,"Choose","1201",14,"Flush toilet (connected to sewerage)",null,null,null,null,null,null,null,null,null,null,null,null,null,null,null,null,"~"]
["BSD",2025,"Choose","1202",15,"Flush toilet (with septic tank)",null,null,null,null,null,null,null,null,null,null,null,null,null,null,null,null,"~"]
["BSD",2025,"Choose","1203",16,"Chemical toilet",null,null,null,null,null,null,null,null,null,null,null,null,null,null,null,null,"~"]
["BSD",2025,"Choose","1204",17,"Pit toilet (ventilated)",null,null,null,null,null,null,null,null,null,null,null,null,null,null,null,null,"~"]
["BSD",2025,"Choose","1205",18,"Other toilet provisions (> min.service level)",null,null,null,null,null,null,null,null,null,null,null,null,null,null,null,null,"~"]
["BSD",2025,"Choose","1206",19,"Minimum Service Level and Above sub-total",null,null,null,null,null,null,null,null,null,null,null,null,null,null,null,null,"~"]
["BSD",2025,"Choose","1207",20,"Bucket toilet",null,null,null,null,null,null,null,null,null,null,null,null,null,null,null,null,"~"]
["BSD",2025,"Choose","1208",21,"Other toilet provisions (< min.service level)",null,null,null,null,null,null,null,null,null,null,null,null,null,null,null,null,"~"]
["BSD",2025,"Choose","1209",22,"No toilet provisions",null,null,null,null,null,null,null,null,null,null,null,null,null,null,null,null,"~"]
["BSD",2025,"Choose","1210",23,"Below Minimum Service Level sub-total",null,null,null,null,null,null,null,null,null,null,null,null,null,null,null,null,"~"]
["BSD",2025,"Choose","1211",24,"Total number of households",null,null,null,null,null,null,null,null,null,null,null,null,null,null,null,null,"~"]
["BSD",2025,"Choose","1300",25,"Energy:",null,null,null,null,null,null,null,null,null,null,null,null,null,null,null,null,"~"]
["BSD",2025,"Choose","1301",26,"Electricity (at least min.service level)",null,null,null,null,null,null,null,null,null,null,null,null,null,null,null,null,"~"]
["BSD",2025,"Choose","1302",27,"Electricity - prepaid (min.service level)",null,null,null,null,null,null,null,null,null,null,null,null,null,null,null,null,"~"]
["BSD",2025,"Choose","1303",28,"Minimum Service Level and Above sub-total",null,null,null,null,null,null,null,null,null,null,null,null,null,null,null,null,"~"]
["BSD",2025,"Choose","1304",29,"Electricity (< min.service level)",null,null,null,null,null,null,null,null,null,null,null,null,null,null,null,null,"~"]
["BSD",2025,"Choose","1305",30,"Electricity - prepaid (< min. service level)",null,null,null,null,null,null,null,null,null,null,null,null,null,null,null,null,"~"]
["BSD",2025,"Choose","1306",31,"Other energy sources",null,null,null,null,null,null,null,null,null,null,null,null,null,null,null,null,"~"]
["BSD",2025,"Choose","1307",32,"Below Minimum Service Level sub-total",null,null,null,null,null,null,null,null,null,null,null,null,null,null,null,null,"~"]
["BSD",2025,"Choose","1308",33,"Total number of households",null,null,null,null,null,null,null,null,null,null,null,null,null,null,null,null,"~"]
["BSD",2025,"Choose","1400",34,"Refuse:",null,null,null,null,null,null,null,null,null,null,null,null,null,null,null,null,"~"]
["BSD",2025,"Choose","1401",35,"Removed at least once a week",null,null,null,null,null,null,null,null,null,null,null,null,null,null,null,null,"~"]
["BSD",2025,"Choose","1402",36,"Minimum Service Level and Above sub-total",null,null,null,null,null,null,null,null,null,null,null,null,null,null,null,null,"~"]
["BSD",2025,"Choose","1403",37,"Removed less frequently than once a week",null,null,null,null,null,null,null,null,null,null,null,null,null,null,null,null,"~"]
["BSD",2025,"Choose","1404",38,"Using communal refuse dump",null,null,null,null,null,null,null,null,null,null,null,null,null,null,null,null,"~"]
["BSD",2025,"Choose","1405",39,"Using own refuse dump",null,null,null,null,null,null,null,null,null,null,null,null,null,null,null,null,"~"]
["BSD",2025,"Choose","1406",40,"Other rubbish disposal",null,null,null,null,null,null,null,null,null,null,null,null,null,null,null,null,"~"]
["BSD",2025,"Choose","1407",41,"No rubbish disposal",null,null,null,null,null,null,null,null,null,null,null,null,null,null,null,null,"~"]
["BSD",2025,"Choose","1408",42,"Below Minimum Service Level sub-total",null,null,null,null,null,null,null,null,null,null,null,null,null,null,null,null,"~"]
["BSD",2025,"Choose","1409",43,"Total number of households",null,null,null,null,null,null,null,null,null,null,null,null,null,null,null,null,"~"]
["BSD",2025,"Choose",null,null,null,null,null,null,null,null,null,null,null,null,null,null,null,null,null,null,null,"~"]
["BSD",2025,"Choose","1500",45,"Households receiving Free Basic Service",null,null,null,null,null,null,null,null,null,null,null,null,null,null,null,null,"~"]
["BSD",2025,"Choose","1501",46,"Water (6 kilolitres per household per month)",null,null,null,null,null,null,null,null,null,null,null,null,null,null,null,null,"~"]
["BSD",2025,"Choose","1502",47,"Sanitation (free minimum level service)",null,null,null,null,null,null,null,null,null,null,null,null,null,null,null,null,"~"]
["BSD",2025,"Choose","1503",48,"Electricity/other energy (50kwh per household per month)",null,null,null,null,null,null,null,null,null,null,null,null,null,null,null,null,"~"]
["BSD",2025,"Choose","1504",49,"Refuse (removed at least once a week)",null,null,null,null,null,null,null,null,null,null,null,null,null,null,null,null,"~"]
["BSD",2025,"Choose",null,null,null,null,null,null,null,null,null,null,null,null,null,null,null,null,null,null,null,"~"]
["BSD",2025,"Choose","1600",51,"Cost of Free Basic Services provided - Formal Settlements (R'000)",null,null,null,null,null,null,null,null,null,null,null,null,null,null,null,null,"~"]
["BSD",2025,"Choose","1601",52,"Water (6 kilolitres per indigent household per month)",null,null,null,null,null,null,null,null,null,null,null,null,null,null,null,null,"~"]
["BSD",2025,"Choose","1602",53,"Sanitation (free sanitation service to indigent households)",null,null,null,null,null,null,null,null,null,null,null,null,null,null,null,null,"~"]
["BSD",2025,"Choose","1603",54,"Electricity/other energy (50kwh per indigent household per month)",null,null,null,null,null,null,null,null,null,null,null,null,null,null,null,null,"~"]
["BSD",2025,"Choose","1604",55,"Refuse (removed once a week for indigent households)",null,null,null,null,null,null,null,null,null,null,null,null,null,null,null,null,"~"]
["BSD",2025,"Choose",1606,56,"Cost of Free Basic Services provided - Informal Formal Settlements (R'000)",null,null,null,null,null,null,null,null,null,null,null,null,null,null,null,null,"~"]
["BSD",2025,"Choose",1607,57,"Total cost of FBS provided  ",null,null,null,null,null,null,null,null,null,null,null,null,null,null,null,null,"~"]
["BSD",2025,"Choose",null,null,null,null,null,null,null,null,null,null,null,null,null,null,null,null,null,null,null,"~"]
["BSD",2025,"Choose","1700",58,"Highest level of free service provided per household",null,null,null,null,null,null,null,null,null,null,null,null,null,null,null,null,"~"]
["BSD",2025,"Choose","1701",59,"Property rates (R value threshold)",null,null,null,null,null,null,null,null,null,null,null,null,null,null,null,null,"~"]
["BSD",2025,"Choose","1702",60,"Water (kilolitres per household per month)",null,null,null,null,null,null,null,null,null,null,null,null,null,null,null,null,"~"]
["BSD",2025,"Choose","1703",61,"Sanitation (kilolitres per household per month)",null,null,null,null,null,null,null,null,null,null,null,null,null,null,null,null,"~"]
["BSD",2025,"Choose","1704",62,"Sanitation (Rand per household per month)",null,null,null,null,null,null,null,null,null,null,null,null,null,null,null,null,"~"]
["BSD",2025,"Choose","1705",63,"Electricity (kwh per household per month)",null,null,null,null,null,null,null,null,null,null,null,null,null,null,null,null,"~"]
["BSD",{"$f":"+MTREF","v":2025},{"$f":"LEFT(muni,(FIND(\" \",muni,1)-1))","v":"Choose"},"1706",64,"Refuse (average litres per week)",null,null,null,null,null,null,null,null,null,null,null,null,null,null,null,null,"~"]
["BSD",2025,"Choose","1707",65,"Revenue  cost of subsidised services provided (R'000)",null,null,null,null,null,null,null,null,null,null,null,null,null,null,null,null,"~"]
["BSD",2025,"Choose","1708",66,"Property rates (tariff adjustment) ( impermissable values per section 17 of MPRA)",null,null,null,null,null,null,null,null,null,null,null,null,null,null,null,null,"~"]
["BSD",2025,"Choose","1709",67,"Property rates  exemptions, reductions and rebates and impermissable values in excess of section 17 of MPRA)",null,null,null,null,null,null,null,null,null,null,null,null,null,null,null,null,"~"]
["BSD",2025,"Choose","1710",68,"Water (in excess of 6 kilolitres per indigent household per month)",null,null,null,null,null,null,null,null,null,null,null,null,null,null,null,null,"~"]
["BSD",2025,"Choose","1711",69,"Sanitation (in excess of free sanitation service to indigent households)",null,null,null,null,null,null,null,null,null,null,null,null,null,null,null,null,"~"]
["BSD",2025,"Choose","1712",70,"Electricity/other energy (in excess of 50 kwh per indigent household per month)",null,null,null,null,null,null,null,null,null,null,null,null,null,null,null,null,"~"]
["BSD",2025,"Choose","1713",71,"Refuse (in excess of one removal a week for indigent households)",null,null,null,null,null,null,null,null,null,null,null,null,null,null,null,null,"~"]
["BSD",2025,"Choose","1714",72,"Municipal Housing - rental rebates",null,null,null,null,null,null,null,null,null,null,null,null,null,null,null,null,"~"]
["BSD",2025,"Choose","1715",73,"Housing - top structure subsidies",null,null,null,null,null,null,null,null,null,null,null,null,null,null,null,null,"~"]
["BSD",2025,"Choose","1716",74,"Other",null,null,null,null,null,null,null,null,null,null,null,null,null,null,null,null,"~"]
["BSD",2025,"Choose","1717",75,"Total revenue cost of subsidised services provided ",null,null,null,null,null,null,null,null,null,null,null,null,null,null,null,null,"~"]
["SA11",2025,"Choose",1000,"T","Valuation:",null,null,null,null,null,null,null,null,null,null,null,null,null,null,null,null,"~"]
["SA11",2025,"Choose",1001,"T","Date of valuation:",null,null,null,null,null,null,null,null,null,null,null,null,null,null,null,null,"~"]
["SA11",2025,"Choose",1002,"T","Financial year valuation used",null,null,null,null,null,null,null,null,null,null,null,null,null,null,null,null,"~"]
["SA11",2025,"Choose",1003,"T","Municipal by-laws s6 in place? (Y/N)",null,null,null,null,null,null,null,null,null,null,null,null,null,null,null,null,"~"]
["SA11",2025,"Choose",1004,"T","Municipal/assistant valuer appointed? (Y/N)",null,null,null,null,null,null,null,null,null,null,null,null,null,null,null,null,"~"]
["SA11",2025,"Choose",1005,"T","Municipal partnership s38 used? (Y/N)",null,null,null,null,null,null,null,null,null,null,null,null,null,null,null,null,"~"]
["SA11",2025,"Choose",1006,"V","No. of assistant valuers (FTE)",null,null,null,null,null,null,null,null,null,null,null,null,null,null,null,null,"~"]
["SA11",2025,"Choose",1007,"V","No. of data collectors (FTE)",null,null,null,null,null,null,null,null,null,null,null,null,null,null,null,null,"~"]
["SA11",2025,"Choose",1008,"V","No. of internal valuers (FTE)",null,null,null,null,null,null,null,null,null,null,null,null,null,null,null,null,"~"]
["SA11",2025,"Choose",1009,"V","No. of external valuers (FTE)",null,null,null,null,null,null,null,null,null,null,null,null,null,null,null,null,"~"]
["SA11",2025,"Choose",1010,"V","No. of additional valuers (FTE)",null,null,null,null,null,null,null,null,null,null,null,null,null,null,null,null,"~"]
["SA11",2025,"Choose",1011,"T","Valuation appeal board established? (Y/N)",null,null,null,null,null,null,null,null,null,null,null,null,null,null,null,null,"~"]
["SA11",2025,"Choose",1012,"V","Implementation time of new valuation roll (mths)",null,null,null,null,null,null,null,null,null,null,null,null,null,null,null,null,"~"]
["SA11",2025,"Choose",1020,"V","No. of properties",null,null,null,null,null,null,null,null,null,null,null,null,null,null,null,null,"~"]
["SA11",2025,"Choose",1021,"V","No. of sectional title values",null,null,null,null,null,null,null,null,null,null,null,null,null,null,null,null,"~"]
["SA11",2025,"Choose",1022,"V","No. of unreasonably difficult properties s7(2)",null,null,null,null,null,null,null,null,null,null,null,null,null,null,null,null,"~"]
["SA11",2025,"Choose",1023,"V","No. of supplementary valuations",null,null,null,null,null,null,null,null,null,null,null,null,null,null,null,null,"~"]
["SA11",2025,"Choose",1024,"V","No. of valuation roll amendments",null,null,null,null,null,null,null,null,null,null,null,null,null,null,null,null,"~"]
["SA11",2025,"Choose",1025,"V","No. of objections by rate payers",null,null,null,null,null,null,null,null,null,null,null,null,null,null,null,null,"~"]
["SA11",2025,"Choose",1026,"V","No. of appeals by rate payers",null,null,null,null,null,null,null,null,null,null,null,null,null,null,null,null,"~"]
["SA11",2025,"Choose",1028,"V","No. of successful objections",null,null,null,null,null,null,null,null,null,null,null,null,null,null,null,null,"~"]
["SA11",2025,"Choose",1029,"V","No. of successful objections > 10%",null,null,null,null,null,null,null,null,null,null,null,null,null,null,null,null,"~"]
["SA11",2025,"Choose",1030,"V","Supplementary valuation",null,null,null,null,null,null,null,null,null,null,null,null,null,null,null,null,"~"]
["SA11",2025,"Choose",1031,"V","Public service infrastructure value ",null,null,null,null,null,null,null,null,null,null,null,null,null,null,null,null,"~"]
["SA11",2025,"Choose",1032,"V","Municipality owned property value ",null,null,null,null,null,null,null,null,null,null,null,null,null,null,null,null,"~"]
["SA11",2025,"Choose",1100,"T","Valuation reductions:",null,null,null,null,null,null,null,null,null,null,null,null,null,null,null,null,"~"]
["SA11",2025,"Choose",1101,"V","Valuation reductions-public infrastructure",null,null,null,null,null,null,null,null,null,null,null,null,null,null,null,null,"~"]
["SA11",2025,"Choose",1102,"V","Valuation reductions-nature reserves/park",null,null,null,null,null,null,null,null,null,null,null,null,null,null,null,null,"~"]
["SA11",2025,"Choose",1103,"V","Valuation reductions-mineral rights",null,null,null,null,null,null,null,null,null,null,null,null,null,null,null,null,"~"]
["SA11",2025,"Choose",1104,"V","Valuation reductions-R15,000 threshold",null,null,null,null,null,null,null,null,null,null,null,null,null,null,null,null,"~"]
["SA11",2025,"Choose",1105,"V","Valuation reductions-public worship ",null,null,null,null,null,null,null,null,null,null,null,null,null,null,null,null,"~"]
["SA11",2025,"Choose",1106,"V","Valuation reductions-other",null,null,null,null,null,null,null,null,null,null,null,null,null,null,null,null,"~"]
["SA11",2025,"Choose",1107,"V","Total valuation reductions:",null,null,null,null,null,null,null,null,null,null,null,null,null,null,null,null,"~"]
["SA11",2025,"Choose",1108,"V","Total value used for rating",null,null,null,null,null,null,null,null,null,null,null,null,null,null,null,null,"~"]
["SA11",2025,"Choose",1109,"V","Total land value ",null,null,null,null,null,null,null,null,null,null,null,null,null,null,null,null,"~"]
["SA11",2025,"Choose",1110,"V","Total value of improvements",null,null,null,null,null,null,null,null,null,null,null,null,null,null,null,null,"~"]
["SA11",2025,"Choose",1111,"V","Total market value",null,null,null,null,null,null,null,null,null,null,null,null,null,null,null,null,"~"]
["SA11",2025,"Choose",null,null,null,null,null,null,null,null,null,null,null,null,null,null,null,null,null,null,null,"~"]
["SA11",2025,"Choose",1200,"T","Rating:",null,null,null,null,null,null,null,null,null,null,null,null,null,null,null,null,"~"]
["SA11",2025,"Choose",1202,"T","Residential rate used to determine rate for other categories? (Y/N)",null,null,null,null,null,null,null,null,null,null,null,null,null,null,null,null,"~"]
["SA11",2025,"Choose",1203,"T","Differential rates used? (Y/N)",null,null,null,null,null,null,null,null,null,null,null,null,null,null,null,null,"~"]
["SA11",2025,"Choose",1204,"T","Limit on annual rate increase (s20)? (Y/N)",null,null,null,null,null,null,null,null,null,null,null,null,null,null,null,null,"~"]
["SA11",2025,"Choose",1205,"T","Special rating area used? (Y/N)",null,null,null,null,null,null,null,null,null,null,null,null,null,null,null,null,"~"]
["SA11",2025,"Choose",1206,"V","Phasing-in properties s21 (number)",null,null,null,null,null,null,null,null,null,null,null,null,null,null,null,null,"~"]
["SA11",2025,"Choose",1207,"T","Rates policy accompanying budget? (Y/N)",null,null,null,null,null,null,null,null,null,null,null,null,null,null,null,null,"~"]
["SA11",2025,"Choose",1208,"V","Fixed amount minimum value",null,null,null,null,null,null,null,null,null,null,null,null,null,null,null,null,"~"]
["SA11",2025,"Choose",1209,"P","Non-residential prescribed ratio s19? (%)",null,null,null,null,null,null,null,null,null,null,null,null,null,null,null,null,"~"]
["SA11",2025,"Choose",null,null,null,null,null,null,null,null,null,null,null,null,null,null,null,null,null,null,null,"~"]
["SA11",2025,"Choose",1300,"T","Rate revenue:",null,null,null,null,null,null,null,null,null,null,null,null,null,null,null,null,"~"]
["SA11",2025,"Choose",1301,"V","Rate revenue budget ",null,null,null,null,null,null,null,null,null,null,null,null,null,null,null,null,"~"]
["SA11",2025,"Choose",1302,"V","Rate revenue expected to collect",null,null,null,null,null,null,null,null,null,null,null,null,null,null,null,null,"~"]
["SA11",2025,"Choose",1303,"P","Expected cash collection rate (%)",null,null,null,null,null,null,null,null,null,null,null,null,null,null,null,null,"~"]
["SA11",{"$f":"+MTREF","v":2025},{"$f":"LEFT(muni,(FIND(\" \",muni,1)-1))","v":"Choose"},1304,"V","Special rating areas",null,null,null,null,null,null,null,null,null,null,null,null,null,null,null,null,"~"]
["SA11",2025,"Choose",1305,"V","Rebates, exemptions - indigent",null,null,null,null,null,null,null,null,null,null,null,null,null,null,null,null,"~"]
["SA11",2025,"Choose",1306,"V","Rebates, exemptions - pensioners",null,null,null,null,null,null,null,null,null,null,null,null,null,null,null,null,"~"]
["SA11",2025,"Choose",1307,"V","Rebates, exemptions - bona fide farm",null,null,null,null,null,null,null,null,null,null,null,null,null,null,null,null,"~"]
["SA11",2025,"Choose",1308,"V","Rebates, exemptions - other",null,null,null,null,null,null,null,null,null,null,null,null,null,null,null,null,"~"]
["SA11",2025,"Choose",1309,"V","Phase-in reductions/discounts",null,null,null,null,null,null,null,null,null,null,null,null,null,null,null,null,"~"]
["SA11",2025,"Choose",1310,"V","Total rebates,exemptns,reductns,discs",null,null,null,null,null,null,null,null,null,null,null,null,null,null,null,null,"~"]
["SA12",2025,"Choose",1000,"T","Valuation:",null,null,null,null,null,null,null,null,null,null,null,null,null,null,null,null,"~"]
["SA12",2025,"Choose",1020,"V","No. of properties",null,null,null,null,null,null,null,null,null,null,null,null,null,null,null,null,"~"]
["SA12",2025,"Choose",1021,"V","No. of sectional title property values",null,null,null,null,null,null,null,null,null,null,null,null,null,null,null,null,"~"]
["SA12",2025,"Choose",1022,"V","No. of unreasonably difficult properties s7(2)",null,null,null,null,null,null,null,null,null,null,null,null,null,null,null,null,"~"]
["SA12",2025,"Choose",1023,"V","No. of supplementary valuations",null,null,null,null,null,null,null,null,null,null,null,null,null,null,null,null,"~"]
["SA12",2025,"Choose",1030,"V","Supplementary valuation ",null,null,null,null,null,null,null,null,null,null,null,null,null,null,null,null,"~"]
["SA12",2025,"Choose",1024,"V","No. of valuation roll amendments",null,null,null,null,null,null,null,null,null,null,null,null,null,null,null,null,"~"]
["SA12",2025,"Choose",1025,"V","No. of objections by rate-payers",null,null,null,null,null,null,null,null,null,null,null,null,null,null,null,null,"~"]
["SA12",2025,"Choose",1026,"V","No. of appeals by rate-payers",null,null,null,null,null,null,null,null,null,null,null,null,null,null,null,null,"~"]
["SA12",2025,"Choose",1027,"V","No. of appeals by rate-payers finalised",null,null,null,null,null,null,null,null,null,null,null,null,null,null,null,null,"~"]
["SA12",2025,"Choose",1028,"V","No. of successful objections",null,null,null,null,null,null,null,null,null,null,null,null,null,null,null,null,"~"]
["SA12",2025,"Choose",1029,"V","No. of successful objections > 10%",null,null,null,null,null,null,null,null,null,null,null,null,null,null,null,null,"~"]
["SA12",2025,"Choose",1040,"V","Estimated no. of properties not valued",null,null,null,null,null,null,null,null,null,null,null,null,null,null,null,null,"~"]
["SA12",2025,"Choose",1041,"T","Years since last valuation",null,null,null,null,null,null,null,null,null,null,null,null,null,null,null,null,"~"]
["SA12",2025,"Choose",1042,"T","Frequency of valuation ",null,null,null,null,null,null,null,null,null,null,null,null,null,null,null,null,"~"]
["SA12",2025,"Choose",1043,"T","Method of valuation used",null,null,null,null,null,null,null,null,null,null,null,null,null,null,null,null,"~"]
["SA12",2025,"Choose",1044,"T","Base of valuation",null,null,null,null,null,null,null,null,null,null,null,null,null,null,null,null,"~"]
["SA12",2025,"Choose",1206,"V","Phasing-in properties s21 (number)",null,null,null,null,null,null,null,null,null,null,null,null,null,null,null,null,"~"]
["SA12",2025,"Choose",1046,"T","Combination of rating types used? (Y/N)",null,null,null,null,null,null,null,null,null,null,null,null,null,null,null,null,"~"]
["SA12",2025,"Choose",1047,"T","Flat rate used? (Y/N)",null,null,null,null,null,null,null,null,null,null,null,null,null,null,null,null,"~"]
["SA12",2025,"Choose",1048,"T","Is balance rated by uniform rate/variable rate?",null,null,null,null,null,null,null,null,null,null,null,null,null,null,null,null,"~"]
["SA12",2025,"Choose",1100,"T","Valuation reductions:",null,null,null,null,null,null,null,null,null,null,null,null,null,null,null,null,"~"]
["SA12",2025,"Choose",1101,"V","Valuation reductions-public infrastructure",null,null,null,null,null,null,null,null,null,null,null,null,null,null,null,null,"~"]
["SA12",2025,"Choose",1102,"V","Valuation reductions-nature reserves/park",null,null,null,null,null,null,null,null,null,null,null,null,null,null,null,null,"~"]
["SA12",2025,"Choose",1103,"V","Valuation reductions-mineral rights",null,null,null,null,null,null,null,null,null,null,null,null,null,null,null,null,"~"]
["SA12",2025,"Choose",1104,"V","Valuation reductions-R15,000 threshold ",null,null,null,null,null,null,null,null,null,null,null,null,null,null,null,null,"~"]
["SA12",2025,"Choose",1105,"V","Valuation reductions-public worship",null,null,null,null,null,null,null,null,null,null,null,null,null,null,null,null,"~"]
["SA12",2025,"Choose",1106,"V","Valuation reductions-other",null,null,null,null,null,null,null,null,null,null,null,null,null,null,null,null,"~"]
["SA12",2025,"Choose",1107,"V","Total valuation reductions:",null,null,null,null,null,null,null,null,null,null,null,null,null,null,null,null,"~"]
["SA12",2025,"Choose",1108,"V","Total value used for rating",null,null,null,null,null,null,null,null,null,null,null,null,null,null,null,null,"~"]
["SA12",2025,"Choose",1109,"V","Total land value ",null,null,null,null,null,null,null,null,null,null,null,null,null,null,null,null,"~"]
["SA12",2025,"Choose",1110,"V","Total value of improvements",null,null,null,null,null,null,null,null,null,null,null,null,null,null,null,null,"~"]
["SA12",2025,"Choose",1111,"V","Total market value ",null,null,null,null,null,null,null,null,null,null,null,null,null,null,null,null,"~"]
["SA12",2025,"Choose",1200,"T","Rating:",null,null,null,null,null,null,null,null,null,null,null,null,null,null,null,null,"~"]
["SA12",2025,"Choose",1201,"V","Average rate",null,null,null,null,null,null,null,null,null,null,null,null,null,null,null,null,"~"]
["SA12",2025,"Choose",1301,"V","Rate revenue budget ",null,null,null,null,null,null,null,null,null,null,null,null,null,null,null,null,"~"]
["SA12",2025,"Choose",1302,"V","Rate revenue expected to collect",null,null,null,null,null,null,null,null,null,null,null,null,null,null,null,null,"~"]
["SA12",2025,"Choose",1303,"P","Expected cash collection rate (%)",null,null,null,null,null,null,null,null,null,null,null,null,null,null,null,null,"~"]
["SA12",2025,"Choose",1304,"V","Special rating areas",null,null,null,null,null,null,null,null,null,null,null,null,null,null,null,null,"~"]
["SA12",2025,"Choose",1305,"V","Rebates, exemptions - indigent",null,null,null,null,null,null,null,null,null,null,null,null,null,null,null,null,"~"]
["SA12",2025,"Choose",1306,"V","Rebates, exemptions - pensioners",null,null,null,null,null,null,null,null,null,null,null,null,null,null,null,null,"~"]
["SA12",2025,"Choose",1307,"V","Rebates, exemptions - bona fide farm. ",null,null,null,null,null,null,null,null,null,null,null,null,null,null,null,null,"~"]
["SA12",2025,"Choose",1308,"V","Rebates, exemptions - other ",null,null,null,null,null,null,null,null,null,null,null,null,null,null,null,null,"~"]
["SA12",2025,"Choose",1309,"V","Phase-in reductions/discounts ",null,null,null,null,null,null,null,null,null,null,null,null,null,null,null,null,"~"]
["SA12",2025,"Choose",1310,"V","Total rebates,exemptns,reductns,discs",null,null,null,null,null,null,null,null,null,null,null,null,null,null,null,null,"~"]
["SA12",2025,"Choose",null,null,null,null,null,null,null,null,null,null,null,null,null,null,null,null,null,null,null,"~"]
["SA12",2025,"Choose",null,null,null,null,null,null,null,null,null,null,null,null,null,null,null,null,null,null,null,"~"]
["SA12",2025,"Choose",null,null,null,null,null,null,null,null,null,null,null,null,null,null,null,null,null,null,null,"~"]
["SA12",2025,"Choose",null,null,null,null,null,null,null,null,null,null,null,null,null,null,null,null,null,null,null,"~"]
["SA12",2025,"Choose",1000,"T","Valuation:",null,null,null,null,null,null,null,null,null,null,null,null,null,null,null,null,"~"]
["SA12",2025,"Choose",1020,"V","No. of properties",null,null,null,null,null,null,null,null,null,null,null,null,null,null,null,null,"~"]
["SA12",2025,"Choose",1021,"V","No. of sectional title property values",null,null,null,null,null,null,null,null,null,null,null,null,null,null,null,null,"~"]
["SA12",2025,"Choose",1022,"V","No. of unreasonably difficult properties s7(2)",null,null,null,null,null,null,null,null,null,null,null,null,null,null,null,null,"~"]
["SA12",2025,"Choose",1023,"V","No. of supplementary valuations",null,null,null,null,null,null,null,null,null,null,null,null,null,null,null,null,"~"]
["SA12",2025,"Choose",1030,"V","Supplementary valuation ",null,null,null,null,null,null,null,null,null,null,null,null,null,null,null,null,"~"]
["SA12",2025,"Choose",1024,"V","No. of valuation roll amendments",null,null,null,null,null,null,null,null,null,null,null,null,null,null,null,null,"~"]
["SA12",2025,"Choose",1025,"V","No. of objections by rate-payers",null,null,null,null,null,null,null,null,null,null,null,null,null,null,null,null,"~"]
["SA12",{"$f":"+MTREF","v":2025},{"$f":"LEFT(muni,(FIND(\" \",muni,1)-1))","v":"Choose"},1026,"V","No. of appeals by rate-payers",null,null,null,null,null,null,null,null,null,null,null,null,null,null,null,null,"~"]
["SA12",2025,"Choose",1027,"V","No. of appeals by rate-payers finalised",null,null,null,null,null,null,null,null,null,null,null,null,null,null,null,null,"~"]
["SA12",2025,"Choose",1028,"V","No. of successful objections",null,null,null,null,null,null,null,null,null,null,null,null,null,null,null,null,"~"]
["SA12",2025,"Choose",1029,"V","No. of successful objections > 10%",null,null,null,null,null,null,null,null,null,null,null,null,null,null,null,null,"~"]
["SA12",2025,"Choose",1040,"V","Estimated no. of properties not valued",null,null,null,null,null,null,null,null,null,null,null,null,null,null,null,null,"~"]
["SA12",2025,"Choose",1041,"T","Years since last valuation",null,null,null,null,null,null,null,null,null,null,null,null,null,null,null,null,"~"]
["SA12",2025,"Choose",1042,"T","Frequency of valuation ",null,null,null,null,null,null,null,null,null,null,null,null,null,null,null,null,"~"]
["SA12",2025,"Choose",1043,"T","Method of valuation used",null,null,null,null,null,null,null,null,null,null,null,null,null,null,null,null,"~"]
["SA12",2025,"Choose",1044,"T","Base of valuation",null,null,null,null,null,null,null,null,null,null,null,null,null,null,null,null,"~"]
["SA12",2025,"Choose",1206,"V","Phasing-in properties s21 (number)",null,null,null,null,null,null,null,null,null,null,null,null,null,null,null,null,"~"]
["SA12",2025,"Choose",1046,"T","Combination of rating types used? (Y/N)",null,null,null,null,null,null,null,null,null,null,null,null,null,null,null,null,"~"]
["SA12",2025,"Choose",1047,"T","Flat rate used? (Y/N)",null,null,null,null,null,null,null,null,null,null,null,null,null,null,null,null,"~"]
["SA12",2025,"Choose",1048,"T","Is balance rated by uniform rate/variable rate?",null,null,null,null,null,null,null,null,null,null,null,null,null,null,null,null,"~"]
["SA12",2025,"Choose",1100,"T","Valuation reductions:",null,null,null,null,null,null,null,null,null,null,null,null,null,null,null,null,"~"]
["SA12",2025,"Choose",1101,"V","Valuation reductions-public infrastructure",null,null,null,null,null,null,null,null,null,null,null,null,null,null,null,null,"~"]
["SA12",2025,"Choose",1102,"V","Valuation reductions-nature reserves/park",null,null,null,null,null,null,null,null,null,null,null,null,null,null,null,null,"~"]
["SA12",2025,"Choose",1103,"V","Valuation reductions-mineral rights",null,null,null,null,null,null,null,null,null,null,null,null,null,null,null,null,"~"]
["SA12",2025,"Choose",1104,"V","Valuation reductions-R15,000 threshold ",null,null,null,null,null,null,null,null,null,null,null,null,null,null,null,null,"~"]
["SA12",2025,"Choose",1105,"V","Valuation reductions-public worship",null,null,null,null,null,null,null,null,null,null,null,null,null,null,null,null,"~"]
["SA12",2025,"Choose",1106,"V","Valuation reductions-other",null,null,null,null,null,null,null,null,null,null,null,null,null,null,null,null,"~"]
["SA12",2025,"Choose",1107,"V","Total valuation reductions:",null,null,null,null,null,null,null,null,null,null,null,null,null,null,null,null,"~"]
["SA12",2025,"Choose",1108,"V","Total value used for rating",null,null,null,null,null,null,null,null,null,null,null,null,null,null,null,null,"~"]
["SA12",2025,"Choose",1109,"V","Total land value ",null,null,null,null,null,null,null,null,null,null,null,null,null,null,null,null,"~"]
["SA12",2025,"Choose",1110,"V","Total value of improvements",null,null,null,null,null,null,null,null,null,null,null,null,null,null,null,null,"~"]
["SA12",2025,"Choose",1111,"V","Total market value ",null,null,null,null,null,null,null,null,null,null,null,null,null,null,null,null,"~"]
["SA12",2025,"Choose",1200,"T","Rating:",null,null,null,null,null,null,null,null,null,null,null,null,null,null,null,null,"~"]
["SA12",2025,"Choose",1201,"V","Average rate",null,null,null,null,null,null,null,null,null,null,null,null,null,null,null,null,"~"]
["SA12",2025,"Choose",1301,"V","Rate revenue budget ",null,null,null,null,null,null,null,null,null,null,null,null,null,null,null,null,"~"]
["SA12",2025,"Choose",1302,"V","Rate revenue expected to collect",null,null,null,null,null,null,null,null,null,null,null,null,null,null,null,null,"~"]
["SA12",2025,"Choose",1303,"P","Expected cash collection rate (%)",null,null,null,null,null,null,null,null,null,null,null,null,null,null,null,null,"~"]
["SA12",2025,"Choose",1304,"V","Special rating areas",null,null,null,null,null,null,null,null,null,null,null,null,null,null,null,null,"~"]
["SA12",2025,"Choose",1305,"V","Rebates, exemptions - indigent",null,null,null,null,null,null,null,null,null,null,null,null,null,null,null,null,"~"]
["SA12",2025,"Choose",1306,"V","Rebates, exemptions - pensioners",null,null,null,null,null,null,null,null,null,null,null,null,null,null,null,null,"~"]
["SA12",2025,"Choose",1307,"V","Rebates, exemptions - bona fide farm. ",null,null,null,null,null,null,null,null,null,null,null,null,null,null,null,null,"~"]
["SA12",2025,"Choose",1308,"V","Rebates, exemptions - other ",null,null,null,null,null,null,null,null,null,null,null,null,null,null,null,null,"~"]
["SA12",2025,"Choose",1309,"V","Phase-in reductions/discounts ",null,null,null,null,null,null,null,null,null,null,null,null,null,null,null,null,"~"]
["SA12",2025,"Choose",1310,"V","Total rebates,exemptns,reductns,discs",null,null,null,null,null,null,null,null,null,null,null,null,null,null,null,null,"~"]
["SA13",2025,"Choose",1000,1,"Property rates (rate in the Rand)",null,null,null,null,null,null,null,null,null,null,null,null,null,null,null,null,"~"]
["SA13",2025,"Choose",1001,2,"Residential properties",null,null,null,null,null,null,null,null,null,null,null,null,null,null,null,null,"~"]
["SA13",2025,"Choose",1002,3,"Residential properties - vacant land",null,null,null,null,null,null,null,null,null,null,null,null,null,null,null,null,"~"]
["SA13",2025,"Choose",1003,4,"Formal/informal settlements",null,null,null,null,null,null,null,null,null,null,null,null,null,null,null,null,"~"]
["SA13",2025,"Choose",1004,5,"Small holdings",null,null,null,null,null,null,null,null,null,null,null,null,null,null,null,null,"~"]
["SA13",2025,"Choose",1005,6,"Farm properties - used",null,null,null,null,null,null,null,null,null,null,null,null,null,null,null,null,"~"]
["SA13",2025,"Choose",1006,7,"Farm properties - not used",null,null,null,null,null,null,null,null,null,null,null,null,null,null,null,null,"~"]
["SA13",2025,"Choose",1007,8,"Industrial properties",null,null,null,null,null,null,null,null,null,null,null,null,null,null,null,null,"~"]
["SA13",2025,"Choose",1008,9,"Business and commercial properties",null,null,null,null,null,null,null,null,null,null,null,null,null,null,null,null,"~"]
["SA13",2025,"Choose",1009,10,"Communal land - residential",null,null,null,null,null,null,null,null,null,null,null,null,null,null,null,null,"~"]
["SA13",2025,"Choose",1010,11,"Communal land - small holdings",null,null,null,null,null,null,null,null,null,null,null,null,null,null,null,null,"~"]
["SA13",2025,"Choose",1011,12,"Communal land - farm property",null,null,null,null,null,null,null,null,null,null,null,null,null,null,null,null,"~"]
["SA13",2025,"Choose",1012,13,"Communal land - business and commercial",null,null,null,null,null,null,null,null,null,null,null,null,null,null,null,null,"~"]
["SA13",2025,"Choose",1013,14,"Communal land - other",null,null,null,null,null,null,null,null,null,null,null,null,null,null,null,null,"~"]
["SA13",2025,"Choose",1014,15,"State-owned properties",null,null,null,null,null,null,null,null,null,null,null,null,null,null,null,null,"~"]
["SA13",2025,"Choose",1015,16,"Municipal properties",null,null,null,null,null,null,null,null,null,null,null,null,null,null,null,null,"~"]
["SA13",2025,"Choose",1016,17,"Public service infrastructure",null,null,null,null,null,null,null,null,null,null,null,null,null,null,null,null,"~"]
["SA13",2025,"Choose",1017,18,"Privately owned towns serviced by the owner",null,null,null,null,null,null,null,null,null,null,null,null,null,null,null,null,"~"]
["SA13",2025,"Choose",1018,19,"State trust land",null,null,null,null,null,null,null,null,null,null,null,null,null,null,null,null,"~"]
["SA13",2025,"Choose",1019,20,"Restitution and redistribution properties",null,null,null,null,null,null,null,null,null,null,null,null,null,null,null,null,"~"]
["SA13",2025,"Choose",1020,21,"Protected areas",null,null,null,null,null,null,null,null,null,null,null,null,null,null,null,null,"~"]
["SA13",2025,"Choose",1021,22,"National monuments properties",null,null,null,null,null,null,null,null,null,null,null,null,null,null,null,null,"~"]
["SA13",2025,"Choose",null,null,null,null,null,null,null,null,null,null,null,null,null,null,null,null,null,null,null,"~"]
["SA13",2025,"Choose",1030,23,"Exemptions, reductions and rebates (Rands)",null,null,null,null,null,null,null,null,null,null,null,null,null,null,null,null,"~"]
["SA13",2025,"Choose",1031,24,"Residential properties",null,null,null,null,null,null,null,null,null,null,null,null,null,null,null,null,"~"]
["SA13",2025,"Choose",1032,25,"R15 000 threshhold rebate",null,null,null,null,null,null,null,null,null,null,null,null,null,null,null,null,"~"]
["SA13",2025,"Choose",1033,26,"General residential rebate",null,null,null,null,null,null,null,null,null,null,null,null,null,null,null,null,"~"]
["SA13",{"$f":"+MTREF","v":2025},{"$f":"LEFT(muni,(FIND(\" \",muni,1)-1))","v":"Choose"},1034,27,"Indigent rebate or exemption",null,null,null,null,null,null,null,null,null,null,null,null,null,null,null,null,"~"]
["SA13",2025,"Choose",1035,28,"Pensioners/social grants rebate or exemption ",null,null,null,null,null,null,null,null,null,null,null,null,null,null,null,null,"~"]
["SA13",2025,"Choose",1036,29,"Temporary relief rebate or exemption",null,null,null,null,null,null,null,null,null,null,null,null,null,null,null,null,"~"]
["SA13",2025,"Choose",1037,30," Bona fide farmers rebate or exemption",null,null,null,null,null,null,null,null,null,null,null,null,null,null,null,null,"~"]
["SA13",2025,"Choose",1038,31,"Other rebates or exemptions",null,null,null,null,null,null,null,null,null,null,null,null,null,null,null,null,"~"]
["SA13",2025,"Choose",null,null,null,null,null,null,null,null,null,null,null,null,null,null,null,null,null,null,null,"~"]
["SA13",2025,"Choose",1100,32,"Water tariffs",null,null,null,null,null,null,null,null,null,null,null,null,null,null,null,null,"~"]
["SA13",2025,"Choose",1101,33,"Domestic",null,null,null,null,null,null,null,null,null,null,null,null,null,null,null,null,"~"]
["SA13",2025,"Choose",1102,34,"Basic charge/fixed fee (Rands/month)",null,null,null,null,null,null,null,null,null,null,null,null,null,null,null,null,"~"]
["SA13",2025,"Choose",1103,35,"Service point - vacant land (Rands/month)",null,null,null,null,null,null,null,null,null,null,null,null,null,null,null,null,"~"]
["SA13",2025,"Choose",1104,36,"Water usage - flat rate tariff (c/kl)",null,null,null,null,null,null,null,null,null,null,null,null,null,null,null,null,"~"]
["SA13",2025,"Choose",1105,37,"Water usage - life line tariff",null,null,null,null,null,null,null,null,null,null,null,null,null,null,null,null,"~"]
["SA13",2025,"Choose",1106,38,"Water usage - Block 1 (c/kl)",null,null,null,null,null,null,null,null,null,null,null,null,null,null,null,null,"~"]
["SA13",2025,"Choose",1107,39,"Water usage - Block 2 (c/kl)",null,null,null,null,null,null,null,null,null,null,null,null,null,null,null,null,"~"]
["SA13",2025,"Choose",1108,40,"Water usage - Block 3 (c/kl)",null,null,null,null,null,null,null,null,null,null,null,null,null,null,null,null,"~"]
["SA13",2025,"Choose",1109,41,"Water usage - Block 4 (c/kl)",null,null,null,null,null,null,null,null,null,null,null,null,null,null,null,null,"~"]
["SA13",2025,"Choose",1110,42,"Other",null,null,null,null,null,null,null,null,null,null,null,null,null,null,null,null,"~"]
["SA13",2025,"Choose",null,null,null,null,null,null,null,null,null,null,null,null,null,null,null,null,null,null,null,"~"]
["SA13",2025,"Choose",1200,43,"Waste water tariffs",null,null,null,null,null,null,null,null,null,null,null,null,null,null,null,null,"~"]
["SA13",2025,"Choose",1201,44,"Domestic",null,null,null,null,null,null,null,null,null,null,null,null,null,null,null,null,"~"]
["SA13",2025,"Choose",1202,45,"Basic charge/fixed fee (Rands/month)",null,null,null,null,null,null,null,null,null,null,null,null,null,null,null,null,"~"]
["SA13",2025,"Choose",1203,46,"Service point - vacant land (Rands/month)",null,null,null,null,null,null,null,null,null,null,null,null,null,null,null,null,"~"]
["SA13",2025,"Choose",1204,47,"Waste water - flat rate tariff (c/kl)",null,null,null,null,null,null,null,null,null,null,null,null,null,null,null,null,"~"]
["SA13",2025,"Choose",1205,48,"Volumetric charge - Block 1 (c/kl)",null,null,null,null,null,null,null,null,null,null,null,null,null,null,null,null,"~"]
["SA13",2025,"Choose",1206,49,"Volumetric charge - Block 2 (c/kl)",null,null,null,null,null,null,null,null,null,null,null,null,null,null,null,null,"~"]
["SA13",2025,"Choose",1207,50,"Volumetric charge - Block 3 (c/kl)",null,null,null,null,null,null,null,null,null,null,null,null,null,null,null,null,"~"]
["SA13",2025,"Choose",1208,51,"Volumetric charge - Block 4 (c/kl)",null,null,null,null,null,null,null,null,null,null,null,null,null,null,null,null,"~"]
["SA13",2025,"Choose",1209,52,"Other",null,null,null,null,null,null,null,null,null,null,null,null,null,null,null,null,"~"]
["SA13",2025,"Choose",null,null,null,null,null,null,null,null,null,null,null,null,null,null,null,null,null,null,null,"~"]
["SA13",2025,"Choose",1300,53,"Electricity tariffs",null,null,null,null,null,null,null,null,null,null,null,null,null,null,null,null,"~"]
["SA13",2025,"Choose",1301,54,"Domestic",null,null,null,null,null,null,null,null,null,null,null,null,null,null,null,null,"~"]
["SA13",2025,"Choose",1302,55,"Basic charge/fixed fee (Rands/month)",null,null,null,null,null,null,null,null,null,null,null,null,null,null,null,null,"~"]
["SA13",2025,"Choose",1303,56,"Service point - vacant land (Rands/month)",null,null,null,null,null,null,null,null,null,null,null,null,null,null,null,null,"~"]
["SA13",2025,"Choose",1304,57,"FBE",null,null,null,null,null,null,null,null,null,null,null,null,null,null,null,null,"~"]
["SA13",2025,"Choose",1305,58,"Life-line tariff - meter",null,null,null,null,null,null,null,null,null,null,null,null,null,null,null,null,"~"]
["SA13",2025,"Choose",1306,59,"Life-line tariff - prepaid",null,null,null,null,null,null,null,null,null,null,null,null,null,null,null,null,"~"]
["SA13",2025,"Choose",1307,60,"Flat rate tariff - meter (c/kwh)",null,null,null,null,null,null,null,null,null,null,null,null,null,null,null,null,"~"]
["SA13",2025,"Choose",1308,61,"Flat rate tariff - prepaid(c/kwh)",null,null,null,null,null,null,null,null,null,null,null,null,null,null,null,null,"~"]
["SA13",2025,"Choose",1309,62,"Meter - IBT Block 1 (c/kwh)",null,null,null,null,null,null,null,null,null,null,null,null,null,null,null,null,"~"]
["SA13",2025,"Choose",1310,63,"Meter - IBT Block 2 (c/kwh)",null,null,null,null,null,null,null,null,null,null,null,null,null,null,null,null,"~"]
["SA13",2025,"Choose",1311,64,"Meter - IBT Block 3 (c/kwh)",null,null,null,null,null,null,null,null,null,null,null,null,null,null,null,null,"~"]
["SA13",2025,"Choose",1312,65,"Meter - IBT Block 4 (c/kwh)",null,null,null,null,null,null,null,null,null,null,null,null,null,null,null,null,"~"]
["SA13",2025,"Choose",1313,66,"Meter - IBT Block 5 (c/kwh)",null,null,null,null,null,null,null,null,null,null,null,null,null,null,null,null,"~"]
["SA13",2025,"Choose",1314,67,"Prepaid - IBT Block 1 (c/kwh)",null,null,null,null,null,null,null,null,null,null,null,null,null,null,null,null,"~"]
["SA13",2025,"Choose",1315,68,"Prepaid - IBT Block 2 (c/kwh)",null,null,null,null,null,null,null,null,null,null,null,null,null,null,null,null,"~"]
["SA13",2025,"Choose",1316,69,"Prepaid - IBT Block 3 (c/kwh)",null,null,null,null,null,null,null,null,null,null,null,null,null,null,null,null,"~"]
["SA13",2025,"Choose",1317,70,"Prepaid - IBT Block 4 (c/kwh)",null,null,null,null,null,null,null,null,null,null,null,null,null,null,null,null,"~"]
["SA13",2025,"Choose",1318,71,"Prepaid - IBT Block 5 (c/kwh)",null,null,null,null,null,null,null,null,null,null,null,null,null,null,null,null,"~"]
["SA13",2025,"Choose",1319,72,"Other",null,null,null,null,null,null,null,null,null,null,null,null,null,null,null,null,"~"]
["SA13",2025,"Choose",null,null,null,null,null,null,null,null,null,null,null,null,null,null,null,null,null,null,null,"~"]
["SA13",2025,"Choose",1400,73,"Waste management tariffs",null,null,null,null,null,null,null,null,null,null,null,null,null,null,null,null,"~"]
["SA13",2025,"Choose",1401,74,"Domestic",null,null,null,null,null,null,null,null,null,null,null,null,null,null,null,null,"~"]
["SA13",2025,"Choose",1402,75,"Street cleaning charge",null,null,null,null,null,null,null,null,null,null,null,null,null,null,null,null,"~"]
["SA13",2025,"Choose",1403,76,"Basic charge/fixed fee",null,null,null,null,null,null,null,null,null,null,null,null,null,null,null,null,"~"]
["SA13",2025,"Choose",1404,77,"80l bin - once a week",null,null,null,null,null,null,null,null,null,null,null,null,null,null,null,null,"~"]
["SA13",2025,"Choose",1405,78,"250l bin - once a week",null,null,null,null,null,null,null,null,null,null,null,null,null,null,null,null,"~"]
["SA14",2025,"Choose",1000,1,"Monthly Account for Household - 'Middle Income Range'",null,null,null,null,null,null,null,null,null,null,null,null,null,null,null,null,"~"]
["SA14",2025,"Choose",1001,2,"Rates and services charges:",null,null,null,null,null,null,null,null,null,null,null,null,null,null,null,null,"~"]
["SA14",2025,"Choose",1002,3,"Property rates",null,null,null,null,null,null,null,null,null,null,null,null,null,null,null,null,"~"]
["SA14",2025,"Choose",1003,4,"Electricity: Basic levy",null,null,null,null,null,null,null,null,null,null,null,null,null,null,null,null,"~"]
["SA14",2025,"Choose",1004,5,"Electricity: Consumption",null,null,null,null,null,null,null,null,null,null,null,null,null,null,null,null,"~"]
["SA14",2025,"Choose",1005,6,"Water: Basic levy",null,null,null,null,null,null,null,null,null,null,null,null,null,null,null,null,"~"]
["SA14",2025,"Choose",1006,7,"Water: Consumption",null,null,null,null,null,null,null,null,null,null,null,null,null,null,null,null,"~"]
["SA14",2025,"Choose",1007,8,"Sanitation",null,null,null,null,null,null,null,null,null,null,null,null,null,null,null,null,"~"]
["SA14",{"$f":"+MTREF","v":2025},{"$f":"LEFT(muni,(FIND(\" \",muni,1)-1))","v":"Choose"},1008,9,"Refuse removal",null,null,null,null,null,null,null,null,null,null,null,null,null,null,null,null,"~"]
["SA14",2025,"Choose",1009,10,"Other",null,null,null,null,null,null,null,null,null,null,null,null,null,null,null,null,"~"]
["SA14",2025,"Choose",1090,11,"sub-total",null,null,null,null,null,null,null,null,null,null,null,null,null,null,null,null,"~"]
["SA14",2025,"Choose",1091,12,"VAT on Services",null,null,null,null,null,null,null,null,null,null,null,null,null,null,null,null,"~"]
["SA14",2025,"Choose",1095,13,"Total large household bill:",null,null,null,null,null,null,null,null,null,null,null,null,null,null,null,null,"~"]
["SA14",2025,"Choose",1096,14,"% increase/-decrease",null,null,null,null,null,null,null,null,null,null,null,null,null,null,null,null,"~"]
["SA14",2025,"Choose",null,null,null,null,null,null,null,null,null,null,null,null,null,null,null,null,null,null,null,"~"]
["SA14",2025,"Choose",1100,15,"Monthly Account for Household - 'Affordable Range' ",null,null,null,null,null,null,null,null,null,null,null,null,null,null,null,null,"~"]
["SA14",2025,"Choose",1101,16,"Rates and services charges:",null,null,null,null,null,null,null,null,null,null,null,null,null,null,null,null,"~"]
["SA14",2025,"Choose",1102,17,"Property rates",null,null,null,null,null,null,null,null,null,null,null,null,null,null,null,null,"~"]
["SA14",2025,"Choose",1103,18,"Electricity: Basic levy",null,null,null,null,null,null,null,null,null,null,null,null,null,null,null,null,"~"]
["SA14",2025,"Choose",1110,19,"Electricity: Consumption",null,null,null,null,null,null,null,null,null,null,null,null,null,null,null,null,"~"]
["SA14",2025,"Choose",1107,20,"Water: Basic levy",null,null,null,null,null,null,null,null,null,null,null,null,null,null,null,null,"~"]
["SA14",2025,"Choose",1104,21,"Water: Consumption",null,null,null,null,null,null,null,null,null,null,null,null,null,null,null,null,"~"]
["SA14",2025,"Choose",1105,22,"Sanitation",null,null,null,null,null,null,null,null,null,null,null,null,null,null,null,null,"~"]
["SA14",2025,"Choose",1106,23,"Refuse removal",null,null,null,null,null,null,null,null,null,null,null,null,null,null,null,null,"~"]
["SA14",2025,"Choose",1108,24,"Other",null,null,null,null,null,null,null,null,null,null,null,null,null,null,null,null,"~"]
["SA14",2025,"Choose",1190,25,"sub-total",null,null,null,null,null,null,null,null,null,null,null,null,null,null,null,null,"~"]
["SA14",2025,"Choose",1191,26,"VAT on Services",null,null,null,null,null,null,null,null,null,null,null,null,null,null,null,null,"~"]
["SA14",2025,"Choose",1195,27,"Total small household bill:",null,null,null,null,null,null,null,null,null,null,null,null,null,null,null,null,"~"]
["SA14",2025,"Choose",1196,28,"% increase/-decrease",null,null,null,null,null,null,null,null,null,null,null,null,null,null,null,null,"~"]
["SA14",2025,"Choose",null,null,null,null,null,null,null,null,null,null,null,null,null,null,null,null,null,null,null,"~"]
["SA14",2025,"Choose",1200,29,"Monthly Account for Household - 'Indigent' HH receiving FBS",null,null,null,null,null,null,null,null,null,null,null,null,null,null,null,null,"~"]
["SA14",2025,"Choose",1201,30,"Rates and services charges:",null,null,null,null,null,null,null,null,null,null,null,null,null,null,null,null,"~"]
["SA14",2025,"Choose",1202,31,"Property rates",null,null,null,null,null,null,null,null,null,null,null,null,null,null,null,null,"~"]
["SA14",2025,"Choose",1203,32,"Electricity: Basic levy",null,null,null,null,null,null,null,null,null,null,null,null,null,null,null,null,"~"]
["SA14",2025,"Choose",1207,33,"Electricity: Consumption",null,null,null,null,null,null,null,null,null,null,null,null,null,null,null,null,"~"]
["SA14",2025,"Choose",1208,34,"Water: Basic levy",null,null,null,null,null,null,null,null,null,null,null,null,null,null,null,null,"~"]
["SA14",2025,"Choose",1204,35,"Water: Consumption",null,null,null,null,null,null,null,null,null,null,null,null,null,null,null,null,"~"]
["SA14",2025,"Choose",1205,36,"Sanitation",null,null,null,null,null,null,null,null,null,null,null,null,null,null,null,null,"~"]
["SA14",2025,"Choose",1206,37,"Refuse removal",null,null,null,null,null,null,null,null,null,null,null,null,null,null,null,null,"~"]
["SA14",2025,"Choose",1209,38,"Other",null,null,null,null,null,null,null,null,null,null,null,null,null,null,null,null,"~"]
["SA14",2025,"Choose",1290,39,"sub-total",null,null,null,null,null,null,null,null,null,null,null,null,null,null,null,null,"~"]
["SA14",2025,"Choose",1291,40,"VAT on Services",null,null,null,null,null,null,null,null,null,null,null,null,null,null,null,null,"~"]
["SA14",2025,"Choose",1295,41,"Total small household bill:",null,null,null,null,null,null,null,null,null,null,null,null,null,null,null,null,"~"]
["SA14",2025,"Choose",1296,42,"% increase/-decrease",null,null,null,null,null,null,null,null,null,null,null,null,null,null,null,null,"~"]
["SA22",2025,"Choose",1000,1,"Councillors (Political Office Bearers plus Other)",null,null,null,null,null,null,null,null,null,null,null,null,null,null,null,null,"~"]
["SA22",2025,"Choose",1001,2,"Basic Salaries and Wages",null,null,null,null,null,null,null,null,null,null,null,null,null,null,null,null,"~"]
["SA22",2025,"Choose",1002,3,"Pension and UIF Contributions",null,null,null,null,null,null,null,null,null,null,null,null,null,null,null,null,"~"]
["SA22",2025,"Choose",1003,4,"Medical Aid Contributions",null,null,null,null,null,null,null,null,null,null,null,null,null,null,null,null,"~"]
["SA22",2025,"Choose",1004,5,"Motor Vehicle Allowance",null,null,null,null,null,null,null,null,null,null,null,null,null,null,null,null,"~"]
["SA22",2025,"Choose",1005,6,"Cellphone Allowance",null,null,null,null,null,null,null,null,null,null,null,null,null,null,null,null,"~"]
["SA22",2025,"Choose",1006,7,"Housing Allowances",null,null,null,null,null,null,null,null,null,null,null,null,null,null,null,null,"~"]
["SA22",2025,"Choose",1007,8,"Other benefits and allowances",null,null,null,null,null,null,null,null,null,null,null,null,null,null,null,null,"~"]
["SA22",2025,"Choose",1090,9,"Sub Total - Councillors",null,null,null,null,null,null,null,null,null,null,null,null,null,null,null,null,"~"]
["SA22",2025,"Choose",1091,10,"% increase",null,null,null,null,null,null,null,null,null,null,null,null,null,null,null,null,"~"]
["SA22",2025,"Choose",null,null,null,null,null,null,null,null,null,null,null,null,null,null,null,null,null,null,null,"~"]
["SA22",2025,"Choose",1100,11,"Senior Managers of the Municipality",null,null,null,null,null,null,null,null,null,null,null,null,null,null,null,null,"~"]
["SA22",2025,"Choose",1101,12,"Basic Salaries and Wages",null,null,null,null,null,null,null,null,null,null,null,null,null,null,null,null,"~"]
["SA22",2025,"Choose",1102,13,"Pension and UIF Contributions",null,null,null,null,null,null,null,null,null,null,null,null,null,null,null,null,"~"]
["SA22",2025,"Choose",1103,14,"Medical Aid Contributions",null,null,null,null,null,null,null,null,null,null,null,null,null,null,null,null,"~"]
["SA22",2025,"Choose",1110,15,"Overtime",null,null,null,null,null,null,null,null,null,null,null,null,null,null,null,null,"~"]
["SA22",2025,"Choose",1107,16,"Performance Bonus",null,null,null,null,null,null,null,null,null,null,null,null,null,null,null,null,"~"]
["SA22",2025,"Choose",1104,17,"Motor Vehicle Allowance",null,null,null,null,null,null,null,null,null,null,null,null,null,null,null,null,"~"]
["SA22",2025,"Choose",1105,18,"Cellphone Allowance",null,null,null,null,null,null,null,null,null,null,null,null,null,null,null,null,"~"]
["SA22",2025,"Choose",1106,19,"Housing Allowances",null,null,null,null,null,null,null,null,null,null,null,null,null,null,null,null,"~"]
["SA22",2025,"Choose",1108,20,"Other benefits and allowances",null,null,null,null,null,null,null,null,null,null,null,null,null,null,null,null,"~"]
["SA22",2025,"Choose",1111,21,"Payments in lieu of leave",null,null,null,null,null,null,null,null,null,null,null,null,null,null,null,null,"~"]
["SA22",2025,"Choose",1112,22,"Long service awards",null,null,null,null,null,null,null,null,null,null,null,null,null,null,null,null,"~"]
["SA22",2025,"Choose",1113,23,"Post-retirement benefit obligations",null,null,null,null,null,null,null,null,null,null,null,null,null,null,null,null,"~"]
["SA22",2025,"Choose",1190,24,"Sub Total - Senior Managers of Municipality",null,null,null,null,null,null,null,null,null,null,null,null,null,null,null,null,"~"]
["SA22",2025,"Choose",1191,25,"% increase",null,null,null,null,null,null,null,null,null,null,null,null,null,null,null,null,"~"]
["SA22",2025,"Choose",null,null,null,null,null,null,null,null,null,null,null,null,null,null,null,null,null,null,null,"~"]
["SA22",2025,"Choose",1200,26,"Other Municipal Staff",null,null,null,null,null,null,null,null,null,null,null,null,null,null,null,null,"~"]
["SA22",{"$f":"+MTREF","v":2025},{"$f":"LEFT(muni,(FIND(\" \",muni,1)-1))","v":"Choose"},1201,27,"Basic Salaries and Wages",null,null,null,null,null,null,null,null,null,null,null,null,null,null,null,null,"~"]
["SA22",2025,"Choose",1202,28,"Pension and UIF Contributions",null,null,null,null,null,null,null,null,null,null,null,null,null,null,null,null,"~"]
["SA22",2025,"Choose",1203,29,"Medical Aid Contributions",null,null,null,null,null,null,null,null,null,null,null,null,null,null,null,null,"~"]
["SA22",2025,"Choose",1207,30,"Overtime",null,null,null,null,null,null,null,null,null,null,null,null,null,null,null,null,"~"]
["SA22",2025,"Choose",1208,31,"Performance Bonus",null,null,null,null,null,null,null,null,null,null,null,null,null,null,null,null,"~"]
["SA22",2025,"Choose",1204,32,"Motor Vehicle Allowance",null,null,null,null,null,null,null,null,null,null,null,null,null,null,null,null,"~"]
["SA22",2025,"Choose",1205,33,"Cellphone Allowance",null,null,null,null,null,null,null,null,null,null,null,null,null,null,null,null,"~"]
["SA22",2025,"Choose",1206,34,"Housing Allowances",null,null,null,null,null,null,null,null,null,null,null,null,null,null,null,null,"~"]
["SA22",2025,"Choose",1209,35,"Other benefits and allowances",null,null,null,null,null,null,null,null,null,null,null,null,null,null,null,null,"~"]
["SA22",2025,"Choose",1211,36,"Payments in lieu of leave",null,null,null,null,null,null,null,null,null,null,null,null,null,null,null,null,"~"]
["SA22",2025,"Choose",1212,37,"Long service awards",null,null,null,null,null,null,null,null,null,null,null,null,null,null,null,null,"~"]
["SA22",2025,"Choose",1213,38,"Post-retirement benefit obligations",null,null,null,null,null,null,null,null,null,null,null,null,null,null,null,null,"~"]
["SA22",2025,"Choose",1290,39,"Sub Total - Other Municipal Staff",null,null,null,null,null,null,null,null,null,null,null,null,null,null,null,null,"~"]
["SA22",2025,"Choose",1291,40,"% increase",null,null,null,null,null,null,null,null,null,null,null,null,null,null,null,null,"~"]
["SA22",2025,"Choose",null,null,null,null,null,null,null,null,null,null,null,null,null,null,null,null,null,null,null,"~"]
["SA22",2025,"Choose",1295,41,"Total Parent Municipality",null,null,null,null,null,null,null,null,null,null,null,null,null,null,null,null,"~"]
["SA22",2025,"Choose",1297,42,"% increase",null,null,null,null,null,null,null,null,null,null,null,null,null,null,null,null,"~"]
["SA22",2025,"Choose",null,null,null,null,null,null,null,null,null,null,null,null,null,null,null,null,null,null,null,"~"]
["SA22",2025,"Choose",2000,43,"Board Members of Entities",null,null,null,null,null,null,null,null,null,null,null,null,null,null,null,null,"~"]
["SA22",2025,"Choose",2001,44,"Basic Salaries and Wages",null,null,null,null,null,null,null,null,null,null,null,null,null,null,null,null,"~"]
["SA22",2025,"Choose",2002,45,"Pension and UIF Contributions",null,null,null,null,null,null,null,null,null,null,null,null,null,null,null,null,"~"]
["SA22",2025,"Choose",2003,46,"Medical Aid Contributions",null,null,null,null,null,null,null,null,null,null,null,null,null,null,null,null,"~"]
["SA22",2025,"Choose",2010,47,"Overtime",null,null,null,null,null,null,null,null,null,null,null,null,null,null,null,null,"~"]
["SA22",2025,"Choose",2011,48,"Performance Bonus",null,null,null,null,null,null,null,null,null,null,null,null,null,null,null,null,"~"]
["SA22",2025,"Choose",2004,49,"Motor Vehicle Allowance",null,null,null,null,null,null,null,null,null,null,null,null,null,null,null,null,"~"]
["SA22",2025,"Choose",2005,50,"Cellphone Allowance",null,null,null,null,null,null,null,null,null,null,null,null,null,null,null,null,"~"]
["SA22",2025,"Choose",2006,51,"Housing Allowances",null,null,null,null,null,null,null,null,null,null,null,null,null,null,null,null,"~"]
["SA22",2025,"Choose",2008,52,"Other benefits and allowances",null,null,null,null,null,null,null,null,null,null,null,null,null,null,null,null,"~"]
["SA22",2025,"Choose",2007,53,"Board Fees",null,null,null,null,null,null,null,null,null,null,null,null,null,null,null,null,"~"]
["SA22",2025,"Choose",2012,54,"Payments in lieu of leave",null,null,null,null,null,null,null,null,null,null,null,null,null,null,null,null,"~"]
["SA22",2025,"Choose",2013,55,"Long service awards",null,null,null,null,null,null,null,null,null,null,null,null,null,null,null,null,"~"]
["SA22",2025,"Choose",2014,56,"Post-retirement benefit obligations",null,null,null,null,null,null,null,null,null,null,null,null,null,null,null,null,"~"]
["SA22",2025,"Choose",2090,57,"Sub Total - Board Members of Entities",null,null,null,null,null,null,null,null,null,null,null,null,null,null,null,null,"~"]
["SA22",2025,"Choose",2091,58,"% increase",null,null,null,null,null,null,null,null,null,null,null,null,null,null,null,null,"~"]
["SA22",2025,"Choose",null,null,null,null,null,null,null,null,null,null,null,null,null,null,null,null,null,null,null,"~"]
["SA22",2025,"Choose",2100,59,"Senior Managers of Entities",null,null,null,null,null,null,null,null,null,null,null,null,null,null,null,null,"~"]
["SA22",2025,"Choose",2101,60,"Basic Salaries and Wages",null,null,null,null,null,null,null,null,null,null,null,null,null,null,null,null,"~"]
["SA22",2025,"Choose",2102,61,"Pension and UIF Contributions",null,null,null,null,null,null,null,null,null,null,null,null,null,null,null,null,"~"]
["SA22",2025,"Choose",2103,62,"Medical Aid Contributions",null,null,null,null,null,null,null,null,null,null,null,null,null,null,null,null,"~"]
["SA22",2025,"Choose",2110,63,"Overtime",null,null,null,null,null,null,null,null,null,null,null,null,null,null,null,null,"~"]
["SA22",2025,"Choose",2107,64,"Performance Bonus",null,null,null,null,null,null,null,null,null,null,null,null,null,null,null,null,"~"]
["SA22",2025,"Choose",2104,65,"Motor Vehicle Allowance",null,null,null,null,null,null,null,null,null,null,null,null,null,null,null,null,"~"]
["SA22",2025,"Choose",2105,66,"Cellphone Allowance",null,null,null,null,null,null,null,null,null,null,null,null,null,null,null,null,"~"]
["SA22",2025,"Choose",2106,67,"Housing Allowances",null,null,null,null,null,null,null,null,null,null,null,null,null,null,null,null,"~"]
["SA22",2025,"Choose",2108,68,"Other benefits and allowances",null,null,null,null,null,null,null,null,null,null,null,null,null,null,null,null,"~"]
["SA22",2025,"Choose",2111,69,"Payments in lieu of leave",null,null,null,null,null,null,null,null,null,null,null,null,null,null,null,null,"~"]
["SA22",2025,"Choose",2112,70,"Long service awards",null,null,null,null,null,null,null,null,null,null,null,null,null,null,null,null,"~"]
["SA22",2025,"Choose",2113,71,"Post-retirement benefit obligations",null,null,null,null,null,null,null,null,null,null,null,null,null,null,null,null,"~"]
["SA22",2025,"Choose",2190,72,"Sub Total - Senior Managers of Entities",null,null,null,null,null,null,null,null,null,null,null,null,null,null,null,null,"~"]
["SA22",2025,"Choose",2191,73,"% increase",null,null,null,null,null,null,null,null,null,null,null,null,null,null,null,null,"~"]
["SA22",2025,"Choose",null,null,null,null,null,null,null,null,null,null,null,null,null,null,null,null,null,null,null,"~"]
["SA22",2025,"Choose",2200,74,"Other Staff of Entities",null,null,null,null,null,null,null,null,null,null,null,null,null,null,null,null,"~"]
["SA22",2025,"Choose",2201,75,"Basic Salaries and Wages",null,null,null,null,null,null,null,null,null,null,null,null,null,null,null,null,"~"]
["SA22",2025,"Choose",2202,76,"Pension and UIF Contributions",null,null,null,null,null,null,null,null,null,null,null,null,null,null,null,null,"~"]
["SA22",2025,"Choose",2203,77,"Medical Aid Contributions",null,null,null,null,null,null,null,null,null,null,null,null,null,null,null,null,"~"]
["SA22",2025,"Choose",2207,78,"Overtime",null,null,null,null,null,null,null,null,null,null,null,null,null,null,null,null,"~"]
["SA22",2025,"Choose",2208,79,"Performance Bonus",null,null,null,null,null,null,null,null,null,null,null,null,null,null,null,null,"~"]
["SA22",2025,"Choose",2204,80,"Motor Vehicle Allowance",null,null,null,null,null,null,null,null,null,null,null,null,null,null,null,null,"~"]
["SA22",2025,"Choose",2205,81,"Cellphone Allowance",null,null,null,null,null,null,null,null,null,null,null,null,null,null,null,null,"~"]
["SA22",2025,"Choose",2206,82,"Housing Allowances",null,null,null,null,null,null,null,null,null,null,null,null,null,null,null,null,"~"]
["SA22",2025,"Choose",2209,83,"Other benefits and allowances",null,null,null,null,null,null,null,null,null,null,null,null,null,null,null,null,"~"]
["SA22",2025,"Choose",2211,84,"Payments in lieu of leave",null,null,null,null,null,null,null,null,null,null,null,null,null,null,null,null,"~"]
["SA22",2025,"Choose",2212,85,"Long service awards",null,null,null,null,null,null,null,null,null,null,null,null,null,null,null,null,"~"]
["SA22",2025,"Choose",2213,86,"Post-retirement benefit obligations",null,null,null,null,null,null,null,null,null,null,null,null,null,null,null,null,"~"]
["SA22",{"$f":"+MTREF","v":2025},{"$f":"LEFT(muni,(FIND(\" \",muni,1)-1))","v":"Choose"},2290,87,"Sub Total - Other Staff of Entities",null,null,null,null,null,null,null,null,null,null,null,null,null,null,null,null,"~"]
["SA22",2025,"Choose",2291,89,"% increase",null,null,null,null,null,null,null,null,null,null,null,null,null,null,null,null,"~"]
["SA22",2025,"Choose",null,null,null,null,null,null,null,null,null,null,null,null,null,null,null,null,null,null,null,"~"]
["SA22",2025,"Choose",2295,90,"Total Municipal Entities",null,null,null,null,null,null,null,null,null,null,null,null,null,null,null,null,"~"]
["SA22",2025,"Choose",null,null,null,null,null,null,null,null,null,null,null,null,null,null,null,null,null,null,null,"~"]
["SA22",2025,"Choose",2296,91,"TOTAL SALARY, ALLOWANCES & BENEFITS",null,null,null,null,null,null,null,null,null,null,null,null,null,null,null,null,"~"]
["SA22",2025,"Choose",2297,92,"% increase",null,null,null,null,null,null,null,null,null,null,null,null,null,null,null,null,"~"]
["SA22",2025,"Choose",2298,93,"TOTAL MANAGERS AND STAFF",null,null,null,null,null,null,null,null,null,null,null,null,null,null,null,null,"~"]
["SA23",2025,"Choose",1000,1,null,null,null,null,null,null,null,null,null,null,null,null,null,null,null,null,null,"~"]
["SA23",2025,"Choose",1001,2,null,null,null,null,null,null,null,null,null,null,null,null,null,null,null,null,null,"~"]
["SA23",2025,"Choose",1002,3,null,null,null,null,null,null,null,null,null,null,null,null,null,null,null,null,null,"~"]
["SA23",2025,"Choose",1003,4,null,null,null,null,null,null,null,null,null,null,null,null,null,null,null,null,null,"~"]
["SA23",2025,"Choose",1004,5,null,null,null,null,null,null,null,null,null,null,null,null,null,null,null,null,null,"~"]
["SA23",2025,"Choose",1005,6,null,null,null,null,null,null,null,null,null,null,null,null,null,null,null,null,null,"~"]
["SA23",2025,"Choose",1006,7,null,null,null,null,null,null,null,null,null,null,null,null,null,null,null,null,null,"~"]
["SA23",2025,"Choose",1090,8,null,null,null,null,null,null,null,null,null,null,null,null,null,null,null,null,null,"~"]
["SA23",2025,"Choose",null,null,null,null,null,null,null,null,null,null,null,null,null,null,null,null,null,null,null,"~"]
["SA23",2025,"Choose",null,null,null,null,null,null,null,null,null,null,null,null,null,null,null,null,null,null,null,"~"]
["SA23",2025,"Choose",null,null,null,null,null,null,null,null,null,null,null,null,null,null,null,null,null,null,null,"~"]
["SA23",2025,"Choose",null,null,null,null,null,null,null,null,null,null,null,null,null,null,null,null,null,null,null,"~"]
["SA23",2025,"Choose",null,null,null,null,null,null,null,null,null,null,null,null,null,null,null,null,null,null,null,"~"]
["SA23",2025,"Choose",null,null,null,null,null,null,null,null,null,null,null,null,null,null,null,null,null,null,null,"~"]
["SA23",2025,"Choose",null,null,null,null,null,null,null,null,null,null,null,null,null,null,null,null,null,null,null,"~"]
["SA23",2025,"Choose",null,null,null,null,null,null,null,null,null,null,null,null,null,null,null,null,null,null,null,"~"]
["SA23",2025,"Choose",null,null,null,null,null,null,null,null,null,null,null,null,null,null,null,null,null,null,null,"~"]
["SA23",2025,"Choose",null,null,null,null,null,null,null,null,null,null,null,null,null,null,null,null,null,null,null,"~"]
["SA23",2025,"Choose",null,null,null,null,null,null,null,null,null,null,null,null,null,null,null,null,null,null,null,"~"]
["SA23",2025,"Choose",null,null,null,null,null,null,null,null,null,null,null,null,null,null,null,null,null,null,null,"~"]
["SA23",2025,"Choose",null,null,null,null,null,null,null,null,null,null,null,null,null,null,null,null,null,null,null,"~"]
["SA23",2025,"Choose",null,null,null,null,null,null,null,null,null,null,null,null,null,null,null,null,null,null,null,"~"]
["SA23",2025,"Choose",null,null,null,null,null,null,null,null,null,null,null,null,null,null,null,null,null,null,null,"~"]
["SA23",2025,"Choose",null,null,null,null,null,null,null,null,null,null,null,null,null,null,null,null,null,null,null,"~"]
["SA23",2025,"Choose",null,null,null,null,null,null,null,null,null,null,null,null,null,null,null,null,null,null,null,"~"]
["SA23",2025,"Choose",null,null,null,null,null,null,null,null,null,null,null,null,null,null,null,null,null,null,null,"~"]
["SA23",2025,"Choose",null,null,null,null,null,null,null,null,null,null,null,null,null,null,null,null,null,null,null,"~"]
["SA23",2025,"Choose",null,null,null,null,null,null,null,null,null,null,null,null,null,null,null,null,null,null,null,"~"]
["SA23",2025,"Choose",null,null,null,null,null,null,null,null,null,null,null,null,null,null,null,null,null,null,null,"~"]
["SA23",2025,"Choose",null,null,null,null,null,null,null,null,null,null,null,null,null,null,null,null,null,null,null,"~"]
["SA23",2025,"Choose",null,null,null,null,null,null,null,null,null,null,null,null,null,null,null,null,null,null,null,"~"]
["SA23",2025,"Choose",null,null,null,null,null,null,null,null,null,null,null,null,null,null,null,null,null,null,null,"~"]
["SA23",2025,"Choose",null,null,null,null,null,null,null,null,null,null,null,null,null,null,null,null,null,null,null,"~"]
["SA23",2025,"Choose",null,null,null,null,null,null,null,null,null,null,null,null,null,null,null,null,null,null,null,"~"]
["SA23",2025,"Choose",null,null,null,null,null,null,null,null,null,null,null,null,null,null,null,null,null,null,null,"~"]
["SA23",2025,"Choose",null,null,null,null,null,null,null,null,null,null,null,null,null,null,null,null,null,null,null,"~"]
["SA23",2025,"Choose",null,null,null,null,null,null,null,null,null,null,null,null,null,null,null,null,null,null,null,"~"]
["SA23",2025,"Choose",null,null,null,null,null,null,null,null,null,null,null,null,null,null,null,null,null,null,null,"~"]
["SA23",2025,"Choose",null,null,null,null,null,null,null,null,null,null,null,null,null,null,null,null,null,null,null,"~"]
["SA23",2025,"Choose",null,null,null,null,null,null,null,null,null,null,null,null,null,null,null,null,null,null,null,"~"]
["SA23",2025,"Choose",null,null,null,null,null,null,null,null,null,null,null,null,null,null,null,null,null,null,null,"~"]
["SA23",2025,"Choose",null,null,null,null,null,null,null,null,null,null,null,null,null,null,null,null,null,null,null,"~"]
["SA23",2025,"Choose",null,null,null,null,null,null,null,null,null,null,null,null,null,null,null,null,null,null,null,"~"]
["SA23",2025,"Choose",null,null,null,null,null,null,null,null,null,null,null,null,null,null,null,null,null,null,null,"~"]
["SA23",2025,"Choose",null,null,null,null,null,null,null,null,null,null,null,null,null,null,null,null,null,null,null,"~"]
["SA23",2025,"Choose",null,null,null,null,null,null,null,null,null,null,null,null,null,null,null,null,null,null,null,"~"]
["SA23",2025,"Choose",null,null,null,null,null,null,null,null,null,null,null,null,null,null,null,null,null,null,null,"~"]
["SA23",2025,"Choose",null,null,null,null,null,null,null,null,null,null,null,null,null,null,null,null,null,null,null,"~"]
["SA23",2025,"Choose",null,null,null,null,null,null,null,null,null,null,null,null,null,null,null,null,null,null,null,"~"]
["SA23",2025,"Choose",null,null,null,null,null,null,null,null,null,null,null,null,null,null,null,null,null,null,null,"~"]
["SA23",2025,"Choose",null,null,null,null,null,null,null,null,null,null,null,null,null,null,null,null,null,null,null,"~"]
["SA23",2025,"Choose",null,null,null,null,null,null,null,null,null,null,null,null,null,null,null,null,null,null,null,"~"]
["SA23",2025,"Choose",null,null,null,null,null,null,null,null,null,null,null,null,null,null,null,null,null,null,null,"~"]
["SA23",2025,"Choose",null,null,null,null,null,null,null,null,null,null,null,null,null,null,null,null,null,null,null,"~"]
["SA23",2025,"Choose",null,null,null,null,null,null,null,null,null,null,null,null,null,null,null,null,null,null,null,"~"]
["SA23",2025,"Choose",null,null,null,null,null,null,null,null,null,null,null,null,null,null,null,null,null,null,null,"~"]
["SA23",{"$f":"+MTREF","v":2025},{"$f":"LEFT(muni,(FIND(\" \",muni,1)-1))","v":"Choose"},null,null,null,null,null,null,null,null,null,null,null,null,null,null,null,null,null,null,null,"~"]
["SA23",2025,"Choose",null,null,null,null,null,null,null,null,null,null,null,null,null,null,null,null,null,null,null,"~"]
["SA23",2025,"Choose",null,null,null,null,null,null,null,null,null,null,null,null,null,null,null,null,null,null,null,"~"]
["SA23",2025,"Choose",null,null,null,null,null,null,null,null,null,null,null,null,null,null,null,null,null,null,null,"~"]
["SA23",2025,"Choose",null,null,null,null,null,null,null,null,null,null,null,null,null,null,null,null,null,null,null,"~"]
["SA23",2025,"Choose",null,null,null,null,null,null,null,null,null,null,null,null,null,null,null,null,null,null,null,"~"]
["SA23",2025,"Choose",null,null,null,null,null,null,null,null,null,null,null,null,null,null,null,null,null,null,null,"~"]
["SA23",2025,"Choose",null,null,null,null,null,null,null,null,null,null,null,null,null,null,null,null,null,null,null,"~"]
["SA23",2025,"Choose",null,null,null,null,null,null,null,null,null,null,null,null,null,null,null,null,null,null,null,"~"]
["SA23",2025,"Choose",null,null,null,null,null,null,null,null,null,null,null,null,null,null,null,null,null,null,null,"~"]
["SA23",2025,"Choose",null,null,null,null,null,null,null,null,null,null,null,null,null,null,null,null,null,null,null,"~"]
["SA23",2025,"Choose",null,null,null,null,null,null,null,null,null,null,null,null,null,null,null,null,null,null,null,"~"]
["SA23",2025,"Choose",null,null,null,null,null,null,null,null,null,null,null,null,null,null,null,null,null,null,null,"~"]
["SA23",2025,"Choose",null,null,null,null,null,null,null,null,null,null,null,null,null,null,null,null,null,null,null,"~"]
["SA23",2025,"Choose",null,null,null,null,null,null,null,null,null,null,null,null,null,null,null,null,null,null,null,"~"]
["SA23",2025,"Choose",null,null,null,null,null,null,null,null,null,null,null,null,null,null,null,null,null,null,null,"~"]
["SA23",2025,"Choose",null,null,null,null,null,null,null,null,null,null,null,null,null,null,null,null,null,null,null,"~"]
["SA23",2025,"Choose",null,null,null,null,null,null,null,null,null,null,null,null,null,null,null,null,null,null,null,"~"]
["SA23",2025,"Choose",null,null,null,null,null,null,null,null,null,null,null,null,null,null,null,null,null,null,null,"~"]
["SA23",2025,"Choose",null,null,null,null,null,null,null,null,null,null,null,null,null,null,null,null,null,null,null,"~"]
["SA23",2025,"Choose",null,null,null,null,null,null,null,null,null,null,null,null,null,null,null,null,null,null,null,"~"]
["SA23",2025,"Choose",null,null,null,null,null,null,null,null,null,null,null,null,null,null,null,null,null,null,null,"~"]
["SA23",2025,"Choose",null,null,null,null,null,null,null,null,null,null,null,null,null,null,null,null,null,null,null,"~"]
["SA23",2025,"Choose",null,null,null,null,null,null,null,null,null,null,null,null,null,null,null,null,null,null,null,"~"]
["SA23",2025,"Choose",null,null,null,null,null,null,null,null,null,null,null,null,null,null,null,null,null,null,null,"~"]
["SA23",2025,"Choose",null,null,null,null,null,null,null,null,null,null,null,null,null,null,null,null,null,null,null,"~"]
["SA23",2025,"Choose",null,null,null,null,null,null,null,null,null,null,null,null,null,null,null,null,null,null,null,"~"]
["SA23",2025,"Choose",null,null,null,null,null,null,null,null,null,null,null,null,null,null,null,null,null,null,null,"~"]
["SA23",2025,"Choose",null,null,null,null,null,null,null,null,null,null,null,null,null,null,null,null,null,null,null,"~"]
["SA23",2025,"Choose",null,null,null,null,null,null,null,null,null,null,null,null,null,null,null,null,null,null,null,"~"]
["SA23",2025,"Choose",null,null,null,null,null,null,null,null,null,null,null,null,null,null,null,null,null,null,null,"~"]
["SA23",2025,"Choose",null,null,null,null,null,null,null,null,null,null,null,null,null,null,null,null,null,null,null,"~"]
["SA23",2025,"Choose",null,null,null,null,null,null,null,null,null,null,null,null,null,null,null,null,null,null,null,"~"]
["SA23",2025,"Choose",null,null,null,null,null,null,null,null,null,null,null,null,null,null,null,null,null,null,null,"~"]
["SA23",2025,"Choose",null,null,null,null,null,null,null,null,null,null,null,null,null,null,null,null,null,null,null,"~"]
["SA23",2025,"Choose",null,null,null,null,null,null,null,null,null,null,null,null,null,null,null,null,null,null,null,"~"]
["SA23",2025,"Choose",null,null,null,null,null,null,null,null,null,null,null,null,null,null,null,null,null,null,null,"~"]
["SA23",2025,"Choose",null,null,null,null,null,null,null,null,null,null,null,null,null,null,null,null,null,null,null,"~"]
["SA23",2025,"Choose",null,null,null,null,null,null,null,null,null,null,null,null,null,null,null,null,null,null,null,"~"]
["SA23",2025,"Choose",null,null,null,null,null,null,null,null,null,null,null,null,null,null,null,null,null,null,null,"~"]
["SA23",2025,"Choose",null,null,null,null,null,null,null,null,null,null,null,null,null,null,null,null,null,null,null,"~"]
["SA23",2025,"Choose",null,null,null,null,null,null,null,null,null,null,null,null,null,null,null,null,null,null,null,"~"]
["SA23",2025,"Choose",null,null,null,null,null,null,null,null,null,null,null,null,null,null,null,null,null,null,null,"~"]
["SA24",2025,"Choose",1000,1,"Municipal Council and Boards of Municipal Entities",null,null,null,null,null,null,null,null,null,null,null,null,null,null,null,null,"~"]
["SA24",2025,"Choose",1001,2,"Councillors (Political Office Bearers and Other Councillors)",null,null,null,null,null,null,null,null,null,null,null,null,null,null,null,null,"~"]
["SA24",2025,"Choose",1002,3,"Board Members of municipal entities",null,null,null,null,null,null,null,null,null,null,null,null,null,null,null,null,"~"]
["SA24",2025,"Choose",1100,4,"Municipal employees",null,null,null,null,null,null,null,null,null,null,null,null,null,null,null,null,"~"]
["SA24",2025,"Choose",1101,5,"Municipal Manager and Senior Managers",null,null,null,null,null,null,null,null,null,null,null,null,null,null,null,null,"~"]
["SA24",2025,"Choose",1102,6,"Other Managers",null,null,null,null,null,null,null,null,null,null,null,null,null,null,null,null,"~"]
["SA24",2025,"Choose",1103,7,"Professionals",null,null,null,null,null,null,null,null,null,null,null,null,null,null,null,null,"~"]
["SA24",2025,"Choose",1104,8,"Finance",null,null,null,null,null,null,null,null,null,null,null,null,null,null,null,null,"~"]
["SA24",2025,"Choose",1105,9,"Spatial/town planning",null,null,null,null,null,null,null,null,null,null,null,null,null,null,null,null,"~"]
["SA24",2025,"Choose",1106,10,"Information Technology",null,null,null,null,null,null,null,null,null,null,null,null,null,null,null,null,"~"]
["SA24",2025,"Choose",1107,11,"Roads",null,null,null,null,null,null,null,null,null,null,null,null,null,null,null,null,"~"]
["SA24",2025,"Choose",1108,12,"Electricity",null,null,null,null,null,null,null,null,null,null,null,null,null,null,null,null,"~"]
["SA24",2025,"Choose",1109,13,"Water",null,null,null,null,null,null,null,null,null,null,null,null,null,null,null,null,"~"]
["SA24",2025,"Choose",1110,14,"Sanitation",null,null,null,null,null,null,null,null,null,null,null,null,null,null,null,null,"~"]
["SA24",2025,"Choose",1111,15,"Refuse",null,null,null,null,null,null,null,null,null,null,null,null,null,null,null,null,"~"]
["SA24",2025,"Choose",1112,16,"Other",null,null,null,null,null,null,null,null,null,null,null,null,null,null,null,null,"~"]
["SA24",2025,"Choose",1113,17,"Technicians",null,null,null,null,null,null,null,null,null,null,null,null,null,null,null,null,"~"]
["SA24",2025,"Choose",1114,18,"Finance",null,null,null,null,null,null,null,null,null,null,null,null,null,null,null,null,"~"]
["SA24",2025,"Choose",1115,19,"Spatial/town planning",null,null,null,null,null,null,null,null,null,null,null,null,null,null,null,null,"~"]
["SA24",2025,"Choose",1116,20,"Information Technology",null,null,null,null,null,null,null,null,null,null,null,null,null,null,null,null,"~"]
["SA24",2025,"Choose",1117,21,"Roads",null,null,null,null,null,null,null,null,null,null,null,null,null,null,null,null,"~"]
["SA24",{"$f":"+MTREF","v":2025},{"$f":"LEFT(muni,(FIND(\" \",muni,1)-1))","v":"Choose"},1118,22,"Electricity",null,null,null,null,null,null,null,null,null,null,null,null,null,null,null,null,"~"]
["SA24",2025,"Choose",1119,23,"Water",null,null,null,null,null,null,null,null,null,null,null,null,null,null,null,null,"~"]
["SA24",2025,"Choose",1120,24,"Sanitation",null,null,null,null,null,null,null,null,null,null,null,null,null,null,null,null,"~"]
["SA24",2025,"Choose",1121,25,"Refuse",null,null,null,null,null,null,null,null,null,null,null,null,null,null,null,null,"~"]
["SA24",2025,"Choose",1122,26,"Other",null,null,null,null,null,null,null,null,null,null,null,null,null,null,null,null,"~"]
["SA24",2025,"Choose",1123,27,"Clerks (Clerical and administrative)",null,null,null,null,null,null,null,null,null,null,null,null,null,null,null,null,"~"]
["SA24",2025,"Choose",1124,28,"Service and sales workers",null,null,null,null,null,null,null,null,null,null,null,null,null,null,null,null,"~"]
["SA24",2025,"Choose",1125,29,"Skilled agricultural and fishery workers",null,null,null,null,null,null,null,null,null,null,null,null,null,null,null,null,"~"]
["SA24",2025,"Choose",1126,30,"Craft and related trades",null,null,null,null,null,null,null,null,null,null,null,null,null,null,null,null,"~"]
["SA24",2025,"Choose",1127,31,"Plant and Machine Operators",null,null,null,null,null,null,null,null,null,null,null,null,null,null,null,null,"~"]
["SA24",2025,"Choose",1128,32,"Elementary Occupations",null,null,null,null,null,null,null,null,null,null,null,null,null,null,null,null,"~"]
["SA24",2025,"Choose",1190,33,"TOTAL PERSONNEL NUMBERS",null,null,null,null,null,null,null,null,null,null,null,null,null,null,null,null,"~"]
["SA24",2025,"Choose",1191,34,"% increase",null,null,null,null,null,null,null,null,null,null,null,null,null,null,null,null,"~"]
["SA24",2025,"Choose",null,null,null,null,null,null,null,null,null,null,null,null,null,null,null,null,null,null,null,"~"]
["SA24",2025,"Choose",1200,35,"Total municipal employees headcount",null,null,null,null,null,null,null,null,null,null,null,null,null,null,null,null,"~"]
["SA24",2025,"Choose",1201,36,"Finance personnel headcount",null,null,null,null,null,null,null,null,null,null,null,null,null,null,null,null,"~"]
["SA24",2025,"Choose",1202,37,"Human Resources personnel headcount",null,null,null,null,null,null,null,null,null,null,null,null,null,null,null,null,"~"]
["OTHER",2025,"Choose","1001",1,"Unspent conditional transfers",null,null,null,null,null,null,null,null,null,null,null,null,null,null,null,null,"~"]
["OTHER",2025,"Choose","1002",2,"Unspent borrowing",null,null,null,null,null,null,null,null,null,null,null,null,null,null,null,null,"~"]
["OTHER",2025,"Choose","1003",3,"Statutory requirements",null,null,null,null,null,null,null,null,null,null,null,null,null,null,null,null,"~"]
["OTHER",2025,"Choose","1005",5,"Other provisions",null,null,null,null,null,null,null,null,null,null,null,null,null,null,null,null,"~"]
["OTHER",2025,"Choose","1006",6,"Long term investments committed",null,null,null,null,null,null,null,null,null,null,null,null,null,null,null,null,"~"]
["OTHER",2025,"Choose","1007",7,"Reserves to be backed by cash/investments",null,null,null,null,null,null,null,null,null,null,null,null,null,null,null,null,"~"]
["OTHER",2025,"Choose","1008",8,"Estimate of other debtors > 90 days",null,null,null,null,null,null,null,null,null,null,null,null,null,null,null,null,"~"]
["OTHER",2025,"Choose",2001,9,"Contributions recognised - capital",null,null,null,null,null,null,null,null,null,null,null,null,null,null,null,null,"~"]
["OTHER",2025,"Choose","3001",10,"Depreciation offsets",null,null,null,null,null,null,null,null,null,null,null,null,null,null,null,null,"~"]
["OTHER",2025,"Choose","4001",11,"Fixed operational expenditure % assumption",null,null,null,null,null,null,null,null,null,null,null,null,null,null,null,null,"~"]
["OTHER",2025,"Choose",5000,50,"Repairs and Maintenance by Expenditure Item",null,null,null,null,null,null,null,null,null,null,null,null,null,null,null,null,"~"]
["OTHER",2025,"Choose",5001,51,"Employee related costs",null,null,null,null,null,null,null,null,null,null,null,null,null,null,null,null,"~"]
["OTHER",2025,"Choose",5002,52,"Other materials",null,null,null,null,null,null,null,null,null,null,null,null,null,null,null,null,"~"]
["OTHER",2025,"Choose",5003,53,"Contracted Services",null,null,null,null,null,null,null,null,null,null,null,null,null,null,null,null,"~"]
["OTHER",2025,"Choose",5004,54,"Other Expenditure",null,null,null,null,null,null,null,null,null,null,null,null,null,null,null,null,"~"]
["OTHER",2025,"Choose",5005,55,"Total Repairs and Maintenance Expenditure",null,null,null,null,null,null,null,null,null,null,null,null,null,null,null,null,"~"]
["OTHER",2025,"Choose",6001,61,"Volume Electricity Distribution Losses",null,null,null,null,null,null,null,null,null,null,null,null,null,null,null,null,"~"]
["OTHER",2025,"Choose",6002,62,"Cost Electiricty Distribution Losses",null,null,null,null,null,null,null,null,null,null,null,null,null,null,null,null,"~"]
["OTHER",2025,"Choose",null,null,null,null,null,null,null,null,null,null,null,null,null,null,null,null,null,null,null,"~"]
["OTHER",2025,"Choose",6003,63,"Volume Water Distribution Losses",null,null,null,null,null,null,null,null,null,null,null,null,null,null,null,null,"~"]
["OTHER",2025,"Choose",6004,64,"Cost Water Distribution Losses",null,null,null,null,null,null,null,null,null,null,null,null,null,null,null,null,"~"]
["OTHER",2025,"Choose",null,null,null,null,null,null,null,null,null,null,null,null,null,null,null,null,null,null,null,"~"]
["OTHER",2025,"Choose",7001,71,"Consultant Fees",null,null,null,null,null,null,null,null,null,null,null,null,null,null,null,null,"~"]
["OTHER",2025,"Choose",7002,72,"Audit Fees",null,null,null,null,null,null,null,null,null,null,null,null,null,null,null,null,"~"]
["SA36",2025,"Choose",1,null,null,null,null,null,null,null,null,null,null,null,null,null,null,null,null,null,null,"~"]
["SA36",2025,"Choose",2,null,null,null,null,null,null,null,null,null,null,null,null,null,null,null,null,null,null,"~"]
["SA36",2025,"Choose",3,null,null,null,null,null,null,null,null,null,null,null,null,null,null,null,null,null,null,"~"]
["SA36",2025,"Choose",4,null,null,null,null,null,null,null,null,null,null,null,null,null,null,null,null,null,null,"~"]
["SA36",2025,"Choose",5,null,null,null,null,null,null,null,null,null,null,null,null,null,null,null,null,null,null,"~"]
["SA36",2025,"Choose",6,null,null,null,null,null,null,null,null,null,null,null,null,null,null,null,null,null,null,"~"]
["SA36",2025,"Choose",7,null,null,null,null,null,null,null,null,null,null,null,null,null,null,null,null,null,null,"~"]
["SA36",2025,"Choose",8,null,null,null,null,null,null,null,null,null,null,null,null,null,null,null,null,null,null,"~"]
["SA36",2025,"Choose",9,null,null,null,null,null,null,null,null,null,null,null,null,null,null,null,null,null,null,"~"]
["SA36",2025,"Choose",10,null,null,null,null,null,null,null,null,null,null,null,null,null,null,null,null,null,null,"~"]
["SA36",2025,"Choose",11,null,null,null,null,null,null,null,null,null,null,null,null,null,null,null,null,null,null,"~"]
["SA36",2025,"Choose",12,null,null,null,null,null,null,null,null,null,null,null,null,null,null,null,null,null,null,"~"]
["SA36",2025,"Choose",13,null,null,null,null,null,null,null,null,null,null,null,null,null,null,null,null,null,null,"~"]
["SA36",2025,"Choose",14,null,null,null,null,null,null,null,null,null,null,null,null,null,null,null,null,null,null,"~"]
["SA36",2025,"Choose",15,null,null,null,null,null,null,null,null,null,null,null,null,null,null,null,null,null,null,"~"]
["SA36",2025,"Choose",16,null,null,null,null,null,null,null,null,null,null,null,null,null,null,null,null,null,null,"~"]
["SA36",2025,"Choose",17,null,null,null,null,null,null,null,null,null,null,null,0,0,null,null,0,null,null,"~"]
["SA36",2025,"Choose",18,null,null,null,null,null,null,null,null,null,null,null,null,null,null,null,null,null,null,"~"]
["SA36",2025,"Choose",19,null,null,null,null,null,null,null,null,null,null,null,null,null,null,null,null,null,null,"~"]
["SA36",2025,"Choose",20,null,null,null,null,null,null,null,null,null,null,null,null,null,null,null,null,null,null,"~"]
["SA36",2025,"Choose",21,null,null,null,null,null,null,null,null,null,null,null,null,null,null,null,null,null,null,"~"]
["SA36",2025,"Choose",22,null,null,null,null,null,null,null,null,null,null,null,null,null,null,null,null,null,null,"~"]
["SA36",2025,"Choose",23,null,null,null,null,null,null,null,null,null,null,null,null,null,null,null,null,null,null,"~"]
["SA36",{"$f":"+MTREF","v":2025},{"$f":"LEFT(muni,(FIND(\" \",muni,1)-1))","v":"Choose"},24,null,null,null,null,null,null,null,null,null,null,null,null,null,null,null,null,null,null,"~"]
["SA36",2025,"Choose",25,null,null,null,null,null,null,null,null,null,null,null,null,null,null,null,null,null,null,"~"]
["SA36",2025,"Choose",26,null,null,null,null,null,null,null,null,null,null,null,null,null,null,null,null,null,null,"~"]
["SA36",2025,"Choose",27,null,null,null,null,null,null,null,null,null,null,null,null,null,null,null,null,null,null,"~"]
["SA36",2025,"Choose",28,null,null,null,null,null,null,null,null,null,null,null,null,null,null,null,null,null,null,"~"]
["SA36",2025,"Choose",29,null,null,null,null,null,null,null,null,null,null,null,null,null,null,null,null,null,null,"~"]
["SA36",2025,"Choose",30,null,null,null,null,null,null,null,null,null,0,0,0,0,null,null,null,null,null,"~"]
["SA36",2025,"Choose",31,null,null,null,null,null,null,null,null,null,0,0,0,0,null,null,null,null,null,"~"]
["SA36",2025,"Choose",32,null,null,null,null,null,null,null,null,null,null,null,null,null,null,null,null,null,null,"~"]
["SA36",2025,"Choose",33,null,null,null,null,null,null,null,null,null,null,null,null,null,null,null,null,null,null,"~"]
["SA36",2025,"Choose",34,null,null,null,null,null,null,null,null,null,null,null,null,null,null,null,null,null,null,"~"]
["SA36",2025,"Choose",35,null,null,null,null,null,null,null,null,null,null,null,null,null,null,null,null,null,null,"~"]
["SA36",2025,"Choose",36,null,null,null,null,null,null,null,null,null,null,null,null,null,null,null,null,null,null,"~"]
["SA36",2025,"Choose",37,null,null,null,null,null,null,null,null,null,null,null,null,null,null,null,null,null,null,"~"]
["SA36",2025,"Choose",38,null,null,null,null,null,null,null,null,"Check",0,null,null,null,null,null,null,null,null,"~"]
["SA36",2025,"Choose",39,null,null,null,null,null,null,null,null,null,null,null,null,null,null,null,null,null,null,"~"]
["SA36",2025,"Choose",40,null,null,null,null,null,null,null,null,null,null,null,null,null,null,null,null,null,null,"~"]
["SA36",2025,"Choose",41,null,null,null,null,null,null,null,null,null,null,null,null,null,null,null,null,null,null,"~"]
["SA36",2025,"Choose",42,null,null,null,null,null,null,null,null,null,null,null,null,null,null,null,null,null,null,"~"]
["SA36",2025,"Choose",43,null,null,null,null,null,null,null,null,null,null,null,null,null,null,null,null,null,null,"~"]
["SA36",2025,"Choose",44,null,null,null,null,null,null,null,null,null,null,null,null,null,null,null,null,null,null,"~"]
["SA36",2025,"Choose",45,null,null,null,null,null,null,null,null,null,null,null,null,null,null,null,null,null,null,"~"]
["SA36",2025,"Choose",46,null,null,null,null,null,null,null,null,null,null,null,null,null,null,null,null,null,null,"~"]
["SA36",2025,"Choose",47,null,null,null,null,null,null,null,null,null,null,null,null,null,null,null,null,null,null,"~"]
["SA36",2025,"Choose",48,null,null,null,null,null,null,null,null,null,null,null,null,null,null,null,null,null,null,"~"]
["SA36",2025,"Choose",49,null,null,null,null,null,null,null,null,null,null,null,null,null,null,null,null,null,null,"~"]
["SA36",2025,"Choose",50,null,null,null,null,null,null,null,null,null,null,null,null,null,null,null,null,null,null,"~"]
["SA36",2025,"Choose",51,null,null,null,null,null,null,null,null,null,null,null,null,null,null,null,null,null,null,"~"]
["SA36",2025,"Choose",52,null,null,null,null,null,null,null,null,null,null,null,null,null,null,null,null,null,null,"~"]
["SA36",2025,"Choose",53,null,null,null,null,null,null,null,null,null,null,null,null,null,null,null,null,null,null,"~"]
["SA36",2025,"Choose",54,null,null,null,null,null,null,null,null,null,null,null,null,null,null,null,null,null,null,"~"]
["SA36",2025,"Choose",55,null,null,null,null,null,null,null,null,null,null,null,null,null,null,null,null,null,null,"~"]
["SA36",2025,"Choose",56,null,null,null,null,null,null,null,null,null,null,null,null,null,null,null,null,null,null,"~"]
["SA36",2025,"Choose",57,null,null,null,null,null,null,null,null,null,null,null,null,null,null,null,null,null,null,"~"]
["SA36",2025,"Choose",58,null,null,null,null,null,null,null,null,null,null,null,null,null,null,null,null,null,null,"~"]
["SA36",2025,"Choose",59,null,null,null,null,null,null,null,null,null,null,null,null,null,null,null,null,null,null,"~"]
["SA36",2025,"Choose",60,null,null,null,null,null,null,null,null,null,null,null,null,null,null,null,null,null,null,"~"]
["SA36",2025,"Choose",61,null,null,null,null,null,null,null,null,null,null,null,null,null,null,null,null,null,null,"~"]
["SA36",2025,"Choose",62,null,null,null,null,null,null,null,null,null,null,null,null,null,null,null,null,null,null,"~"]
["SA36",2025,"Choose",63,null,null,null,null,null,null,null,null,null,null,null,null,null,null,null,null,null,null,"~"]
["SA36",2025,"Choose",64,null,null,null,null,null,null,null,null,null,null,null,null,null,null,null,null,null,null,"~"]
["SA36",2025,"Choose",65,null,null,null,null,null,null,null,null,null,null,null,null,null,null,null,null,null,null,"~"]
["SA36",2025,"Choose",66,null,null,null,null,null,null,null,null,null,null,null,null,null,null,null,null,null,null,"~"]
["SA36",2025,"Choose",67,null,null,null,null,null,null,null,null,null,null,null,null,null,null,null,null,null,null,"~"]
["SA36",2025,"Choose",68,null,null,null,null,null,null,null,null,null,null,null,null,null,null,null,null,null,null,"~"]
["SA36",2025,"Choose",69,null,null,null,null,null,null,null,null,null,null,null,null,null,null,null,null,null,null,"~"]
["SA36",2025,"Choose",70,null,null,null,null,null,null,null,null,null,null,null,null,null,null,null,null,null,null,"~"]
["SA36",2025,"Choose",71,null,null,null,null,null,null,null,null,null,null,null,null,null,null,null,null,null,null,"~"]
["SA36",2025,"Choose",72,null,null,null,null,null,null,null,null,null,null,null,null,null,null,null,null,null,null,"~"]
["SA36",2025,"Choose",73,null,null,null,null,null,null,null,null,null,null,null,null,null,null,null,null,null,null,"~"]
["SA36",2025,"Choose",74,null,null,null,null,null,null,null,null,null,null,null,null,null,null,null,null,null,null,"~"]
["SA36",2025,"Choose",75,null,null,null,null,null,null,null,null,null,null,null,null,null,null,null,null,null,null,"~"]
["SA36",2025,"Choose",76,null,null,null,null,null,null,null,null,null,null,null,null,null,null,null,null,null,null,"~"]
["SA36",2025,"Choose",77,null,null,null,null,null,null,null,null,null,null,null,null,null,null,null,null,null,null,"~"]
["SA36",2025,"Choose",78,null,null,null,null,null,null,null,null,null,null,null,null,null,null,null,null,null,null,"~"]
["SA36",2025,"Choose",79,null,null,null,null,null,null,null,null,null,null,null,null,null,null,null,null,null,null,"~"]
["SA36",2025,"Choose",80,null,null,null,null,null,null,null,null,null,null,null,null,null,null,null,null,null,null,"~"]
["SA36",2025,"Choose",81,null,null,null,null,null,null,null,null,null,null,null,null,null,null,null,null,null,null,"~"]
["SA36",2025,"Choose",82,null,null,null,null,null,null,null,null,null,null,null,null,null,null,null,null,null,null,"~"]
["SA36",2025,"Choose",83,null,null,null,null,null,null,null,null,null,null,null,null,null,null,null,null,null,null,"~"]
["SA36",2025,"Choose",84,null,null,null,null,null,null,null,null,null,null,null,null,null,null,null,null,null,null,"~"]
["SA36",2025,"Choose",85,null,null,null,null,null,null,null,null,null,null,null,null,null,null,null,null,null,null,"~"]
["SA36",2025,"Choose",86,null,null,null,null,null,null,null,null,null,null,null,null,null,null,null,null,null,null,"~"]
["SA36",2025,"Choose",87,null,null,null,null,null,null,null,null,null,null,null,null,null,null,null,null,null,null,"~"]
["SA36",{"$f":"+MTREF","v":2025},{"$f":"LEFT(muni,(FIND(\" \",muni,1)-1))","v":"Choose"},88,null,null,null,null,null,null,null,null,null,null,null,null,null,null,null,null,null,null,"~"]
["SA36",2025,"Choose",89,null,null,null,null,null,null,null,null,null,null,null,null,null,null,null,null,null,null,"~"]
["SA36",2025,"Choose",90,null,null,null,null,null,null,null,null,null,null,null,null,null,null,null,null,null,null,"~"]
["SA36",2025,"Choose",91,null,null,null,null,null,null,null,null,null,null,null,null,null,null,null,null,null,null,"~"]
["SA36",2025,"Choose",92,null,null,null,null,null,null,null,null,null,null,null,null,null,null,null,null,null,null,"~"]
["SA36",2025,"Choose",93,null,null,null,null,null,null,null,null,null,null,null,null,null,null,null,null,null,null,"~"]
["SA36",2025,"Choose",94,null,null,null,null,null,null,null,null,null,null,null,null,null,null,null,null,null,null,"~"]
["SA36",2025,"Choose",95,null,null,null,null,null,null,null,null,null,null,null,null,null,null,null,null,null,null,"~"]
["SA36",2025,"Choose",96,null,null,null,null,null,null,null,null,null,null,null,null,null,null,null,null,null,null,"~"]
["SA36",2025,"Choose",97,null,null,null,null,null,null,null,null,null,null,null,null,null,null,null,null,null,null,"~"]
["SA36",2025,"Choose",98,null,null,null,null,null,null,null,null,null,null,null,null,null,null,null,null,null,null,"~"]
["SA36",2025,"Choose",99,null,null,null,null,null,null,null,null,null,null,null,null,null,null,null,null,null,null,"~"]
["SA36",2025,"Choose",100,null,null,null,null,null,null,null,null,null,null,null,null,null,null,null,null,null,null,"~"]
["SA36",2025,"Choose",101,null,null,null,null,null,null,null,null,null,null,null,null,null,null,null,null,null,null,"~"]
["SA36",2025,"Choose",102,null,null,null,null,null,null,null,null,null,null,null,null,null,null,null,null,null,null,"~"]
["SA36",2025,"Choose",103,null,null,null,null,null,null,null,null,null,null,null,null,null,null,null,null,null,null,"~"]
["SA36",2025,"Choose",104,null,null,null,null,null,null,null,null,null,null,null,null,null,null,null,null,null,null,"~"]
["SA36",2025,"Choose",105,null,null,null,null,null,null,null,null,null,null,null,null,null,null,null,null,null,null,"~"]
["SA36",2025,"Choose",106,null,null,null,null,null,null,null,null,null,null,null,null,null,null,null,null,null,null,"~"]
["SA36",2025,"Choose",107,null,null,null,null,null,null,null,null,null,null,null,null,null,null,null,null,null,null,"~"]
["SA36",2025,"Choose",108,null,null,null,null,null,null,null,null,null,null,null,null,null,null,null,null,null,null,"~"]
["SA36",2025,"Choose",109,null,null,null,null,null,null,null,null,null,null,null,null,null,null,null,null,null,null,"~"]
["SA36",2025,"Choose",110,null,null,null,null,null,null,null,null,null,null,null,null,null,null,null,null,null,null,"~"]
["SA36",2025,"Choose",111,null,null,null,null,null,null,null,null,null,null,null,null,null,null,null,null,null,null,"~"]
["SA36",2025,"Choose",112,null,null,null,null,null,null,null,null,null,null,null,null,null,null,null,null,null,null,"~"]
["SA36",2025,"Choose",113,null,null,null,null,null,null,null,null,null,null,null,null,null,null,null,null,null,null,"~"]
["SA36",2025,"Choose",114,null,null,null,null,null,null,null,null,null,null,null,null,null,null,null,null,null,null,"~"]
["SA36",2025,"Choose",115,null,null,null,null,null,null,null,null,null,null,null,null,null,null,null,null,null,null,"~"]
["SA36",2025,"Choose",116,null,null,null,null,null,null,null,null,null,null,null,null,null,null,null,null,null,null,"~"]
["SA36",2025,"Choose",117,null,null,null,null,null,null,null,null,null,null,null,null,null,null,null,null,null,null,"~"]
["SA36",2025,"Choose",118,null,null,null,null,null,null,null,null,null,null,null,null,null,null,null,null,null,null,"~"]
["SA36",2025,"Choose",119,null,null,null,null,null,null,null,null,null,null,null,null,null,null,null,null,null,null,"~"]
["SA36",2025,"Choose",120,null,null,null,null,null,null,null,null,null,null,null,null,null,null,null,null,null,null,"~"]
["SA36",2025,"Choose",121,null,null,null,null,null,null,null,null,null,null,null,null,null,null,null,null,null,null,"~"]
["SA36",2025,"Choose",122,null,null,null,null,null,null,null,null,null,null,null,null,null,null,null,null,null,null,"~"]
["SA36",2025,"Choose",123,null,null,null,null,null,null,null,null,null,null,null,null,null,null,null,null,null,null,"~"]
["SA36",2025,"Choose",124,null,null,null,null,null,null,null,null,null,null,null,null,null,null,null,null,null,null,"~"]
["SA36",2025,"Choose",125,null,null,null,null,null,null,null,null,null,null,null,null,null,null,null,null,null,null,"~"]
["SA36",2025,"Choose",126,null,null,null,null,null,null,null,null,null,null,null,null,null,null,null,null,null,null,"~"]
["SA36",2025,"Choose",127,null,null,null,null,null,null,null,null,null,null,null,null,null,null,null,null,null,null,"~"]
["SA36",2025,"Choose",128,null,null,null,null,null,null,null,null,null,null,null,null,null,null,null,null,null,null,"~"]
["SA36",2025,"Choose",129,null,null,null,null,null,null,null,null,null,null,null,null,null,null,null,null,null,null,"~"]
["SA36",2025,"Choose",130,null,null,null,null,null,null,null,null,null,null,null,null,null,null,null,null,null,null,"~"]
["SA36",2025,"Choose",131,null,null,null,null,null,null,null,null,null,null,null,null,null,null,null,null,null,null,"~"]
["SA36",2025,"Choose",132,null,null,null,null,null,null,null,null,null,null,null,null,null,null,null,null,null,null,"~"]
["SA36",2025,"Choose",133,null,null,null,null,null,null,null,null,null,null,null,null,null,null,null,null,null,null,"~"]
["SA36",2025,"Choose",134,null,null,null,null,null,null,null,null,null,null,null,null,null,null,null,null,null,null,"~"]
["SA36",2025,"Choose",135,null,null,null,null,null,null,null,null,null,null,null,null,null,null,null,null,null,null,"~"]
["SA36",2025,"Choose",136,null,null,null,null,null,null,null,null,null,null,null,null,null,null,null,null,null,null,"~"]
["SA36",2025,"Choose",137,null,null,null,null,null,null,null,null,null,null,null,null,null,null,null,null,null,null,"~"]
["SA36",2025,"Choose",138,null,null,null,null,null,null,null,null,null,null,null,null,null,null,null,null,null,null,"~"]
["SA36",2025,"Choose",139,null,null,null,null,null,null,null,null,null,null,null,null,null,null,null,null,null,null,"~"]
["SA36",2025,"Choose",140,null,null,null,null,null,null,null,null,null,null,null,null,null,null,null,null,null,null,"~"]
["SA36",2025,"Choose",141,null,null,null,null,null,null,null,null,null,null,null,null,null,null,null,null,null,null,"~"]
["SA36",2025,"Choose",142,null,null,null,null,null,null,null,null,null,null,null,null,null,null,null,null,null,null,"~"]
["SA36",2025,"Choose",143,null,null,null,null,null,null,null,null,null,null,null,null,null,null,null,null,null,null,"~"]
["SA36",2025,"Choose",144,null,null,null,null,null,null,null,null,null,null,null,null,null,null,null,null,null,null,"~"]
["SA36",2025,"Choose",145,null,null,null,null,null,null,null,null,null,null,null,null,null,null,null,null,null,null,"~"]
["SA36",2025,"Choose",146,null,null,null,null,null,null,null,null,null,null,null,null,null,null,null,null,null,null,"~"]
["SA36",2025,"Choose",147,null,null,null,null,null,null,null,null,null,null,null,null,null,null,null,null,null,null,"~"]
["SA36",2025,"Choose",148,null,null,null,null,null,null,null,null,null,null,null,null,null,null,null,null,null,null,"~"]
["SA36",2025,"Choose",149,null,null,null,null,null,null,null,null,null,null,null,null,null,null,null,null,null,null,"~"]
["SA36",2025,"Choose",150,null,null,null,null,null,null,null,null,null,null,null,null,null,null,null,null,null,null,"~"]
["SA36",2025,"Choose",151,null,null,null,null,null,null,null,null,null,null,null,null,null,null,null,null,null,null,"~"]
["SA36",{"$f":"+MTREF","v":2025},{"$f":"LEFT(muni,(FIND(\" \",muni,1)-1))","v":"Choose"},152,null,null,null,null,null,null,null,null,null,null,null,null,null,null,null,null,null,null,"~"]
["SA36",2025,"Choose",153,null,null,null,null,null,null,null,null,null,null,null,null,null,null,null,null,null,null,"~"]
["SA36",2025,"Choose",154,null,null,null,null,null,null,null,null,null,null,null,null,null,null,null,null,null,null,"~"]
["SA36",2025,"Choose",155,null,null,null,null,null,null,null,null,null,null,null,null,null,null,null,null,null,null,"~"]
["SA36",2025,"Choose",156,null,null,null,null,null,null,null,null,null,null,null,null,null,null,null,null,null,null,"~"]
["SA36",2025,"Choose",157,null,null,null,null,null,null,null,null,null,null,null,null,null,null,null,null,null,null,"~"]
["SA36",2025,"Choose",158,null,null,null,null,null,null,null,null,null,null,null,null,null,null,null,null,null,null,"~"]
["SA36",2025,"Choose",159,null,null,null,null,null,null,null,null,null,null,null,null,null,null,null,null,null,null,"~"]
["SA36",2025,"Choose",160,null,null,null,null,null,null,null,null,null,null,null,null,null,null,null,null,null,null,"~"]
["SA36",2025,"Choose",161,null,null,null,null,null,null,null,null,null,null,null,null,null,null,null,null,null,null,"~"]
["SA36",2025,"Choose",162,null,null,null,null,null,null,null,null,null,null,null,null,null,null,null,null,null,null,"~"]
["SA36",2025,"Choose",163,null,null,null,null,null,null,null,null,null,null,null,null,null,null,null,null,null,null,"~"]
["SA36",2025,"Choose",164,null,null,null,null,null,null,null,null,null,null,null,null,null,null,null,null,null,null,"~"]
["SA36",2025,"Choose",165,null,null,null,null,null,null,null,null,null,null,null,null,null,null,null,null,null,null,"~"]
["SA36",2025,"Choose",166,null,null,null,null,null,null,null,null,null,null,null,null,null,null,null,null,null,null,"~"]
["SA36",2025,"Choose",167,null,null,null,null,null,null,null,null,null,null,null,null,null,null,null,null,null,null,"~"]
["SA36",2025,"Choose",168,null,null,null,null,null,null,null,null,null,null,null,null,null,null,null,null,null,null,"~"]
["SA36",2025,"Choose",169,null,null,null,null,null,null,null,null,null,null,null,null,null,null,null,null,null,null,"~"]
["SA36",2025,"Choose",170,null,null,null,null,null,null,null,null,null,null,null,null,null,null,null,null,null,null,"~"]
["SA36",2025,"Choose",171,null,null,null,null,null,null,null,null,null,null,null,null,null,null,null,null,null,null,"~"]
["SA36",2025,"Choose",172,null,null,null,null,null,null,null,null,null,null,null,null,null,null,null,null,null,null,"~"]
["SA36",2025,"Choose",173,null,null,null,null,null,null,null,null,null,null,null,null,null,null,null,null,null,null,"~"]
["SA36",2025,"Choose",174,null,null,null,null,null,null,null,null,null,null,null,null,null,null,null,null,null,null,"~"]
["SA36",2025,"Choose",175,null,null,null,null,null,null,null,null,null,null,null,null,null,null,null,null,null,null,"~"]
["SA36",2025,"Choose",176,null,null,null,null,null,null,null,null,null,null,null,null,null,null,null,null,null,null,"~"]
["SA36",2025,"Choose",177,null,null,null,null,null,null,null,null,null,null,null,null,null,null,null,null,null,null,"~"]
["SA36",2025,"Choose",178,null,null,null,null,null,null,null,null,null,null,null,null,null,null,null,null,null,null,"~"]
["SA36",2025,"Choose",179,null,null,null,null,null,null,null,null,null,null,null,null,null,null,null,null,null,null,"~"]
["SA36",2025,"Choose",180,null,null,null,null,null,null,null,null,null,null,null,null,null,null,null,null,null,null,"~"]
["SA36",2025,"Choose",181,null,null,null,null,null,null,null,null,null,null,null,null,null,null,null,null,null,null,"~"]
["SA36",2025,"Choose",182,null,null,null,null,null,null,null,null,null,null,null,null,null,null,null,null,null,null,"~"]
["SA36",2025,"Choose",183,null,null,null,null,null,null,null,null,null,null,null,null,null,null,null,null,null,null,"~"]
["SA36",2025,"Choose",184,null,null,null,null,null,null,null,null,null,null,null,null,null,null,null,null,null,null,"~"]
["SA36",2025,"Choose",185,null,null,null,null,null,null,null,null,null,null,null,null,null,null,null,null,null,null,"~"]
["SA36",2025,"Choose",186,null,null,null,null,null,null,null,null,null,null,null,null,null,null,null,null,null,null,"~"]
["SA36",2025,"Choose",187,null,null,null,null,null,null,null,null,null,null,null,null,null,null,null,null,null,null,"~"]
["SA36",2025,"Choose",188,null,null,null,null,null,null,null,null,null,null,null,null,null,null,null,null,null,null,"~"]
["SA36",2025,"Choose",189,null,null,null,null,null,null,null,null,null,null,null,null,null,null,null,null,null,null,"~"]
["SA36",2025,"Choose",190,null,null,null,null,null,null,null,null,null,null,null,null,null,null,null,null,null,null,"~"]
["SA36",2025,"Choose",191,null,null,null,null,null,null,null,null,null,null,null,null,null,null,null,null,null,null,"~"]
["SA36",2025,"Choose",192,null,null,null,null,null,null,null,null,null,null,null,null,null,null,null,null,null,null,"~"]
["SA36",2025,"Choose",193,null,null,null,null,null,null,null,null,null,null,null,null,null,null,null,null,null,null,"~"]
["SA36",2025,"Choose",194,null,null,null,null,null,null,null,null,null,null,null,null,null,null,null,null,null,null,"~"]
["SA36",2025,"Choose",195,null,null,null,null,null,null,null,null,null,null,null,null,null,null,null,null,null,null,"~"]
["SA36",2025,"Choose",196,null,null,null,null,null,null,null,null,null,null,null,null,null,null,null,null,null,null,"~"]
["SA36",2025,"Choose",197,null,null,null,null,null,null,null,null,null,null,null,null,null,null,null,null,null,null,"~"]
["SA36",2025,"Choose",198,null,null,null,null,null,null,null,null,null,null,null,null,null,null,null,null,null,null,"~"]
["SA36",2025,"Choose",199,null,null,null,null,null,null,null,null,null,null,null,null,null,null,null,null,null,null,"~"]
["SA36",2025,"Choose",200,null,null,null,null,null,null,null,null,null,null,null,null,null,null,null,null,null,null,"~"]
["SA36",2025,"Choose",201,null,null,null,null,null,null,null,null,null,null,null,null,null,null,null,null,null,null,"~"]
["SA36",2025,"Choose",202,null,null,null,null,null,null,null,null,null,null,null,null,null,null,null,null,null,null,"~"]
["SA36",2025,"Choose",203,null,null,null,null,null,null,null,null,null,null,null,null,null,null,null,null,null,null,"~"]
["SA36",2025,"Choose",204,null,null,null,null,null,null,null,null,null,null,null,null,null,null,null,null,null,null,"~"]
["SA36",2025,"Choose",205,null,null,null,null,null,null,null,null,null,null,null,null,null,null,null,null,null,null,"~"]
["SA36",2025,"Choose",206,null,null,null,null,null,null,null,null,null,null,null,null,null,null,null,null,null,null,"~"]
["SA36",2025,"Choose",207,null,null,null,null,null,null,null,null,null,null,null,null,null,null,null,null,null,null,"~"]
["SA36",2025,"Choose",208,null,null,null,null,null,null,null,null,null,null,null,null,null,null,null,null,null,null,"~"]
["SA36",2025,"Choose",209,null,null,null,null,null,null,null,null,null,null,null,null,null,null,null,null,null,null,"~"]
["SA36",2025,"Choose",210,null,null,null,null,null,null,null,null,null,null,null,null,null,null,null,null,null,null,"~"]
["SA36",2025,"Choose",211,null,null,null,null,null,null,null,null,null,null,null,null,null,null,null,null,null,null,"~"]
["SA36",2025,"Choose",212,null,null,null,null,null,null,null,null,null,null,null,null,null,null,null,null,null,null,"~"]
["SA36",2025,"Choose",213,null,null,null,null,null,null,null,null,null,null,null,null,null,null,null,null,null,null,"~"]
["SA36",2025,"Choose",214,null,null,null,null,null,null,null,null,null,null,null,null,null,null,null,null,null,null,"~"]
["SA36",2025,"Choose",215,null,null,null,null,null,null,null,null,null,null,null,null,null,null,null,null,null,null,"~"]
["SA36",{"$f":"+MTREF","v":2025},{"$f":"LEFT(muni,(FIND(\" \",muni,1)-1))","v":"Choose"},216,null,null,null,null,null,null,null,null,null,null,null,null,null,null,null,null,null,null,"~"]
["SA36",2025,"Choose",217,null,null,null,null,null,null,null,null,null,null,null,null,null,null,null,null,null,null,"~"]
["SA36",2025,"Choose",218,null,null,null,null,null,null,null,null,null,null,null,null,null,null,null,null,null,null,"~"]
["SA36",2025,"Choose",219,null,null,null,null,null,null,null,null,null,null,null,null,null,null,null,null,null,null,"~"]
["SA36",2025,"Choose",220,null,null,null,null,null,null,null,null,null,null,null,null,null,null,null,null,null,null,"~"]
["SA36",2025,"Choose",221,null,null,null,null,null,null,null,null,null,null,null,null,null,null,null,null,null,null,"~"]
["SA36",2025,"Choose",222,null,null,null,null,null,null,null,null,null,null,null,null,null,null,null,null,null,null,"~"]
["SA36",2025,"Choose",223,null,null,null,null,null,null,null,null,null,null,null,null,null,null,null,null,null,null,"~"]
["SA36",2025,"Choose",224,null,null,null,null,null,null,null,null,null,null,null,null,null,null,null,null,null,null,"~"]
["SA36",2025,"Choose",225,null,null,null,null,null,null,null,null,null,null,null,null,null,null,null,null,null,null,"~"]
["SA36",2025,"Choose",226,null,null,null,null,null,null,null,null,null,null,null,null,null,null,null,null,null,null,"~"]
["SA36",2025,"Choose",227,null,null,null,null,null,null,null,null,null,null,null,null,null,null,null,null,null,null,"~"]
["SA36",2025,"Choose",228,null,null,null,null,null,null,null,null,null,null,null,null,null,null,null,null,null,null,"~"]
["SA36",2025,"Choose",229,null,null,null,null,null,null,null,null,null,null,null,null,null,null,null,null,null,null,"~"]
["SA36",2025,"Choose",230,null,null,null,null,null,null,null,null,null,null,null,null,null,null,null,null,null,null,"~"]
["SA36",2025,"Choose",231,null,null,null,null,null,null,null,null,null,null,null,null,null,null,null,null,null,null,"~"]
["SA36",2025,"Choose",232,null,null,null,null,null,null,null,null,null,null,null,null,null,null,null,null,null,null,"~"]
["SA36",2025,"Choose",233,null,null,null,null,null,null,null,null,null,null,null,null,null,null,null,null,null,null,"~"]
["SA36",2025,"Choose",234,null,null,null,null,null,null,null,null,null,null,null,null,null,null,null,null,null,null,"~"]
["SA36",2025,"Choose",235,null,null,null,null,null,null,null,null,null,null,null,null,null,null,null,null,null,null,"~"]
["SA36",2025,"Choose",236,null,null,null,null,null,null,null,null,null,null,null,null,null,null,null,null,null,null,"~"]
["SA36",2025,"Choose",237,null,null,null,null,null,null,null,null,null,null,null,null,null,null,null,null,null,null,"~"]
["SA36",2025,"Choose",238,null,null,null,null,null,null,null,null,null,null,null,null,null,null,null,null,null,null,"~"]
["SA36",2025,"Choose",239,null,null,null,null,null,null,null,null,null,null,null,null,null,null,null,null,null,null,"~"]
["SA36",2025,"Choose",240,null,null,null,null,null,null,null,null,null,null,null,null,null,null,null,null,null,null,"~"]
["SA36",2025,"Choose",241,null,null,null,null,null,null,null,null,null,null,null,null,null,null,null,null,null,null,"~"]
["SA36",2025,"Choose",242,null,null,null,null,null,null,null,null,null,null,null,null,null,null,null,null,null,null,"~"]
["SA36",2025,"Choose",243,null,null,null,null,null,null,null,null,null,null,null,null,null,null,null,null,null,null,"~"]
["SA36",2025,"Choose",244,null,null,null,null,null,null,null,null,null,null,null,null,null,null,null,null,null,null,"~"]
["SA36",2025,"Choose",245,null,null,null,null,null,null,null,null,null,null,null,null,null,null,null,null,null,null,"~"]
["SA36",2025,"Choose",246,null,null,null,null,null,null,null,null,null,null,null,null,null,null,null,null,null,null,"~"]
["SA36",2025,"Choose",247,null,null,null,null,null,null,null,null,null,null,null,null,null,null,null,null,null,null,"~"]
["SA36",2025,"Choose",248,null,null,null,null,null,null,null,null,null,null,null,null,null,null,null,null,null,null,"~"]
["SA36",2025,"Choose",249,null,null,null,null,null,null,null,null,null,null,null,null,null,null,null,null,null,null,"~"]
["SA36",2025,"Choose",250,null,null,null,null,null,null,null,null,null,null,null,null,null,null,null,null,null,null,"~"]
["SA36",2025,"Choose",251,null,null,null,null,null,null,null,null,null,null,null,null,null,null,null,null,null,null,"~"]
["SA36",2025,"Choose",252,null,null,null,null,null,null,null,null,null,null,null,null,null,null,null,null,null,null,"~"]
["SA36",2025,"Choose",253,null,null,null,null,null,null,null,null,null,null,null,null,null,null,null,null,null,null,"~"]
["SA36",2025,"Choose",254,null,null,null,null,null,null,null,null,null,null,null,null,null,null,null,null,null,null,"~"]
["SA36",2025,"Choose",255,null,null,null,null,null,null,null,null,null,null,null,null,null,null,null,null,null,null,"~"]
["SA36",2025,"Choose",256,null,null,null,null,null,null,null,null,null,null,null,null,null,null,null,null,null,null,"~"]
["SA36",2025,"Choose",257,null,null,null,null,null,null,null,null,null,null,null,null,null,null,null,null,null,null,"~"]
["SA36",2025,"Choose",258,null,null,null,null,null,null,null,null,null,null,null,null,null,null,null,null,null,null,"~"]
["SA36",2025,"Choose",259,null,null,null,null,null,null,null,null,null,null,null,null,null,null,null,null,null,null,"~"]
["SA36",2025,"Choose",260,null,null,null,null,null,null,null,null,null,null,null,null,null,null,null,null,null,null,"~"]
["SA36",2025,"Choose",261,null,null,null,null,null,null,null,null,null,null,null,null,null,null,null,null,null,null,"~"]
["SA36",2025,"Choose",262,null,null,null,null,null,null,null,null,null,null,null,null,null,null,null,null,null,null,"~"]
["SA36",2025,"Choose",263,null,null,null,null,null,null,null,null,null,null,null,null,null,null,null,null,null,null,"~"]
["SA36",2025,"Choose",264,null,null,null,null,null,null,null,null,null,null,null,null,null,null,null,null,null,null,"~"]
["SA36",2025,"Choose",265,null,null,null,null,null,null,null,null,null,null,null,null,null,null,null,null,null,null,"~"]
["SA36",2025,"Choose",266,null,null,null,null,null,null,null,null,null,null,null,null,null,null,null,null,null,null,"~"]
["SA36",2025,"Choose",267,null,null,null,null,null,null,null,null,null,null,null,null,null,null,null,null,null,null,"~"]
["SA36",2025,"Choose",268,null,null,null,null,null,null,null,null,null,null,null,null,null,null,null,null,null,null,"~"]
["SA36",2025,"Choose",269,null,null,null,null,null,null,null,null,null,null,null,null,null,null,null,null,null,null,"~"]
["SA36",2025,"Choose",270,null,null,null,null,null,null,null,null,null,null,null,null,null,null,null,null,null,null,"~"]
["SA36",2025,"Choose",271,null,null,null,null,null,null,null,null,null,null,null,null,null,null,null,null,null,null,"~"]
["SA36",2025,"Choose",272,null,null,null,null,null,null,null,null,null,null,null,null,null,null,null,null,null,null,"~"]
["SA36",2025,"Choose",273,null,null,null,null,null,null,null,null,null,null,null,null,null,null,null,null,null,null,"~"]
["SA36",2025,"Choose",274,null,null,null,null,null,null,null,null,null,null,null,null,null,null,null,null,null,null,"~"]
["SA36",2025,"Choose",275,null,null,null,null,null,null,null,null,null,null,null,null,null,null,null,null,null,null,"~"]
["SA36",2025,"Choose",276,null,null,null,null,null,null,null,null,null,null,null,null,null,null,null,null,null,null,"~"]
["SA36",2025,"Choose",277,null,null,null,null,null,null,null,null,null,null,null,null,null,null,null,null,null,null,"~"]
["SA36",2025,"Choose",278,null,null,null,null,null,null,null,null,null,null,null,null,null,null,null,null,null,null,"~"]
["SA36",2025,"Choose",279,null,null,null,null,null,null,null,null,null,null,null,null,null,null,null,null,null,null,"~"]
["SA36",{"$f":"+MTREF","v":2025},{"$f":"LEFT(muni,(FIND(\" \",muni,1)-1))","v":"Choose"},280,null,null,null,null,null,null,null,null,null,null,null,null,null,null,null,null,null,null,"~"]
["SA36",2025,"Choose",281,null,null,null,null,null,null,null,null,null,null,null,null,null,null,null,null,null,null,"~"]
["SA36",2025,"Choose",282,null,null,null,null,null,null,null,null,null,null,null,null,null,null,null,null,null,null,"~"]
["SA36",2025,"Choose",283,null,null,null,null,null,null,null,null,null,null,null,null,null,null,null,null,null,null,"~"]
["SA36",2025,"Choose",284,null,null,null,null,null,null,null,null,null,null,null,null,null,null,null,null,null,null,"~"]
["SA36",2025,"Choose",285,null,null,null,null,null,null,null,null,null,null,null,null,null,null,null,null,null,null,"~"]
["SA36",2025,"Choose",286,null,null,null,null,null,null,null,null,null,null,null,null,null,null,null,null,null,null,"~"]
["SA36",2025,"Choose",287,null,null,null,null,null,null,null,null,null,null,null,null,null,null,null,null,null,null,"~"]
["SA36",2025,"Choose",288,null,null,null,null,null,null,null,null,null,null,null,null,null,null,null,null,null,null,"~"]
["SA36",2025,"Choose",289,null,null,null,null,null,null,null,null,null,null,null,null,null,null,null,null,null,null,"~"]
["SA36",2025,"Choose",290,null,null,null,null,null,null,null,null,null,null,null,null,null,null,null,null,null,null,"~"]
["SA36",2025,"Choose",291,null,null,null,null,null,null,null,null,null,null,null,null,null,null,null,null,null,null,"~"]
["SA36",2025,"Choose",292,null,null,null,null,null,null,null,null,null,null,null,null,null,null,null,null,null,null,"~"]
["SA36",2025,"Choose",293,null,null,null,null,null,null,null,null,null,null,null,null,null,null,null,null,null,null,"~"]
["SA36",2025,"Choose",294,null,null,null,null,null,null,null,null,null,null,null,null,null,null,null,null,null,null,"~"]
["SA36",2025,"Choose",295,null,null,null,null,null,null,null,null,null,null,null,null,null,null,null,null,null,null,"~"]
["SA36",2025,"Choose",296,null,null,null,null,null,null,null,null,null,null,null,null,null,null,null,null,null,null,"~"]
["SA36",2025,"Choose",297,null,null,null,null,null,null,null,null,null,null,null,null,null,null,null,null,null,null,"~"]
["SA36",2025,"Choose",298,null,null,null,null,null,null,null,null,null,null,null,null,null,null,null,null,null,null,"~"]
["SA36",2025,"Choose",299,null,null,null,null,null,null,null,null,null,null,null,null,null,null,null,null,null,null,"~"]
["SA36",2025,"Choose",300,null,null,null,null,null,null,null,null,null,null,null,null,null,null,null,null,null,null,"~"]
["SA36",2025,"Choose",301,null,null,null,null,null,null,null,null,null,null,null,null,null,null,null,null,null,null,"~"]
["SA36",2025,"Choose",302,null,null,null,null,null,null,null,null,null,null,null,null,null,null,null,null,null,null,"~"]
["SA36",2025,"Choose",303,null,null,null,null,null,null,null,null,null,null,null,null,null,null,null,null,null,null,"~"]
["SA36",2025,"Choose",304,null,null,null,null,null,null,null,null,null,null,null,null,null,null,null,null,null,null,"~"]
["SA36",2025,"Choose",305,null,null,null,null,null,null,null,null,null,null,null,null,null,null,null,null,null,null,"~"]
["SA36",2025,"Choose",306,null,null,null,null,null,null,null,null,null,null,null,null,null,null,null,null,null,null,"~"]
["SA36",2025,"Choose",307,null,null,null,null,null,null,null,null,null,null,null,null,null,null,null,null,null,null,"~"]
["SA36",2025,"Choose",308,null,null,null,null,null,null,null,null,null,null,null,null,null,null,null,null,null,null,"~"]
["SA36",2025,"Choose",309,null,null,null,null,null,null,null,null,null,null,null,null,null,null,null,null,null,null,"~"]
["SA36",2025,"Choose",310,null,null,null,null,null,null,null,null,null,null,null,null,null,null,null,null,null,null,"~"]
["SA36",2025,"Choose",311,null,null,null,null,null,null,null,null,null,null,null,null,null,null,null,null,null,null,"~"]
["SA36",2025,"Choose",312,null,null,null,null,null,null,null,null,null,null,null,null,null,null,null,null,null,null,"~"]
["SA36",2025,"Choose",313,null,null,null,null,null,null,null,null,null,null,null,null,null,null,null,null,null,null,"~"]
["SA36",2025,"Choose",314,null,null,null,null,null,null,null,null,null,null,null,null,null,null,null,null,null,null,"~"]
["SA36",2025,"Choose",315,null,null,null,null,null,null,null,null,null,null,null,null,null,null,null,null,null,null,"~"]
["SA36",2025,"Choose",316,null,null,null,null,null,null,null,null,null,null,null,null,null,null,null,null,null,null,"~"]
["SA36",2025,"Choose",317,null,null,null,null,null,null,null,null,null,null,null,null,null,null,null,null,null,null,"~"]
["SA36",2025,"Choose",318,null,null,null,null,null,null,null,null,null,null,null,null,null,null,null,null,null,null,"~"]
["SA36",2025,"Choose",319,null,null,null,null,null,null,null,null,null,null,null,null,null,null,null,null,null,null,"~"]
["SA36",2025,"Choose",320,null,null,null,null,null,null,null,null,null,null,null,null,null,null,null,null,null,null,"~"]
["SA36",2025,"Choose",321,null,null,null,null,null,null,null,null,null,null,null,null,null,null,null,null,null,null,"~"]
["SA36",2025,"Choose",322,null,null,null,null,null,null,null,null,null,null,null,null,null,null,null,null,null,null,"~"]
["SA36",2025,"Choose",323,null,null,null,null,null,null,null,null,null,null,null,null,null,null,null,null,null,null,"~"]
["SA36",2025,"Choose",324,null,null,null,null,null,null,null,null,null,null,null,null,null,null,null,null,null,null,"~"]
["SA36",2025,"Choose",325,null,null,null,null,null,null,null,null,null,null,null,null,null,null,null,null,null,null,"~"]
["SA36",2025,"Choose",326,null,null,null,null,null,null,null,null,null,null,null,null,null,null,null,null,null,null,"~"]
["SA36",2025,"Choose",327,null,null,null,null,null,null,null,null,null,null,null,null,null,null,null,null,null,null,"~"]
["SA36",2025,"Choose",328,null,null,null,null,null,null,null,null,null,null,null,null,null,null,null,null,null,null,"~"]
["SA36",2025,"Choose",329,null,null,null,null,null,null,null,null,null,null,null,null,null,null,null,null,null,null,"~"]
["SA36",2025,"Choose",330,null,null,null,null,null,null,null,null,null,null,null,null,null,null,null,null,null,null,"~"]
["SA36",2025,"Choose",331,null,null,null,null,null,null,null,null,null,null,null,null,null,null,null,null,null,null,"~"]
["SA36",2025,"Choose",332,null,null,null,null,null,null,null,null,null,null,null,null,null,null,null,null,null,null,"~"]
["SA36",2025,"Choose",333,null,null,null,null,null,null,null,null,null,null,null,null,null,null,null,null,null,null,"~"]
["SA36",2025,"Choose",334,null,null,null,null,null,null,null,null,null,null,null,null,null,null,null,null,null,null,"~"]
["SA36",2025,"Choose",335,null,null,null,null,null,null,null,null,null,null,null,null,null,null,null,null,null,null,"~"]
["SA36",2025,"Choose",336,null,null,null,null,null,null,null,null,null,null,null,null,null,null,null,null,null,null,"~"]
["SA36",2025,"Choose",337,null,null,null,null,null,null,null,null,null,null,null,null,null,null,null,null,null,null,"~"]
["SA36",2025,"Choose",338,null,null,null,null,null,null,null,null,null,null,null,null,null,null,null,null,null,null,"~"]
["SA36",2025,"Choose",339,null,null,null,null,null,null,null,null,null,null,null,null,null,null,null,null,null,null,"~"]
["SA36",2025,"Choose",340,null,null,null,null,null,null,null,null,null,null,null,null,null,null,null,null,null,null,"~"]
["SA36",2025,"Choose",341,null,null,null,null,null,null,null,null,null,null,null,null,null,null,null,null,null,null,"~"]
["SA36",2025,"Choose",342,null,null,null,null,null,null,null,null,null,null,null,null,null,null,null,null,null,null,"~"]
["SA36",2025,"Choose",343,null,null,null,null,null,null,null,null,null,null,null,null,null,null,null,null,null,null,"~"]
["SA36",{"$f":"+MTREF","v":2025},{"$f":"LEFT(muni,(FIND(\" \",muni,1)-1))","v":"Choose"},344,null,null,null,null,null,null,null,null,null,null,null,null,null,null,null,null,null,null,"~"]
["SA36",2025,"Choose",345,null,null,null,null,null,null,null,null,null,null,null,null,null,null,null,null,null,null,"~"]
["SA36",2025,"Choose",346,null,null,null,null,null,null,null,null,null,null,null,null,null,null,null,null,null,null,"~"]
["SA36",2025,"Choose",347,null,null,null,null,null,null,null,null,null,null,null,null,null,null,null,null,null,null,"~"]
["SA36",2025,"Choose",348,null,null,null,null,null,null,null,null,null,null,null,null,null,null,null,null,null,null,"~"]
["SA36",2025,"Choose",349,null,null,null,null,null,null,null,null,null,null,null,null,null,null,null,null,null,null,"~"]
["SA36",2025,"Choose",350,null,null,null,null,null,null,null,null,null,null,null,null,null,null,null,null,null,null,"~"]
["SA36",2025,"Choose",351,null,null,null,null,null,null,null,null,null,null,null,null,null,null,null,null,null,null,"~"]
["SA36",2025,"Choose",352,null,null,null,null,null,null,null,null,null,null,null,null,null,null,null,null,null,null,"~"]
["SA36",2025,"Choose",353,null,null,null,null,null,null,null,null,null,null,null,null,null,null,null,null,null,null,"~"]
["SA36",2025,"Choose",354,null,null,null,null,null,null,null,null,null,null,null,null,null,null,null,null,null,null,"~"]
["SA36",2025,"Choose",355,null,null,null,null,null,null,null,null,null,null,null,null,null,null,null,null,null,null,"~"]
["SA36",2025,"Choose",356,null,null,null,null,null,null,null,null,null,null,null,null,null,null,null,null,null,null,"~"]
["SA36",2025,"Choose",357,null,null,null,null,null,null,null,null,null,null,null,null,null,null,null,null,null,null,"~"]
["SA36",2025,"Choose",358,null,null,null,null,null,null,null,null,null,null,null,null,null,null,null,null,null,null,"~"]
["SA36",2025,"Choose",359,null,null,null,null,null,null,null,null,null,null,null,null,null,null,null,null,null,null,"~"]
["SA36",2025,"Choose",360,null,null,null,null,null,null,null,null,null,null,null,null,null,null,null,null,null,null,"~"]
["SA36",2025,"Choose",361,null,null,null,null,null,null,null,null,null,null,null,null,null,null,null,null,null,null,"~"]
["SA36",2025,"Choose",362,null,null,null,null,null,null,null,null,null,null,null,null,null,null,null,null,null,null,"~"]
["SA36",2025,"Choose",363,null,null,null,null,null,null,null,null,null,null,null,null,null,null,null,null,null,null,"~"]
["SA36",2025,"Choose",364,null,null,null,null,null,null,null,null,null,null,null,null,null,null,null,null,null,null,"~"]
["SA36",2025,"Choose",365,null,null,null,null,null,null,null,null,null,null,null,null,null,null,null,null,null,null,"~"]
["SA36",2025,"Choose",366,null,null,null,null,null,null,null,null,null,null,null,null,null,null,null,null,null,null,"~"]
["SA36",2025,"Choose",367,null,null,null,null,null,null,null,null,null,null,null,null,null,null,null,null,null,null,"~"]
["SA36",2025,"Choose",368,null,null,null,null,null,null,null,null,null,null,null,null,null,null,null,null,null,null,"~"]
["SA36",2025,"Choose",369,null,null,null,null,null,null,null,null,null,null,null,null,null,null,null,null,null,null,"~"]
["SA36",2025,"Choose",370,null,null,null,null,null,null,null,null,null,null,null,null,null,null,null,null,null,null,"~"]
["SA36",2025,"Choose",371,null,null,null,null,null,null,null,null,null,null,null,null,null,null,null,null,null,null,"~"]
["SA36",2025,"Choose",372,null,null,null,null,null,null,null,null,null,null,null,null,null,null,null,null,null,null,"~"]
["SA36",2025,"Choose",373,null,null,null,null,null,null,null,null,null,null,null,null,null,null,null,null,null,null,"~"]
["SA36",2025,"Choose",374,null,null,null,null,null,null,null,null,null,null,null,null,null,null,null,null,null,null,"~"]
["SA36",2025,"Choose",375,null,null,null,null,null,null,null,null,null,null,null,null,null,null,null,null,null,null,"~"]
["SA36",2025,"Choose",376,null,null,null,null,null,null,null,null,null,null,null,null,null,null,null,null,null,null,"~"]
["SA36",2025,"Choose",377,null,null,null,null,null,null,null,null,null,null,null,null,null,null,null,null,null,null,"~"]
["SA36",2025,"Choose",378,null,null,null,null,null,null,null,null,null,null,null,null,null,null,null,null,null,null,"~"]
["SA36",2025,"Choose",379,null,null,null,null,null,null,null,null,null,null,null,null,null,null,null,null,null,null,"~"]
["SA36",2025,"Choose",380,null,null,null,null,null,null,null,null,null,null,null,null,null,null,null,null,null,null,"~"]
["SA36",2025,"Choose",381,null,null,null,null,null,null,null,null,null,null,null,null,null,null,null,null,null,null,"~"]
["SA36",2025,"Choose",382,null,null,null,null,null,null,null,null,null,null,null,null,null,null,null,null,null,null,"~"]
["SA36",2025,"Choose",383,null,null,null,null,null,null,null,null,null,null,null,null,null,null,null,null,null,null,"~"]
["SA36",2025,"Choose",384,null,null,null,null,null,null,null,null,null,null,null,null,null,null,null,null,null,null,"~"]
["SA36",2025,"Choose",385,null,null,null,null,null,null,null,null,null,null,null,null,null,null,null,null,null,null,"~"]
["SA36",2025,"Choose",386,null,null,null,null,null,null,null,null,null,null,null,null,null,null,null,null,null,null,"~"]
["SA36",2025,"Choose",387,null,null,null,null,null,null,null,null,null,null,null,null,null,null,null,null,null,null,"~"]
["SA36",2025,"Choose",388,null,null,null,null,null,null,null,null,null,null,null,null,null,null,null,null,null,null,"~"]
["SA36",2025,"Choose",389,null,null,null,null,null,null,null,null,null,null,null,null,null,null,null,null,null,null,"~"]
["SA36",2025,"Choose",390,null,null,null,null,null,null,null,null,null,null,null,null,null,null,null,null,null,null,"~"]
["SA36",2025,"Choose",391,null,null,null,null,null,null,null,null,null,null,null,null,null,null,null,null,null,null,"~"]
["SA36",2025,"Choose",392,null,null,null,null,null,null,null,null,null,null,null,null,null,null,null,null,null,null,"~"]
["SA36",2025,"Choose",393,null,null,null,null,null,null,null,null,null,null,null,null,null,null,null,null,null,null,"~"]
["SA36",2025,"Choose",394,null,null,null,null,null,null,null,null,null,null,null,null,null,null,null,null,null,null,"~"]
["SA36",2025,"Choose",395,null,null,null,null,null,null,null,null,null,null,null,null,null,null,null,null,null,null,"~"]
["SA36",2025,"Choose",396,null,null,null,null,null,null,null,null,null,null,null,null,null,null,null,null,null,null,"~"]
["SA36",2025,"Choose",397,null,null,null,null,null,null,null,null,null,null,null,null,null,null,null,null,null,null,"~"]
["SA36",2025,"Choose",398,null,null,null,null,null,null,null,null,null,null,null,null,null,null,null,null,null,null,"~"]
["SA36",2025,"Choose",399,null,null,null,null,null,null,null,null,null,null,null,null,null,null,null,null,null,null,"~"]
["SA36",2025,"Choose",400,null,null,null,null,null,null,null,null,null,null,null,null,null,null,null,null,null,null,"~"]
["SA36",2025,"Choose",401,null,null,null,null,null,null,null,null,null,null,null,null,null,null,null,null,null,null,"~"]
["SA36",2025,"Choose",402,null,null,null,null,null,null,null,null,null,null,null,null,null,null,null,null,null,null,"~"]
["SA36",2025,"Choose",403,null,null,null,null,null,null,null,null,null,null,null,null,null,null,null,null,null,null,"~"]
["SA36",2025,"Choose",404,null,null,null,null,null,null,null,null,null,null,null,null,null,null,null,null,null,null,"~"]
["SA36",2025,"Choose",405,null,null,null,null,null,null,null,null,null,null,null,null,null,null,null,null,null,null,"~"]
["SA36",2025,"Choose",406,null,null,null,null,null,null,null,null,null,null,null,null,null,null,null,null,null,null,"~"]
["SA36",2025,"Choose",407,null,null,null,null,null,null,null,null,null,null,null,null,null,null,null,null,null,null,"~"]
["SA36",{"$f":"+MTREF","v":2025},{"$f":"LEFT(muni,(FIND(\" \",muni,1)-1))","v":"Choose"},408,null,null,null,null,null,null,null,null,null,null,null,null,null,null,null,null,null,null,"~"]
["SA36",2025,"Choose",409,null,null,null,null,null,null,null,null,null,null,null,null,null,null,null,null,null,null,"~"]
["SA36",2025,"Choose",410,null,null,null,null,null,null,null,null,null,null,null,null,null,null,null,null,null,null,"~"]
["SA36",2025,"Choose",411,null,null,null,null,null,null,null,null,null,null,null,null,null,null,null,null,null,null,"~"]
["SA36",2025,"Choose",412,null,null,null,null,null,null,null,null,null,null,null,null,null,null,null,null,null,null,"~"]
["SA36",2025,"Choose",413,null,null,null,null,null,null,null,null,null,null,null,null,null,null,null,null,null,null,"~"]
["SA36",2025,"Choose",414,null,null,null,null,null,null,null,null,null,null,null,null,null,null,null,null,null,null,"~"]
["SA36",2025,"Choose",415,null,null,null,null,null,null,null,null,null,null,null,null,null,null,null,null,null,null,"~"]
["SA36",2025,"Choose",416,null,null,null,null,null,null,null,null,null,null,null,null,null,null,null,null,null,null,"~"]
["SA36",2025,"Choose",417,null,null,null,null,null,null,null,null,null,null,null,null,null,null,null,null,null,null,"~"]
["SA36",2025,"Choose",418,null,null,null,null,null,null,null,null,null,null,null,null,null,null,null,null,null,null,"~"]
["SA36",2025,"Choose",419,null,null,null,null,null,null,null,null,null,null,null,null,null,null,null,null,null,null,"~"]
["SA36",2025,"Choose",420,null,null,null,null,null,null,null,null,null,null,null,null,null,null,null,null,null,null,"~"]
["SA36",2025,"Choose",421,null,null,null,null,null,null,null,null,null,null,null,null,null,null,null,null,null,null,"~"]
["SA36",2025,"Choose",422,null,null,null,null,null,null,null,null,null,null,null,null,null,null,null,null,null,null,"~"]
["SA36",2025,"Choose",423,null,null,null,null,null,null,null,null,null,null,null,null,null,null,null,null,null,null,"~"]
["SA36",2025,"Choose",424,null,null,null,null,null,null,null,null,null,null,null,null,null,null,null,null,null,null,"~"]
["SA36",2025,"Choose",425,null,null,null,null,null,null,null,null,null,null,null,null,null,null,null,null,null,null,"~"]
["SA36",2025,"Choose",426,null,null,null,null,null,null,null,null,null,null,null,null,null,null,null,null,null,null,"~"]
["SA36",2025,"Choose",427,null,null,null,null,null,null,null,null,null,null,null,null,null,null,null,null,null,null,"~"]
["SA36",2025,"Choose",428,null,null,null,null,null,null,null,null,null,null,null,null,null,null,null,null,null,null,"~"]
["SA36",2025,"Choose",429,null,null,null,null,null,null,null,null,null,null,null,null,null,null,null,null,null,null,"~"]
["SA36",2025,"Choose",430,null,null,null,null,null,null,null,null,null,null,null,null,null,null,null,null,null,null,"~"]
["SA36",2025,"Choose",431,null,null,null,null,null,null,null,null,null,null,null,null,null,null,null,null,null,null,"~"]
["SA36",2025,"Choose",432,null,null,null,null,null,null,null,null,null,null,null,null,null,null,null,null,null,null,"~"]
["SA36",2025,"Choose",433,null,null,null,null,null,null,null,null,null,null,null,null,null,null,null,null,null,null,"~"]
["SA36",2025,"Choose",434,null,null,null,null,null,null,null,null,null,null,null,null,null,null,null,null,null,null,"~"]
["SA36",2025,"Choose",435,null,null,null,null,null,null,null,null,null,null,null,null,null,null,null,null,null,null,"~"]
["SA36",2025,"Choose",436,null,null,null,null,null,null,null,null,null,null,null,null,null,null,null,null,null,null,"~"]
["SA36",2025,"Choose",437,null,null,null,null,null,null,null,null,null,null,null,null,null,null,null,null,null,null,"~"]
["SA36",2025,"Choose",438,null,null,null,null,null,null,null,null,null,null,null,null,null,null,null,null,null,null,"~"]
["SA36",2025,"Choose",439,null,null,null,null,null,null,null,null,null,null,null,null,null,null,null,null,null,null,"~"]
["SA36",2025,"Choose",440,null,null,null,null,null,null,null,null,null,null,null,null,null,null,null,null,null,null,"~"]
["SA36",2025,"Choose",441,null,null,null,null,null,null,null,null,null,null,null,null,null,null,null,null,null,null,"~"]
["SA36",2025,"Choose",442,null,null,null,null,null,null,null,null,null,null,null,null,null,null,null,null,null,null,"~"]
["SA36",2025,"Choose",443,null,null,null,null,null,null,null,null,null,null,null,null,null,null,null,null,null,null,"~"]
["SA36",2025,"Choose",444,null,null,null,null,null,null,null,null,null,null,null,null,null,null,null,null,null,null,"~"]
["SA36",2025,"Choose",445,null,null,null,null,null,null,null,null,null,null,null,null,null,null,null,null,null,null,"~"]
["SA36",2025,"Choose",446,null,null,null,null,null,null,null,null,null,null,null,null,null,null,null,null,null,null,"~"]
["SA36",2025,"Choose",447,null,null,null,null,null,null,null,null,null,null,null,null,null,null,null,null,null,null,"~"]
["SA36",2025,"Choose",448,null,null,null,null,null,null,null,null,null,null,null,null,null,null,null,null,null,null,"~"]
["SA36",2025,"Choose",449,null,null,null,null,null,null,null,null,null,null,null,null,null,null,null,null,null,null,"~"]
["SA36",2025,"Choose",450,null,null,null,null,null,null,null,null,null,null,null,null,null,null,null,null,null,null,"~"]
["SA36",2025,"Choose",451,null,null,null,null,null,null,null,null,null,null,null,null,null,null,null,null,null,null,"~"]
["SA36",2025,"Choose",452,null,null,null,null,null,null,null,null,null,null,null,null,null,null,null,null,null,null,"~"]
["SA36",2025,"Choose",453,null,null,null,null,null,null,null,null,null,null,null,null,null,null,null,null,null,null,"~"]
["SA36",2025,"Choose",454,null,null,null,null,null,null,null,null,null,null,null,null,null,null,null,null,null,null,"~"]
["SA36",2025,"Choose",455,null,null,null,null,null,null,null,null,null,null,null,null,null,null,null,null,null,null,"~"]
["SA36",2025,"Choose",456,null,null,null,null,null,null,null,null,null,null,null,null,null,null,null,null,null,null,"~"]
["SA36",2025,"Choose",457,null,null,null,null,null,null,null,null,null,null,null,null,null,null,null,null,null,null,"~"]
["SA36",2025,"Choose",458,null,null,null,null,null,null,null,null,null,null,null,null,null,null,null,null,null,null,"~"]
["SA36",2025,"Choose",459,null,null,null,null,null,null,null,null,null,null,null,null,null,null,null,null,null,null,"~"]
["SA36",2025,"Choose",460,null,null,null,null,null,null,null,null,null,null,null,null,null,null,null,null,null,null,"~"]
["SA36",2025,"Choose",461,null,null,null,null,null,null,null,null,null,null,null,null,null,null,null,null,null,null,"~"]
["SA36",2025,"Choose",462,null,null,null,null,null,null,null,null,null,null,null,null,null,null,null,null,null,null,"~"]
["SA36",2025,"Choose",463,null,null,null,null,null,null,null,null,null,null,null,null,null,null,null,null,null,null,"~"]
["SA36",2025,"Choose",464,null,null,null,null,null,null,null,null,null,null,null,null,null,null,null,null,null,null,"~"]
["SA36",2025,"Choose",465,null,null,null,null,null,null,null,null,null,null,null,null,null,null,null,null,null,null,"~"]
["SA36",2025,"Choose",466,null,null,null,null,null,null,null,null,null,null,null,null,null,null,null,null,null,null,"~"]
["SA36",2025,"Choose",467,null,null,null,null,null,null,null,null,null,null,null,null,null,null,null,null,null,null,"~"]
["SA36",2025,"Choose",468,null,null,null,null,null,null,null,null,null,null,null,null,null,null,null,null,null,null,"~"]
["SA36",2025,"Choose",469,null,null,null,null,null,null,null,null,null,null,null,null,null,null,null,null,null,null,"~"]
["SA36",2025,"Choose",470,null,null,null,null,null,null,null,null,null,null,null,null,null,null,null,null,null,null,"~"]
["SA36",2025,"Choose",471,null,null,null,null,null,null,null,null,null,null,null,null,null,null,null,null,null,null,"~"]
["SA36",{"$f":"+MTREF","v":2025},{"$f":"LEFT(muni,(FIND(\" \",muni,1)-1))","v":"Choose"},472,null,null,null,null,null,null,null,null,null,null,null,null,null,null,null,null,null,null,"~"]
["SA36",2025,"Choose",473,null,null,null,null,null,null,null,null,null,null,null,null,null,null,null,null,null,null,"~"]
["SA36",2025,"Choose",474,null,null,null,null,null,null,null,null,null,null,null,null,null,null,null,null,null,null,"~"]
["SA36",2025,"Choose",475,null,null,null,null,null,null,null,null,null,null,null,null,null,null,null,null,null,null,"~"]
["SA36",2025,"Choose",476,null,null,null,null,null,null,null,null,null,null,null,null,null,null,null,null,null,null,"~"]
["SA36",2025,"Choose",477,null,null,null,null,null,null,null,null,null,null,null,null,null,null,null,null,null,null,"~"]
["SA36",2025,"Choose",478,null,null,null,null,null,null,null,null,null,null,null,null,null,null,null,null,null,null,"~"]
["SA36",2025,"Choose",479,null,null,null,null,null,null,null,null,null,null,null,null,null,null,null,null,null,null,"~"]
["SA36",2025,"Choose",480,null,null,null,null,null,null,null,null,null,null,null,null,null,null,null,null,null,null,"~"]
["SA36",2025,"Choose",481,null,null,null,null,null,null,null,null,null,null,null,null,null,null,null,null,null,null,"~"]
["SA36",2025,"Choose",482,null,null,null,null,null,null,null,null,null,null,null,null,null,null,null,null,null,null,"~"]
["SA36",2025,"Choose",483,null,null,null,null,null,null,null,null,null,null,null,null,null,null,null,null,null,null,"~"]
["SA36",2025,"Choose",484,null,null,null,null,null,null,null,null,null,null,null,null,null,null,null,null,null,null,"~"]
["SA36",2025,"Choose",485,null,null,null,null,null,null,null,null,null,null,null,null,null,null,null,null,null,null,"~"]
["SA36",2025,"Choose",486,null,null,null,null,null,null,null,null,null,null,null,null,null,null,null,null,null,null,"~"]
["SA36",2025,"Choose",487,null,null,null,null,null,null,null,null,null,null,null,null,null,null,null,null,null,null,"~"]
["SA36",2025,"Choose",488,null,null,null,null,null,null,null,null,null,null,null,null,null,null,null,null,null,null,"~"]
["SA36",2025,"Choose",489,null,null,null,null,null,null,null,null,null,null,null,null,null,null,null,null,null,null,"~"]
["SA36",2025,"Choose",490,null,null,null,null,null,null,null,null,null,null,null,null,null,null,null,null,null,null,"~"]
["SA36",2025,"Choose",491,null,null,null,null,null,null,null,null,null,null,null,null,null,null,null,null,null,null,"~"]
["SA36",2025,"Choose",492,null,null,null,null,null,null,null,null,null,null,null,null,null,null,null,null,null,null,"~"]
["SA36",2025,"Choose",493,null,null,null,null,null,null,null,null,null,null,null,null,null,null,null,null,null,null,"~"]
["SA36",2025,"Choose",494,null,null,null,null,null,null,null,null,null,null,null,null,null,null,null,null,null,null,"~"]
["SA36",2025,"Choose",495,null,null,null,null,null,null,null,null,null,null,null,null,null,null,null,null,null,null,"~"]
["SA36",2025,"Choose",496,null,null,null,null,null,null,null,null,null,null,null,null,null,null,null,null,null,null,"~"]
["SA36",2025,"Choose",497,null,null,null,null,null,null,null,null,null,null,null,null,null,null,null,null,null,null,"~"]
["SA36",2025,"Choose",498,null,null,null,null,null,null,null,null,null,null,null,null,null,null,null,null,null,null,"~"]
["SA36",2025,"Choose",499,null,null,null,null,null,null,null,null,null,null,null,null,null,null,null,null,null,null,"~"]
["SA36",2025,"Choose",500,null,null,null,null,null,null,null,null,null,null,null,null,null,null,null,null,null,null,"~"]
["SA36",2025,"Choose",501,null,null,null,null,null,null,null,null,null,null,null,null,null,null,null,null,null,null,"~"]
["SA36",2025,"Choose",502,null,null,null,null,null,null,null,null,null,null,null,null,null,null,null,null,null,null,"~"]
["SA36",2025,"Choose",503,null,null,null,null,null,null,null,null,null,null,null,null,null,null,null,null,null,null,"~"]
["SA36",2025,"Choose",504,null,null,null,null,null,null,null,null,null,null,null,null,null,null,null,null,null,null,"~"]
["SA36",2025,"Choose",505,null,null,null,null,null,null,null,null,null,null,null,null,null,null,null,null,null,null,"~"]
["SA36",2025,"Choose",506,null,null,null,null,null,null,null,null,null,null,null,null,null,null,null,null,null,null,"~"]
["SA36",2025,"Choose",507,null,null,null,null,null,null,null,null,null,null,null,null,null,null,null,null,null,null,"~"]
["SA36",2025,"Choose",508,null,null,null,null,null,null,null,null,null,null,null,null,null,null,null,null,null,null,"~"]
["SA36",2025,"Choose",509,null,null,null,null,null,null,null,null,null,null,null,null,null,null,null,null,null,null,"~"]
["SA36",2025,"Choose",510,null,null,null,null,null,null,null,null,null,null,null,null,null,null,null,null,null,null,"~"]
["SA36",2025,"Choose",511,null,null,null,null,null,null,null,null,null,null,null,null,null,null,null,null,null,null,"~"]
["SA36",2025,"Choose",512,null,null,null,null,null,null,null,null,null,null,null,null,null,null,null,null,null,null,"~"]
["SA36",2025,"Choose",513,null,null,null,null,null,null,null,null,null,null,null,null,null,null,null,null,null,null,"~"]
["SA36",2025,"Choose",514,null,null,null,null,null,null,null,null,null,null,null,null,null,null,null,null,null,null,"~"]
["SA36",2025,"Choose",515,null,null,null,null,null,null,null,null,null,null,null,null,null,null,null,null,null,null,"~"]
["SA36",2025,"Choose",516,null,null,null,null,null,null,null,null,null,null,null,null,null,null,null,null,null,null,"~"]
["SA36",2025,"Choose",517,null,null,null,null,null,null,null,null,null,null,null,null,null,null,null,null,null,null,"~"]
["SA36",2025,"Choose",518,null,null,null,null,null,null,null,null,null,null,null,null,null,null,null,null,null,null,"~"]
["SA36",2025,"Choose",519,null,null,null,null,null,null,null,null,null,null,null,null,null,null,null,null,null,null,"~"]
["SA36",2025,"Choose",520,null,null,null,null,null,null,null,null,null,null,null,null,null,null,null,null,null,null,"~"]
["SA36",2025,"Choose",521,null,null,null,null,null,null,null,null,null,null,null,null,null,null,null,null,null,null,"~"]
["SA36",2025,"Choose",522,null,null,null,null,null,null,null,null,null,null,null,null,null,null,null,null,null,null,"~"]
["SA36",2025,"Choose",523,null,null,null,null,null,null,null,null,null,null,null,null,null,null,null,null,null,null,"~"]
["SA36",2025,"Choose",524,null,null,null,null,null,null,null,null,null,null,null,null,null,null,null,null,null,null,"~"]
["SA36",2025,"Choose",525,null,null,null,null,null,null,null,null,null,null,null,null,null,null,null,null,null,null,"~"]
["SA36",2025,"Choose",526,null,null,null,null,null,null,null,null,null,null,null,null,null,null,null,null,null,null,"~"]
["SA36",2025,"Choose",527,null,null,null,null,null,null,null,null,null,null,null,null,null,null,null,null,null,null,"~"]
["SA36",2025,"Choose",528,null,null,null,null,null,null,null,null,null,null,null,null,null,null,null,null,null,null,"~"]
["SA36",2025,"Choose",529,null,null,null,null,null,null,null,null,null,null,null,null,null,null,null,null,null,null,"~"]
["SA36",2025,"Choose",530,null,null,null,null,null,null,null,null,null,null,null,null,null,null,null,null,null,null,"~"]
["SA36",2025,"Choose",531,null,null,null,null,null,null,null,null,null,null,null,null,null,null,null,null,null,null,"~"]
["SA36",2025,"Choose",532,null,null,null,null,null,null,null,null,null,null,null,null,null,null,null,null,null,null,"~"]
["SA36",2025,"Choose",533,null,null,null,null,null,null,null,null,null,null,null,null,null,null,null,null,null,null,"~"]
["SA36",2025,"Choose",534,null,null,null,null,null,null,null,null,null,null,null,null,null,null,null,null,null,null,"~"]
["SA36",2025,"Choose",535,null,null,null,null,null,null,null,null,null,null,null,null,null,null,null,null,null,null,"~"]
["SA36",{"$f":"+MTREF","v":2025},{"$f":"LEFT(muni,(FIND(\" \",muni,1)-1))","v":"Choose"},536,null,null,null,null,null,null,null,null,null,null,null,null,null,null,null,null,null,null,"~"]
["SA36",2025,"Choose",537,null,null,null,null,null,null,null,null,null,null,null,null,null,null,null,null,null,null,"~"]
["SA36",2025,"Choose",538,null,null,null,null,null,null,null,null,null,null,null,null,null,null,null,null,null,null,"~"]
["SA36",2025,"Choose",539,null,null,null,null,null,null,null,null,null,null,null,null,null,null,null,null,null,null,"~"]
["SA36",2025,"Choose",540,null,null,null,null,null,null,null,null,null,null,null,null,null,null,null,null,null,null,"~"]
["SA36",2025,"Choose",541,null,null,null,null,null,null,null,null,null,null,null,null,null,null,null,null,null,null,"~"]
["SA36",2025,"Choose",542,null,null,null,null,null,null,null,null,null,null,null,null,null,null,null,null,null,null,"~"]
["SA36",2025,"Choose",543,null,null,null,null,null,null,null,null,null,null,null,null,null,null,null,null,null,null,"~"]
["SA36",2025,"Choose",544,null,null,null,null,null,null,null,null,null,null,null,null,null,null,null,null,null,null,"~"]
["SA36",2025,"Choose",545,null,null,null,null,null,null,null,null,null,null,null,null,null,null,null,null,null,null,"~"]
["SA36",2025,"Choose",546,null,null,null,null,null,null,null,null,null,null,null,null,null,null,null,null,null,null,"~"]
["SA36",2025,"Choose",547,null,null,null,null,null,null,null,null,null,null,null,null,null,null,null,null,null,null,"~"]
["SA36",2025,"Choose",548,null,null,null,null,null,null,null,null,null,null,null,null,null,null,null,null,null,null,"~"]
["SA36",2025,"Choose",549,null,null,null,null,null,null,null,null,null,null,null,null,null,null,null,null,null,null,"~"]
["SA36",2025,"Choose",550,null,null,null,null,null,null,null,null,null,null,null,null,null,null,null,null,null,null,"~"]
["SA36",2025,"Choose",551,null,null,null,null,null,null,null,null,null,null,null,null,null,null,null,null,null,null,"~"]
["SA36",2025,"Choose",552,null,null,null,null,null,null,null,null,null,null,null,null,null,null,null,null,null,null,"~"]
["SA36",2025,"Choose",553,null,null,null,null,null,null,null,null,null,null,null,null,null,null,null,null,null,null,"~"]
["SA36",2025,"Choose",554,null,null,null,null,null,null,null,null,null,null,null,null,null,null,null,null,null,null,"~"]
["SA36",2025,"Choose",555,null,null,null,null,null,null,null,null,null,null,null,null,null,null,null,null,null,null,"~"]
["SA36",2025,"Choose",556,null,null,null,null,null,null,null,null,null,null,null,null,null,null,null,null,null,null,"~"]
["SA36",2025,"Choose",557,null,null,null,null,null,null,null,null,null,null,null,null,null,null,null,null,null,null,"~"]
["SA36",2025,"Choose",558,null,null,null,null,null,null,null,null,null,null,null,null,null,null,null,null,null,null,"~"]
["SA36",2025,"Choose",559,null,null,null,null,null,null,null,null,null,null,null,null,null,null,null,null,null,null,"~"]
["SA36",2025,"Choose",560,null,null,null,null,null,null,null,null,null,null,null,null,null,null,null,null,null,null,"~"]
["SA36",2025,"Choose",561,null,null,null,null,null,null,null,null,null,null,null,null,null,null,null,null,null,null,"~"]
["SA36",2025,"Choose",562,null,null,null,null,null,null,null,null,null,null,null,null,null,null,null,null,null,null,"~"]
["SA36",2025,"Choose",563,null,null,null,null,null,null,null,null,null,null,null,null,null,null,null,null,null,null,"~"]
["SA36",2025,"Choose",564,null,null,null,null,null,null,null,null,null,null,null,null,null,null,null,null,null,null,"~"]
["SA36",2025,"Choose",565,null,null,null,null,null,null,null,null,null,null,null,null,null,null,null,null,null,null,"~"]
["SA36",2025,"Choose",566,null,null,null,null,null,null,null,null,null,null,null,null,null,null,null,null,null,null,"~"]
["SA36",2025,"Choose",567,null,null,null,null,null,null,null,null,null,null,null,null,null,null,null,null,null,null,"~"]
["SA36",2025,"Choose",568,null,null,null,null,null,null,null,null,null,null,null,null,null,null,null,null,null,null,"~"]
["SA36",2025,"Choose",569,null,null,null,null,null,null,null,null,null,null,null,null,null,null,null,null,null,null,"~"]
["SA36",2025,"Choose",570,null,null,null,null,null,null,null,null,null,null,null,null,null,null,null,null,null,null,"~"]
["SA36",2025,"Choose",571,null,null,null,null,null,null,null,null,null,null,null,null,null,null,null,null,null,null,"~"]
["SA36",2025,"Choose",572,null,null,null,null,null,null,null,null,null,null,null,null,null,null,null,null,null,null,"~"]
["SA36",2025,"Choose",573,null,null,null,null,null,null,null,null,null,null,null,null,null,null,null,null,null,null,"~"]
["SA36",2025,"Choose",574,null,null,null,null,null,null,null,null,null,null,null,null,null,null,null,null,null,null,"~"]
["SA36",2025,"Choose",575,null,null,null,null,null,null,null,null,null,null,null,null,null,null,null,null,null,null,"~"]
["SA36",2025,"Choose",576,null,null,null,null,null,null,null,null,null,null,null,null,null,null,null,null,null,null,"~"]
["SA36",2025,"Choose",577,null,null,null,null,null,null,null,null,null,null,null,null,null,null,null,null,null,null,"~"]
["SA36",2025,"Choose",578,null,null,null,null,null,null,null,null,null,null,null,null,null,null,null,null,null,null,"~"]
["SA36",2025,"Choose",579,null,null,null,null,null,null,null,null,null,null,null,null,null,null,null,null,null,null,"~"]
["SA36",2025,"Choose",580,null,null,null,null,null,null,null,null,null,null,null,null,null,null,null,null,null,null,"~"]
["SA36",2025,"Choose",581,null,null,null,null,null,null,null,null,null,null,null,null,null,null,null,null,null,null,"~"]
["SA36",2025,"Choose",582,null,null,null,null,null,null,null,null,null,null,null,null,null,null,null,null,null,null,"~"]
["SA36",2025,"Choose",583,null,null,null,null,null,null,null,null,null,null,null,null,null,null,null,null,null,null,"~"]
["SA36",2025,"Choose",584,null,null,null,null,null,null,null,null,null,null,null,null,null,null,null,null,null,null,"~"]
["SA36",2025,"Choose",585,null,null,null,null,null,null,null,null,null,null,null,null,null,null,null,null,null,null,"~"]
["SA36",2025,"Choose",586,null,null,null,null,null,null,null,null,null,null,null,null,null,null,null,null,null,null,"~"]
["SA36",2025,"Choose",587,null,null,null,null,null,null,null,null,null,null,null,null,null,null,null,null,null,null,"~"]
["SA36",2025,"Choose",588,null,null,null,null,null,null,null,null,null,null,null,null,null,null,null,null,null,null,"~"]
["SA36",2025,"Choose",589,null,null,null,null,null,null,null,null,null,null,null,null,null,null,null,null,null,null,"~"]
["SA36",2025,"Choose",590,null,null,null,null,null,null,null,null,null,null,null,null,null,null,null,null,null,null,"~"]
["SA36",2025,"Choose",591,null,null,null,null,null,null,null,null,null,null,null,null,null,null,null,null,null,null,"~"]
["SA36",2025,"Choose",592,null,null,null,null,null,null,null,null,null,null,null,null,null,null,null,null,null,null,"~"]
["SA36",2025,"Choose",593,null,null,null,null,null,null,null,null,null,null,null,null,null,null,null,null,null,null,"~"]
["SA36",2025,"Choose",594,null,null,null,null,null,null,null,null,null,null,null,null,null,null,null,null,null,null,"~"]
["SA36",2025,"Choose",595,null,null,null,null,null,null,null,null,null,null,null,null,null,null,null,null,null,null,"~"]
["SA36",2025,"Choose",596,null,null,null,null,null,null,null,null,null,null,null,null,null,null,null,null,null,null,"~"]
["SA36",2025,"Choose",597,null,null,null,null,null,null,null,null,null,null,null,null,null,null,null,null,null,null,"~"]
["SA36",2025,"Choose",598,null,null,null,null,null,null,null,null,null,null,null,null,null,null,null,null,null,null,"~"]
["SA36",2025,"Choose",599,null,null,null,null,null,null,null,null,null,null,null,null,null,null,null,null,null,null,"~"]
["SA36",{"$f":"+MTREF","v":2025},{"$f":"LEFT(muni,(FIND(\" \",muni,1)-1))","v":"Choose"},600,null,null,null,null,null,null,null,null,null,null,null,null,null,null,null,null,null,null,"~"]
["SA36",2025,"Choose",601,null,null,null,null,null,null,null,null,null,null,null,null,null,null,null,null,null,null,"~"]
["SA36",2025,"Choose",602,null,null,null,null,null,null,null,null,null,null,null,null,null,null,null,null,null,null,"~"]
["SA36",2025,"Choose",603,null,null,null,null,null,null,null,null,null,null,null,null,null,null,null,null,null,null,"~"]
["SA36",2025,"Choose",604,null,null,null,null,null,null,null,null,null,null,null,null,null,null,null,null,null,null,"~"]
["SA36",2025,"Choose",605,null,null,null,null,null,null,null,null,null,null,null,null,null,null,null,null,null,null,"~"]
["SA36",2025,"Choose",606,null,null,null,null,null,null,null,null,null,null,null,null,null,null,null,null,null,null,"~"]
["SA36",2025,"Choose",607,null,null,null,null,null,null,null,null,null,null,null,null,null,null,null,null,null,null,"~"]
["SA36",2025,"Choose",608,null,null,null,null,null,null,null,null,null,null,null,null,null,null,null,null,null,null,"~"]
["SA36",2025,"Choose",609,null,null,null,null,null,null,null,null,null,null,null,null,null,null,null,null,null,null,"~"]
["SA36",2025,"Choose",610,null,null,null,null,null,null,null,null,null,null,null,null,null,null,null,null,null,null,"~"]
["SA36",2025,"Choose",611,null,null,null,null,null,null,null,null,null,null,null,null,null,null,null,null,null,null,"~"]
["SA36",2025,"Choose",612,null,null,null,null,null,null,null,null,null,null,null,null,null,null,null,null,null,null,"~"]
["SA36",2025,"Choose",613,null,null,null,null,null,null,null,null,null,null,null,null,null,null,null,null,null,null,"~"]
["SA36",2025,"Choose",614,null,null,null,null,null,null,null,null,null,null,null,null,null,null,null,null,null,null,"~"]
["SA36",2025,"Choose",615,null,null,null,null,null,null,null,null,null,null,null,null,null,null,null,null,null,null,"~"]
["SA36",2025,"Choose",616,null,null,null,null,null,null,null,null,null,null,null,null,null,null,null,null,null,null,"~"]
["SA36",2025,"Choose",617,null,null,null,null,null,null,null,null,null,null,null,null,null,null,null,null,null,null,"~"]
["SA36",2025,"Choose",618,null,null,null,null,null,null,null,null,null,null,null,null,null,null,null,null,null,null,"~"]
["SA36",2025,"Choose",619,null,null,null,null,null,null,null,null,null,null,null,null,null,null,null,null,null,null,"~"]
["SA36",2025,"Choose",620,null,null,null,null,null,null,null,null,null,null,null,null,null,null,null,null,null,null,"~"]
["SA36",2025,"Choose",621,null,null,null,null,null,null,null,null,null,null,null,null,null,null,null,null,null,null,"~"]
["SA36",2025,"Choose",622,null,null,null,null,null,null,null,null,null,null,null,null,null,null,null,null,null,null,"~"]
["SA36",2025,"Choose",623,null,null,null,null,null,null,null,null,null,null,null,null,null,null,null,null,null,null,"~"]
["SA36",2025,"Choose",624,null,null,null,null,null,null,null,null,null,null,null,null,null,null,null,null,null,null,"~"]
["SA36",2025,"Choose",625,null,null,null,null,null,null,null,null,null,null,null,null,null,null,null,null,null,null,"~"]
["SA36",2025,"Choose",626,null,null,null,null,null,null,null,null,null,null,null,null,null,null,null,null,null,null,"~"]
["SA36",2025,"Choose",627,null,null,null,null,null,null,null,null,null,null,null,null,null,null,null,null,null,null,"~"]
["SA36",2025,"Choose",628,null,null,null,null,null,null,null,null,null,null,null,null,null,null,null,null,null,null,"~"]
["SA36",2025,"Choose",629,null,null,null,null,null,null,null,null,null,null,null,null,null,null,null,null,null,null,"~"]
["SA36",2025,"Choose",630,null,null,null,null,null,null,null,null,null,null,null,null,null,null,null,null,null,null,"~"]
["SA36",2025,"Choose",631,null,null,null,null,null,null,null,null,null,null,null,null,null,null,null,null,null,null,"~"]
["SA36",2025,"Choose",632,null,null,null,null,null,null,null,null,null,null,null,null,null,null,null,null,null,null,"~"]
["SA36",2025,"Choose",633,null,null,null,null,null,null,null,null,null,null,null,null,null,null,null,null,null,null,"~"]
["SA36",2025,"Choose",634,null,null,null,null,null,null,null,null,null,null,null,null,null,null,null,null,null,null,"~"]
["SA36",2025,"Choose",635,null,null,null,null,null,null,null,null,null,null,null,null,null,null,null,null,null,null,"~"]
["SA36",2025,"Choose",636,null,null,null,null,null,null,null,null,null,null,null,null,null,null,null,null,null,null,"~"]
["SA36",2025,"Choose",637,null,null,null,null,null,null,null,null,null,null,null,null,null,null,null,null,null,null,"~"]
["SA36",2025,"Choose",638,null,null,null,null,null,null,null,null,null,null,null,null,null,null,null,null,null,null,"~"]
["SA36",2025,"Choose",639,null,null,null,null,null,null,null,null,null,null,null,null,null,null,null,null,null,null,"~"]
["SA36",2025,"Choose",640,null,null,null,null,null,null,null,null,null,null,null,null,null,null,null,null,null,null,"~"]
["SA36",2025,"Choose",641,null,null,null,null,null,null,null,null,null,null,null,null,null,null,null,null,null,null,"~"]
["SA36",2025,"Choose",642,null,null,null,null,null,null,null,null,null,null,null,null,null,null,null,null,null,null,"~"]
["SA36",2025,"Choose",643,null,null,null,null,null,null,null,null,null,null,null,null,null,null,null,null,null,null,"~"]
["SA36",2025,"Choose",644,null,null,null,null,null,null,null,null,null,null,null,null,null,null,null,null,null,null,"~"]
["SA36",2025,"Choose",645,null,null,null,null,null,null,null,null,null,null,null,null,null,null,null,null,null,null,"~"]
["SA36",2025,"Choose",646,null,null,null,null,null,null,null,null,null,null,null,null,null,null,null,null,null,null,"~"]
["SA36",2025,"Choose",647,null,null,null,null,null,null,null,null,null,null,null,null,null,null,null,null,null,null,"~"]
["SA36",2025,"Choose",648,null,null,null,null,null,null,null,null,null,null,null,null,null,null,null,null,null,null,"~"]
["SA36",2025,"Choose",649,null,null,null,null,null,null,null,null,null,null,null,null,null,null,null,null,null,null,"~"]
["SA36",2025,"Choose",650,null,null,null,null,null,null,null,null,null,null,null,null,null,null,null,null,null,null,"~"]
["SA36",2025,"Choose",651,null,null,null,null,null,null,null,null,null,null,null,null,null,null,null,null,null,null,"~"]
["SA36",2025,"Choose",652,null,null,null,null,null,null,null,null,null,null,null,null,null,null,null,null,null,null,"~"]
["SA36",2025,"Choose",653,null,null,null,null,null,null,null,null,null,null,null,null,null,null,null,null,null,null,"~"]
["SA36",2025,"Choose",654,null,null,null,null,null,null,null,null,null,null,null,null,null,null,null,null,null,null,"~"]
["SA36",2025,"Choose",655,null,null,null,null,null,null,null,null,null,null,null,null,null,null,null,null,null,null,"~"]
["SA36",2025,"Choose",656,null,null,null,null,null,null,null,null,null,null,null,null,null,null,null,null,null,null,"~"]
["SA36",2025,"Choose",657,null,null,null,null,null,null,null,null,null,null,null,null,null,null,null,null,null,null,"~"]
["SA36",2025,"Choose",658,null,null,null,null,null,null,null,null,null,null,null,null,null,null,null,null,null,null,"~"]
["SA36",2025,"Choose",659,null,null,null,null,null,null,null,null,null,null,null,null,null,null,null,null,null,null,"~"]
["SA36",2025,"Choose",660,null,null,null,null,null,null,null,null,null,null,null,null,null,null,null,null,null,null,"~"]
["SA36",2025,"Choose",661,null,null,null,null,null,null,null,null,null,null,null,null,null,null,null,null,null,null,"~"]
["SA36",2025,"Choose",662,null,null,null,null,null,null,null,null,null,null,null,null,null,null,null,null,null,null,"~"]
["SA36",2025,"Choose",663,null,null,null,null,null,null,null,null,null,null,null,null,null,null,null,null,null,null,"~"]
["SA36",{"$f":"+MTREF","v":2025},{"$f":"LEFT(muni,(FIND(\" \",muni,1)-1))","v":"Choose"},664,null,null,null,null,null,null,null,null,null,null,null,null,null,null,null,null,null,null,"~"]
["SA36",2025,"Choose",665,null,null,null,null,null,null,null,null,null,null,null,null,null,null,null,null,null,null,"~"]
["SA36",2025,"Choose",666,null,null,null,null,null,null,null,null,null,null,null,null,null,null,null,null,null,null,"~"]
["SA36",2025,"Choose",667,null,null,null,null,null,null,null,null,null,null,null,null,null,null,null,null,null,null,"~"]
["SA36",2025,"Choose",668,null,null,null,null,null,null,null,null,null,null,null,null,null,null,null,null,null,null,"~"]
["SA36",2025,"Choose",669,null,null,null,null,null,null,null,null,null,null,null,null,null,null,null,null,null,null,"~"]
["SA36",2025,"Choose",670,null,null,null,null,null,null,null,null,null,null,null,null,null,null,null,null,null,null,"~"]
["SA36",2025,"Choose",671,null,null,null,null,null,null,null,null,null,null,null,null,null,null,null,null,null,null,"~"]
["SA36",2025,"Choose",672,null,null,null,null,null,null,null,null,null,null,null,null,null,null,null,null,null,null,"~"]
["SA36",2025,"Choose",673,null,null,null,null,null,null,null,null,null,null,null,null,null,null,null,null,null,null,"~"]
["SA36",2025,"Choose",674,null,null,null,null,null,null,null,null,null,null,null,null,null,null,null,null,null,null,"~"]
["SA36",2025,"Choose",675,null,null,null,null,null,null,null,null,null,null,null,null,null,null,null,null,null,null,"~"]
["SA36",2025,"Choose",676,null,null,null,null,null,null,null,null,null,null,null,null,null,null,null,null,null,null,"~"]
["SA36",2025,"Choose",677,null,null,null,null,null,null,null,null,null,null,null,null,null,null,null,null,null,null,"~"]
["SA36",2025,"Choose",678,null,null,null,null,null,null,null,null,null,null,null,null,null,null,null,null,null,null,"~"]
["SA36",2025,"Choose",679,null,null,null,null,null,null,null,null,null,null,null,null,null,null,null,null,null,null,"~"]
["SA36",2025,"Choose",680,null,null,null,null,null,null,null,null,null,null,null,null,null,null,null,null,null,null,"~"]
["SA36",2025,"Choose",681,null,null,null,null,null,null,null,null,null,null,null,null,null,null,null,null,null,null,"~"]
["SA36",2025,"Choose",682,null,null,null,null,null,null,null,null,null,null,null,null,null,null,null,null,null,null,"~"]
["SA36",2025,"Choose",683,null,null,null,null,null,null,null,null,null,null,null,null,null,null,null,null,null,null,"~"]
["SA36",2025,"Choose",684,null,null,null,null,null,null,null,null,null,null,null,null,null,null,null,null,null,null,"~"]
["SA36",2025,"Choose",685,null,null,null,null,null,null,null,null,null,null,null,null,null,null,null,null,null,null,"~"]
["SA36",2025,"Choose",686,null,null,null,null,null,null,null,null,null,null,null,null,null,null,null,null,null,null,"~"]
["SA36",2025,"Choose",687,null,null,null,null,null,null,null,null,null,null,null,null,null,null,null,null,null,null,"~"]
["SA36",2025,"Choose",688,null,null,null,null,null,null,null,null,null,null,null,null,null,null,null,null,null,null,"~"]
["SA36",2025,"Choose",689,null,null,null,null,null,null,null,null,null,null,null,null,null,null,null,null,null,null,"~"]
["SA36",2025,"Choose",690,null,null,null,null,null,null,null,null,null,null,null,null,null,null,null,null,null,null,"~"]
["SA36",2025,"Choose",691,null,null,null,null,null,null,null,null,null,null,null,null,null,null,null,null,null,null,"~"]
["SA36",2025,"Choose",692,null,null,null,null,null,null,null,null,null,null,null,null,null,null,null,null,null,null,"~"]
["SA36",2025,"Choose",693,null,null,null,null,null,null,null,null,null,null,null,null,null,null,null,null,null,null,"~"]
["SA36",2025,"Choose",694,null,null,null,null,null,null,null,null,null,null,null,null,null,null,null,null,null,null,"~"]
["SA36",2025,"Choose",695,null,null,null,null,null,null,null,null,null,null,null,null,null,null,null,null,null,null,"~"]
["SA36",2025,"Choose",696,null,null,null,null,null,null,null,null,null,null,null,null,null,null,null,null,null,null,"~"]
["SA36",2025,"Choose",697,null,null,null,null,null,null,null,null,null,null,null,null,null,null,null,null,null,null,"~"]
["SA36",2025,"Choose",698,null,null,null,null,null,null,null,null,null,null,null,null,null,null,null,null,null,null,"~"]
["SA36",2025,"Choose",699,null,null,null,null,null,null,null,null,null,null,null,null,null,null,null,null,null,null,"~"]
["SA36",2025,"Choose",700,null,null,null,null,null,null,null,null,null,null,null,null,null,null,null,null,null,null,"~"]
["SA36",2025,"Choose",701,null,null,null,null,null,null,null,null,null,null,null,null,null,null,null,null,null,null,"~"]
["SA36",2025,"Choose",702,null,null,null,null,null,null,null,null,null,null,null,null,null,null,null,null,null,null,"~"]
["SA36",2025,"Choose",703,null,null,null,null,null,null,null,null,null,null,null,null,null,null,null,null,null,null,"~"]
["SA36",2025,"Choose",704,null,null,null,null,null,null,null,null,null,null,null,null,null,null,null,null,null,null,"~"]
["SA36",2025,"Choose",705,null,null,null,null,null,null,null,null,null,null,null,null,null,null,null,null,null,null,"~"]
["SA36",2025,"Choose",706,null,null,null,null,null,null,null,null,null,null,null,null,null,null,null,null,null,null,"~"]
["SA36",2025,"Choose",707,null,null,null,null,null,null,null,null,null,null,null,null,null,null,null,null,null,null,"~"]
["SA36",2025,"Choose",708,null,null,null,null,null,null,null,null,null,null,null,null,null,null,null,null,null,null,"~"]
["SA36",2025,"Choose",709,null,null,null,null,null,null,null,null,null,null,null,null,null,null,null,null,null,null,"~"]
["SA36",2025,"Choose",710,null,null,null,null,null,null,null,null,null,null,null,null,null,null,null,null,null,null,"~"]
["SA36",2025,"Choose",711,null,null,null,null,null,null,null,null,null,null,null,null,null,null,null,null,null,null,"~"]
["SA36",2025,"Choose",712,null,null,null,null,null,null,null,null,null,null,null,null,null,null,null,null,null,null,"~"]
["SA36",2025,"Choose",713,null,null,null,null,null,null,null,null,null,null,null,null,null,null,null,null,null,null,"~"]
["SA36",2025,"Choose",714,null,null,null,null,null,null,null,null,null,null,null,null,null,null,null,null,null,null,"~"]
["SA36",2025,"Choose",715,null,null,null,null,null,null,null,null,null,null,null,null,null,null,null,null,null,null,"~"]
["SA36",2025,"Choose",716,null,null,null,null,null,null,null,null,null,null,null,null,null,null,null,null,null,null,"~"]
["SA36",2025,"Choose",717,null,null,null,null,null,null,null,null,null,null,null,null,null,null,null,null,null,null,"~"]
["SA36",2025,"Choose",718,null,null,null,null,null,null,null,null,null,null,null,null,null,null,null,null,null,null,"~"]
["SA36",2025,"Choose",719,null,null,null,null,null,null,null,null,null,null,null,null,null,null,null,null,null,null,"~"]
["SA36",2025,"Choose",720,null,null,null,null,null,null,null,null,null,null,null,null,null,null,null,null,null,null,"~"]
["SA36",2025,"Choose",721,null,null,null,null,null,null,null,null,null,null,null,null,null,null,null,null,null,null,"~"]
["SA36",2025,"Choose",722,null,null,null,null,null,null,null,null,null,null,null,null,null,null,null,null,null,null,"~"]
["SA36",2025,"Choose",723,null,null,null,null,null,null,null,null,null,null,null,null,null,null,null,null,null,null,"~"]
["SA36",2025,"Choose",724,null,null,null,null,null,null,null,null,null,null,null,null,null,null,null,null,null,null,"~"]
["SA36",2025,"Choose",725,null,null,null,null,null,null,null,null,null,null,null,null,null,null,null,null,null,null,"~"]
["SA36",2025,"Choose",726,null,null,null,null,null,null,null,null,null,null,null,null,null,null,null,null,null,null,"~"]
["SA36",2025,"Choose",727,null,null,null,null,null,null,null,null,null,null,null,null,null,null,null,null,null,null,"~"]
["SA36",{"$f":"+MTREF","v":2025},{"$f":"LEFT(muni,(FIND(\" \",muni,1)-1))","v":"Choose"},728,null,null,null,null,null,null,null,null,null,null,null,null,null,null,null,null,null,null,"~"]
["SA36",2025,"Choose",729,null,null,null,null,null,null,null,null,null,null,null,null,null,null,null,null,null,null,"~"]
["SA36",2025,"Choose",730,null,null,null,null,null,null,null,null,null,null,null,null,null,null,null,null,null,null,"~"]
["SA36",2025,"Choose",731,null,null,null,null,null,null,null,null,null,null,null,null,null,null,null,null,null,null,"~"]
["SA36",2025,"Choose",732,null,null,null,null,null,null,null,null,null,null,null,null,null,null,null,null,null,null,"~"]
["SA36",2025,"Choose",733,null,null,null,null,null,null,null,null,null,null,null,null,null,null,null,null,null,null,"~"]
["SA36",2025,"Choose",734,null,null,null,null,null,null,null,null,null,null,null,null,null,null,null,null,null,null,"~"]
["SA36",2025,"Choose",735,null,null,null,null,null,null,null,null,null,null,null,null,null,null,null,null,null,null,"~"]
["SA36",2025,"Choose",736,null,null,null,null,null,null,null,null,null,null,null,null,null,null,null,null,null,null,"~"]
["SA36",2025,"Choose",737,null,null,null,null,null,null,null,null,null,null,null,null,null,null,null,null,null,null,"~"]
["SA36",2025,"Choose",738,null,null,null,null,null,null,null,null,null,null,null,null,null,null,null,null,null,null,"~"]
["SA36",2025,"Choose",739,null,null,null,null,null,null,null,null,null,null,null,null,null,null,null,null,null,null,"~"]
["SA36",2025,"Choose",740,null,null,null,null,null,null,null,null,null,null,null,null,null,null,null,null,null,null,"~"]
["SA36",2025,"Choose",741,null,null,null,null,null,null,null,null,null,null,null,null,null,null,null,null,null,null,"~"]
["SA36",2025,"Choose",742,null,null,null,null,null,null,null,null,null,null,null,null,null,null,null,null,null,null,"~"]
["SA36",2025,"Choose",743,null,null,null,null,null,null,null,null,null,null,null,null,null,null,null,null,null,null,"~"]
["SA36",2025,"Choose",744,null,null,null,null,null,null,null,null,null,null,null,null,null,null,null,null,null,null,"~"]
["SA36",2025,"Choose",745,null,null,null,null,null,null,null,null,null,null,null,null,null,null,null,null,null,null,"~"]
["SA36",2025,"Choose",746,null,null,null,null,null,null,null,null,null,null,null,null,null,null,null,null,null,null,"~"]
["SA36",2025,"Choose",747,null,null,null,null,null,null,null,null,null,null,null,null,null,null,null,null,null,null,"~"]
["SA36",2025,"Choose",748,null,null,null,null,null,null,null,null,null,null,null,null,null,null,null,null,null,null,"~"]
["SA36",2025,"Choose",749,null,null,null,null,null,null,null,null,null,null,null,null,null,null,null,null,null,null,"~"]
["SA36",2025,"Choose",750,null,null,null,null,null,null,null,null,null,null,null,null,null,null,null,null,null,null,"~"]
["SA36",2025,"Choose",751,null,null,null,null,null,null,null,null,null,null,null,null,null,null,null,null,null,null,"~"]
["SA36",2025,"Choose",752,null,null,null,null,null,null,null,null,null,null,null,null,null,null,null,null,null,null,"~"]
["SA36",2025,"Choose",753,null,null,null,null,null,null,null,null,null,null,null,null,null,null,null,null,null,null,"~"]
["SA36",2025,"Choose",754,null,null,null,null,null,null,null,null,null,null,null,null,null,null,null,null,null,null,"~"]
["SA36",2025,"Choose",755,null,null,null,null,null,null,null,null,null,null,null,null,null,null,null,null,null,null,"~"]
["SA36",2025,"Choose",756,null,null,null,null,null,null,null,null,null,null,null,null,null,null,null,null,null,null,"~"]
["SA36",2025,"Choose",757,null,null,null,null,null,null,null,null,null,null,null,null,null,null,null,null,null,null,"~"]
["SA36",2025,"Choose",758,null,null,null,null,null,null,null,null,null,null,null,null,null,null,null,null,null,null,"~"]
["SA36",2025,"Choose",759,null,null,null,null,null,null,null,null,null,null,null,null,null,null,null,null,null,null,"~"]
["SA36",2025,"Choose",760,null,null,null,null,null,null,null,null,null,null,null,null,null,null,null,null,null,null,"~"]
["SA36",2025,"Choose",761,null,null,null,null,null,null,null,null,null,null,null,null,null,null,null,null,null,null,"~"]
["SA36",2025,"Choose",762,null,null,null,null,null,null,null,null,null,null,null,null,null,null,null,null,null,null,"~"]
["SA36",2025,"Choose",763,null,null,null,null,null,null,null,null,null,null,null,null,null,null,null,null,null,null,"~"]
["SA36",2025,"Choose",764,null,null,null,null,null,null,null,null,null,null,null,null,null,null,null,null,null,null,"~"]
["SA36",2025,"Choose",765,null,null,null,null,null,null,null,null,null,null,null,null,null,null,null,null,null,null,"~"]
["SA36",2025,"Choose",766,null,null,null,null,null,null,null,null,null,null,null,null,null,null,null,null,null,null,"~"]
["SA36",2025,"Choose",767,null,null,null,null,null,null,null,null,null,null,null,null,null,null,null,null,null,null,"~"]
["SA36",2025,"Choose",768,null,null,null,null,null,null,null,null,null,null,null,null,null,null,null,null,null,null,"~"]
["SA36",2025,"Choose",769,null,null,null,null,null,null,null,null,null,null,null,null,null,null,null,null,null,null,"~"]
["SA36",2025,"Choose",770,null,null,null,null,null,null,null,null,null,null,null,null,null,null,null,null,null,null,"~"]
["SA36",2025,"Choose",771,null,null,null,null,null,null,null,null,null,null,null,null,null,null,null,null,null,null,"~"]
["SA36",2025,"Choose",772,null,null,null,null,null,null,null,null,null,null,null,null,null,null,null,null,null,null,"~"]
["SA36",2025,"Choose",773,null,null,null,null,null,null,null,null,null,null,null,null,null,null,null,null,null,null,"~"]
["SA36",2025,"Choose",774,null,null,null,null,null,null,null,null,null,null,null,null,null,null,null,null,null,null,"~"]
["SA36",2025,"Choose",775,null,null,null,null,null,null,null,null,null,null,null,null,null,null,null,null,null,null,"~"]
["SA36",2025,"Choose",776,null,null,null,null,null,null,null,null,null,null,null,null,null,null,null,null,null,null,"~"]
["SA36",2025,"Choose",777,null,null,null,null,null,null,null,null,null,null,null,null,null,null,null,null,null,null,"~"]
["SA36",2025,"Choose",778,null,null,null,null,null,null,null,null,null,null,null,null,null,null,null,null,null,null,"~"]
["SA36",2025,"Choose",779,null,null,null,null,null,null,null,null,null,null,null,null,null,null,null,null,null,null,"~"]
["SA36",2025,"Choose",780,null,null,null,null,null,null,null,null,null,null,null,null,null,null,null,null,null,null,"~"]
["SA36",2025,"Choose",781,null,null,null,null,null,null,null,null,null,null,null,null,null,null,null,null,null,null,"~"]
["SA36",2025,"Choose",782,null,null,null,null,null,null,null,null,null,null,null,null,null,null,null,null,null,null,"~"]
["SA36",2025,"Choose",783,null,null,null,null,null,null,null,null,null,null,null,null,null,null,null,null,null,null,"~"]
["SA36",2025,"Choose",784,null,null,null,null,null,null,null,null,null,null,null,null,null,null,null,null,null,null,"~"]
["SA36",2025,"Choose",785,null,null,null,null,null,null,null,null,null,null,null,null,null,null,null,null,null,null,"~"]
["SA36",2025,"Choose",786,null,null,null,null,null,null,null,null,null,null,null,null,null,null,null,null,null,null,"~"]
["SA36",2025,"Choose",787,null,null,null,null,null,null,null,null,null,null,null,null,null,null,null,null,null,null,"~"]
["SA36",2025,"Choose",788,null,null,null,null,null,null,null,null,null,null,null,null,null,null,null,null,null,null,"~"]
["SA36",2025,"Choose",789,null,null,null,null,null,null,null,null,null,null,null,null,null,null,null,null,null,null,"~"]
["SA36",2025,"Choose",790,null,null,null,null,null,null,null,null,null,null,null,null,null,null,null,null,null,null,"~"]
["SA36",2025,"Choose",791,null,null,null,null,null,null,null,null,null,null,null,null,null,null,null,null,null,null,"~"]
["SA36",{"$f":"+MTREF","v":2025},{"$f":"LEFT(muni,(FIND(\" \",muni,1)-1))","v":"Choose"},792,null,null,null,null,null,null,null,null,null,null,null,null,null,null,null,null,null,null,"~"]
["SA36",2025,"Choose",793,null,null,null,null,null,null,null,null,null,null,null,null,null,null,null,null,null,null,"~"]
["SA36",2025,"Choose",794,null,null,null,null,null,null,null,null,null,null,null,null,null,null,null,null,null,null,"~"]
["SA36",2025,"Choose",795,null,null,null,null,null,null,null,null,null,null,null,null,null,null,null,null,null,null,"~"]
["SA36",2025,"Choose",796,null,null,null,null,null,null,null,null,null,null,null,null,null,null,null,null,null,null,"~"]
["SA36",2025,"Choose",797,null,null,null,null,null,null,null,null,null,null,null,null,null,null,null,null,null,null,"~"]
["SA36",2025,"Choose",798,null,null,null,null,null,null,null,null,null,null,null,null,null,null,null,null,null,null,"~"]
["SA36",2025,"Choose",799,null,null,null,null,null,null,null,null,null,null,null,null,null,null,null,null,null,null,"~"]
["SA36",2025,"Choose",800,null,null,null,null,null,null,null,null,null,null,null,null,null,null,null,null,null,null,"~"]
["SA36",2025,"Choose",801,null,null,null,null,null,null,null,null,null,null,null,null,null,null,null,null,null,null,"~"]
["SA36",2025,"Choose",802,null,null,null,null,null,null,null,null,null,null,null,null,null,null,null,null,null,null,"~"]
["SA36",2025,"Choose",803,null,null,null,null,null,null,null,null,null,null,null,null,null,null,null,null,null,null,"~"]
["SA36",2025,"Choose",804,null,null,null,null,null,null,null,null,null,null,null,null,null,null,null,null,null,null,"~"]
["SA36",2025,"Choose",805,null,null,null,null,null,null,null,null,null,null,null,null,null,null,null,null,null,null,"~"]
["SA36",2025,"Choose",806,null,null,null,null,null,null,null,null,null,null,null,null,null,null,null,null,null,null,"~"]
["SA36",2025,"Choose",807,null,null,null,null,null,null,null,null,null,null,null,null,null,null,null,null,null,null,"~"]
["SA36",2025,"Choose",808,null,null,null,null,null,null,null,null,null,null,null,null,null,null,null,null,null,null,"~"]
["SA36",2025,"Choose",809,null,null,null,null,null,null,null,null,null,null,null,null,null,null,null,null,null,null,"~"]
["SA36",2025,"Choose",810,null,null,null,null,null,null,null,null,null,null,null,null,null,null,null,null,null,null,"~"]
["SA36",2025,"Choose",811,null,null,null,null,null,null,null,null,null,null,null,null,null,null,null,null,null,null,"~"]
["SA36",2025,"Choose",812,null,null,null,null,null,null,null,null,null,null,null,null,null,null,null,null,null,null,"~"]
["SA36",2025,"Choose",813,null,null,null,null,null,null,null,null,null,null,null,null,null,null,null,null,null,null,"~"]
["SA36",2025,"Choose",814,null,null,null,null,null,null,null,null,null,null,null,null,null,null,null,null,null,null,"~"]
["SA36",2025,"Choose",815,null,null,null,null,null,null,null,null,null,null,null,null,null,null,null,null,null,null,"~"]
["SA36",2025,"Choose",816,null,null,null,null,null,null,null,null,null,null,null,null,null,null,null,null,null,null,"~"]
["SA36",2025,"Choose",817,null,null,null,null,null,null,null,null,null,null,null,null,null,null,null,null,null,null,"~"]
["SA36",2025,"Choose",818,null,null,null,null,null,null,null,null,null,null,null,null,null,null,null,null,null,null,"~"]
["SA36",2025,"Choose",819,null,null,null,null,null,null,null,null,null,null,null,null,null,null,null,null,null,null,"~"]
["SA36",2025,"Choose",820,null,null,null,null,null,null,null,null,null,null,null,null,null,null,null,null,null,null,"~"]
["SA36",2025,"Choose",821,null,null,null,null,null,null,null,null,null,null,null,null,null,null,null,null,null,null,"~"]
["SA36",2025,"Choose",822,null,null,null,null,null,null,null,null,null,null,null,null,null,null,null,null,null,null,"~"]
["SA36",2025,"Choose",823,null,null,null,null,null,null,null,null,null,null,null,null,null,null,null,null,null,null,"~"]
["SA36",2025,"Choose",824,null,null,null,null,null,null,null,null,null,null,null,null,null,null,null,null,null,null,"~"]
["SA36",2025,"Choose",825,null,null,null,null,null,null,null,null,null,null,null,null,null,null,null,null,null,null,"~"]
["SA36",2025,"Choose",826,null,null,null,null,null,null,null,null,null,null,null,null,null,null,null,null,null,null,"~"]
["SA36",2025,"Choose",827,null,null,null,null,null,null,null,null,null,null,null,null,null,null,null,null,null,null,"~"]
["SA36",2025,"Choose",828,null,null,null,null,null,null,null,null,null,null,null,null,null,null,null,null,null,null,"~"]
["SA36",2025,"Choose",829,null,null,null,null,null,null,null,null,null,null,null,null,null,null,null,null,null,null,"~"]
["SA36",2025,"Choose",830,null,null,null,null,null,null,null,null,null,null,null,null,null,null,null,null,null,null,"~"]
["SA36",2025,"Choose",831,null,null,null,null,null,null,null,null,null,null,null,null,null,null,null,null,null,null,"~"]
["SA36",2025,"Choose",832,null,null,null,null,null,null,null,null,null,null,null,null,null,null,null,null,null,null,"~"]
["SA36",2025,"Choose",833,null,null,null,null,null,null,null,null,null,null,null,null,null,null,null,null,null,null,"~"]
["SA36",2025,"Choose",834,null,null,null,null,null,null,null,null,null,null,null,null,null,null,null,null,null,null,"~"]
["SA36",2025,"Choose",835,null,null,null,null,null,null,null,null,null,null,null,null,null,null,null,null,null,null,"~"]
["SA36",2025,"Choose",836,null,null,null,null,null,null,null,null,null,null,null,null,null,null,null,null,null,null,"~"]
["SA36",2025,"Choose",837,null,null,null,null,null,null,null,null,null,null,null,null,null,null,null,null,null,null,"~"]
["SA36",2025,"Choose",838,null,null,null,null,null,null,null,null,null,null,null,null,null,null,null,null,null,null,"~"]
["SA36",2025,"Choose",839,null,null,null,null,null,null,null,null,null,null,null,null,null,null,null,null,null,null,"~"]
["SA36",2025,"Choose",840,null,null,null,null,null,null,null,null,null,null,null,null,null,null,null,null,null,null,"~"]
["SA36",2025,"Choose",841,null,null,null,null,null,null,null,null,null,null,null,null,null,null,null,null,null,null,"~"]
["SA36",2025,"Choose",842,null,null,null,null,null,null,null,null,null,null,null,null,null,null,null,null,null,null,"~"]
["SA36",2025,"Choose",843,null,null,null,null,null,null,null,null,null,null,null,null,null,null,null,null,null,null,"~"]
["SA36",2025,"Choose",844,null,null,null,null,null,null,null,null,null,null,null,null,null,null,null,null,null,null,"~"]
["SA36",2025,"Choose",845,null,null,null,null,null,null,null,null,null,null,null,null,null,null,null,null,null,null,"~"]
["SA36",2025,"Choose",846,null,null,null,null,null,null,null,null,null,null,null,null,null,null,null,null,null,null,"~"]
["SA36",2025,"Choose",847,null,null,null,null,null,null,null,null,null,null,null,null,null,null,null,null,null,null,"~"]
["SA36",2025,"Choose",848,null,null,null,null,null,null,null,null,null,null,null,null,null,null,null,null,null,null,"~"]
["SA36",2025,"Choose",849,null,null,null,null,null,null,null,null,null,null,null,null,null,null,null,null,null,null,"~"]
["SA36",2025,"Choose",850,null,null,null,null,null,null,null,null,null,null,null,null,null,null,null,null,null,null,"~"]
["SA36",2025,"Choose",851,null,null,null,null,null,null,null,null,null,null,null,null,null,null,null,null,null,null,"~"]
["SA36",2025,"Choose",852,null,null,null,null,null,null,null,null,null,null,null,null,null,null,null,null,null,null,"~"]
["SA36",2025,"Choose",853,null,null,null,null,null,null,null,null,null,null,null,null,null,null,null,null,null,null,"~"]
["SA36",2025,"Choose",854,null,null,null,null,null,null,null,null,null,null,null,null,null,null,null,null,null,null,"~"]
["SA36",2025,"Choose",855,null,null,null,null,null,null,null,null,null,null,null,null,null,null,null,null,null,null,"~"]
["SA36",{"$f":"+MTREF","v":2025},{"$f":"LEFT(muni,(FIND(\" \",muni,1)-1))","v":"Choose"},856,null,null,null,null,null,null,null,null,null,null,null,null,null,null,null,null,null,null,"~"]
["SA36",2025,"Choose",857,null,null,null,null,null,null,null,null,null,null,null,null,null,null,null,null,null,null,"~"]
["SA36",2025,"Choose",858,null,null,null,null,null,null,null,null,null,null,null,null,null,null,null,null,null,null,"~"]
["SA36",2025,"Choose",859,null,null,null,null,null,null,null,null,null,null,null,null,null,null,null,null,null,null,"~"]
["SA36",2025,"Choose",860,null,null,null,null,null,null,null,null,null,null,null,null,null,null,null,null,null,null,"~"]
["SA36",2025,"Choose",861,null,null,null,null,null,null,null,null,null,null,null,null,null,null,null,null,null,null,"~"]
["SA36",2025,"Choose",862,null,null,null,null,null,null,null,null,null,null,null,null,null,null,null,null,null,null,"~"]
["SA36",2025,"Choose",863,null,null,null,null,null,null,null,null,null,null,null,null,null,null,null,null,null,null,"~"]
["SA36",2025,"Choose",864,null,null,null,null,null,null,null,null,null,null,null,null,null,null,null,null,null,null,"~"]
["SA36",2025,"Choose",865,null,null,null,null,null,null,null,null,null,null,null,null,null,null,null,null,null,null,"~"]
["SA36",2025,"Choose",866,null,null,null,null,null,null,null,null,null,null,null,null,null,null,null,null,null,null,"~"]
["SA36",2025,"Choose",867,null,null,null,null,null,null,null,null,null,null,null,null,null,null,null,null,null,null,"~"]
["SA36",2025,"Choose",868,null,null,null,null,null,null,null,null,null,null,null,null,null,null,null,null,null,null,"~"]
["SA36",2025,"Choose",869,null,null,null,null,null,null,null,null,null,null,null,null,null,null,null,null,null,null,"~"]
["SA36",2025,"Choose",870,null,null,null,null,null,null,null,null,null,null,null,null,null,null,null,null,null,null,"~"]
["SA36",2025,"Choose",871,null,null,null,null,null,null,null,null,null,null,null,null,null,null,null,null,null,null,"~"]
["SA36",2025,"Choose",872,null,null,null,null,null,null,null,null,null,null,null,null,null,null,null,null,null,null,"~"]
["SA36",2025,"Choose",873,null,null,null,null,null,null,null,null,null,null,null,null,null,null,null,null,null,null,"~"]
["SA36",2025,"Choose",874,null,null,null,null,null,null,null,null,null,null,null,null,null,null,null,null,null,null,"~"]
["SA36",2025,"Choose",875,null,null,null,null,null,null,null,null,null,null,null,null,null,null,null,null,null,null,"~"]
["SA36",2025,"Choose",876,null,null,null,null,null,null,null,null,null,null,null,null,null,null,null,null,null,null,"~"]
["SA36",2025,"Choose",877,null,null,null,null,null,null,null,null,null,null,null,null,null,null,null,null,null,null,"~"]
["SA36",2025,"Choose",878,null,null,null,null,null,null,null,null,null,null,null,null,null,null,null,null,null,null,"~"]
["SA36",2025,"Choose",879,null,null,null,null,null,null,null,null,null,null,null,null,null,null,null,null,null,null,"~"]
["SA36",2025,"Choose",880,null,null,null,null,null,null,null,null,null,null,null,null,null,null,null,null,null,null,"~"]
["SA36",2025,"Choose",881,null,null,null,null,null,null,null,null,null,null,null,null,null,null,null,null,null,null,"~"]
["SA36",2025,"Choose",882,null,null,null,null,null,null,null,null,null,null,null,null,null,null,null,null,null,null,"~"]
["SA36",2025,"Choose",883,null,null,null,null,null,null,null,null,null,null,null,null,null,null,null,null,null,null,"~"]
["SA36",2025,"Choose",884,null,null,null,null,null,null,null,null,null,null,null,null,null,null,null,null,null,null,"~"]
["SA36",2025,"Choose",885,null,null,null,null,null,null,null,null,null,null,null,null,null,null,null,null,null,null,"~"]
["SA36",2025,"Choose",886,null,null,null,null,null,null,null,null,null,null,null,null,null,null,null,null,null,null,"~"]
["SA36",2025,"Choose",887,null,null,null,null,null,null,null,null,null,null,null,null,null,null,null,null,null,null,"~"]
["SA36",2025,"Choose",888,null,null,null,null,null,null,null,null,null,null,null,null,null,null,null,null,null,null,"~"]
["SA36",2025,"Choose",889,null,null,null,null,null,null,null,null,null,null,null,null,null,null,null,null,null,null,"~"]
["SA36",2025,"Choose",890,null,null,null,null,null,null,null,null,null,null,null,null,null,null,null,null,null,null,"~"]
["SA36",2025,"Choose",891,null,null,null,null,null,null,null,null,null,null,null,null,null,null,null,null,null,null,"~"]
["SA36",2025,"Choose",892,null,null,null,null,null,null,null,null,null,null,null,null,null,null,null,null,null,null,"~"]
["SA36",2025,"Choose",893,null,null,null,null,null,null,null,null,null,null,null,null,null,null,null,null,null,null,"~"]
["SA36",2025,"Choose",894,null,null,null,null,null,null,null,null,null,null,null,null,null,null,null,null,null,null,"~"]
["SA36",2025,"Choose",895,null,null,null,null,null,null,null,null,null,null,null,null,null,null,null,null,null,null,"~"]
["SA36",2025,"Choose",896,null,null,null,null,null,null,null,null,null,null,null,null,null,null,null,null,null,null,"~"]
["SA36",2025,"Choose",897,null,null,null,null,null,null,null,null,null,null,null,null,null,null,null,null,null,null,"~"]
["SA36",2025,"Choose",898,null,null,null,null,null,null,null,null,null,null,null,null,null,null,null,null,null,null,"~"]
["SA36",2025,"Choose",899,null,null,null,null,null,null,null,null,null,null,null,null,null,null,null,null,null,null,"~"]
["SA36",2025,"Choose",900,null,null,null,null,null,null,null,null,null,null,null,null,null,null,null,null,null,null,"~"]
["SA36",2025,"Choose",901,null,null,null,null,null,null,null,null,null,null,null,null,null,null,null,null,null,null,"~"]
["SA36",2025,"Choose",902,null,null,null,null,null,null,null,null,null,null,null,null,null,null,null,null,null,null,"~"]
["SA36",2025,"Choose",903,null,null,null,null,null,null,null,null,null,null,null,null,null,null,null,null,null,null,"~"]
["SA36",2025,"Choose",904,null,null,null,null,null,null,null,null,null,null,null,null,null,null,null,null,null,null,"~"]
["SA36",2025,"Choose",905,null,null,null,null,null,null,null,null,null,null,null,null,null,null,null,null,null,null,"~"]
["SA36",2025,"Choose",906,null,null,null,null,null,null,null,null,null,null,null,null,null,null,null,null,null,null,"~"]
["SA36",2025,"Choose",907,null,null,null,null,null,null,null,null,null,null,null,null,null,null,null,null,null,null,"~"]
["SA36",2025,"Choose",908,null,null,null,null,null,null,null,null,null,null,null,null,null,null,null,null,null,null,"~"]
["SA36",2025,"Choose",909,null,null,null,null,null,null,null,null,null,null,null,null,null,null,null,null,null,null,"~"]
["SA36",2025,"Choose",910,null,null,null,null,null,null,null,null,null,null,null,null,null,null,null,null,null,null,"~"]
["SA36",2025,"Choose",911,null,null,null,null,null,null,null,null,null,null,null,null,null,null,null,null,null,null,"~"]
["SA36",2025,"Choose",912,null,null,null,null,null,null,null,null,null,null,null,null,null,null,null,null,null,null,"~"]
["SA36",2025,"Choose",913,null,null,null,null,null,null,null,null,null,null,null,null,null,null,null,null,null,null,"~"]
["SA36",2025,"Choose",914,null,null,null,null,null,null,null,null,null,null,null,null,null,null,null,null,null,null,"~"]
["SA36",2025,"Choose",915,null,null,null,null,null,null,null,null,null,null,null,null,null,null,null,null,null,null,"~"]
["SA36",2025,"Choose",916,null,null,null,null,null,null,null,null,null,null,null,null,null,null,null,null,null,null,"~"]
["SA36",2025,"Choose",917,null,null,null,null,null,null,null,null,null,null,null,null,null,null,null,null,null,null,"~"]
["SA36",2025,"Choose",918,null,null,null,null,null,null,null,null,null,null,null,null,null,null,null,null,null,null,"~"]
["SA36",2025,"Choose",919,null,null,null,null,null,null,null,null,null,null,null,null,null,null,null,null,null,null,"~"]
["SA36",{"$f":"+MTREF","v":2025},{"$f":"LEFT(muni,(FIND(\" \",muni,1)-1))","v":"Choose"},920,null,null,null,null,null,null,null,null,null,null,null,null,null,null,null,null,null,null,"~"]
["SA36",2025,"Choose",921,null,null,null,null,null,null,null,null,null,null,null,null,null,null,null,null,null,null,"~"]
["SA36",2025,"Choose",922,null,null,null,null,null,null,null,null,null,null,null,null,null,null,null,null,null,null,"~"]
["SA36",2025,"Choose",923,null,null,null,null,null,null,null,null,null,null,null,null,null,null,null,null,null,null,"~"]
["SA36",2025,"Choose",924,null,null,null,null,null,null,null,null,null,null,null,null,null,null,null,null,null,null,"~"]
["SA36",2025,"Choose",925,null,null,null,null,null,null,null,null,null,null,null,null,null,null,null,null,null,null,"~"]
["SA36",2025,"Choose",926,null,null,null,null,null,null,null,null,null,null,null,null,null,null,null,null,null,null,"~"]
["SA36",2025,"Choose",927,null,null,null,null,null,null,null,null,null,null,null,null,null,null,null,null,null,null,"~"]
["SA36",2025,"Choose",928,null,null,null,null,null,null,null,null,null,null,null,null,null,null,null,null,null,null,"~"]
["SA36",2025,"Choose",929,null,null,null,null,null,null,null,null,null,null,null,null,null,null,null,null,null,null,"~"]
["SA36",2025,"Choose",930,null,null,null,null,null,null,null,null,null,null,null,null,null,null,null,null,null,null,"~"]
["SA36",2025,"Choose",931,null,null,null,null,null,null,null,null,null,null,null,null,null,null,null,null,null,null,"~"]
["SA36",2025,"Choose",932,null,null,null,null,null,null,null,null,null,null,null,null,null,null,null,null,null,null,"~"]
["SA36",2025,"Choose",933,null,null,null,null,null,null,null,null,null,null,null,null,null,null,null,null,null,null,"~"]
["SA36",2025,"Choose",934,null,null,null,null,null,null,null,null,null,null,null,null,null,null,null,null,null,null,"~"]
["SA36",2025,"Choose",935,null,null,null,null,null,null,null,null,null,null,null,null,null,null,null,null,null,null,"~"]
["SA36",2025,"Choose",936,null,null,null,null,null,null,null,null,null,null,null,null,null,null,null,null,null,null,"~"]
["SA36",2025,"Choose",937,null,null,null,null,null,null,null,null,null,null,null,null,null,null,null,null,null,null,"~"]
["SA36",2025,"Choose",938,null,null,null,null,null,null,null,null,null,null,null,null,null,null,null,null,null,null,"~"]
["SA36",2025,"Choose",939,null,null,null,null,null,null,null,null,null,null,null,null,null,null,null,null,null,null,"~"]
["SA36",2025,"Choose",940,null,null,null,null,null,null,null,null,null,null,null,null,null,null,null,null,null,null,"~"]
["SA36",2025,"Choose",941,null,null,null,null,null,null,null,null,null,null,null,null,null,null,null,null,null,null,"~"]
["SA36",2025,"Choose",942,null,null,null,null,null,null,null,null,null,null,null,null,null,null,null,null,null,null,"~"]
["SA36",2025,"Choose",943,null,null,null,null,null,null,null,null,null,null,null,null,null,null,null,null,null,null,"~"]
["SA36",2025,"Choose",944,null,null,null,null,null,null,null,null,null,null,null,null,null,null,null,null,null,null,"~"]
["SA36",2025,"Choose",945,null,null,null,null,null,null,null,null,null,null,null,null,null,null,null,null,null,null,"~"]
["SA36",2025,"Choose",946,null,null,null,null,null,null,null,null,null,null,null,null,null,null,null,null,null,null,"~"]
["SA36",2025,"Choose",947,null,null,null,null,null,null,null,null,null,null,null,null,null,null,null,null,null,null,"~"]
["SA36",2025,"Choose",948,null,null,null,null,null,null,null,null,null,null,null,null,null,null,null,null,null,null,"~"]
["SA36",2025,"Choose",949,null,null,null,null,null,null,null,null,null,null,null,null,null,null,null,null,null,null,"~"]
["SA36",2025,"Choose",950,null,null,null,null,null,null,null,null,null,null,null,null,null,null,null,null,null,null,"~"]
["SA36",2025,"Choose",951,null,null,null,null,null,null,null,null,null,null,null,null,null,null,null,null,null,null,"~"]
["SA36",2025,"Choose",952,null,null,null,null,null,null,null,null,null,null,null,null,null,null,null,null,null,null,"~"]
["SA36",2025,"Choose",953,null,null,null,null,null,null,null,null,null,null,null,null,null,null,null,null,null,null,"~"]
["SA36",2025,"Choose",954,null,null,null,null,null,null,null,null,null,null,null,null,null,null,null,null,null,null,"~"]
["SA36",2025,"Choose",955,null,null,null,null,null,null,null,null,null,null,null,null,null,null,null,null,null,null,"~"]
["SA36",2025,"Choose",956,null,null,null,null,null,null,null,null,null,null,null,null,null,null,null,null,null,null,"~"]
["SA36",2025,"Choose",957,null,null,null,null,null,null,null,null,null,null,null,null,null,null,null,null,null,null,"~"]
["SA36",2025,"Choose",958,null,null,null,null,null,null,null,null,null,null,null,null,null,null,null,null,null,null,"~"]
["SA36",2025,"Choose",959,null,null,null,null,null,null,null,null,null,null,null,null,null,null,null,null,null,null,"~"]
["SA36",2025,"Choose",960,null,null,null,null,null,null,null,null,null,null,null,null,null,null,null,null,null,null,"~"]
["SA36",2025,"Choose",961,null,null,null,null,null,null,null,null,null,null,null,null,null,null,null,null,null,null,"~"]
["SA36",2025,"Choose",962,null,null,null,null,null,null,null,null,null,null,null,null,null,null,null,null,null,null,"~"]
["SA36",2025,"Choose",963,null,null,null,null,null,null,null,null,null,null,null,null,null,null,null,null,null,null,"~"]
["SA36",2025,"Choose",964,null,null,null,null,null,null,null,null,null,null,null,null,null,null,null,null,null,null,"~"]
["SA36",2025,"Choose",965,null,null,null,null,null,null,null,null,null,null,null,null,null,null,null,null,null,null,"~"]
["SA36",2025,"Choose",966,null,null,null,null,null,null,null,null,null,null,null,null,null,null,null,null,null,null,"~"]
["SA36",2025,"Choose",967,null,null,null,null,null,null,null,null,null,null,null,null,null,null,null,null,null,null,"~"]
["SA36",2025,"Choose",968,null,null,null,null,null,null,null,null,null,null,null,null,null,null,null,null,null,null,"~"]
["SA36",2025,"Choose",969,null,null,null,null,null,null,null,null,null,null,null,null,null,null,null,null,null,null,"~"]
["SA36",2025,"Choose",970,null,null,null,null,null,null,null,null,null,null,null,null,null,null,null,null,null,null,"~"]
["SA36",2025,"Choose",971,null,null,null,null,null,null,null,null,null,null,null,null,null,null,null,null,null,null,"~"]
["SA36",2025,"Choose",972,null,null,null,null,null,null,null,null,null,null,null,null,null,null,null,null,null,null,"~"]
["SA36",2025,"Choose",973,null,null,null,null,null,null,null,null,null,null,null,null,null,null,null,null,null,null,"~"]
["SA36",2025,"Choose",974,null,null,null,null,null,null,null,null,null,null,null,null,null,null,null,null,null,null,"~"]
["SA36",2025,"Choose",975,null,null,null,null,null,null,null,null,null,null,null,null,null,null,null,null,null,null,"~"]
["SA36",2025,"Choose",976,null,null,null,null,null,null,null,null,null,null,null,null,null,null,null,null,null,null,"~"]
["SA36",2025,"Choose",977,null,null,null,null,null,null,null,null,null,null,null,null,null,null,null,null,null,null,"~"]
["SA36",2025,"Choose",978,null,null,null,null,null,null,null,null,null,null,null,null,null,null,null,null,null,null,"~"]
["SA36",2025,"Choose",979,null,null,null,null,null,null,null,null,null,null,null,null,null,null,null,null,null,null,"~"]
["SA36",2025,"Choose",980,null,null,null,null,null,null,null,null,null,null,null,null,null,null,null,null,null,null,"~"]
["SA36",2025,"Choose",981,null,null,null,null,null,null,null,null,null,null,null,null,null,null,null,null,null,null,"~"]
["SA36",2025,"Choose",982,null,null,null,null,null,null,null,null,null,null,null,null,null,null,null,null,null,null,"~"]
["SA36",2025,"Choose",983,null,null,null,null,null,null,null,null,null,null,null,null,null,null,null,null,null,null,"~"]
["SA36",{"$f":"+MTREF","v":2025},{"$f":"LEFT(muni,(FIND(\" \",muni,1)-1))","v":"Choose"},984,null,null,null,null,null,null,null,null,null,null,null,null,null,null,null,null,null,null,"~"]
["SA36",2025,"Choose",985,null,null,null,null,null,null,null,null,null,null,null,null,null,null,null,null,null,null,"~"]
["SA36",2025,"Choose",986,null,null,null,null,null,null,null,null,null,null,null,null,null,null,null,null,null,null,"~"]
["SA36",2025,"Choose",987,null,null,null,null,null,null,null,null,null,null,null,null,null,null,null,null,null,null,"~"]
["SA36",2025,"Choose",988,null,null,null,null,null,null,null,null,null,null,null,null,null,null,null,null,null,null,"~"]
["SA36",2025,"Choose",989,null,null,null,null,null,null,null,null,null,null,null,null,null,null,null,null,null,null,"~"]
["SA36",2025,"Choose",990,null,null,null,null,null,null,null,null,null,null,null,null,null,null,null,null,null,null,"~"]
["SA36",2025,"Choose",991,null,null,null,null,null,null,null,null,null,null,null,null,null,null,null,null,null,null,"~"]
["SA36",2025,"Choose",992,null,null,null,null,null,null,null,null,null,null,null,null,null,null,null,null,null,null,"~"]
["SA36",2025,"Choose",993,null,null,null,null,null,null,null,null,null,null,null,null,null,null,null,null,null,null,"~"]
["SA36",2025,"Choose",994,null,null,null,null,null,null,null,null,null,null,null,null,null,null,null,null,null,null,"~"]
["SA36",2025,"Choose",995,null,null,null,null,null,null,null,null,null,null,null,null,null,null,null,null,null,null,"~"]
["SA36",2025,"Choose",996,null,null,null,null,null,null,null,null,null,null,null,null,null,null,null,null,null,null,"~"]
["SA36",2025,"Choose",997,null,null,null,null,null,null,null,null,null,null,null,null,null,null,null,null,null,null,"~"]
["SA36",2025,"Choose",998,null,null,null,null,null,null,null,null,null,null,null,null,null,null,null,null,null,null,"~"]
["SA36",2025,"Choose",999,null,null,null,null,null,null,null,null,null,null,null,null,null,null,null,null,null,null,"~"]
["SA36",2025,"Choose",1000,null,null,null,null,null,null,null,null,null,null,null,null,null,null,null,null,null,null,"~"]
["SA37",2025,"Choose",1,null,null,null,null,null,null,null,null,null,null,null,null,null,null,null,null,null,null,"~"]
["SA37",2025,"Choose",2,null,null,null,null,null,null,null,null,null,null,null,null,null,null,null,null,null,null,"~"]
["SA37",2025,"Choose",3,null,null,null,null,null,null,null,null,null,null,null,null,null,null,null,null,null,null,"~"]
["SA37",2025,"Choose",4,null,null,null,null,null,null,null,null,null,null,null,null,null,null,null,null,null,null,"~"]
["SA37",2025,"Choose",5,null,null,null,null,null,null,null,null,null,null,null,null,null,null,null,null,null,null,"~"]
["SA37",2025,"Choose",6,null,null,null,null,null,null,null,null,null,null,null,null,null,null,null,null,null,null,"~"]
["SA37",2025,"Choose",7,null,null,null,null,null,null,null,null,null,null,null,null,null,null,null,null,null,null,"~"]
["SA37",2025,"Choose",8,null,null,null,null,null,null,null,null,null,null,null,null,null,null,null,null,null,null,"~"]
["SA37",2025,"Choose",9,null,null,null,null,null,null,null,null,null,null,null,null,null,null,null,null,null,null,"~"]
["SA37",2025,"Choose",10,null,null,null,null,null,null,null,null,null,null,null,null,null,null,null,null,null,null,"~"]
["SA37",2025,"Choose",11,null,null,null,null,null,null,null,null,null,null,null,null,null,null,null,null,null,null,"~"]
["SA37",2025,"Choose",12,null,null,null,null,null,null,null,null,null,null,null,null,null,null,null,null,null,null,"~"]
["SA37",2025,"Choose",13,null,null,null,null,null,null,null,null,null,null,null,null,null,null,null,null,null,null,"~"]
["SA37",2025,"Choose",14,null,null,null,null,null,null,null,null,null,null,null,null,null,null,null,null,null,null,"~"]
["SA37",2025,"Choose",15,null,null,null,null,null,null,null,null,null,null,null,null,null,null,null,null,null,null,"~"]
["SA37",2025,"Choose",16,null,null,null,null,null,null,null,null,null,null,null,null,null,null,null,null,null,null,"~"]
["SA37",2025,"Choose",17,null,null,null,null,null,null,null,null,null,null,null,null,null,null,null,null,null,null,"~"]
["SA37",2025,"Choose",18,null,null,null,null,null,null,null,null,null,null,null,null,null,null,null,null,null,null,"~"]
["SA37",2025,"Choose",19,null,null,null,null,null,null,null,null,null,null,null,null,null,null,null,null,null,null,"~"]
["SA37",2025,"Choose",20,null,null,null,null,null,null,null,null,null,null,null,null,null,null,null,null,null,null,"~"]
["SA37",2025,"Choose",21,null,null,null,null,null,null,null,null,null,null,null,null,null,null,null,null,null,null,"~"]
["SA37",2025,"Choose",22,null,null,null,null,null,null,null,null,null,null,null,null,null,null,null,null,null,null,"~"]
["SA37",2025,"Choose",23,null,null,null,null,null,null,null,null,null,null,null,null,null,null,null,null,null,null,"~"]
["SA37",2025,"Choose",24,null,null,null,null,null,null,null,null,null,null,null,null,null,null,null,null,null,null,"~"]
["SA37",2025,"Choose",25,null,null,null,null,null,null,null,null,null,null,null,null,null,null,null,null,null,null,"~"]
["SA37",2025,"Choose",26,null,null,null,null,null,null,null,null,null,null,null,null,null,null,null,null,null,null,"~"]
["SA37",2025,"Choose",27,null,null,null,null,null,null,null,null,null,null,null,null,null,null,null,null,null,null,"~"]
["SA37",2025,"Choose",28,null,null,null,null,null,null,null,null,null,null,null,null,null,null,null,null,null,null,"~"]
["SA37",2025,"Choose",29,null,null,null,null,null,null,null,null,null,null,null,null,null,null,null,null,null,null,"~"]
["SA37",2025,"Choose",30,null,null,null,null,null,null,null,null,null,null,null,null,null,null,null,null,null,null,"~"]
["SA37",2025,"Choose",31,null,null,null,null,null,null,null,null,null,null,null,null,null,null,null,null,null,null,"~"]
["SA37",2025,"Choose",32,null,null,null,null,null,null,null,null,null,null,null,null,null,null,null,null,null,null,"~"]
["SA37",2025,"Choose",33,null,null,null,null,null,null,null,null,null,null,null,null,null,null,null,null,null,null,"~"]
["SA37",2025,"Choose",34,null,null,null,null,null,null,null,null,null,null,null,null,null,null,null,null,null,null,"~"]
["SA37",2025,"Choose",35,null,null,null,null,null,null,null,null,null,null,null,null,null,null,null,null,null,null,"~"]
["SA37",2025,"Choose",36,null,null,null,null,null,null,null,null,null,null,null,null,null,null,null,null,null,null,"~"]
["SA37",2025,"Choose",37,null,null,null,null,null,null,null,null,null,null,null,null,null,null,null,null,null,null,"~"]
["SA37",2025,"Choose",38,null,null,null,null,null,null,null,null,null,null,null,null,null,null,null,null,null,null,"~"]
["SA37",2025,"Choose",39,null,null,null,null,null,null,null,null,null,null,null,null,null,null,null,null,null,null,"~"]
["SA37",2025,"Choose",40,null,null,null,null,null,null,null,null,null,null,null,null,null,null,null,null,null,null,"~"]
["SA37",2025,"Choose",41,null,null,null,null,null,null,null,null,null,null,null,null,null,null,null,null,null,null,"~"]
["SA37",2025,"Choose",42,null,null,null,null,null,null,null,null,null,null,null,null,null,null,null,null,null,null,"~"]
["SA37",2025,"Choose",43,null,null,null,null,null,null,null,null,null,null,null,null,null,null,null,null,null,null,"~"]
["SA37",2025,"Choose",44,null,null,null,null,null,null,null,null,null,null,null,null,null,null,null,null,null,null,"~"]
["SA37",2025,"Choose",45,null,null,null,null,null,null,null,null,null,null,null,null,null,null,null,null,null,null,"~"]
["SA37",2025,"Choose",46,null,null,null,null,null,null,null,null,null,null,null,null,null,null,null,null,null,null,"~"]
["SA37",2025,"Choose",47,null,null,null,null,null,null,null,null,null,null,null,null,null,null,null,null,null,null,"~"]
["SA37",{"$f":"+MTREF","v":2025},{"$f":"LEFT(muni,(FIND(\" \",muni,1)-1))","v":"Choose"},48,null,null,null,null,null,null,null,null,null,null,null,null,null,null,null,null,null,null,"~"]
["SA37",2025,"Choose",49,null,null,null,null,null,null,null,null,null,null,null,null,null,null,null,null,null,null,"~"]
["SA37",2025,"Choose",50,null,null,null,null,null,null,null,null,null,null,null,null,null,null,null,null,null,null,"~"]
["SA37",2025,"Choose",51,null,null,null,null,null,null,null,null,null,null,null,null,null,null,null,null,null,null,"~"]
["SA37",2025,"Choose",52,null,null,null,null,null,null,null,null,null,null,null,null,null,null,null,null,null,null,"~"]
["SA37",2025,"Choose",53,null,null,null,null,null,null,null,null,null,null,null,null,null,null,null,null,null,null,"~"]
["SA37",2025,"Choose",54,null,null,null,null,null,null,null,null,null,null,null,null,null,null,null,null,null,null,"~"]
["SA37",2025,"Choose",55,null,null,null,null,null,null,null,null,null,null,null,null,null,null,null,null,null,null,"~"]
["SA37",2025,"Choose",56,null,null,null,null,null,null,null,null,null,null,null,null,null,null,null,null,null,null,"~"]
["SA37",2025,"Choose",57,null,null,null,null,null,null,null,null,null,null,null,null,null,null,null,null,null,null,"~"]
["SA37",2025,"Choose",58,null,null,null,null,null,null,null,null,null,null,null,null,null,null,null,null,null,null,"~"]
["SA37",2025,"Choose",59,null,null,null,null,null,null,null,null,null,null,null,null,null,null,null,null,null,null,"~"]
["SA37",2025,"Choose",60,null,null,null,null,null,null,null,null,null,null,null,null,null,null,null,null,null,null,"~"]
["SA37",2025,"Choose",61,null,null,null,null,null,null,null,null,null,null,null,null,null,null,null,null,null,null,"~"]
["SA37",2025,"Choose",62,null,null,null,null,null,null,null,null,null,null,null,null,null,null,null,null,null,null,"~"]
["SA37",2025,"Choose",63,null,null,null,null,null,null,null,null,null,null,null,null,null,null,null,null,null,null,"~"]
["SA37",2025,"Choose",64,null,null,null,null,null,null,null,null,null,null,null,null,null,null,null,null,null,null,"~"]
["SA37",2025,"Choose",65,null,null,null,null,null,null,null,null,null,null,null,null,null,null,null,null,null,null,"~"]
["SA37",2025,"Choose",66,null,null,null,null,null,null,null,null,null,null,null,null,null,null,null,null,null,null,"~"]
["SA37",2025,"Choose",67,null,null,null,null,null,null,null,null,null,null,null,null,null,null,null,null,null,null,"~"]
["SA37",2025,"Choose",68,null,null,null,null,null,null,null,null,null,null,null,null,null,null,null,null,null,null,"~"]
["SA37",2025,"Choose",69,null,null,null,null,null,null,null,null,null,null,null,null,null,null,null,null,null,null,"~"]
["SA37",2025,"Choose",70,null,null,null,null,null,null,null,null,null,null,null,null,null,null,null,null,null,null,"~"]
["SA37",2025,"Choose",71,null,null,null,null,null,null,null,null,null,null,null,null,null,null,null,null,null,null,"~"]
["SA37",2025,"Choose",72,null,null,null,null,null,null,null,null,null,null,null,null,null,null,null,null,null,null,"~"]
["SA37",2025,"Choose",73,null,null,null,null,null,null,null,null,null,null,null,null,null,null,null,null,null,null,"~"]
["SA37",2025,"Choose",74,null,null,null,null,null,null,null,null,null,null,null,null,null,null,null,null,null,null,"~"]
["SA37",2025,"Choose",75,null,null,null,null,null,null,null,null,null,null,null,null,null,null,null,null,null,null,"~"]
["SA37",2025,"Choose",76,null,null,null,null,null,null,null,null,null,null,null,null,null,null,null,null,null,null,"~"]
["SA37",2025,"Choose",77,null,null,null,null,null,null,null,null,null,null,null,null,null,null,null,null,null,null,"~"]
["SA37",2025,"Choose",78,null,null,null,null,null,null,null,null,null,null,null,null,null,null,null,null,null,null,"~"]
["SA37",2025,"Choose",79,null,null,null,null,null,null,null,null,null,null,null,null,null,null,null,null,null,null,"~"]
["SA37",2025,"Choose",80,null,null,null,null,null,null,null,null,null,null,null,null,null,null,null,null,null,null,"~"]
["SA37",2025,"Choose",81,null,null,null,null,null,null,null,null,null,null,null,null,null,null,null,null,null,null,"~"]
["SA37",2025,"Choose",82,null,null,null,null,null,null,null,null,null,null,null,null,null,null,null,null,null,null,"~"]
["SA37",2025,"Choose",83,null,null,null,null,null,null,null,null,null,null,null,null,null,null,null,null,null,null,"~"]
["SA37",2025,"Choose",84,null,null,null,null,null,null,null,null,null,null,null,null,null,null,null,null,null,null,"~"]
["SA37",2025,"Choose",85,null,null,null,null,null,null,null,null,null,null,null,null,null,null,null,null,null,null,"~"]
["SA37",2025,"Choose",86,null,null,null,null,null,null,null,null,null,null,null,null,null,null,null,null,null,null,"~"]
["SA37",2025,"Choose",87,null,null,null,null,null,null,null,null,null,null,null,null,null,null,null,null,null,null,"~"]
["SA37",2025,"Choose",88,null,null,null,null,null,null,null,null,null,null,null,null,null,null,null,null,null,null,"~"]
["SA37",2025,"Choose",89,null,null,null,null,null,null,null,null,null,null,null,null,null,null,null,null,null,null,"~"]
["SA37",2025,"Choose",90,null,null,null,null,null,null,null,null,null,null,null,null,null,null,null,null,null,null,"~"]
["SA37",2025,"Choose",91,null,null,null,null,null,null,null,null,null,null,null,null,null,null,null,null,null,null,"~"]
["SA37",2025,"Choose",92,null,null,null,null,null,null,null,null,null,null,null,null,null,null,null,null,null,null,"~"]
["SA37",2025,"Choose",93,null,null,null,null,null,null,null,null,null,null,null,null,null,null,null,null,null,null,"~"]
["SA37",2025,"Choose",94,null,null,null,null,null,null,null,null,null,null,null,null,null,null,null,null,null,null,"~"]
["SA37",2025,"Choose",95,null,null,null,null,null,null,null,null,null,null,null,null,null,null,null,null,null,null,"~"]
["SA37",2025,"Choose",96,null,null,null,null,null,null,null,null,null,null,null,null,null,null,null,null,null,null,"~"]
["SA37",2025,"Choose",97,null,null,null,null,null,null,null,null,null,null,null,null,null,null,null,null,null,null,"~"]
["SA37",2025,"Choose",98,null,null,null,null,null,null,null,null,null,null,null,null,null,null,null,null,null,null,"~"]
["SA37",2025,"Choose",99,null,null,null,null,null,null,null,null,null,null,null,null,null,null,null,null,null,null,"~"]
["SA37",2025,"Choose",100,null,null,null,null,null,null,null,null,null,null,null,null,null,null,null,null,null,null,"~"]
["SA37",2025,"Choose",101,null,null,null,null,null,null,null,null,null,null,null,null,null,null,null,null,null,null,"~"]
["SA37",2025,"Choose",102,null,null,null,null,null,null,null,null,null,null,null,null,null,null,null,null,null,null,"~"]
["SA37",2025,"Choose",103,null,null,null,null,null,null,null,null,null,null,null,null,null,null,null,null,null,null,"~"]
["SA37",2025,"Choose",104,null,null,null,null,null,null,null,null,null,null,null,null,null,null,null,null,null,null,"~"]
["SA37",2025,"Choose",105,null,null,null,null,null,null,null,null,null,null,null,null,null,null,null,null,null,null,"~"]
["SA37",2025,"Choose",106,null,null,null,null,null,null,null,null,null,null,null,null,null,null,null,null,null,null,"~"]
["SA37",2025,"Choose",107,null,null,null,null,null,null,null,null,null,null,null,null,null,null,null,null,null,null,"~"]
["SA37",2025,"Choose",108,null,null,null,null,null,null,null,null,null,null,null,null,null,null,null,null,null,null,"~"]
["SA37",2025,"Choose",109,null,null,null,null,null,null,null,null,null,null,null,null,null,null,null,null,null,null,"~"]
["SA37",2025,"Choose",110,null,null,null,null,null,null,null,null,null,null,null,null,null,null,null,null,null,null,"~"]
["SA37",2025,"Choose",111,null,null,null,null,null,null,null,null,null,null,null,null,null,null,null,null,null,null,"~"]
["SA37",{"$f":"+MTREF","v":2025},{"$f":"LEFT(muni,(FIND(\" \",muni,1)-1))","v":"Choose"},112,null,null,null,null,null,null,null,null,null,null,null,null,null,null,null,null,null,null,"~"]
["SA37",2025,"Choose",113,null,null,null,null,null,null,null,null,null,null,null,null,null,null,null,null,null,null,"~"]
["SA37",2025,"Choose",114,null,null,null,null,null,null,null,null,null,null,null,null,null,null,null,null,null,null,"~"]
["SA37",2025,"Choose",115,null,null,null,null,null,null,null,null,null,null,null,null,null,null,null,null,null,null,"~"]
["SA37",2025,"Choose",116,null,null,null,null,null,null,null,null,null,null,null,null,null,null,null,null,null,null,"~"]
["SA37",2025,"Choose",117,null,null,null,null,null,null,null,null,null,null,null,null,null,null,null,null,null,null,"~"]
["SA37",2025,"Choose",118,null,null,null,null,null,null,null,null,null,null,null,null,null,null,null,null,null,null,"~"]
["SA37",2025,"Choose",119,null,null,null,null,null,null,null,null,null,null,null,null,null,null,null,null,null,null,"~"]
["SA37",2025,"Choose",120,null,null,null,null,null,null,null,null,null,null,null,null,null,null,null,null,null,null,"~"]
["SA37",2025,"Choose",121,null,null,null,null,null,null,null,null,null,null,null,null,null,null,null,null,null,null,"~"]
["SA37",2025,"Choose",122,null,null,null,null,null,null,null,null,null,null,null,null,null,null,null,null,null,null,"~"]
["SA37",2025,"Choose",123,null,null,null,null,null,null,null,null,null,null,null,null,null,null,null,null,null,null,"~"]
["SA37",2025,"Choose",124,null,null,null,null,null,null,null,null,null,null,null,null,null,null,null,null,null,null,"~"]
["SA37",2025,"Choose",125,null,null,null,null,null,null,null,null,null,null,null,null,null,null,null,null,null,null,"~"]
["SA37",2025,"Choose",126,null,null,null,null,null,null,null,null,null,null,null,null,null,null,null,null,null,null,"~"]
["SA37",2025,"Choose",127,null,null,null,null,null,null,null,null,null,null,null,null,null,null,null,null,null,null,"~"]
["SA37",2025,"Choose",128,null,null,null,null,null,null,null,null,null,null,null,null,null,null,null,null,null,null,"~"]
["SA37",2025,"Choose",129,null,null,null,null,null,null,null,null,null,null,null,null,null,null,null,null,null,null,"~"]
["SA37",2025,"Choose",130,null,null,null,null,null,null,null,null,null,null,null,null,null,null,null,null,null,null,"~"]
["SA37",2025,"Choose",131,null,null,null,null,null,null,null,null,null,null,null,null,null,null,null,null,null,null,"~"]
["SA37",2025,"Choose",132,null,null,null,null,null,null,null,null,null,null,null,null,null,null,null,null,null,null,"~"]
["SA37",2025,"Choose",133,null,null,null,null,null,null,null,null,null,null,null,null,null,null,null,null,null,null,"~"]
["SA37",2025,"Choose",134,null,null,null,null,null,null,null,null,null,null,null,null,null,null,null,null,null,null,"~"]
["SA37",2025,"Choose",135,null,null,null,null,null,null,null,null,null,null,null,null,null,null,null,null,null,null,"~"]
["SA37",2025,"Choose",136,null,null,null,null,null,null,null,null,null,null,null,null,null,null,null,null,null,null,"~"]
["SA37",2025,"Choose",137,null,null,null,null,null,null,null,null,null,null,null,null,null,null,null,null,null,null,"~"]
["SA37",2025,"Choose",138,null,null,null,null,null,null,null,null,null,null,null,null,null,null,null,null,null,null,"~"]
["SA37",2025,"Choose",139,null,null,null,null,null,null,null,null,null,null,null,null,null,null,null,null,null,null,"~"]
["SA37",2025,"Choose",140,null,null,null,null,null,null,null,null,null,null,null,null,null,null,null,null,null,null,"~"]
["SA37",2025,"Choose",141,null,null,null,null,null,null,null,null,null,null,null,null,null,null,null,null,null,null,"~"]
["SA37",2025,"Choose",142,null,null,null,null,null,null,null,null,null,null,null,null,null,null,null,null,null,null,"~"]
["SA37",2025,"Choose",143,null,null,null,null,null,null,null,null,null,null,null,null,null,null,null,null,null,null,"~"]
["SA37",2025,"Choose",144,null,null,null,null,null,null,null,null,null,null,null,null,null,null,null,null,null,null,"~"]
["SA37",2025,"Choose",145,null,null,null,null,null,null,null,null,null,null,null,null,null,null,null,null,null,null,"~"]
["SA37",2025,"Choose",146,null,null,null,null,null,null,null,null,null,null,null,null,null,null,null,null,null,null,"~"]
["SA37",2025,"Choose",147,null,null,null,null,null,null,null,null,null,null,null,null,null,null,null,null,null,null,"~"]
["SA37",2025,"Choose",148,null,null,null,null,null,null,null,null,null,null,null,null,null,null,null,null,null,null,"~"]
["SA37",2025,"Choose",149,null,null,null,null,null,null,null,null,null,null,null,null,null,null,null,null,null,null,"~"]
["SA37",2025,"Choose",150,null,null,null,null,null,null,null,null,null,null,null,null,null,null,null,null,null,null,"~"]
["SA37",2025,"Choose",151,null,null,null,null,null,null,null,null,null,null,null,null,null,null,null,null,null,null,"~"]
["SA37",2025,"Choose",152,null,null,null,null,null,null,null,null,null,null,null,null,null,null,null,null,null,null,"~"]
["SA37",2025,"Choose",153,null,null,null,null,null,null,null,null,null,null,null,null,null,null,null,null,null,null,"~"]
["SA37",2025,"Choose",154,null,null,null,null,null,null,null,null,null,null,null,null,null,null,null,null,null,null,"~"]
["SA37",2025,"Choose",155,null,null,null,null,null,null,null,null,null,null,null,null,null,null,null,null,null,null,"~"]
["SA37",2025,"Choose",156,null,null,null,null,null,null,null,null,null,null,null,null,null,null,null,null,null,null,"~"]
["SA37",2025,"Choose",157,null,null,null,null,null,null,null,null,null,null,null,null,null,null,null,null,null,null,"~"]
["SA37",2025,"Choose",158,null,null,null,null,null,null,null,null,null,null,null,null,null,null,null,null,null,null,"~"]
["SA37",2025,"Choose",159,null,null,null,null,null,null,null,null,null,null,null,null,null,null,null,null,null,null,"~"]
["SA37",2025,"Choose",160,null,null,null,null,null,null,null,null,null,null,null,null,null,null,null,null,null,null,"~"]
["SA37",2025,"Choose",161,null,null,null,null,null,null,null,null,null,null,null,null,null,null,null,null,null,null,"~"]
["SA37",2025,"Choose",162,null,null,null,null,null,null,null,null,null,null,null,null,null,null,null,null,null,null,"~"]
["SA37",2025,"Choose",163,null,null,null,null,null,null,null,null,null,null,null,null,null,null,null,null,null,null,"~"]
["SA37",2025,"Choose",164,null,null,null,null,null,null,null,null,null,null,null,null,null,null,null,null,null,null,"~"]
["SA37",2025,"Choose",165,null,null,null,null,null,null,null,null,null,null,null,null,null,null,null,null,null,null,"~"]
["SA37",2025,"Choose",166,null,null,null,null,null,null,null,null,null,null,null,null,null,null,null,null,null,null,"~"]
["SA37",2025,"Choose",167,null,null,null,null,null,null,null,null,null,null,null,null,null,null,null,null,null,null,"~"]
["SA37",2025,"Choose",168,null,null,null,null,null,null,null,null,null,null,null,null,null,null,null,null,null,null,"~"]
["SA37",2025,"Choose",169,null,null,null,null,null,null,null,null,null,null,null,null,null,null,null,null,null,null,"~"]
["SA37",2025,"Choose",170,null,null,null,null,null,null,null,null,null,null,null,null,null,null,null,null,null,null,"~"]
["SA37",2025,"Choose",171,null,null,null,null,null,null,null,null,null,null,null,null,null,null,null,null,null,null,"~"]
["SA37",2025,"Choose",172,null,null,null,null,null,null,null,null,null,null,null,null,null,null,null,null,null,null,"~"]
["SA37",2025,"Choose",173,null,null,null,null,null,null,null,null,null,null,null,null,null,null,null,null,null,null,"~"]
["SA37",2025,"Choose",174,null,null,null,null,null,null,null,null,null,null,null,null,null,null,null,null,null,null,"~"]
["SA37",2025,"Choose",175,null,null,null,null,null,null,null,null,null,null,null,null,null,null,null,null,null,null,"~"]
["SA37",{"$f":"+MTREF","v":2025},{"$f":"LEFT(muni,(FIND(\" \",muni,1)-1))","v":"Choose"},176,null,null,null,null,null,null,null,null,null,null,null,null,null,null,null,null,null,null,"~"]
["SA37",2025,"Choose",177,null,null,null,null,null,null,null,null,null,null,null,null,null,null,null,null,null,null,"~"]
["SA37",2025,"Choose",178,null,null,null,null,null,null,null,null,null,null,null,null,null,null,null,null,null,null,"~"]
["SA37",2025,"Choose",179,null,null,null,null,null,null,null,null,null,null,null,null,null,null,null,null,null,null,"~"]
["SA37",2025,"Choose",180,null,null,null,null,null,null,null,null,null,null,null,null,null,null,null,null,null,null,"~"]
["SA37",2025,"Choose",181,null,null,null,null,null,null,null,null,null,null,null,null,null,null,null,null,null,null,"~"]
["SA37",2025,"Choose",182,null,null,null,null,null,null,null,null,null,null,null,null,null,null,null,null,null,null,"~"]
["SA37",2025,"Choose",183,null,null,null,null,null,null,null,null,null,null,null,null,null,null,null,null,null,null,"~"]
["SA37",2025,"Choose",184,null,null,null,null,null,null,null,null,null,null,null,null,null,null,null,null,null,null,"~"]
["SA37",2025,"Choose",185,null,null,null,null,null,null,null,null,null,null,null,null,null,null,null,null,null,null,"~"]
["SA37",2025,"Choose",186,null,null,null,null,null,null,null,null,null,null,null,null,null,null,null,null,null,null,"~"]
["SA37",2025,"Choose",187,null,null,null,null,null,null,null,null,null,null,null,null,null,null,null,null,null,null,"~"]
["SA37",2025,"Choose",188,null,null,null,null,null,null,null,null,null,null,null,null,null,null,null,null,null,null,"~"]
["SA37",2025,"Choose",189,null,null,null,null,null,null,null,null,null,null,null,null,null,null,null,null,null,null,"~"]
["SA37",2025,"Choose",190,null,null,null,null,null,null,null,null,null,null,null,null,null,null,null,null,null,null,"~"]
["SA37",2025,"Choose",191,null,null,null,null,null,null,null,null,null,null,null,null,null,null,null,null,null,null,"~"]
["SA37",2025,"Choose",192,null,null,null,null,null,null,null,null,null,null,null,null,null,null,null,null,null,null,"~"]
["SA37",2025,"Choose",193,null,null,null,null,null,null,null,null,null,null,null,null,null,null,null,null,null,null,"~"]
["SA37",2025,"Choose",194,null,null,null,null,null,null,null,null,null,null,null,null,null,null,null,null,null,null,"~"]
["SA37",2025,"Choose",195,null,null,null,null,null,null,null,null,null,null,null,null,null,null,null,null,null,null,"~"]
["SA37",2025,"Choose",196,null,null,null,null,null,null,null,null,null,null,null,null,null,null,null,null,null,null,"~"]
["SA37",2025,"Choose",197,null,null,null,null,null,null,null,null,null,null,null,null,null,null,null,null,null,null,"~"]
["SA37",2025,"Choose",198,null,null,null,null,null,null,null,null,null,null,null,null,null,null,null,null,null,null,"~"]
["SA37",2025,"Choose",199,null,null,null,null,null,null,null,null,null,null,null,null,null,null,null,null,null,null,"~"]
["SA37",2025,"Choose",200,null,null,null,null,null,null,null,null,null,null,null,null,null,null,null,null,null,null,"~"]
["SA37",2025,"Choose",201,null,null,null,null,null,null,null,null,null,null,null,null,null,null,null,null,null,null,"~"]
["SA37",2025,"Choose",202,null,null,null,null,null,null,null,null,null,null,null,null,null,null,null,null,null,null,"~"]
["SA37",2025,"Choose",203,null,null,null,null,null,null,null,null,null,null,null,null,null,null,null,null,null,null,"~"]
["SA37",2025,"Choose",204,null,null,null,null,null,null,null,null,null,null,null,null,null,null,null,null,null,null,"~"]
["SA37",2025,"Choose",205,null,null,null,null,null,null,null,null,null,null,null,null,null,null,null,null,null,null,"~"]
["SA37",2025,"Choose",206,null,null,null,null,null,null,null,null,null,null,null,null,null,null,null,null,null,null,"~"]
["SA37",2025,"Choose",207,null,null,null,null,null,null,null,null,null,null,null,null,null,null,null,null,null,null,"~"]
["SA37",2025,"Choose",208,null,null,null,null,null,null,null,null,null,null,null,null,null,null,null,null,null,null,"~"]
["SA37",2025,"Choose",209,null,null,null,null,null,null,null,null,null,null,null,null,null,null,null,null,null,null,"~"]
["SA37",2025,"Choose",210,null,null,null,null,null,null,null,null,null,null,null,null,null,null,null,null,null,null,"~"]
["SA37",2025,"Choose",211,null,null,null,null,null,null,null,null,null,null,null,null,null,null,null,null,null,null,"~"]
["SA37",2025,"Choose",212,null,null,null,null,null,null,null,null,null,null,null,null,null,null,null,null,null,null,"~"]
["SA37",2025,"Choose",213,null,null,null,null,null,null,null,null,null,null,null,null,null,null,null,null,null,null,"~"]
["SA37",2025,"Choose",214,null,null,null,null,null,null,null,null,null,null,null,null,null,null,null,null,null,null,"~"]
["SA37",2025,"Choose",215,null,null,null,null,null,null,null,null,null,null,null,null,null,null,null,null,null,null,"~"]
["SA37",2025,"Choose",216,null,null,null,null,null,null,null,null,null,null,null,null,null,null,null,null,null,null,"~"]
["SA37",2025,"Choose",217,null,null,null,null,null,null,null,null,null,null,null,null,null,null,null,null,null,null,"~"]
["SA37",2025,"Choose",218,null,null,null,null,null,null,null,null,null,null,null,null,null,null,null,null,null,null,"~"]
["SA37",2025,"Choose",219,null,null,null,null,null,null,null,null,null,null,null,null,null,null,null,null,null,null,"~"]
["SA37",2025,"Choose",220,null,null,null,null,null,null,null,null,null,null,null,null,null,null,null,null,null,null,"~"]
["SA37",2025,"Choose",221,null,null,null,null,null,null,null,null,null,null,null,null,null,null,null,null,null,null,"~"]
["SA37",2025,"Choose",222,null,null,null,null,null,null,null,null,null,null,null,null,null,null,null,null,null,null,"~"]
["SA37",2025,"Choose",223,null,null,null,null,null,null,null,null,null,null,null,null,null,null,null,null,null,null,"~"]
["SA37",2025,"Choose",224,null,null,null,null,null,null,null,null,null,null,null,null,null,null,null,null,null,null,"~"]
["SA37",2025,"Choose",225,null,null,null,null,null,null,null,null,null,null,null,null,null,null,null,null,null,null,"~"]
["SA37",2025,"Choose",226,null,null,null,null,null,null,null,null,null,null,null,null,null,null,null,null,null,null,"~"]
["SA37",2025,"Choose",227,null,null,null,null,null,null,null,null,null,null,null,null,null,null,null,null,null,null,"~"]
["SA37",2025,"Choose",228,null,null,null,null,null,null,null,null,null,null,null,null,null,null,null,null,null,null,"~"]
["SA37",2025,"Choose",229,null,null,null,null,null,null,null,null,null,null,null,null,null,null,null,null,null,null,"~"]
["SA37",2025,"Choose",230,null,null,null,null,null,null,null,null,null,null,null,null,null,null,null,null,null,null,"~"]
["SA37",2025,"Choose",231,null,null,null,null,null,null,null,null,null,null,null,null,null,null,null,null,null,null,"~"]
["SA37",2025,"Choose",232,null,null,null,null,null,null,null,null,null,null,null,null,null,null,null,null,null,null,"~"]
["SA37",2025,"Choose",233,null,null,null,null,null,null,null,null,null,null,null,null,null,null,null,null,null,null,"~"]
["SA37",2025,"Choose",234,null,null,null,null,null,null,null,null,null,null,null,null,null,null,null,null,null,null,"~"]
["SA37",2025,"Choose",235,null,null,null,null,null,null,null,null,null,null,null,null,null,null,null,null,null,null,"~"]
["SA37",2025,"Choose",236,null,null,null,null,null,null,null,null,null,null,null,null,null,null,null,null,null,null,"~"]
["SA37",2025,"Choose",237,null,null,null,null,null,null,null,null,null,null,null,null,null,null,null,null,null,null,"~"]
["SA37",2025,"Choose",238,null,null,null,null,null,null,null,null,null,null,null,null,null,null,null,null,null,null,"~"]
["SA37",2025,"Choose",239,null,null,null,null,null,null,null,null,null,null,null,null,null,null,null,null,null,null,"~"]
["SA37",{"$f":"+MTREF","v":2025},{"$f":"LEFT(muni,(FIND(\" \",muni,1)-1))","v":"Choose"},240,null,null,null,null,null,null,null,null,null,null,null,null,null,null,null,null,null,null,"~"]
["SA37",2025,"Choose",241,null,null,null,null,null,null,null,null,null,null,null,null,null,null,null,null,null,null,"~"]
["SA37",2025,"Choose",242,null,null,null,null,null,null,null,null,null,null,null,null,null,null,null,null,null,null,"~"]
["SA37",2025,"Choose",243,null,null,null,null,null,null,null,null,null,null,null,null,null,null,null,null,null,null,"~"]
["SA37",2025,"Choose",244,null,null,null,null,null,null,null,null,null,null,null,null,null,null,null,null,null,null,"~"]
["SA37",2025,"Choose",245,null,null,null,null,null,null,null,null,null,null,null,null,null,null,null,null,null,null,"~"]
["SA37",2025,"Choose",246,null,null,null,null,null,null,null,null,null,null,null,null,null,null,null,null,null,null,"~"]
["SA37",2025,"Choose",247,null,null,null,null,null,null,null,null,null,null,null,null,null,null,null,null,null,null,"~"]
["SA37",2025,"Choose",248,null,null,null,null,null,null,null,null,null,null,null,null,null,null,null,null,null,null,"~"]
["SA37",2025,"Choose",249,null,null,null,null,null,null,null,null,null,null,null,null,null,null,null,null,null,null,"~"]
["SA37",2025,"Choose",250,null,null,null,null,null,null,null,null,null,null,null,null,null,null,null,null,null,null,"~"]
["SA37",2025,"Choose",251,null,null,null,null,null,null,null,null,null,null,null,null,null,null,null,null,null,null,"~"]
["SA37",2025,"Choose",252,null,null,null,null,null,null,null,null,null,null,null,null,null,null,null,null,null,null,"~"]
["SA37",2025,"Choose",253,null,null,null,null,null,null,null,null,null,null,null,null,null,null,null,null,null,null,"~"]
["SA37",2025,"Choose",254,null,null,null,null,null,null,null,null,null,null,null,null,null,null,null,null,null,null,"~"]
["SA37",2025,"Choose",255,null,null,null,null,null,null,null,null,null,null,null,null,null,null,null,null,null,null,"~"]
["SA37",2025,"Choose",256,null,null,null,null,null,null,null,null,null,null,null,null,null,null,null,null,null,null,"~"]
["SA37",2025,"Choose",257,null,null,null,null,null,null,null,null,null,null,null,null,null,null,null,null,null,null,"~"]
["SA37",2025,"Choose",258,null,null,null,null,null,null,null,null,null,null,null,null,null,null,null,null,null,null,"~"]
["SA37",2025,"Choose",259,null,null,null,null,null,null,null,null,null,null,null,null,null,null,null,null,null,null,"~"]
["SA37",2025,"Choose",260,null,null,null,null,null,null,null,null,null,null,null,null,null,null,null,null,null,null,"~"]
["SA37",2025,"Choose",261,null,null,null,null,null,null,null,null,null,null,null,null,null,null,null,null,null,null,"~"]
["SA37",2025,"Choose",262,null,null,null,null,null,null,null,null,null,null,null,null,null,null,null,null,null,null,"~"]
["SA37",2025,"Choose",263,null,null,null,null,null,null,null,null,null,null,null,null,null,null,null,null,null,null,"~"]
["SA37",2025,"Choose",264,null,null,null,null,null,null,null,null,null,null,null,null,null,null,null,null,null,null,"~"]
["SA37",2025,"Choose",265,null,null,null,null,null,null,null,null,null,null,null,null,null,null,null,null,null,null,"~"]
["SA37",2025,"Choose",266,null,null,null,null,null,null,null,null,null,null,null,null,null,null,null,null,null,null,"~"]
["SA37",2025,"Choose",267,null,null,null,null,null,null,null,null,null,null,null,null,null,null,null,null,null,null,"~"]
["SA37",2025,"Choose",268,null,null,null,null,null,null,null,null,null,null,null,null,null,null,null,null,null,null,"~"]
["SA37",2025,"Choose",269,null,null,null,null,null,null,null,null,null,null,null,null,null,null,null,null,null,null,"~"]
["SA37",2025,"Choose",270,null,null,null,null,null,null,null,null,null,null,null,null,null,null,null,null,null,null,"~"]
["SA37",2025,"Choose",271,null,null,null,null,null,null,null,null,null,null,null,null,null,null,null,null,null,null,"~"]
["SA37",2025,"Choose",272,null,null,null,null,null,null,null,null,null,null,null,null,null,null,null,null,null,null,"~"]
["SA37",2025,"Choose",273,null,null,null,null,null,null,null,null,null,null,null,null,null,null,null,null,null,null,"~"]
["SA37",2025,"Choose",274,null,null,null,null,null,null,null,null,null,null,null,null,null,null,null,null,null,null,"~"]
["SA37",2025,"Choose",275,null,null,null,null,null,null,null,null,null,null,null,null,null,null,null,null,null,null,"~"]
["SA37",2025,"Choose",276,null,null,null,null,null,null,null,null,null,null,null,null,null,null,null,null,null,null,"~"]
["SA37",2025,"Choose",277,null,null,null,null,null,null,null,null,null,null,null,null,null,null,null,null,null,null,"~"]
["SA37",2025,"Choose",278,null,null,null,null,null,null,null,null,null,null,null,null,null,null,null,null,null,null,"~"]
["SA37",2025,"Choose",279,null,null,null,null,null,null,null,null,null,null,null,null,null,null,null,null,null,null,"~"]
["SA37",2025,"Choose",280,null,null,null,null,null,null,null,null,null,null,null,null,null,null,null,null,null,null,"~"]
["SA37",2025,"Choose",281,null,null,null,null,null,null,null,null,null,null,null,null,null,null,null,null,null,null,"~"]
["SA37",2025,"Choose",282,null,null,null,null,null,null,null,null,null,null,null,null,null,null,null,null,null,null,"~"]
["SA37",2025,"Choose",283,null,null,null,null,null,null,null,null,null,null,null,null,null,null,null,null,null,null,"~"]
["SA37",2025,"Choose",284,null,null,null,null,null,null,null,null,null,null,null,null,null,null,null,null,null,null,"~"]
["SA37",2025,"Choose",285,null,null,null,null,null,null,null,null,null,null,null,null,null,null,null,null,null,null,"~"]
["SA37",2025,"Choose",286,null,null,null,null,null,null,null,null,null,null,null,null,null,null,null,null,null,null,"~"]
["SA37",2025,"Choose",287,null,null,null,null,null,null,null,null,null,null,null,null,null,null,null,null,null,null,"~"]
["SA37",2025,"Choose",288,null,null,null,null,null,null,null,null,null,null,null,null,null,null,null,null,null,null,"~"]
["SA37",2025,"Choose",289,null,null,null,null,null,null,null,null,null,null,null,null,null,null,null,null,null,null,"~"]
["SA37",2025,"Choose",290,null,null,null,null,null,null,null,null,null,null,null,null,null,null,null,null,null,null,"~"]
["SA37",2025,"Choose",291,null,null,null,null,null,null,null,null,null,null,null,null,null,null,null,null,null,null,"~"]
["SA37",2025,"Choose",292,null,null,null,null,null,null,null,null,null,null,null,null,null,null,null,null,null,null,"~"]
["SA37",2025,"Choose",293,null,null,null,null,null,null,null,null,null,null,null,null,null,null,null,null,null,null,"~"]
["SA37",2025,"Choose",294,null,null,null,null,null,null,null,null,null,null,null,null,null,null,null,null,null,null,"~"]
["SA37",2025,"Choose",295,null,null,null,null,null,null,null,null,null,null,null,null,null,null,null,null,null,null,"~"]
["SA37",2025,"Choose",296,null,null,null,null,null,null,null,null,null,null,null,null,null,null,null,null,null,null,"~"]
["SA37",2025,"Choose",297,null,null,null,null,null,null,null,null,null,null,null,null,null,null,null,null,null,null,"~"]
["SA37",2025,"Choose",298,null,null,null,null,null,null,null,null,null,null,null,null,null,null,null,null,null,null,"~"]
["SA37",2025,"Choose",299,null,null,null,null,null,null,null,null,null,null,null,null,null,null,null,null,null,null,"~"]
["SA37",2025,"Choose",300,null,null,null,null,null,null,null,null,null,null,null,null,null,null,null,null,null,null,"~"]
["SA37",2025,"Choose",301,null,null,null,null,null,null,null,null,null,null,null,null,null,null,null,null,null,null,"~"]
["SA37",2025,"Choose",302,null,null,null,null,null,null,null,null,null,null,null,null,null,null,null,null,null,null,"~"]
["SA37",2025,"Choose",303,null,null,null,null,null,null,null,null,null,null,null,null,null,null,null,null,null,null,"~"]
["SA37",{"$f":"+MTREF","v":2025},{"$f":"LEFT(muni,(FIND(\" \",muni,1)-1))","v":"Choose"},304,null,null,null,null,null,null,null,null,null,null,null,null,null,null,null,null,null,null,"~"]
["SA37",2025,"Choose",305,null,null,null,null,null,null,null,null,null,null,null,null,null,null,null,null,null,null,"~"]
["SA37",2025,"Choose",306,null,null,null,null,null,null,null,null,null,null,null,null,null,null,null,null,null,null,"~"]
["SA37",2025,"Choose",307,null,null,null,null,null,null,null,null,null,null,null,null,null,null,null,null,null,null,"~"]
["SA37",2025,"Choose",308,null,null,null,null,null,null,null,null,null,null,null,null,null,null,null,null,null,null,"~"]
["SA37",2025,"Choose",309,null,null,null,null,null,null,null,null,null,null,null,null,null,null,null,null,null,null,"~"]
["SA37",2025,"Choose",310,null,null,null,null,null,null,null,null,null,null,null,null,null,null,null,null,null,null,"~"]
["SA37",2025,"Choose",311,null,null,null,null,null,null,null,null,null,null,null,null,null,null,null,null,null,null,"~"]
["SA37",2025,"Choose",312,null,null,null,null,null,null,null,null,null,null,null,null,null,null,null,null,null,null,"~"]
["SA37",2025,"Choose",313,null,null,null,null,null,null,null,null,null,null,null,null,null,null,null,null,null,null,"~"]
["SA37",2025,"Choose",314,null,null,null,null,null,null,null,null,null,null,null,null,null,null,null,null,null,null,"~"]
["SA37",2025,"Choose",315,null,null,null,null,null,null,null,null,null,null,null,null,null,null,null,null,null,null,"~"]
["SA37",2025,"Choose",316,null,null,null,null,null,null,null,null,null,null,null,null,null,null,null,null,null,null,"~"]
["SA37",2025,"Choose",317,null,null,null,null,null,null,null,null,null,null,null,null,null,null,null,null,null,null,"~"]
["SA37",2025,"Choose",318,null,null,null,null,null,null,null,null,null,null,null,null,null,null,null,null,null,null,"~"]
["SA37",2025,"Choose",319,null,null,null,null,null,null,null,null,null,null,null,null,null,null,null,null,null,null,"~"]
["SA37",2025,"Choose",320,null,null,null,null,null,null,null,null,null,null,null,null,null,null,null,null,null,null,"~"]
["SA37",2025,"Choose",321,null,null,null,null,null,null,null,null,null,null,null,null,null,null,null,null,null,null,"~"]
["SA37",2025,"Choose",322,null,null,null,null,null,null,null,null,null,null,null,null,null,null,null,null,null,null,"~"]
["SA37",2025,"Choose",323,null,null,null,null,null,null,null,null,null,null,null,null,null,null,null,null,null,null,"~"]
["SA37",2025,"Choose",324,null,null,null,null,null,null,null,null,null,null,null,null,null,null,null,null,null,null,"~"]
["SA37",2025,"Choose",325,null,null,null,null,null,null,null,null,null,null,null,null,null,null,null,null,null,null,"~"]
["SA37",2025,"Choose",326,null,null,null,null,null,null,null,null,null,null,null,null,null,null,null,null,null,null,"~"]
["SA37",2025,"Choose",327,null,null,null,null,null,null,null,null,null,null,null,null,null,null,null,null,null,null,"~"]
["SA37",2025,"Choose",328,null,null,null,null,null,null,null,null,null,null,null,null,null,null,null,null,null,null,"~"]
["SA37",2025,"Choose",329,null,null,null,null,null,null,null,null,null,null,null,null,null,null,null,null,null,null,"~"]
["SA37",2025,"Choose",330,null,null,null,null,null,null,null,null,null,null,null,null,null,null,null,null,null,null,"~"]
["SA37",2025,"Choose",331,null,null,null,null,null,null,null,null,null,null,null,null,null,null,null,null,null,null,"~"]
["SA37",2025,"Choose",332,null,null,null,null,null,null,null,null,null,null,null,null,null,null,null,null,null,null,"~"]
["SA37",2025,"Choose",333,null,null,null,null,null,null,null,null,null,null,null,null,null,null,null,null,null,null,"~"]
["SA37",2025,"Choose",334,null,null,null,null,null,null,null,null,null,null,null,null,null,null,null,null,null,null,"~"]
["SA37",2025,"Choose",335,null,null,null,null,null,null,null,null,null,null,null,null,null,null,null,null,null,null,"~"]
["SA37",2025,"Choose",336,null,null,null,null,null,null,null,null,null,null,null,null,null,null,null,null,null,null,"~"]
["SA37",2025,"Choose",337,null,null,null,null,null,null,null,null,null,null,null,null,null,null,null,null,null,null,"~"]
["SA37",2025,"Choose",338,null,null,null,null,null,null,null,null,null,null,null,null,null,null,null,null,null,null,"~"]
["SA37",2025,"Choose",339,null,null,null,null,null,null,null,null,null,null,null,null,null,null,null,null,null,null,"~"]
["SA37",2025,"Choose",340,null,null,null,null,null,null,null,null,null,null,null,null,null,null,null,null,null,null,"~"]
["SA37",2025,"Choose",341,null,null,null,null,null,null,null,null,null,null,null,null,null,null,null,null,null,null,"~"]
["SA37",2025,"Choose",342,null,null,null,null,null,null,null,null,null,null,null,null,null,null,null,null,null,null,"~"]
["SA37",2025,"Choose",343,null,null,null,null,null,null,null,null,null,null,null,null,null,null,null,null,null,null,"~"]
["SA37",2025,"Choose",344,null,null,null,null,null,null,null,null,null,null,null,null,null,null,null,null,null,null,"~"]
["SA37",2025,"Choose",345,null,null,null,null,null,null,null,null,null,null,null,null,null,null,null,null,null,null,"~"]
["SA37",2025,"Choose",346,null,null,null,null,null,null,null,null,null,null,null,null,null,null,null,null,null,null,"~"]
["SA37",2025,"Choose",347,null,null,null,null,null,null,null,null,null,null,null,null,null,null,null,null,null,null,"~"]
["SA37",2025,"Choose",348,null,null,null,null,null,null,null,null,null,null,null,null,null,null,null,null,null,null,"~"]
["SA37",2025,"Choose",349,null,null,null,null,null,null,null,null,null,null,null,null,null,null,null,null,null,null,"~"]
["SA37",2025,"Choose",350,null,null,null,null,null,null,null,null,null,null,null,null,null,null,null,null,null,null,"~"]
["SA37",2025,"Choose",351,null,null,null,null,null,null,null,null,null,null,null,null,null,null,null,null,null,null,"~"]
["SA37",2025,"Choose",352,null,null,null,null,null,null,null,null,null,null,null,null,null,null,null,null,null,null,"~"]
["SA37",2025,"Choose",353,null,null,null,null,null,null,null,null,null,null,null,null,null,null,null,null,null,null,"~"]
["SA37",2025,"Choose",354,null,null,null,null,null,null,null,null,null,null,null,null,null,null,null,null,null,null,"~"]
["SA37",2025,"Choose",355,null,null,null,null,null,null,null,null,null,null,null,null,null,null,null,null,null,null,"~"]
["SA37",2025,"Choose",356,null,null,null,null,null,null,null,null,null,null,null,null,null,null,null,null,null,null,"~"]
["SA37",2025,"Choose",357,null,null,null,null,null,null,null,null,null,null,null,null,null,null,null,null,null,null,"~"]
["SA37",2025,"Choose",358,null,null,null,null,null,null,null,null,null,null,null,null,null,null,null,null,null,null,"~"]
["SA37",2025,"Choose",359,null,null,null,null,null,null,null,null,null,null,null,null,null,null,null,null,null,null,"~"]
["SA37",2025,"Choose",360,null,null,null,null,null,null,null,null,null,null,null,null,null,null,null,null,null,null,"~"]
["SA37",2025,"Choose",361,null,null,null,null,null,null,null,null,null,null,null,null,null,null,null,null,null,null,"~"]
["SA37",2025,"Choose",362,null,null,null,null,null,null,null,null,null,null,null,null,null,null,null,null,null,null,"~"]
["SA37",2025,"Choose",363,null,null,null,null,null,null,null,null,null,null,null,null,null,null,null,null,null,null,"~"]
["SA37",2025,"Choose",364,null,null,null,null,null,null,null,null,null,null,null,null,null,null,null,null,null,null,"~"]
["SA37",2025,"Choose",365,null,null,null,null,null,null,null,null,null,null,null,null,null,null,null,null,null,null,"~"]
["SA37",2025,"Choose",366,null,null,null,null,null,null,null,null,null,null,null,null,null,null,null,null,null,null,"~"]
["SA37",2025,"Choose",367,null,null,null,null,null,null,null,null,null,null,null,null,null,null,null,null,null,null,"~"]
["SA37",{"$f":"+MTREF","v":2025},{"$f":"LEFT(muni,(FIND(\" \",muni,1)-1))","v":"Choose"},368,null,null,null,null,null,null,null,null,null,null,null,null,null,null,null,null,null,null,"~"]
["SA37",2025,"Choose",369,null,null,null,null,null,null,null,null,null,null,null,null,null,null,null,null,null,null,"~"]
["SA37",2025,"Choose",370,null,null,null,null,null,null,null,null,null,null,null,null,null,null,null,null,null,null,"~"]
["SA37",2025,"Choose",371,null,null,null,null,null,null,null,null,null,null,null,null,null,null,null,null,null,null,"~"]
["SA37",2025,"Choose",372,null,null,null,null,null,null,null,null,null,null,null,null,null,null,null,null,null,null,"~"]
["SA37",2025,"Choose",373,null,null,null,null,null,null,null,null,null,null,null,null,null,null,null,null,null,null,"~"]
["SA37",2025,"Choose",374,null,null,null,null,null,null,null,null,null,null,null,null,null,null,null,null,null,null,"~"]
["SA37",2025,"Choose",375,null,null,null,null,null,null,null,null,null,null,null,null,null,null,null,null,null,null,"~"]
["SA37",2025,"Choose",376,null,null,null,null,null,null,null,null,null,null,null,null,null,null,null,null,null,null,"~"]
["SA37",2025,"Choose",377,null,null,null,null,null,null,null,null,null,null,null,null,null,null,null,null,null,null,"~"]
["SA37",2025,"Choose",378,null,null,null,null,null,null,null,null,null,null,null,null,null,null,null,null,null,null,"~"]
["SA37",2025,"Choose",379,null,null,null,null,null,null,null,null,null,null,null,null,null,null,null,null,null,null,"~"]
["SA37",2025,"Choose",380,null,null,null,null,null,null,null,null,null,null,null,null,null,null,null,null,null,null,"~"]
["SA37",2025,"Choose",381,null,null,null,null,null,null,null,null,null,null,null,null,null,null,null,null,null,null,"~"]
["SA37",2025,"Choose",382,null,null,null,null,null,null,null,null,null,null,null,null,null,null,null,null,null,null,"~"]
["SA37",2025,"Choose",383,null,null,null,null,null,null,null,null,null,null,null,null,null,null,null,null,null,null,"~"]
["SA37",2025,"Choose",384,null,null,null,null,null,null,null,null,null,null,null,null,null,null,null,null,null,null,"~"]
["SA37",2025,"Choose",385,null,null,null,null,null,null,null,null,null,null,null,null,null,null,null,null,null,null,"~"]
["SA37",2025,"Choose",386,null,null,null,null,null,null,null,null,null,null,null,null,null,null,null,null,null,null,"~"]
["SA37",2025,"Choose",387,null,null,null,null,null,null,null,null,null,null,null,null,null,null,null,null,null,null,"~"]
["SA37",2025,"Choose",388,null,null,null,null,null,null,null,null,null,null,null,null,null,null,null,null,null,null,"~"]
["SA37",2025,"Choose",389,null,null,null,null,null,null,null,null,null,null,null,null,null,null,null,null,null,null,"~"]
["SA37",2025,"Choose",390,null,null,null,null,null,null,null,null,null,null,null,null,null,null,null,null,null,null,"~"]
["SA37",2025,"Choose",391,null,null,null,null,null,null,null,null,null,null,null,null,null,null,null,null,null,null,"~"]
["SA37",2025,"Choose",392,null,null,null,null,null,null,null,null,null,null,null,null,null,null,null,null,null,null,"~"]
["SA37",2025,"Choose",393,null,null,null,null,null,null,null,null,null,null,null,null,null,null,null,null,null,null,"~"]
["SA37",2025,"Choose",394,null,null,null,null,null,null,null,null,null,null,null,null,null,null,null,null,null,null,"~"]
["SA37",2025,"Choose",395,null,null,null,null,null,null,null,null,null,null,null,null,null,null,null,null,null,null,"~"]
["SA37",2025,"Choose",396,null,null,null,null,null,null,null,null,null,null,null,null,null,null,null,null,null,null,"~"]
["SA37",2025,"Choose",397,null,null,null,null,null,null,null,null,null,null,null,null,null,null,null,null,null,null,"~"]
["SA37",2025,"Choose",398,null,null,null,null,null,null,null,null,null,null,null,null,null,null,null,null,null,null,"~"]
["SA37",2025,"Choose",399,null,null,null,null,null,null,null,null,null,null,null,null,null,null,null,null,null,null,"~"]
["SA37",2025,"Choose",400,null,null,null,null,null,null,null,null,null,null,null,null,null,null,null,null,null,null,"~"]
["SA37",2025,"Choose",401,null,null,null,null,null,null,null,null,null,null,null,null,null,null,null,null,null,null,"~"]
["SA37",2025,"Choose",402,null,null,null,null,null,null,null,null,null,null,null,null,null,null,null,null,null,null,"~"]
["SA37",2025,"Choose",403,null,null,null,null,null,null,null,null,null,null,null,null,null,null,null,null,null,null,"~"]
["SA37",2025,"Choose",404,null,null,null,null,null,null,null,null,null,null,null,null,null,null,null,null,null,null,"~"]
["SA37",2025,"Choose",405,null,null,null,null,null,null,null,null,null,null,null,null,null,null,null,null,null,null,"~"]
["SA37",2025,"Choose",406,null,null,null,null,null,null,null,null,null,null,null,null,null,null,null,null,null,null,"~"]
["SA37",2025,"Choose",407,null,null,null,null,null,null,null,null,null,null,null,null,null,null,null,null,null,null,"~"]
["SA37",2025,"Choose",408,null,null,null,null,null,null,null,null,null,null,null,null,null,null,null,null,null,null,"~"]
["SA37",2025,"Choose",409,null,null,null,null,null,null,null,null,null,null,null,null,null,null,null,null,null,null,"~"]
["SA37",2025,"Choose",410,null,null,null,null,null,null,null,null,null,null,null,null,null,null,null,null,null,null,"~"]
["SA37",2025,"Choose",411,null,null,null,null,null,null,null,null,null,null,null,null,null,null,null,null,null,null,"~"]
["SA37",2025,"Choose",412,null,null,null,null,null,null,null,null,null,null,null,null,null,null,null,null,null,null,"~"]
["SA37",2025,"Choose",413,null,null,null,null,null,null,null,null,null,null,null,null,null,null,null,null,null,null,"~"]
["SA37",2025,"Choose",414,null,null,null,null,null,null,null,null,null,null,null,null,null,null,null,null,null,null,"~"]
["SA37",2025,"Choose",415,null,null,null,null,null,null,null,null,null,null,null,null,null,null,null,null,null,null,"~"]
["SA37",2025,"Choose",416,null,null,null,null,null,null,null,null,null,null,null,null,null,null,null,null,null,null,"~"]
["SA37",2025,"Choose",417,null,null,null,null,null,null,null,null,null,null,null,null,null,null,null,null,null,null,"~"]
["SA37",2025,"Choose",418,null,null,null,null,null,null,null,null,null,null,null,null,null,null,null,null,null,null,"~"]
["SA37",2025,"Choose",419,null,null,null,null,null,null,null,null,null,null,null,null,null,null,null,null,null,null,"~"]
["SA37",2025,"Choose",420,null,null,null,null,null,null,null,null,null,null,null,null,null,null,null,null,null,null,"~"]
["SA37",2025,"Choose",421,null,null,null,null,null,null,null,null,null,null,null,null,null,null,null,null,null,null,"~"]
["SA37",2025,"Choose",422,null,null,null,null,null,null,null,null,null,null,null,null,null,null,null,null,null,null,"~"]
["SA37",2025,"Choose",423,null,null,null,null,null,null,null,null,null,null,null,null,null,null,null,null,null,null,"~"]
["SA37",2025,"Choose",424,null,null,null,null,null,null,null,null,null,null,null,null,null,null,null,null,null,null,"~"]
["SA37",2025,"Choose",425,null,null,null,null,null,null,null,null,null,null,null,null,null,null,null,null,null,null,"~"]
["SA37",2025,"Choose",426,null,null,null,null,null,null,null,null,null,null,null,null,null,null,null,null,null,null,"~"]
["SA37",2025,"Choose",427,null,null,null,null,null,null,null,null,null,null,null,null,null,null,null,null,null,null,"~"]
["SA37",2025,"Choose",428,null,null,null,null,null,null,null,null,null,null,null,null,null,null,null,null,null,null,"~"]
["SA37",2025,"Choose",429,null,null,null,null,null,null,null,null,null,null,null,null,null,null,null,null,null,null,"~"]
["SA37",2025,"Choose",430,null,null,null,null,null,null,null,null,null,null,null,null,null,null,null,null,null,null,"~"]
["SA37",2025,"Choose",431,null,null,null,null,null,null,null,null,null,null,null,null,null,null,null,null,null,null,"~"]
["SA37",{"$f":"+MTREF","v":2025},{"$f":"LEFT(muni,(FIND(\" \",muni,1)-1))","v":"Choose"},432,null,null,null,null,null,null,null,null,null,null,null,null,null,null,null,null,null,null,"~"]
["SA37",2025,"Choose",433,null,null,null,null,null,null,null,null,null,null,null,null,null,null,null,null,null,null,"~"]
["SA37",2025,"Choose",434,null,null,null,null,null,null,null,null,null,null,null,null,null,null,null,null,null,null,"~"]
["SA37",2025,"Choose",435,null,null,null,null,null,null,null,null,null,null,null,null,null,null,null,null,null,null,"~"]
["SA37",2025,"Choose",436,null,null,null,null,null,null,null,null,null,null,null,null,null,null,null,null,null,null,"~"]
["SA37",2025,"Choose",437,null,null,null,null,null,null,null,null,null,null,null,null,null,null,null,null,null,null,"~"]
["SA37",2025,"Choose",438,null,null,null,null,null,null,null,null,null,null,null,null,null,null,null,null,null,null,"~"]
["SA37",2025,"Choose",439,null,null,null,null,null,null,null,null,null,null,null,null,null,null,null,null,null,null,"~"]
["SA37",2025,"Choose",440,null,null,null,null,null,null,null,null,null,null,null,null,null,null,null,null,null,null,"~"]
["SA37",2025,"Choose",441,null,null,null,null,null,null,null,null,null,null,null,null,null,null,null,null,null,null,"~"]
["SA37",2025,"Choose",442,null,null,null,null,null,null,null,null,null,null,null,null,null,null,null,null,null,null,"~"]
["SA37",2025,"Choose",443,null,null,null,null,null,null,null,null,null,null,null,null,null,null,null,null,null,null,"~"]
["SA37",2025,"Choose",444,null,null,null,null,null,null,null,null,null,null,null,null,null,null,null,null,null,null,"~"]
["SA37",2025,"Choose",445,null,null,null,null,null,null,null,null,null,null,null,null,null,null,null,null,null,null,"~"]
["SA37",2025,"Choose",446,null,null,null,null,null,null,null,null,null,null,null,null,null,null,null,null,null,null,"~"]
["SA37",2025,"Choose",447,null,null,null,null,null,null,null,null,null,null,null,null,null,null,null,null,null,null,"~"]
["SA37",2025,"Choose",448,null,null,null,null,null,null,null,null,null,null,null,null,null,null,null,null,null,null,"~"]
["SA37",2025,"Choose",449,null,null,null,null,null,null,null,null,null,null,null,null,null,null,null,null,null,null,"~"]
["SA37",2025,"Choose",450,null,null,null,null,null,null,null,null,null,null,null,null,null,null,null,null,null,null,"~"]
["SA37",2025,"Choose",451,null,null,null,null,null,null,null,null,null,null,null,null,null,null,null,null,null,null,"~"]
["SA37",2025,"Choose",452,null,null,null,null,null,null,null,null,null,null,null,null,null,null,null,null,null,null,"~"]
["SA37",2025,"Choose",453,null,null,null,null,null,null,null,null,null,null,null,null,null,null,null,null,null,null,"~"]
["SA37",2025,"Choose",454,null,null,null,null,null,null,null,null,null,null,null,null,null,null,null,null,null,null,"~"]
["SA37",2025,"Choose",455,null,null,null,null,null,null,null,null,null,null,null,null,null,null,null,null,null,null,"~"]
["SA37",2025,"Choose",456,null,null,null,null,null,null,null,null,null,null,null,null,null,null,null,null,null,null,"~"]
["SA37",2025,"Choose",457,null,null,null,null,null,null,null,null,null,null,null,null,null,null,null,null,null,null,"~"]
["SA37",2025,"Choose",458,null,null,null,null,null,null,null,null,null,null,null,null,null,null,null,null,null,null,"~"]
["SA37",2025,"Choose",459,null,null,null,null,null,null,null,null,null,null,null,null,null,null,null,null,null,null,"~"]
["SA37",2025,"Choose",460,null,null,null,null,null,null,null,null,null,null,null,null,null,null,null,null,null,null,"~"]
["SA37",2025,"Choose",461,null,null,null,null,null,null,null,null,null,null,null,null,null,null,null,null,null,null,"~"]
["SA37",2025,"Choose",462,null,null,null,null,null,null,null,null,null,null,null,null,null,null,null,null,null,null,"~"]
["SA37",2025,"Choose",463,null,null,null,null,null,null,null,null,null,null,null,null,null,null,null,null,null,null,"~"]
["SA37",2025,"Choose",464,null,null,null,null,null,null,null,null,null,null,null,null,null,null,null,null,null,null,"~"]
["SA37",2025,"Choose",465,null,null,null,null,null,null,null,null,null,null,null,null,null,null,null,null,null,null,"~"]
["SA37",2025,"Choose",466,null,null,null,null,null,null,null,null,null,null,null,null,null,null,null,null,null,null,"~"]
["SA37",2025,"Choose",467,null,null,null,null,null,null,null,null,null,null,null,null,null,null,null,null,null,null,"~"]
["SA37",2025,"Choose",468,null,null,null,null,null,null,null,null,null,null,null,null,null,null,null,null,null,null,"~"]
["SA37",2025,"Choose",469,null,null,null,null,null,null,null,null,null,null,null,null,null,null,null,null,null,null,"~"]
["SA37",2025,"Choose",470,null,null,null,null,null,null,null,null,null,null,null,null,null,null,null,null,null,null,"~"]
["SA37",2025,"Choose",471,null,null,null,null,null,null,null,null,null,null,null,null,null,null,null,null,null,null,"~"]
["SA37",2025,"Choose",472,null,null,null,null,null,null,null,null,null,null,null,null,null,null,null,null,null,null,"~"]
["SA37",2025,"Choose",473,null,null,null,null,null,null,null,null,null,null,null,null,null,null,null,null,null,null,"~"]
["SA37",2025,"Choose",474,null,null,null,null,null,null,null,null,null,null,null,null,null,null,null,null,null,null,"~"]
["SA37",2025,"Choose",475,null,null,null,null,null,null,null,null,null,null,null,null,null,null,null,null,null,null,"~"]
["SA37",2025,"Choose",476,null,null,null,null,null,null,null,null,null,null,null,null,null,null,null,null,null,null,"~"]
["SA37",2025,"Choose",477,null,null,null,null,null,null,null,null,null,null,null,null,null,null,null,null,null,null,"~"]
["SA37",2025,"Choose",478,null,null,null,null,null,null,null,null,null,null,null,null,null,null,null,null,null,null,"~"]
["SA37",2025,"Choose",479,null,null,null,null,null,null,null,null,null,null,null,null,null,null,null,null,null,null,"~"]
["SA37",2025,"Choose",480,null,null,null,null,null,null,null,null,null,null,null,null,null,null,null,null,null,null,"~"]
["SA37",2025,"Choose",481,null,null,null,null,null,null,null,null,null,null,null,null,null,null,null,null,null,null,"~"]
["SA37",2025,"Choose",482,null,null,null,null,null,null,null,null,null,null,null,null,null,null,null,null,null,null,"~"]
["SA37",2025,"Choose",483,null,null,null,null,null,null,null,null,null,null,null,null,null,null,null,null,null,null,"~"]
["SA37",2025,"Choose",484,null,null,null,null,null,null,null,null,null,null,null,null,null,null,null,null,null,null,"~"]
["SA37",2025,"Choose",485,null,null,null,null,null,null,null,null,null,null,null,null,null,null,null,null,null,null,"~"]
["SA37",2025,"Choose",486,null,null,null,null,null,null,null,null,null,null,null,null,null,null,null,null,null,null,"~"]
["SA37",2025,"Choose",487,null,null,null,null,null,null,null,null,null,null,null,null,null,null,null,null,null,null,"~"]
["SA37",2025,"Choose",488,null,null,null,null,null,null,null,null,null,null,null,null,null,null,null,null,null,null,"~"]
["SA37",2025,"Choose",489,null,null,null,null,null,null,null,null,null,null,null,null,null,null,null,null,null,null,"~"]
["SA37",2025,"Choose",490,null,null,null,null,null,null,null,null,null,null,null,null,null,null,null,null,null,null,"~"]
["SA37",2025,"Choose",491,null,null,null,null,null,null,null,null,null,null,null,null,null,null,null,null,null,null,"~"]
["SA37",2025,"Choose",492,null,null,null,null,null,null,null,null,null,null,null,null,null,null,null,null,null,null,"~"]
["SA37",2025,"Choose",493,null,null,null,null,null,null,null,null,null,null,null,null,null,null,null,null,null,null,"~"]
["SA37",2025,"Choose",494,null,null,null,null,null,null,null,null,null,null,null,null,null,null,null,null,null,null,"~"]
["SA37",2025,"Choose",495,null,null,null,null,null,null,null,null,null,null,null,null,null,null,null,null,null,null,"~"]
["SA37",{"$f":"+MTREF","v":2025},{"$f":"LEFT(muni,(FIND(\" \",muni,1)-1))","v":"Choose"},496,null,null,null,null,null,null,null,null,null,null,null,null,null,null,null,null,null,null,"~"]
["SA37",2025,"Choose",497,null,null,null,null,null,null,null,null,null,null,null,null,null,null,null,null,null,null,"~"]
["SA37",2025,"Choose",498,null,null,null,null,null,null,null,null,null,null,null,null,null,null,null,null,null,null,"~"]
["SA37",2025,"Choose",499,null,null,null,null,null,null,null,null,null,null,null,null,null,null,null,null,null,null,"~"]
["SA37",2025,"Choose",500,null,null,null,null,null,null,null,null,null,null,null,null,null,null,null,null,null,null,"~"]
["SA37",2025,"Choose",501,null,null,null,null,null,null,null,null,null,null,null,null,null,null,null,null,null,null,"~"]
["SA37",2025,"Choose",502,null,null,null,null,null,null,null,null,null,null,null,null,null,null,null,null,null,null,"~"]
["SA37",2025,"Choose",503,null,null,null,null,null,null,null,null,null,null,null,null,null,null,null,null,null,null,"~"]
["SA37",2025,"Choose",504,null,null,null,null,null,null,null,null,null,null,null,null,null,null,null,null,null,null,"~"]
["SA37",2025,"Choose",505,null,null,null,null,null,null,null,null,null,null,null,null,null,null,null,null,null,null,"~"]
["SA37",2025,"Choose",506,null,null,null,null,null,null,null,null,null,null,null,null,null,null,null,null,null,null,"~"]
["SA37",2025,"Choose",507,null,null,null,null,null,null,null,null,null,null,null,null,null,null,null,null,null,null,"~"]
["SA37",2025,"Choose",508,null,null,null,null,null,null,null,null,null,null,null,null,null,null,null,null,null,null,"~"]
["SA37",2025,"Choose",509,null,null,null,null,null,null,null,null,null,null,null,null,null,null,null,null,null,null,"~"]
["SA37",2025,"Choose",510,null,null,null,null,null,null,null,null,null,null,null,null,null,null,null,null,null,null,"~"]
["SA37",2025,"Choose",511,null,null,null,null,null,null,null,null,null,null,null,null,null,null,null,null,null,null,"~"]
["SA37",2025,"Choose",512,null,null,null,null,null,null,null,null,null,null,null,null,null,null,null,null,null,null,"~"]
["SA37",2025,"Choose",513,null,null,null,null,null,null,null,null,null,null,null,null,null,null,null,null,null,null,"~"]
["SA37",2025,"Choose",514,null,null,null,null,null,null,null,null,null,null,null,null,null,null,null,null,null,null,"~"]
["SA37",2025,"Choose",515,null,null,null,null,null,null,null,null,null,null,null,null,null,null,null,null,null,null,"~"]
["SA37",2025,"Choose",516,null,null,null,null,null,null,null,null,null,null,null,null,null,null,null,null,null,null,"~"]
["SA37",2025,"Choose",517,null,null,null,null,null,null,null,null,null,null,null,null,null,null,null,null,null,null,"~"]
["SA37",2025,"Choose",518,null,null,null,null,null,null,null,null,null,null,null,null,null,null,null,null,null,null,"~"]
["SA37",2025,"Choose",519,null,null,null,null,null,null,null,null,null,null,null,null,null,null,null,null,null,null,"~"]
["SA37",2025,"Choose",520,null,null,null,null,null,null,null,null,null,null,null,null,null,null,null,null,null,null,"~"]
["SA37",2025,"Choose",521,null,null,null,null,null,null,null,null,null,null,null,null,null,null,null,null,null,null,"~"]
["SA37",2025,"Choose",522,null,null,null,null,null,null,null,null,null,null,null,null,null,null,null,null,null,null,"~"]
["SA37",2025,"Choose",523,null,null,null,null,null,null,null,null,null,null,null,null,null,null,null,null,null,null,"~"]
["SA37",2025,"Choose",524,null,null,null,null,null,null,null,null,null,null,null,null,null,null,null,null,null,null,"~"]
["SA37",2025,"Choose",525,null,null,null,null,null,null,null,null,null,null,null,null,null,null,null,null,null,null,"~"]
["SA37",2025,"Choose",526,null,null,null,null,null,null,null,null,null,null,null,null,null,null,null,null,null,null,"~"]
["SA37",2025,"Choose",527,null,null,null,null,null,null,null,null,null,null,null,null,null,null,null,null,null,null,"~"]
["SA37",2025,"Choose",528,null,null,null,null,null,null,null,null,null,null,null,null,null,null,null,null,null,null,"~"]
["SA37",2025,"Choose",529,null,null,null,null,null,null,null,null,null,null,null,null,null,null,null,null,null,null,"~"]
["SA37",2025,"Choose",530,null,null,null,null,null,null,null,null,null,null,null,null,null,null,null,null,null,null,"~"]
["SA37",2025,"Choose",531,null,null,null,null,null,null,null,null,null,null,null,null,null,null,null,null,null,null,"~"]
["SA37",2025,"Choose",532,null,null,null,null,null,null,null,null,null,null,null,null,null,null,null,null,null,null,"~"]
["SA37",2025,"Choose",533,null,null,null,null,null,null,null,null,null,null,null,null,null,null,null,null,null,null,"~"]
["SA37",2025,"Choose",534,null,null,null,null,null,null,null,null,null,null,null,null,null,null,null,null,null,null,"~"]
["SA37",2025,"Choose",535,null,null,null,null,null,null,null,null,null,null,null,null,null,null,null,null,null,null,"~"]
["SA37",2025,"Choose",536,null,null,null,null,null,null,null,null,null,null,null,null,null,null,null,null,null,null,"~"]
["SA37",2025,"Choose",537,null,null,null,null,null,null,null,null,null,null,null,null,null,null,null,null,null,null,"~"]
["SA37",2025,"Choose",538,null,null,null,null,null,null,null,null,null,null,null,null,null,null,null,null,null,null,"~"]
["SA37",2025,"Choose",539,null,null,null,null,null,null,null,null,null,null,null,null,null,null,null,null,null,null,"~"]
["SA37",2025,"Choose",540,null,null,null,null,null,null,null,null,null,null,null,null,null,null,null,null,null,null,"~"]
["SA37",2025,"Choose",541,null,null,null,null,null,null,null,null,null,null,null,null,null,null,null,null,null,null,"~"]
["SA37",2025,"Choose",542,null,null,null,null,null,null,null,null,null,null,null,null,null,null,null,null,null,null,"~"]
["SA37",2025,"Choose",543,null,null,null,null,null,null,null,null,null,null,null,null,null,null,null,null,null,null,"~"]
["SA37",2025,"Choose",544,null,null,null,null,null,null,null,null,null,null,null,null,null,null,null,null,null,null,"~"]
["SA37",2025,"Choose",545,null,null,null,null,null,null,null,null,null,null,null,null,null,null,null,null,null,null,"~"]
["SA37",2025,"Choose",546,null,null,null,null,null,null,null,null,null,null,null,null,null,null,null,null,null,null,"~"]
["SA37",2025,"Choose",547,null,null,null,null,null,null,null,null,null,null,null,null,null,null,null,null,null,null,"~"]
["SA37",2025,"Choose",548,null,null,null,null,null,null,null,null,null,null,null,null,null,null,null,null,null,null,"~"]
["SA37",2025,"Choose",549,null,null,null,null,null,null,null,null,null,null,null,null,null,null,null,null,null,null,"~"]
["SA37",2025,"Choose",550,null,null,null,null,null,null,null,null,null,null,null,null,null,null,null,null,null,null,"~"]
["SA37",2025,"Choose",551,null,null,null,null,null,null,null,null,null,null,null,null,null,null,null,null,null,null,"~"]
["SA37",2025,"Choose",552,null,null,null,null,null,null,null,null,null,null,null,null,null,null,null,null,null,null,"~"]
["SA37",2025,"Choose",553,null,null,null,null,null,null,null,null,null,null,null,null,null,null,null,null,null,null,"~"]
["SA37",2025,"Choose",554,null,null,null,null,null,null,null,null,null,null,null,null,null,null,null,null,null,null,"~"]
["SA37",2025,"Choose",555,null,null,null,null,null,null,null,null,null,null,null,null,null,null,null,null,null,null,"~"]
["SA37",2025,"Choose",556,null,null,null,null,null,null,null,null,null,null,null,null,null,null,null,null,null,null,"~"]
["SA37",2025,"Choose",557,null,null,null,null,null,null,null,null,null,null,null,null,null,null,null,null,null,null,"~"]
["SA37",2025,"Choose",558,null,null,null,null,null,null,null,null,null,null,null,null,null,null,null,null,null,null,"~"]
["SA37",2025,"Choose",559,null,null,null,null,null,null,null,null,null,null,null,null,null,null,null,null,null,null,"~"]
["SA37",{"$f":"+MTREF","v":2025},{"$f":"LEFT(muni,(FIND(\" \",muni,1)-1))","v":"Choose"},560,null,null,null,null,null,null,null,null,null,null,null,null,null,null,null,null,null,null,"~"]
["SA37",2025,"Choose",561,null,null,null,null,null,null,null,null,null,null,null,null,null,null,null,null,null,null,"~"]
["SA37",2025,"Choose",562,null,null,null,null,null,null,null,null,null,null,null,null,null,null,null,null,null,null,"~"]
["SA37",2025,"Choose",563,null,null,null,null,null,null,null,null,null,null,null,null,null,null,null,null,null,null,"~"]
["SA37",2025,"Choose",564,null,null,null,null,null,null,null,null,null,null,null,null,null,null,null,null,null,null,"~"]
["SA37",2025,"Choose",565,null,null,null,null,null,null,null,null,null,null,null,null,null,null,null,null,null,null,"~"]
["SA37",2025,"Choose",566,null,null,null,null,null,null,null,null,null,null,null,null,null,null,null,null,null,null,"~"]
["SA37",2025,"Choose",567,null,null,null,null,null,null,null,null,null,null,null,null,null,null,null,null,null,null,"~"]
["SA37",2025,"Choose",568,null,null,null,null,null,null,null,null,null,null,null,null,null,null,null,null,null,null,"~"]
["SA37",2025,"Choose",569,null,null,null,null,null,null,null,null,null,null,null,null,null,null,null,null,null,null,"~"]
["SA37",2025,"Choose",570,null,null,null,null,null,null,null,null,null,null,null,null,null,null,null,null,null,null,"~"]
["SA37",2025,"Choose",571,null,null,null,null,null,null,null,null,null,null,null,null,null,null,null,null,null,null,"~"]
["SA37",2025,"Choose",572,null,null,null,null,null,null,null,null,null,null,null,null,null,null,null,null,null,null,"~"]
["SA37",2025,"Choose",573,null,null,null,null,null,null,null,null,null,null,null,null,null,null,null,null,null,null,"~"]
["SA37",2025,"Choose",574,null,null,null,null,null,null,null,null,null,null,null,null,null,null,null,null,null,null,"~"]
["SA37",2025,"Choose",575,null,null,null,null,null,null,null,null,null,null,null,null,null,null,null,null,null,null,"~"]
["SA37",2025,"Choose",576,null,null,null,null,null,null,null,null,null,null,null,null,null,null,null,null,null,null,"~"]
["SA37",2025,"Choose",577,null,null,null,null,null,null,null,null,null,null,null,null,null,null,null,null,null,null,"~"]
["SA37",2025,"Choose",578,null,null,null,null,null,null,null,null,null,null,null,null,null,null,null,null,null,null,"~"]
["SA37",2025,"Choose",579,null,null,null,null,null,null,null,null,null,null,null,null,null,null,null,null,null,null,"~"]
["SA37",2025,"Choose",580,null,null,null,null,null,null,null,null,null,null,null,null,null,null,null,null,null,null,"~"]
["SA37",2025,"Choose",581,null,null,null,null,null,null,null,null,null,null,null,null,null,null,null,null,null,null,"~"]
["SA37",2025,"Choose",582,null,null,null,null,null,null,null,null,null,null,null,null,null,null,null,null,null,null,"~"]
["SA37",2025,"Choose",583,null,null,null,null,null,null,null,null,null,null,null,null,null,null,null,null,null,null,"~"]
["SA37",2025,"Choose",584,null,null,null,null,null,null,null,null,null,null,null,null,null,null,null,null,null,null,"~"]
["SA37",2025,"Choose",585,null,null,null,null,null,null,null,null,null,null,null,null,null,null,null,null,null,null,"~"]
["SA37",2025,"Choose",586,null,null,null,null,null,null,null,null,null,null,null,null,null,null,null,null,null,null,"~"]
["SA37",2025,"Choose",587,null,null,null,null,null,null,null,null,null,null,null,null,null,null,null,null,null,null,"~"]
["SA37",2025,"Choose",588,null,null,null,null,null,null,null,null,null,null,null,null,null,null,null,null,null,null,"~"]
["SA37",2025,"Choose",589,null,null,null,null,null,null,null,null,null,null,null,null,null,null,null,null,null,null,"~"]
["SA37",2025,"Choose",590,null,null,null,null,null,null,null,null,null,null,null,null,null,null,null,null,null,null,"~"]
["SA37",2025,"Choose",591,null,null,null,null,null,null,null,null,null,null,null,null,null,null,null,null,null,null,"~"]
["SA37",2025,"Choose",592,null,null,null,null,null,null,null,null,null,null,null,null,null,null,null,null,null,null,"~"]
["SA37",2025,"Choose",593,null,null,null,null,null,null,null,null,null,null,null,null,null,null,null,null,null,null,"~"]
["SA37",2025,"Choose",594,null,null,null,null,null,null,null,null,null,null,null,null,null,null,null,null,null,null,"~"]
["SA37",2025,"Choose",595,null,null,null,null,null,null,null,null,null,null,null,null,null,null,null,null,null,null,"~"]
["SA37",2025,"Choose",596,null,null,null,null,null,null,null,null,null,null,null,null,null,null,null,null,null,null,"~"]
["SA37",2025,"Choose",597,null,null,null,null,null,null,null,null,null,null,null,null,null,null,null,null,null,null,"~"]
["SA37",2025,"Choose",598,null,null,null,null,null,null,null,null,null,null,null,null,null,null,null,null,null,null,"~"]
["SA37",2025,"Choose",599,null,null,null,null,null,null,null,null,null,null,null,null,null,null,null,null,null,null,"~"]
["SA37",2025,"Choose",600,null,null,null,null,null,null,null,null,null,null,null,null,null,null,null,null,null,null,"~"]
["SA37",2025,"Choose",601,null,null,null,null,null,null,null,null,null,null,null,null,null,null,null,null,null,null,"~"]
["SA37",2025,"Choose",602,null,null,null,null,null,null,null,null,null,null,null,null,null,null,null,null,null,null,"~"]
["SA37",2025,"Choose",603,null,null,null,null,null,null,null,null,null,null,null,null,null,null,null,null,null,null,"~"]
["SA37",2025,"Choose",604,null,null,null,null,null,null,null,null,null,null,null,null,null,null,null,null,null,null,"~"]
["SA37",2025,"Choose",605,null,null,null,null,null,null,null,null,null,null,null,null,null,null,null,null,null,null,"~"]
["SA37",2025,"Choose",606,null,null,null,null,null,null,null,null,null,null,null,null,null,null,null,null,null,null,"~"]
["SA37",2025,"Choose",607,null,null,null,null,null,null,null,null,null,null,null,null,null,null,null,null,null,null,"~"]
["SA37",2025,"Choose",608,null,null,null,null,null,null,null,null,null,null,null,null,null,null,null,null,null,null,"~"]
["SA37",2025,"Choose",609,null,null,null,null,null,null,null,null,null,null,null,null,null,null,null,null,null,null,"~"]
["SA37",2025,"Choose",610,null,null,null,null,null,null,null,null,null,null,null,null,null,null,null,null,null,null,"~"]
["SA37",2025,"Choose",611,null,null,null,null,null,null,null,null,null,null,null,null,null,null,null,null,null,null,"~"]
["SA37",2025,"Choose",612,null,null,null,null,null,null,null,null,null,null,null,null,null,null,null,null,null,null,"~"]
["SA37",2025,"Choose",613,null,null,null,null,null,null,null,null,null,null,null,null,null,null,null,null,null,null,"~"]
["SA37",2025,"Choose",614,null,null,null,null,null,null,null,null,null,null,null,null,null,null,null,null,null,null,"~"]
["SA37",2025,"Choose",615,null,null,null,null,null,null,null,null,null,null,null,null,null,null,null,null,null,null,"~"]
["SA37",2025,"Choose",616,null,null,null,null,null,null,null,null,null,null,null,null,null,null,null,null,null,null,"~"]
["SA37",2025,"Choose",617,null,null,null,null,null,null,null,null,null,null,null,null,null,null,null,null,null,null,"~"]
["SA37",2025,"Choose",618,null,null,null,null,null,null,null,null,null,null,null,null,null,null,null,null,null,null,"~"]
["SA37",2025,"Choose",619,null,null,null,null,null,null,null,null,null,null,null,null,null,null,null,null,null,null,"~"]
["SA37",2025,"Choose",620,null,null,null,null,null,null,null,null,null,null,null,null,null,null,null,null,null,null,"~"]
["SA37",2025,"Choose",621,null,null,null,null,null,null,null,null,null,null,null,null,null,null,null,null,null,null,"~"]
["SA37",2025,"Choose",622,null,null,null,null,null,null,null,null,null,null,null,null,null,null,null,null,null,null,"~"]
["SA37",2025,"Choose",623,null,null,null,null,null,null,null,null,null,null,null,null,null,null,null,null,null,null,"~"]
["SA37",{"$f":"+MTREF","v":2025},{"$f":"LEFT(muni,(FIND(\" \",muni,1)-1))","v":"Choose"},624,null,null,null,null,null,null,null,null,null,null,null,null,null,null,null,null,null,null,"~"]
["SA37",2025,"Choose",625,null,null,null,null,null,null,null,null,null,null,null,null,null,null,null,null,null,null,"~"]
["SA37",2025,"Choose",626,null,null,null,null,null,null,null,null,null,null,null,null,null,null,null,null,null,null,"~"]
["SA37",2025,"Choose",627,null,null,null,null,null,null,null,null,null,null,null,null,null,null,null,null,null,null,"~"]
["SA37",2025,"Choose",628,null,null,null,null,null,null,null,null,null,null,null,null,null,null,null,null,null,null,"~"]
["SA37",2025,"Choose",629,null,null,null,null,null,null,null,null,null,null,null,null,null,null,null,null,null,null,"~"]
["SA37",2025,"Choose",630,null,null,null,null,null,null,null,null,null,null,null,null,null,null,null,null,null,null,"~"]
["SA37",2025,"Choose",631,null,null,null,null,null,null,null,null,null,null,null,null,null,null,null,null,null,null,"~"]
["SA37",2025,"Choose",632,null,null,null,null,null,null,null,null,null,null,null,null,null,null,null,null,null,null,"~"]
["SA37",2025,"Choose",633,null,null,null,null,null,null,null,null,null,null,null,null,null,null,null,null,null,null,"~"]
["SA37",2025,"Choose",634,null,null,null,null,null,null,null,null,null,null,null,null,null,null,null,null,null,null,"~"]
["SA37",2025,"Choose",635,null,null,null,null,null,null,null,null,null,null,null,null,null,null,null,null,null,null,"~"]
["SA37",2025,"Choose",636,null,null,null,null,null,null,null,null,null,null,null,null,null,null,null,null,null,null,"~"]
["SA37",2025,"Choose",637,null,null,null,null,null,null,null,null,null,null,null,null,null,null,null,null,null,null,"~"]
["SA37",2025,"Choose",638,null,null,null,null,null,null,null,null,null,null,null,null,null,null,null,null,null,null,"~"]
["SA37",2025,"Choose",639,null,null,null,null,null,null,null,null,null,null,null,null,null,null,null,null,null,null,"~"]
["SA37",2025,"Choose",640,null,null,null,null,null,null,null,null,null,null,null,null,null,null,null,null,null,null,"~"]
["SA37",2025,"Choose",641,null,null,null,null,null,null,null,null,null,null,null,null,null,null,null,null,null,null,"~"]
["SA37",2025,"Choose",642,null,null,null,null,null,null,null,null,null,null,null,null,null,null,null,null,null,null,"~"]
["SA37",2025,"Choose",643,null,null,null,null,null,null,null,null,null,null,null,null,null,null,null,null,null,null,"~"]
["SA37",2025,"Choose",644,null,null,null,null,null,null,null,null,null,null,null,null,null,null,null,null,null,null,"~"]
["SA37",2025,"Choose",645,null,null,null,null,null,null,null,null,null,null,null,null,null,null,null,null,null,null,"~"]
["SA37",2025,"Choose",646,null,null,null,null,null,null,null,null,null,null,null,null,null,null,null,null,null,null,"~"]
["SA37",2025,"Choose",647,null,null,null,null,null,null,null,null,null,null,null,null,null,null,null,null,null,null,"~"]
["SA37",2025,"Choose",648,null,null,null,null,null,null,null,null,null,null,null,null,null,null,null,null,null,null,"~"]
["SA37",2025,"Choose",649,null,null,null,null,null,null,null,null,null,null,null,null,null,null,null,null,null,null,"~"]
["SA37",2025,"Choose",650,null,null,null,null,null,null,null,null,null,null,null,null,null,null,null,null,null,null,"~"]
["SA37",2025,"Choose",651,null,null,null,null,null,null,null,null,null,null,null,null,null,null,null,null,null,null,"~"]
["SA37",2025,"Choose",652,null,null,null,null,null,null,null,null,null,null,null,null,null,null,null,null,null,null,"~"]
["SA37",2025,"Choose",653,null,null,null,null,null,null,null,null,null,null,null,null,null,null,null,null,null,null,"~"]
["SA37",2025,"Choose",654,null,null,null,null,null,null,null,null,null,null,null,null,null,null,null,null,null,null,"~"]
["SA37",2025,"Choose",655,null,null,null,null,null,null,null,null,null,null,null,null,null,null,null,null,null,null,"~"]
["SA37",2025,"Choose",656,null,null,null,null,null,null,null,null,null,null,null,null,null,null,null,null,null,null,"~"]
["SA37",2025,"Choose",657,null,null,null,null,null,null,null,null,null,null,null,null,null,null,null,null,null,null,"~"]
["SA37",2025,"Choose",658,null,null,null,null,null,null,null,null,null,null,null,null,null,null,null,null,null,null,"~"]
["SA37",2025,"Choose",659,null,null,null,null,null,null,null,null,null,null,null,null,null,null,null,null,null,null,"~"]
["SA37",2025,"Choose",660,null,null,null,null,null,null,null,null,null,null,null,null,null,null,null,null,null,null,"~"]
["SA37",2025,"Choose",661,null,null,null,null,null,null,null,null,null,null,null,null,null,null,null,null,null,null,"~"]
["SA37",2025,"Choose",662,null,null,null,null,null,null,null,null,null,null,null,null,null,null,null,null,null,null,"~"]
["SA37",2025,"Choose",663,null,null,null,null,null,null,null,null,null,null,null,null,null,null,null,null,null,null,"~"]
["SA37",2025,"Choose",664,null,null,null,null,null,null,null,null,null,null,null,null,null,null,null,null,null,null,"~"]
["SA37",2025,"Choose",665,null,null,null,null,null,null,null,null,null,null,null,null,null,null,null,null,null,null,"~"]
["SA37",2025,"Choose",666,null,null,null,null,null,null,null,null,null,null,null,null,null,null,null,null,null,null,"~"]
["SA37",2025,"Choose",667,null,null,null,null,null,null,null,null,null,null,null,null,null,null,null,null,null,null,"~"]
["SA37",2025,"Choose",668,null,null,null,null,null,null,null,null,null,null,null,null,null,null,null,null,null,null,"~"]
["SA37",2025,"Choose",669,null,null,null,null,null,null,null,null,null,null,null,null,null,null,null,null,null,null,"~"]
["SA37",2025,"Choose",670,null,null,null,null,null,null,null,null,null,null,null,null,null,null,null,null,null,null,"~"]
["SA37",2025,"Choose",671,null,null,null,null,null,null,null,null,null,null,null,null,null,null,null,null,null,null,"~"]
["SA37",2025,"Choose",672,null,null,null,null,null,null,null,null,null,null,null,null,null,null,null,null,null,null,"~"]
["SA37",2025,"Choose",673,null,null,null,null,null,null,null,null,null,null,null,null,null,null,null,null,null,null,"~"]
["SA37",2025,"Choose",674,null,null,null,null,null,null,null,null,null,null,null,null,null,null,null,null,null,null,"~"]
["SA37",2025,"Choose",675,null,null,null,null,null,null,null,null,null,null,null,null,null,null,null,null,null,null,"~"]
["SA37",2025,"Choose",676,null,null,null,null,null,null,null,null,null,null,null,null,null,null,null,null,null,null,"~"]
["SA37",2025,"Choose",677,null,null,null,null,null,null,null,null,null,null,null,null,null,null,null,null,null,null,"~"]
["SA37",2025,"Choose",678,null,null,null,null,null,null,null,null,null,null,null,null,null,null,null,null,null,null,"~"]
["SA37",2025,"Choose",679,null,null,null,null,null,null,null,null,null,null,null,null,null,null,null,null,null,null,"~"]
["SA37",2025,"Choose",680,null,null,null,null,null,null,null,null,null,null,null,null,null,null,null,null,null,null,"~"]
["SA37",2025,"Choose",681,null,null,null,null,null,null,null,null,null,null,null,null,null,null,null,null,null,null,"~"]
["SA37",2025,"Choose",682,null,null,null,null,null,null,null,null,null,null,null,null,null,null,null,null,null,null,"~"]
["SA37",2025,"Choose",683,null,null,null,null,null,null,null,null,null,null,null,null,null,null,null,null,null,null,"~"]
["SA37",2025,"Choose",684,null,null,null,null,null,null,null,null,null,null,null,null,null,null,null,null,null,null,"~"]
["SA37",2025,"Choose",685,null,null,null,null,null,null,null,null,null,null,null,null,null,null,null,null,null,null,"~"]
["SA37",2025,"Choose",686,null,null,null,null,null,null,null,null,null,null,null,null,null,null,null,null,null,null,"~"]
["SA37",2025,"Choose",687,null,null,null,null,null,null,null,null,null,null,null,null,null,null,null,null,null,null,"~"]
["SA37",{"$f":"+MTREF","v":2025},{"$f":"LEFT(muni,(FIND(\" \",muni,1)-1))","v":"Choose"},688,null,null,null,null,null,null,null,null,null,null,null,null,null,null,null,null,null,null,"~"]
["SA37",2025,"Choose",689,null,null,null,null,null,null,null,null,null,null,null,null,null,null,null,null,null,null,"~"]
["SA37",2025,"Choose",690,null,null,null,null,null,null,null,null,null,null,null,null,null,null,null,null,null,null,"~"]
["SA37",2025,"Choose",691,null,null,null,null,null,null,null,null,null,null,null,null,null,null,null,null,null,null,"~"]
["SA37",2025,"Choose",692,null,null,null,null,null,null,null,null,null,null,null,null,null,null,null,null,null,null,"~"]
["SA37",2025,"Choose",693,null,null,null,null,null,null,null,null,null,null,null,null,null,null,null,null,null,null,"~"]
["SA37",2025,"Choose",694,null,null,null,null,null,null,null,null,null,null,null,null,null,null,null,null,null,null,"~"]
["SA37",2025,"Choose",695,null,null,null,null,null,null,null,null,null,null,null,null,null,null,null,null,null,null,"~"]
["SA37",2025,"Choose",696,null,null,null,null,null,null,null,null,null,null,null,null,null,null,null,null,null,null,"~"]
["SA37",2025,"Choose",697,null,null,null,null,null,null,null,null,null,null,null,null,null,null,null,null,null,null,"~"]
["SA37",2025,"Choose",698,null,null,null,null,null,null,null,null,null,null,null,null,null,null,null,null,null,null,"~"]
["SA37",2025,"Choose",699,null,null,null,null,null,null,null,null,null,null,null,null,null,null,null,null,null,null,"~"]
["SA37",2025,"Choose",700,null,null,null,null,null,null,null,null,null,null,null,null,null,null,null,null,null,null,"~"]
["SA37",2025,"Choose",701,null,null,null,null,null,null,null,null,null,null,null,null,null,null,null,null,null,null,"~"]
["SA37",2025,"Choose",702,null,null,null,null,null,null,null,null,null,null,null,null,null,null,null,null,null,null,"~"]
["SA37",2025,"Choose",703,null,null,null,null,null,null,null,null,null,null,null,null,null,null,null,null,null,null,"~"]
["SA37",2025,"Choose",704,null,null,null,null,null,null,null,null,null,null,null,null,null,null,null,null,null,null,"~"]
["SA37",2025,"Choose",705,null,null,null,null,null,null,null,null,null,null,null,null,null,null,null,null,null,null,"~"]
["SA37",2025,"Choose",706,null,null,null,null,null,null,null,null,null,null,null,null,null,null,null,null,null,null,"~"]
["SA37",2025,"Choose",707,null,null,null,null,null,null,null,null,null,null,null,null,null,null,null,null,null,null,"~"]
["SA37",2025,"Choose",708,null,null,null,null,null,null,null,null,null,null,null,null,null,null,null,null,null,null,"~"]
["SA37",2025,"Choose",709,null,null,null,null,null,null,null,null,null,null,null,null,null,null,null,null,null,null,"~"]
["SA37",2025,"Choose",710,null,null,null,null,null,null,null,null,null,null,null,null,null,null,null,null,null,null,"~"]
["SA37",2025,"Choose",711,null,null,null,null,null,null,null,null,null,null,null,null,null,null,null,null,null,null,"~"]
["SA37",2025,"Choose",712,null,null,null,null,null,null,null,null,null,null,null,null,null,null,null,null,null,null,"~"]
["SA37",2025,"Choose",713,null,null,null,null,null,null,null,null,null,null,null,null,null,null,null,null,null,null,"~"]
["SA37",2025,"Choose",714,null,null,null,null,null,null,null,null,null,null,null,null,null,null,null,null,null,null,"~"]
["SA37",2025,"Choose",715,null,null,null,null,null,null,null,null,null,null,null,null,null,null,null,null,null,null,"~"]
["SA37",2025,"Choose",716,null,null,null,null,null,null,null,null,null,null,null,null,null,null,null,null,null,null,"~"]
["SA37",2025,"Choose",717,null,null,null,null,null,null,null,null,null,null,null,null,null,null,null,null,null,null,"~"]
["SA37",2025,"Choose",718,null,null,null,null,null,null,null,null,null,null,null,null,null,null,null,null,null,null,"~"]
["SA37",2025,"Choose",719,null,null,null,null,null,null,null,null,null,null,null,null,null,null,null,null,null,null,"~"]
["SA37",2025,"Choose",720,null,null,null,null,null,null,null,null,null,null,null,null,null,null,null,null,null,null,"~"]
["SA37",2025,"Choose",721,null,null,null,null,null,null,null,null,null,null,null,null,null,null,null,null,null,null,"~"]
["SA37",2025,"Choose",722,null,null,null,null,null,null,null,null,null,null,null,null,null,null,null,null,null,null,"~"]
["SA37",2025,"Choose",723,null,null,null,null,null,null,null,null,null,null,null,null,null,null,null,null,null,null,"~"]
["SA37",2025,"Choose",724,null,null,null,null,null,null,null,null,null,null,null,null,null,null,null,null,null,null,"~"]
["SA37",2025,"Choose",725,null,null,null,null,null,null,null,null,null,null,null,null,null,null,null,null,null,null,"~"]
["SA37",2025,"Choose",726,null,null,null,null,null,null,null,null,null,null,null,null,null,null,null,null,null,null,"~"]
["SA37",2025,"Choose",727,null,null,null,null,null,null,null,null,null,null,null,null,null,null,null,null,null,null,"~"]
["SA37",2025,"Choose",728,null,null,null,null,null,null,null,null,null,null,null,null,null,null,null,null,null,null,"~"]
["SA37",2025,"Choose",729,null,null,null,null,null,null,null,null,null,null,null,null,null,null,null,null,null,null,"~"]
["SA37",2025,"Choose",730,null,null,null,null,null,null,null,null,null,null,null,null,null,null,null,null,null,null,"~"]
["SA37",2025,"Choose",731,null,null,null,null,null,null,null,null,null,null,null,null,null,null,null,null,null,null,"~"]
["SA37",2025,"Choose",732,null,null,null,null,null,null,null,null,null,null,null,null,null,null,null,null,null,null,"~"]
["SA37",2025,"Choose",733,null,null,null,null,null,null,null,null,null,null,null,null,null,null,null,null,null,null,"~"]
["SA37",2025,"Choose",734,null,null,null,null,null,null,null,null,null,null,null,null,null,null,null,null,null,null,"~"]
["SA37",2025,"Choose",735,null,null,null,null,null,null,null,null,null,null,null,null,null,null,null,null,null,null,"~"]
["SA37",2025,"Choose",736,null,null,null,null,null,null,null,null,null,null,null,null,null,null,null,null,null,null,"~"]
["SA37",2025,"Choose",737,null,null,null,null,null,null,null,null,null,null,null,null,null,null,null,null,null,null,"~"]
["SA37",2025,"Choose",738,null,null,null,null,null,null,null,null,null,null,null,null,null,null,null,null,null,null,"~"]
["SA37",2025,"Choose",739,null,null,null,null,null,null,null,null,null,null,null,null,null,null,null,null,null,null,"~"]
["SA37",2025,"Choose",740,null,null,null,null,null,null,null,null,null,null,null,null,null,null,null,null,null,null,"~"]
["SA37",2025,"Choose",741,null,null,null,null,null,null,null,null,null,null,null,null,null,null,null,null,null,null,"~"]
["SA37",2025,"Choose",742,null,null,null,null,null,null,null,null,null,null,null,null,null,null,null,null,null,null,"~"]
["SA37",2025,"Choose",743,null,null,null,null,null,null,null,null,null,null,null,null,null,null,null,null,null,null,"~"]
["SA37",2025,"Choose",744,null,null,null,null,null,null,null,null,null,null,null,null,null,null,null,null,null,null,"~"]
["SA37",2025,"Choose",745,null,null,null,null,null,null,null,null,null,null,null,null,null,null,null,null,null,null,"~"]
["SA37",2025,"Choose",746,null,null,null,null,null,null,null,null,null,null,null,null,null,null,null,null,null,null,"~"]
["SA37",2025,"Choose",747,null,null,null,null,null,null,null,null,null,null,null,null,null,null,null,null,null,null,"~"]
["SA37",2025,"Choose",748,null,null,null,null,null,null,null,null,null,null,null,null,null,null,null,null,null,null,"~"]
["SA37",2025,"Choose",749,null,null,null,null,null,null,null,null,null,null,null,null,null,null,null,null,null,null,"~"]
["SA37",2025,"Choose",750,null,null,null,null,null,null,null,null,null,null,null,null,null,null,null,null,null,null,"~"]
["SA37",2025,"Choose",751,null,null,null,null,null,null,null,null,null,null,null,null,null,null,null,null,null,null,"~"]
["SA37",{"$f":"+MTREF","v":2025},{"$f":"LEFT(muni,(FIND(\" \",muni,1)-1))","v":"Choose"},752,null,null,null,null,null,null,null,null,null,null,null,null,null,null,null,null,null,null,"~"]
["SA37",2025,"Choose",753,null,null,null,null,null,null,null,null,null,null,null,null,null,null,null,null,null,null,"~"]
["SA37",2025,"Choose",754,null,null,null,null,null,null,null,null,null,null,null,null,null,null,null,null,null,null,"~"]
["SA37",2025,"Choose",755,null,null,null,null,null,null,null,null,null,null,null,null,null,null,null,null,null,null,"~"]
["SA37",2025,"Choose",756,null,null,null,null,null,null,null,null,null,null,null,null,null,null,null,null,null,null,"~"]
["SA37",2025,"Choose",757,null,null,null,null,null,null,null,null,null,null,null,null,null,null,null,null,null,null,"~"]
["SA37",2025,"Choose",758,null,null,null,null,null,null,null,null,null,null,null,null,null,null,null,null,null,null,"~"]
["SA37",2025,"Choose",759,null,null,null,null,null,null,null,null,null,null,null,null,null,null,null,null,null,null,"~"]
["SA37",2025,"Choose",760,null,null,null,null,null,null,null,null,null,null,null,null,null,null,null,null,null,null,"~"]
["SA37",2025,"Choose",761,null,null,null,null,null,null,null,null,null,null,null,null,null,null,null,null,null,null,"~"]
["SA37",2025,"Choose",762,null,null,null,null,null,null,null,null,null,null,null,null,null,null,null,null,null,null,"~"]
["SA37",2025,"Choose",763,null,null,null,null,null,null,null,null,null,null,null,null,null,null,null,null,null,null,"~"]
["SA37",2025,"Choose",764,null,null,null,null,null,null,null,null,null,null,null,null,null,null,null,null,null,null,"~"]
["SA37",2025,"Choose",765,null,null,null,null,null,null,null,null,null,null,null,null,null,null,null,null,null,null,"~"]
["SA37",2025,"Choose",766,null,null,null,null,null,null,null,null,null,null,null,null,null,null,null,null,null,null,"~"]
["SA37",2025,"Choose",767,null,null,null,null,null,null,null,null,null,null,null,null,null,null,null,null,null,null,"~"]
["SA37",2025,"Choose",768,null,null,null,null,null,null,null,null,null,null,null,null,null,null,null,null,null,null,"~"]
["SA37",2025,"Choose",769,null,null,null,null,null,null,null,null,null,null,null,null,null,null,null,null,null,null,"~"]
["SA37",2025,"Choose",770,null,null,null,null,null,null,null,null,null,null,null,null,null,null,null,null,null,null,"~"]
["SA37",2025,"Choose",771,null,null,null,null,null,null,null,null,null,null,null,null,null,null,null,null,null,null,"~"]
["SA37",2025,"Choose",772,null,null,null,null,null,null,null,null,null,null,null,null,null,null,null,null,null,null,"~"]
["SA37",2025,"Choose",773,null,null,null,null,null,null,null,null,null,null,null,null,null,null,null,null,null,null,"~"]
["SA37",2025,"Choose",774,null,null,null,null,null,null,null,null,null,null,null,null,null,null,null,null,null,null,"~"]
["SA37",2025,"Choose",775,null,null,null,null,null,null,null,null,null,null,null,null,null,null,null,null,null,null,"~"]
["SA37",2025,"Choose",776,null,null,null,null,null,null,null,null,null,null,null,null,null,null,null,null,null,null,"~"]
["SA37",2025,"Choose",777,null,null,null,null,null,null,null,null,null,null,null,null,null,null,null,null,null,null,"~"]
["SA37",2025,"Choose",778,null,null,null,null,null,null,null,null,null,null,null,null,null,null,null,null,null,null,"~"]
["SA37",2025,"Choose",779,null,null,null,null,null,null,null,null,null,null,null,null,null,null,null,null,null,null,"~"]
["SA37",2025,"Choose",780,null,null,null,null,null,null,null,null,null,null,null,null,null,null,null,null,null,null,"~"]
["SA37",2025,"Choose",781,null,null,null,null,null,null,null,null,null,null,null,null,null,null,null,null,null,null,"~"]
["SA37",2025,"Choose",782,null,null,null,null,null,null,null,null,null,null,null,null,null,null,null,null,null,null,"~"]
["SA37",2025,"Choose",783,null,null,null,null,null,null,null,null,null,null,null,null,null,null,null,null,null,null,"~"]
["SA37",2025,"Choose",784,null,null,null,null,null,null,null,null,null,null,null,null,null,null,null,null,null,null,"~"]
["SA37",2025,"Choose",785,null,null,null,null,null,null,null,null,null,null,null,null,null,null,null,null,null,null,"~"]
["SA37",2025,"Choose",786,null,null,null,null,null,null,null,null,null,null,null,null,null,null,null,null,null,null,"~"]
["SA37",2025,"Choose",787,null,null,null,null,null,null,null,null,null,null,null,null,null,null,null,null,null,null,"~"]
["SA37",2025,"Choose",788,null,null,null,null,null,null,null,null,null,null,null,null,null,null,null,null,null,null,"~"]
["SA37",2025,"Choose",789,null,null,null,null,null,null,null,null,null,null,null,null,null,null,null,null,null,null,"~"]
["SA37",2025,"Choose",790,null,null,null,null,null,null,null,null,null,null,null,null,null,null,null,null,null,null,"~"]
["SA37",2025,"Choose",791,null,null,null,null,null,null,null,null,null,null,null,null,null,null,null,null,null,null,"~"]
["SA37",2025,"Choose",792,null,null,null,null,null,null,null,null,null,null,null,null,null,null,null,null,null,null,"~"]
["SA37",2025,"Choose",793,null,null,null,null,null,null,null,null,null,null,null,null,null,null,null,null,null,null,"~"]
["SA37",2025,"Choose",794,null,null,null,null,null,null,null,null,null,null,null,null,null,null,null,null,null,null,"~"]
["SA37",2025,"Choose",795,null,null,null,null,null,null,null,null,null,null,null,null,null,null,null,null,null,null,"~"]
["SA37",2025,"Choose",796,null,null,null,null,null,null,null,null,null,null,null,null,null,null,null,null,null,null,"~"]
["SA37",2025,"Choose",797,null,null,null,null,null,null,null,null,null,null,null,null,null,null,null,null,null,null,"~"]
["SA37",2025,"Choose",798,null,null,null,null,null,null,null,null,null,null,null,null,null,null,null,null,null,null,"~"]
["SA37",2025,"Choose",799,null,null,null,null,null,null,null,null,null,null,null,null,null,null,null,null,null,null,"~"]
["SA37",2025,"Choose",800,null,null,null,null,null,null,null,null,null,null,null,null,null,null,null,null,null,null,"~"]
["SA37",2025,"Choose",801,null,null,null,null,null,null,null,null,null,null,null,null,null,null,null,null,null,null,"~"]
["SA37",2025,"Choose",802,null,null,null,null,null,null,null,null,null,null,null,null,null,null,null,null,null,null,"~"]
["SA37",2025,"Choose",803,null,null,null,null,null,null,null,null,null,null,null,null,null,null,null,null,null,null,"~"]
["SA37",2025,"Choose",804,null,null,null,null,null,null,null,null,null,null,null,null,null,null,null,null,null,null,"~"]
["SA37",2025,"Choose",805,null,null,null,null,null,null,null,null,null,null,null,null,null,null,null,null,null,null,"~"]
["SA37",2025,"Choose",806,null,null,null,null,null,null,null,null,null,null,null,null,null,null,null,null,null,null,"~"]
["SA37",2025,"Choose",807,null,null,null,null,null,null,null,null,null,null,null,null,null,null,null,null,null,null,"~"]
["SA37",2025,"Choose",808,null,null,null,null,null,null,null,null,null,null,null,null,null,null,null,null,null,null,"~"]
["SA37",2025,"Choose",809,null,null,null,null,null,null,null,null,null,null,null,null,null,null,null,null,null,null,"~"]
["SA37",2025,"Choose",810,null,null,null,null,null,null,null,null,null,null,null,null,null,null,null,null,null,null,"~"]
["SA37",2025,"Choose",811,null,null,null,null,null,null,null,null,null,null,null,null,null,null,null,null,null,null,"~"]
["SA37",2025,"Choose",812,null,null,null,null,null,null,null,null,null,null,null,null,null,null,null,null,null,null,"~"]
["SA37",2025,"Choose",813,null,null,null,null,null,null,null,null,null,null,null,null,null,null,null,null,null,null,"~"]
["SA37",2025,"Choose",814,null,null,null,null,null,null,null,null,null,null,null,null,null,null,null,null,null,null,"~"]
["SA37",2025,"Choose",815,null,null,null,null,null,null,null,null,null,null,null,null,null,null,null,null,null,null,"~"]
["SA37",{"$f":"+MTREF","v":2025},{"$f":"LEFT(muni,(FIND(\" \",muni,1)-1))","v":"Choose"},816,null,null,null,null,null,null,null,null,null,null,null,null,null,null,null,null,null,null,"~"]
["SA37",2025,"Choose",817,null,null,null,null,null,null,null,null,null,null,null,null,null,null,null,null,null,null,"~"]
["SA37",2025,"Choose",818,null,null,null,null,null,null,null,null,null,null,null,null,null,null,null,null,null,null,"~"]
["SA37",2025,"Choose",819,null,null,null,null,null,null,null,null,null,null,null,null,null,null,null,null,null,null,"~"]
["SA37",2025,"Choose",820,null,null,null,null,null,null,null,null,null,null,null,null,null,null,null,null,null,null,"~"]
["SA37",2025,"Choose",821,null,null,null,null,null,null,null,null,null,null,null,null,null,null,null,null,null,null,"~"]
["SA37",2025,"Choose",822,null,null,null,null,null,null,null,null,null,null,null,null,null,null,null,null,null,null,"~"]
["SA37",2025,"Choose",823,null,null,null,null,null,null,null,null,null,null,null,null,null,null,null,null,null,null,"~"]
["SA37",2025,"Choose",824,null,null,null,null,null,null,null,null,null,null,null,null,null,null,null,null,null,null,"~"]
["SA37",2025,"Choose",825,null,null,null,null,null,null,null,null,null,null,null,null,null,null,null,null,null,null,"~"]
["SA37",2025,"Choose",826,null,null,null,null,null,null,null,null,null,null,null,null,null,null,null,null,null,null,"~"]
["SA37",2025,"Choose",827,null,null,null,null,null,null,null,null,null,null,null,null,null,null,null,null,null,null,"~"]
["SA37",2025,"Choose",828,null,null,null,null,null,null,null,null,null,null,null,null,null,null,null,null,null,null,"~"]
["SA37",2025,"Choose",829,null,null,null,null,null,null,null,null,null,null,null,null,null,null,null,null,null,null,"~"]
["SA37",2025,"Choose",830,null,null,null,null,null,null,null,null,null,null,null,null,null,null,null,null,null,null,"~"]
["SA37",2025,"Choose",831,null,null,null,null,null,null,null,null,null,null,null,null,null,null,null,null,null,null,"~"]
["SA37",2025,"Choose",832,null,null,null,null,null,null,null,null,null,null,null,null,null,null,null,null,null,null,"~"]
["SA37",2025,"Choose",833,null,null,null,null,null,null,null,null,null,null,null,null,null,null,null,null,null,null,"~"]
["SA37",2025,"Choose",834,null,null,null,null,null,null,null,null,null,null,null,null,null,null,null,null,null,null,"~"]
["SA37",2025,"Choose",835,null,null,null,null,null,null,null,null,null,null,null,null,null,null,null,null,null,null,"~"]
["SA37",2025,"Choose",836,null,null,null,null,null,null,null,null,null,null,null,null,null,null,null,null,null,null,"~"]
["SA37",2025,"Choose",837,null,null,null,null,null,null,null,null,null,null,null,null,null,null,null,null,null,null,"~"]
["SA37",2025,"Choose",838,null,null,null,null,null,null,null,null,null,null,null,null,null,null,null,null,null,null,"~"]
["SA37",2025,"Choose",839,null,null,null,null,null,null,null,null,null,null,null,null,null,null,null,null,null,null,"~"]
["SA37",2025,"Choose",840,null,null,null,null,null,null,null,null,null,null,null,null,null,null,null,null,null,null,"~"]
["SA37",2025,"Choose",841,null,null,null,null,null,null,null,null,null,null,null,null,null,null,null,null,null,null,"~"]
["SA37",2025,"Choose",842,null,null,null,null,null,null,null,null,null,null,null,null,null,null,null,null,null,null,"~"]
["SA37",2025,"Choose",843,null,null,null,null,null,null,null,null,null,null,null,null,null,null,null,null,null,null,"~"]
["SA37",2025,"Choose",844,null,null,null,null,null,null,null,null,null,null,null,null,null,null,null,null,null,null,"~"]
["SA37",2025,"Choose",845,null,null,null,null,null,null,null,null,null,null,null,null,null,null,null,null,null,null,"~"]
["SA37",2025,"Choose",846,null,null,null,null,null,null,null,null,null,null,null,null,null,null,null,null,null,null,"~"]
["SA37",2025,"Choose",847,null,null,null,null,null,null,null,null,null,null,null,null,null,null,null,null,null,null,"~"]
["SA37",2025,"Choose",848,null,null,null,null,null,null,null,null,null,null,null,null,null,null,null,null,null,null,"~"]
["SA37",2025,"Choose",849,null,null,null,null,null,null,null,null,null,null,null,null,null,null,null,null,null,null,"~"]
["SA37",2025,"Choose",850,null,null,null,null,null,null,null,null,null,null,null,null,null,null,null,null,null,null,"~"]
["SA37",2025,"Choose",851,null,null,null,null,null,null,null,null,null,null,null,null,null,null,null,null,null,null,"~"]
["SA37",2025,"Choose",852,null,null,null,null,null,null,null,null,null,null,null,null,null,null,null,null,null,null,"~"]
["SA37",2025,"Choose",853,null,null,null,null,null,null,null,null,null,null,null,null,null,null,null,null,null,null,"~"]
["SA37",2025,"Choose",854,null,null,null,null,null,null,null,null,null,null,null,null,null,null,null,null,null,null,"~"]
["SA37",2025,"Choose",855,null,null,null,null,null,null,null,null,null,null,null,null,null,null,null,null,null,null,"~"]
["SA37",2025,"Choose",856,null,null,null,null,null,null,null,null,null,null,null,null,null,null,null,null,null,null,"~"]
["SA37",2025,"Choose",857,null,null,null,null,null,null,null,null,null,null,null,null,null,null,null,null,null,null,"~"]
["SA37",2025,"Choose",858,null,null,null,null,null,null,null,null,null,null,null,null,null,null,null,null,null,null,"~"]
["SA37",2025,"Choose",859,null,null,null,null,null,null,null,null,null,null,null,null,null,null,null,null,null,null,"~"]
["SA37",2025,"Choose",860,null,null,null,null,null,null,null,null,null,null,null,null,null,null,null,null,null,null,"~"]
["SA37",2025,"Choose",861,null,null,null,null,null,null,null,null,null,null,null,null,null,null,null,null,null,null,"~"]
["SA37",2025,"Choose",862,null,null,null,null,null,null,null,null,null,null,null,null,null,null,null,null,null,null,"~"]
["SA37",2025,"Choose",863,null,null,null,null,null,null,null,null,null,null,null,null,null,null,null,null,null,null,"~"]
["SA37",2025,"Choose",864,null,null,null,null,null,null,null,null,null,null,null,null,null,null,null,null,null,null,"~"]
["SA37",2025,"Choose",865,null,null,null,null,null,null,null,null,null,null,null,null,null,null,null,null,null,null,"~"]
["SA37",2025,"Choose",866,null,null,null,null,null,null,null,null,null,null,null,null,null,null,null,null,null,null,"~"]
["SA37",2025,"Choose",867,null,null,null,null,null,null,null,null,null,null,null,null,null,null,null,null,null,null,"~"]
["SA37",2025,"Choose",868,null,null,null,null,null,null,null,null,null,null,null,null,null,null,null,null,null,null,"~"]
["SA37",2025,"Choose",869,null,null,null,null,null,null,null,null,null,null,null,null,null,null,null,null,null,null,"~"]
["SA37",2025,"Choose",870,null,null,null,null,null,null,null,null,null,null,null,null,null,null,null,null,null,null,"~"]
["SA37",2025,"Choose",871,null,null,null,null,null,null,null,null,null,null,null,null,null,null,null,null,null,null,"~"]
["SA37",2025,"Choose",872,null,null,null,null,null,null,null,null,null,null,null,null,null,null,null,null,null,null,"~"]
["SA37",2025,"Choose",873,null,null,null,null,null,null,null,null,null,null,null,null,null,null,null,null,null,null,"~"]
["SA37",2025,"Choose",874,null,null,null,null,null,null,null,null,null,null,null,null,null,null,null,null,null,null,"~"]
["SA37",2025,"Choose",875,null,null,null,null,null,null,null,null,null,null,null,null,null,null,null,null,null,null,"~"]
["SA37",2025,"Choose",876,null,null,null,null,null,null,null,null,null,null,null,null,null,null,null,null,null,null,"~"]
["SA37",2025,"Choose",877,null,null,null,null,null,null,null,null,null,null,null,null,null,null,null,null,null,null,"~"]
["SA37",2025,"Choose",878,null,null,null,null,null,null,null,null,null,null,null,null,null,null,null,null,null,null,"~"]
["SA37",2025,"Choose",879,null,null,null,null,null,null,null,null,null,null,null,null,null,null,null,null,null,null,"~"]
["SA37",{"$f":"+MTREF","v":2025},{"$f":"LEFT(muni,(FIND(\" \",muni,1)-1))","v":"Choose"},880,null,null,null,null,null,null,null,null,null,null,null,null,null,null,null,null,null,null,"~"]
["SA37",2025,"Choose",881,null,null,null,null,null,null,null,null,null,null,null,null,null,null,null,null,null,null,"~"]
["SA37",2025,"Choose",882,null,null,null,null,null,null,null,null,null,null,null,null,null,null,null,null,null,null,"~"]
["SA37",2025,"Choose",883,null,null,null,null,null,null,null,null,null,null,null,null,null,null,null,null,null,null,"~"]
["SA37",2025,"Choose",884,null,null,null,null,null,null,null,null,null,null,null,null,null,null,null,null,null,null,"~"]
["SA37",2025,"Choose",885,null,null,null,null,null,null,null,null,null,null,null,null,null,null,null,null,null,null,"~"]
["SA37",2025,"Choose",886,null,null,null,null,null,null,null,null,null,null,null,null,null,null,null,null,null,null,"~"]
["SA37",2025,"Choose",887,null,null,null,null,null,null,null,null,null,null,null,null,null,null,null,null,null,null,"~"]
["SA37",2025,"Choose",888,null,null,null,null,null,null,null,null,null,null,null,null,null,null,null,null,null,null,"~"]
["SA37",2025,"Choose",889,null,null,null,null,null,null,null,null,null,null,null,null,null,null,null,null,null,null,"~"]
["SA37",2025,"Choose",890,null,null,null,null,null,null,null,null,null,null,null,null,null,null,null,null,null,null,"~"]
["SA37",2025,"Choose",891,null,null,null,null,null,null,null,null,null,null,null,null,null,null,null,null,null,null,"~"]
["SA37",2025,"Choose",892,null,null,null,null,null,null,null,null,null,null,null,null,null,null,null,null,null,null,"~"]
["SA37",2025,"Choose",893,null,null,null,null,null,null,null,null,null,null,null,null,null,null,null,null,null,null,"~"]
["SA37",2025,"Choose",894,null,null,null,null,null,null,null,null,null,null,null,null,null,null,null,null,null,null,"~"]
["SA37",2025,"Choose",895,null,null,null,null,null,null,null,null,null,null,null,null,null,null,null,null,null,null,"~"]
["SA37",2025,"Choose",896,null,null,null,null,null,null,null,null,null,null,null,null,null,null,null,null,null,null,"~"]
["SA37",2025,"Choose",897,null,null,null,null,null,null,null,null,null,null,null,null,null,null,null,null,null,null,"~"]
["SA37",2025,"Choose",898,null,null,null,null,null,null,null,null,null,null,null,null,null,null,null,null,null,null,"~"]
["SA37",2025,"Choose",899,null,null,null,null,null,null,null,null,null,null,null,null,null,null,null,null,null,null,"~"]
["SA37",2025,"Choose",900,null,null,null,null,null,null,null,null,null,null,null,null,null,null,null,null,null,null,"~"]
["SA37",2025,"Choose",901,null,null,null,null,null,null,null,null,null,null,null,null,null,null,null,null,null,null,"~"]
["SA37",2025,"Choose",902,null,null,null,null,null,null,null,null,null,null,null,null,null,null,null,null,null,null,"~"]
["SA37",2025,"Choose",903,null,null,null,null,null,null,null,null,null,null,null,null,null,null,null,null,null,null,"~"]
["SA37",2025,"Choose",904,null,null,null,null,null,null,null,null,null,null,null,null,null,null,null,null,null,null,"~"]
["SA37",2025,"Choose",905,null,null,null,null,null,null,null,null,null,null,null,null,null,null,null,null,null,null,"~"]
["SA37",2025,"Choose",906,null,null,null,null,null,null,null,null,null,null,null,null,null,null,null,null,null,null,"~"]
["SA37",2025,"Choose",907,null,null,null,null,null,null,null,null,null,null,null,null,null,null,null,null,null,null,"~"]
["SA37",2025,"Choose",908,null,null,null,null,null,null,null,null,null,null,null,null,null,null,null,null,null,null,"~"]
["SA37",2025,"Choose",909,null,null,null,null,null,null,null,null,null,null,null,null,null,null,null,null,null,null,"~"]
["SA37",2025,"Choose",910,null,null,null,null,null,null,null,null,null,null,null,null,null,null,null,null,null,null,"~"]
["SA37",2025,"Choose",911,null,null,null,null,null,null,null,null,null,null,null,null,null,null,null,null,null,null,"~"]
["SA37",2025,"Choose",912,null,null,null,null,null,null,null,null,null,null,null,null,null,null,null,null,null,null,"~"]
["SA37",2025,"Choose",913,null,null,null,null,null,null,null,null,null,null,null,null,null,null,null,null,null,null,"~"]
["SA37",2025,"Choose",914,null,null,null,null,null,null,null,null,null,null,null,null,null,null,null,null,null,null,"~"]
["SA37",2025,"Choose",915,null,null,null,null,null,null,null,null,null,null,null,null,null,null,null,null,null,null,"~"]
["SA37",2025,"Choose",916,null,null,null,null,null,null,null,null,null,null,null,null,null,null,null,null,null,null,"~"]
["SA37",2025,"Choose",917,null,null,null,null,null,null,null,null,null,null,null,null,null,null,null,null,null,null,"~"]
["SA37",2025,"Choose",918,null,null,null,null,null,null,null,null,null,null,null,null,null,null,null,null,null,null,"~"]
["SA37",2025,"Choose",919,null,null,null,null,null,null,null,null,null,null,null,null,null,null,null,null,null,null,"~"]
["SA37",2025,"Choose",920,null,null,null,null,null,null,null,null,null,null,null,null,null,null,null,null,null,null,"~"]
["SA37",2025,"Choose",921,null,null,null,null,null,null,null,null,null,null,null,null,null,null,null,null,null,null,"~"]
["SA37",2025,"Choose",922,null,null,null,null,null,null,null,null,null,null,null,null,null,null,null,null,null,null,"~"]
["SA37",2025,"Choose",923,null,null,null,null,null,null,null,null,null,null,null,null,null,null,null,null,null,null,"~"]
["SA37",2025,"Choose",924,null,null,null,null,null,null,null,null,null,null,null,null,null,null,null,null,null,null,"~"]
["SA37",2025,"Choose",925,null,null,null,null,null,null,null,null,null,null,null,null,null,null,null,null,null,null,"~"]
["SA37",2025,"Choose",926,null,null,null,null,null,null,null,null,null,null,null,null,null,null,null,null,null,null,"~"]
["SA37",2025,"Choose",927,null,null,null,null,null,null,null,null,null,null,null,null,null,null,null,null,null,null,"~"]
["SA37",2025,"Choose",928,null,null,null,null,null,null,null,null,null,null,null,null,null,null,null,null,null,null,"~"]
["SA37",2025,"Choose",929,null,null,null,null,null,null,null,null,null,null,null,null,null,null,null,null,null,null,"~"]
["SA37",2025,"Choose",930,null,null,null,null,null,null,null,null,null,null,null,null,null,null,null,null,null,null,"~"]
["SA37",2025,"Choose",931,null,null,null,null,null,null,null,null,null,null,null,null,null,null,null,null,null,null,"~"]
["SA37",2025,"Choose",932,null,null,null,null,null,null,null,null,null,null,null,null,null,null,null,null,null,null,"~"]
["SA37",2025,"Choose",933,null,null,null,null,null,null,null,null,null,null,null,null,null,null,null,null,null,null,"~"]
["SA37",2025,"Choose",934,null,null,null,null,null,null,null,null,null,null,null,null,null,null,null,null,null,null,"~"]
["SA37",2025,"Choose",935,null,null,null,null,null,null,null,null,null,null,null,null,null,null,null,null,null,null,"~"]
["SA37",2025,"Choose",936,null,null,null,null,null,null,null,null,null,null,null,null,null,null,null,null,null,null,"~"]
["SA37",2025,"Choose",937,null,null,null,null,null,null,null,null,null,null,null,null,null,null,null,null,null,null,"~"]
["SA37",2025,"Choose",938,null,null,null,null,null,null,null,null,null,null,null,null,null,null,null,null,null,null,"~"]
["SA37",2025,"Choose",939,null,null,null,null,null,null,null,null,null,null,null,null,null,null,null,null,null,null,"~"]
["SA37",2025,"Choose",940,null,null,null,null,null,null,null,null,null,null,null,null,null,null,null,null,null,null,"~"]
["SA37",2025,"Choose",941,null,null,null,null,null,null,null,null,null,null,null,null,null,null,null,null,null,null,"~"]
["SA37",2025,"Choose",942,null,null,null,null,null,null,null,null,null,null,null,null,null,null,null,null,null,null,"~"]
["SA37",2025,"Choose",943,null,null,null,null,null,null,null,null,null,null,null,null,null,null,null,null,null,null,"~"]
["SA37",{"$f":"+MTREF","v":2025},{"$f":"LEFT(muni,(FIND(\" \",muni,1)-1))","v":"Choose"},944,null,null,null,null,null,null,null,null,null,null,null,null,null,null,null,null,null,null,"~"]
["SA37",2025,"Choose",945,null,null,null,null,null,null,null,null,null,null,null,null,null,null,null,null,null,null,"~"]
["SA37",2025,"Choose",946,null,null,null,null,null,null,null,null,null,null,null,null,null,null,null,null,null,null,"~"]
["SA37",2025,"Choose",947,null,null,null,null,null,null,null,null,null,null,null,null,null,null,null,null,null,null,"~"]
["SA37",2025,"Choose",948,null,null,null,null,null,null,null,null,null,null,null,null,null,null,null,null,null,null,"~"]
["SA37",2025,"Choose",949,null,null,null,null,null,null,null,null,null,null,null,null,null,null,null,null,null,null,"~"]
["SA37",2025,"Choose",950,null,null,null,null,null,null,null,null,null,null,null,null,null,null,null,null,null,null,"~"]
["SA37",2025,"Choose",951,null,null,null,null,null,null,null,null,null,null,null,null,null,null,null,null,null,null,"~"]
["SA37",2025,"Choose",952,null,null,null,null,null,null,null,null,null,null,null,null,null,null,null,null,null,null,"~"]
["SA37",2025,"Choose",953,null,null,null,null,null,null,null,null,null,null,null,null,null,null,null,null,null,null,"~"]
["SA37",2025,"Choose",954,null,null,null,null,null,null,null,null,null,null,null,null,null,null,null,null,null,null,"~"]
["SA37",2025,"Choose",955,null,null,null,null,null,null,null,null,null,null,null,null,null,null,null,null,null,null,"~"]
["SA37",2025,"Choose",956,null,null,null,null,null,null,null,null,null,null,null,null,null,null,null,null,null,null,"~"]
["SA37",2025,"Choose",957,null,null,null,null,null,null,null,null,null,null,null,null,null,null,null,null,null,null,"~"]
["SA37",2025,"Choose",958,null,null,null,null,null,null,null,null,null,null,null,null,null,null,null,null,null,null,"~"]
["SA37",2025,"Choose",959,null,null,null,null,null,null,null,null,null,null,null,null,null,null,null,null,null,null,"~"]
["SA37",2025,"Choose",960,null,null,null,null,null,null,null,null,null,null,null,null,null,null,null,null,null,null,"~"]
["SA37",2025,"Choose",961,null,null,null,null,null,null,null,null,null,null,null,null,null,null,null,null,null,null,"~"]
["SA37",2025,"Choose",962,null,null,null,null,null,null,null,null,null,null,null,null,null,null,null,null,null,null,"~"]
["SA37",2025,"Choose",963,null,null,null,null,null,null,null,null,null,null,null,null,null,null,null,null,null,null,"~"]
["SA37",2025,"Choose",964,null,null,null,null,null,null,null,null,null,null,null,null,null,null,null,null,null,null,"~"]
["SA37",2025,"Choose",965,null,null,null,null,null,null,null,null,null,null,null,null,null,null,null,null,null,null,"~"]
["SA37",2025,"Choose",966,null,null,null,null,null,null,null,null,null,null,null,null,null,null,null,null,null,null,"~"]
["SA37",2025,"Choose",967,null,null,null,null,null,null,null,null,null,null,null,null,null,null,null,null,null,null,"~"]
["SA37",2025,"Choose",968,null,null,null,null,null,null,null,null,null,null,null,null,null,null,null,null,null,null,"~"]
["SA37",2025,"Choose",969,null,null,null,null,null,null,null,null,null,null,null,null,null,null,null,null,null,null,"~"]
["SA37",2025,"Choose",970,null,null,null,null,null,null,null,null,null,null,null,null,null,null,null,null,null,null,"~"]
["SA37",2025,"Choose",971,null,null,null,null,null,null,null,null,null,null,null,null,null,null,null,null,null,null,"~"]
["SA37",2025,"Choose",972,null,null,null,null,null,null,null,null,null,null,null,null,null,null,null,null,null,null,"~"]
["SA37",2025,"Choose",973,null,null,null,null,null,null,null,null,null,null,null,null,null,null,null,null,null,null,"~"]
["SA37",2025,"Choose",974,null,null,null,null,null,null,null,null,null,null,null,null,null,null,null,null,null,null,"~"]
["SA37",2025,"Choose",975,null,null,null,null,null,null,null,null,null,null,null,null,null,null,null,null,null,null,"~"]
["SA37",2025,"Choose",976,null,null,null,null,null,null,null,null,null,null,null,null,null,null,null,null,null,null,"~"]
["SA37",2025,"Choose",977,null,null,null,null,null,null,null,null,null,null,null,null,null,null,null,null,null,null,"~"]
["SA37",2025,"Choose",978,null,null,null,null,null,null,null,null,null,null,null,null,null,null,null,null,null,null,"~"]
["SA37",2025,"Choose",979,null,null,null,null,null,null,null,null,null,null,null,null,null,null,null,null,null,null,"~"]
["SA37",2025,"Choose",980,null,null,null,null,null,null,null,null,null,null,null,null,null,null,null,null,null,null,"~"]
["SA37",2025,"Choose",981,null,null,null,null,null,null,null,null,null,null,null,null,null,null,null,null,null,null,"~"]
["SA37",2025,"Choose",982,null,null,null,null,null,null,null,null,null,null,null,null,null,null,null,null,null,null,"~"]
["SA37",2025,"Choose",983,null,null,null,null,null,null,null,null,null,null,null,null,null,null,null,null,null,null,"~"]
["SA37",2025,"Choose",984,null,null,null,null,null,null,null,null,null,null,null,null,null,null,null,null,null,null,"~"]
["SA37",2025,"Choose",985,null,null,null,null,null,null,null,null,null,null,null,null,null,null,null,null,null,null,"~"]
["SA37",2025,"Choose",986,null,null,null,null,null,null,null,null,null,null,null,null,null,null,null,null,null,null,"~"]
["SA37",2025,"Choose",987,null,null,null,null,null,null,null,null,null,null,null,null,null,null,null,null,null,null,"~"]
["SA37",2025,"Choose",988,null,null,null,null,null,null,null,null,null,null,null,null,null,null,null,null,null,null,"~"]
["SA37",2025,"Choose",989,null,null,null,null,null,null,null,null,null,null,null,null,null,null,null,null,null,null,"~"]
["SA37",2025,"Choose",990,null,null,null,null,null,null,null,null,null,null,null,null,null,null,null,null,null,null,"~"]
["SA37",2025,"Choose",991,null,null,null,null,null,null,null,null,null,null,null,null,null,null,null,null,null,null,"~"]
["SA37",2025,"Choose",992,null,null,null,null,null,null,null,null,null,null,null,null,null,null,null,null,null,null,"~"]
["SA37",2025,"Choose",993,null,null,null,null,null,null,null,null,null,null,null,null,null,null,null,null,null,null,"~"]
["SA37",2025,"Choose",994,null,null,null,null,null,null,null,null,null,null,null,null,null,null,null,null,null,null,"~"]
["SA37",2025,"Choose",995,null,null,null,null,null,null,null,null,null,null,null,null,null,null,null,null,null,null,"~"]
["SA37",2025,"Choose",996,null,null,null,null,null,null,null,null,null,null,null,null,null,null,null,null,null,null,"~"]
["SA37",2025,"Choose",997,null,null,null,null,null,null,null,null,null,null,null,null,null,null,null,null,null,null,"~"]
["SA37",2025,"Choose",998,null,null,null,null,null,null,null,null,null,null,null,null,null,null,null,null,null,null,"~"]
["SA37",2025,"Choose",999,null,null,null,null,null,null,null,null,null,null,null,null,null,null,null,null,null,null,"~"]
["SA37",2025,"Choose",1000,null,null,null,null,null,null,null,null,null,null,null,null,null,null,null,null,null,null,"~"]
["CONTACT",2025,"Choose",1,null,null,null,null,null,null,null,null,null,null,null,null,null,null,null,null,null,null,"~"]
["CONTACT",2025,"Choose",2,null,null,null,null,null,null,null,null,null,null,null,null,null,null,null,null,null,null,"~"]
["CONTACT",2025,"Choose",3,null,null,null,null,null,null,null,null,null,null,null,null,null,null,null,null,null,null,"~"]
["CONTACT",2025,"Choose",4,null,null,null,null,null,null,null,null,null,null,null,null,null,null,null,null,null,null,"~"]
["CONTACT",2025,"Choose",5,null,null,null,null,null,null,null,null,null,null,null,null,null,null,null,null,null,null,"~"]
["CONTACT",2025,"Choose",6,null,null,null,null,null,null,null,null,null,null,null,null,null,null,null,null,null,null,"~"]
["CONTACT",2025,"Choose",7,null,null,null,null,null,null,null,null,null,null,null,null,null,null,null,null,null,null,"~"]
["CONTACT",{"$f":"+MTREF","v":2025},{"$f":"LEFT(muni,(FIND(\" \",muni,1)-1))","v":"Choose"},8,null,null,null,null,null,null,null,null,null,null,null,null,null,null,null,null,null,null,"~"]
["CONTACT",2025,"Choose",9,null,null,null,null,null,null,null,null,null,null,null,null,null,null,null,null,null,null,"~"]
["CONTACT",2025,"Choose",10,null,null,null,null,null,null,null,null,null,null,null,null,null,null,null,null,null,null,"~"]
["CONTACT",2025,"Choose",11,null,null,null,null,null,null,null,null,null,null,null,null,null,null,null,null,null,null,"~"]
["CONTACT",2025,"Choose",12,null,null,null,null,null,null,null,null,null,null,null,null,null,null,null,null,null,null,"~"]
["CONTACT",2025,"Choose",13,null,null,null,null,null,null,null,null,null,null,null,null,null,null,null,null,null,null,"~"]
["CONTACT",2025,"Choose",14,null,null,null,null,null,null,null,null,null,null,null,null,null,null,null,null,null,null,"~"]
["CONTACT",2025,"Choose",15,null,null,null,null,null,null,null,null,null,null,null,null,null,null,null,null,null,null,"~"]
["CONTACT",2025,"Choose",16,null,null,null,null,null,null,null,null,null,null,null,null,null,null,null,null,null,null,"~"]
["CONTACT",2025,"Choose",17,null,null,null,null,null,null,null,null,null,null,null,null,null,null,null,null,null,null,"~"]
["CONTACT",2025,"Choose",18,null,null,null,null,null,null,null,null,null,null,null,null,null,null,null,null,null,null,"~"]
["CONTACT",2025,"Choose",19,null,null,null,null,null,null,null,null,null,null,null,null,null,null,null,null,null,null,"~"]
["CONTACT",2025,"Choose",20,null,null,null,null,null,null,null,null,null,null,null,null,null,null,null,null,null,null,"~"]
["CONTACT",2025,"Choose",21,null,null,null,null,null,null,null,null,null,null,null,null,null,null,null,null,null,null,"~"]
["CONTACT",2025,"Choose",22,null,null,null,null,null,null,null,null,null,null,null,null,null,null,null,null,null,null,"~"]
["CONTACT",2025,"Choose",23,null,null,null,null,null,null,null,null,null,null,null,null,null,null,null,null,null,null,"~"]
["CONTACT",2025,"Choose",24,null,null,null,null,null,null,null,null,null,null,null,null,null,null,null,null,null,null,"~"]
["CONTACT",2025,"Choose",25,null,null,null,null,null,null,null,null,null,null,null,null,null,null,null,null,null,null,"~"]
["CONTACT",2025,"Choose",26,null,null,null,null,null,null,null,null,null,null,null,null,null,null,null,null,null,null,"~"]
["CONTACT",2025,"Choose",27,null,null,null,null,null,null,null,null,null,null,null,null,null,null,null,null,null,null,"~"]
["CONTACT",2025,"Choose",28,null,null,null,null,null,null,null,null,null,null,null,null,null,null,null,null,null,null,"~"]
["CONTACT",2025,"Choose",29,null,null,null,null,null,null,null,null,null,null,null,null,null,null,null,null,null,null,"~"]
["CONTACT",2025,"Choose",30,null,null,null,null,null,null,null,null,null,null,null,null,null,null,null,null,null,null,"~"]
["CONTACT",2025,"Choose",31,null,null,null,null,null,null,null,null,null,null,null,null,null,null,null,null,null,null,"~"]
["CONTACT",2025,"Choose",32,null,null,null,null,null,null,null,null,null,null,null,null,null,null,null,null,null,null,"~"]
["CONTACT",2025,"Choose",33,null,null,null,null,null,null,null,null,null,null,null,null,null,null,null,null,null,null,"~"]
["CONTACT",2025,"Choose",34,null,null,null,null,null,null,null,null,null,null,null,null,null,null,null,null,null,null,"~"]
["CONTACT",2025,"Choose",35,null,null,null,null,null,null,null,null,null,null,null,null,null,null,null,null,null,null,"~"]
["CONTACT",2025,"Choose",36,null,null,null,null,null,null,null,null,null,null,null,null,null,null,null,null,null,null,"~"]
["CONTACT",2025,"Choose",37,null,null,null,null,null,null,null,null,null,null,null,null,null,null,null,null,null,null,"~"]
["CONTACT",2025,"Choose",38,null,null,null,null,null,null,null,null,null,null,null,null,null,null,null,null,null,null,"~"]
["CONTACT",2025,"Choose",39,null,null,null,null,null,null,null,null,null,null,null,null,null,null,null,null,null,null,"~"]
["CONTACT",2025,"Choose",40,null,null,null,null,null,null,null,null,null,null,null,null,null,null,null,null,null,null,"~"]
["CONTACT",2025,"Choose",41,null,null,null,null,null,null,null,null,null,null,null,null,null,null,null,null,null,null,"~"]
["CONTACT",2025,"Choose",42,null,null,null,null,null,null,null,null,null,null,null,null,null,null,null,null,null,null,"~"]
["CONTACT",2025,"Choose",43,null,null,null,null,null,null,null,null,null,null,null,null,null,null,null,null,null,null,"~"]
["CONTACT",2025,"Choose",44,null,null,null,null,null,null,null,null,null,null,null,null,null,null,null,null,null,null,"~"]
["CONTACT",2025,"Choose",45,null,null,null,null,null,null,null,null,null,null,null,null,null,null,null,null,null,null,"~"]
["CONTACT",2025,"Choose",46,null,null,null,null,null,null,null,null,null,null,null,null,null,null,null,null,null,null,"~"]
["CONTACT",2025,"Choose",47,null,null,null,null,null,null,null,null,null,null,null,null,null,null,null,null,null,null,"~"]
["CONTACT",2025,"Choose",48,null,null,null,null,null,null,null,null,null,null,null,null,null,null,null,null,null,null,"~"]
["CONTACT",2025,"Choose",49,null,null,null,null,null,null,null,null,null,null,null,null,null,null,null,null,null,null,"~"]
["CONTACT",2025,"Choose",50,null,null,null,null,null,null,null,null,null,null,null,null,null,null,null,null,null,null,"~"]
["CONTACT",2025,"Choose",51,null,null,null,null,null,null,null,null,null,null,null,null,null,null,null,null,null,null,"~"]
["CONTACT",2025,"Choose",52,null,null,null,null,null,null,null,null,null,null,null,null,null,null,null,null,null,null,"~"]
["CONTACT",2025,"Choose",53,null,null,null,null,null,null,null,null,null,null,null,null,null,null,null,null,null,null,"~"]
["CONTACT",2025,"Choose",54,null,null,null,null,null,null,null,null,null,null,null,null,null,null,null,null,null,null,"~"]
["CONTACT",2025,"Choose",55,null,null,null,null,null,null,null,null,null,null,null,null,null,null,null,null,null,null,"~"]
["CONTACT",2025,"Choose",56,null,null,null,null,null,null,null,null,null,null,null,null,null,null,null,null,null,null,"~"]
["CONTACT",2025,"Choose",57,null,null,null,null,null,null,null,null,null,null,null,null,null,null,null,null,null,null,"~"]
["CONTACT",2025,"Choose",58,null,null,null,null,null,null,null,null,null,null,null,null,null,null,null,null,null,null,"~"]
["CONTACT",2025,"Choose",59,null,null,null,null,null,null,null,null,null,null,null,null,null,null,null,null,null,null,"~"]
["CONTACT",2025,"Choose",60,null,null,null,null,null,null,null,null,null,null,null,null,null,null,null,null,null,null,"~"]
["CONTACT",2025,"Choose",61,null,null,null,null,null,null,null,null,null,null,null,null,null,null,null,null,null,null,"~"]
["CONTACT",2025,"Choose",62,null,null,null,null,null,null,null,null,null,null,null,null,null,null,null,null,null,null,"~"]
["CONTACT",2025,"Choose",63,null,null,null,null,null,null,null,null,null,null,null,null,null,null,null,null,null,null,"~"]
["CONTACT",2025,"Choose",64,null,null,null,null,null,null,null,null,null,null,null,null,null,null,null,null,null,null,"~"]
["CONTACT",2025,"Choose",65,null,null,null,null,null,null,null,null,null,null,null,null,null,null,null,null,null,null,"~"]
["CONTACT",2025,"Choose",66,null,null,null,null,null,null,null,null,null,null,null,null,null,null,null,null,null,null,"~"]
["CONTACT",2025,"Choose",67,null,null,null,null,null,null,null,null,null,null,null,null,null,null,null,null,null,null,"~"]
["CONTACT",2025,"Choose",68,null,null,null,null,null,null,null,null,null,null,null,null,null,null,null,null,null,null,"~"]
["CONTACT",2025,"Choose",69,null,null,null,null,null,null,null,null,null,null,null,null,null,null,null,null,null,null,"~"]
["CONTACT",2025,"Choose",70,null,null,null,null,null,null,null,null,null,null,null,null,null,null,null,null,null,null,"~"]
["CONTACT",2025,"Choose",71,null,null,null,null,null,null,null,null,null,null,null,null,null,null,null,null,null,null,"~"]
["CONTACT",{"$f":"+MTREF","v":2025},{"$f":"LEFT(muni,(FIND(\" \",muni,1)-1))","v":"Choose"},72,null,null,null,null,null,null,null,null,null,null,null,null,null,null,null,null,null,null,"~"]
["CONTACT",2025,"Choose",73,null,null,null,null,null,null,null,null,null,null,null,null,null,null,null,null,null,null,"~"]
["CONTACT",2025,"Choose",74,null,null,null,null,null,null,null,null,null,null,null,null,null,null,null,null,null,null,"~"]
["CONTACT",2025,"Choose",75,null,null,null,null,null,null,null,null,null,null,null,null,null,null,null,null,null,null,"~"]
["CONTACT",2025,"Choose",76,null,null,null,null,null,null,null,null,null,null,null,null,null,null,null,null,null,null,"~"]
["CONTACT",2025,"Choose",77,null,null,null,null,null,null,null,null,null,null,null,null,null,null,null,null,null,null,"~"]
["CONTACT",2025,"Choose",78,null,null,null,null,null,null,null,null,null,null,null,null,null,null,null,null,null,null,"~"]
["CONTACT",2025,"Choose",79,null,null,null,null,null,null,null,null,null,null,null,null,null,null,null,null,null,null,"~"]
["CONTACT",2025,"Choose",80,null,null,null,null,null,null,null,null,null,null,null,null,null,null,null,null,null,null,"~"]
["CONTACT",2025,"Choose",81,null,null,null,null,null,null,null,null,null,null,null,null,null,null,null,null,null,null,"~"]
["CONTACT",2025,"Choose",82,null,null,null,null,null,null,null,null,null,null,null,null,null,null,null,null,null,null,"~"]
["CONTACT",2025,"Choose",83,null,null,null,null,null,null,null,null,null,null,null,null,null,null,null,null,null,null,"~"]
["CONTACT",2025,"Choose",84,null,null,null,null,null,null,null,null,null,null,null,null,null,null,null,null,null,null,"~"]
["CONTACT",2025,"Choose",85,null,null,null,null,null,null,null,null,null,null,null,null,null,null,null,null,null,null,"~"]
["CONTACT",2025,"Choose",86,null,null,null,null,null,null,null,null,null,null,null,null,null,null,null,null,null,null,"~"]
["CONTACT",2025,"Choose",87,null,null,null,null,null,null,null,null,null,null,null,null,null,null,null,null,null,null,"~"]
["CONTACT",2025,"Choose",88,null,null,null,null,null,null,null,null,null,null,null,null,null,null,null,null,null,null,"~"]
["CONTACT",2025,"Choose",89,null,null,null,null,null,null,null,null,null,null,null,null,null,null,null,null,null,null,"~"]
["CONTACT",2025,"Choose",90,null,null,null,null,null,null,null,null,null,null,null,null,null,null,null,null,null,null,"~"]
["CONTACT",2025,"Choose",91,null,null,null,null,null,null,null,null,null,null,null,null,null,null,null,null,null,null,"~"]
["CONTACT",2025,"Choose",92,null,null,null,null,null,null,null,null,null,null,null,null,null,null,null,null,null,null,"~"]
["CONTACT",2025,"Choose",93,null,null,null,null,null,null,null,null,null,null,null,null,null,null,null,null,null,null,"~"]
["CONTACT",2025,"Choose",94,null,null,null,null,null,null,null,null,null,null,null,null,null,null,null,null,null,null,"~"]
["CONTACT",2025,"Choose",95,null,null,null,null,null,null,null,null,null,null,null,null,null,null,null,null,null,null,"~"]
["CONTACT",2025,"Choose",96,null,null,null,null,null,null,null,null,null,null,null,null,null,null,null,null,null,null,"~"]
["CONTACT",2025,"Choose",97,null,null,null,null,null,null,null,null,null,null,null,null,null,null,null,null,null,null,"~"]
["CONTACT",2025,"Choose",98,null,null,null,null,null,null,null,null,null,null,null,null,null,null,null,null,null,null,"~"]
["CONTACT",2025,"Choose",99,null,null,null,null,null,null,null,null,null,null,null,null,null,null,null,null,null,null,"~"]
["CONTACT",2025,"Choose",100,null,null,null,null,null,null,null,null,null,null,null,null,null,null,null,null,null,null,"~"]
["CONTACT",2025,"Choose",101,null,null,null,null,null,null,null,null,null,null,null,null,null,null,null,null,null,null,"~"]
["CONTACT",2025,"Choose",102,null,null,null,null,null,null,null,null,null,null,null,null,null,null,null,null,null,null,"~"]
["CONTACT",2025,"Choose",103,null,null,null,null,null,null,null,null,null,null,null,null,null,null,null,null,null,null,"~"]
["CONTACT",2025,"Choose",104,null,null,null,null,null,null,null,null,null,null,null,null,null,null,null,null,null,null,"~"]
["CONTACT",2025,"Choose",105,null,null,null,null,null,null,null,null,null,null,null,null,null,null,null,null,null,null,"~"]
["CONTACT",2025,"Choose",106,null,null,null,null,null,null,null,null,null,null,null,null,null,null,null,null,null,null,"~"]
["CONTACT",2025,"Choose",107,null,null,null,null,null,null,null,null,null,null,null,null,null,null,null,null,null,null,"~"]
["CONTACT",2025,"Choose",108,null,null,null,null,null,null,null,null,null,null,null,null,null,null,null,null,null,null,"~"]
["CONTACT",2025,"Choose",109,null,null,null,null,null,null,null,null,null,null,null,null,null,null,null,null,null,null,"~"]
["CONTACT",2025,"Choose",110,null,null,null,null,null,null,null,null,null,null,null,null,null,null,null,null,null,null,"~"]
["CONTACT",2025,"Choose",111,null,null,null,null,null,null,null,null,null,null,null,null,null,null,null,null,null,null,"~"]
["CONTACT",2025,"Choose",112,null,null,null,null,null,null,null,null,null,null,null,null,null,null,null,null,null,null,"~"]
["CONTACT",2025,"Choose",113,null,null,null,null,null,null,null,null,null,null,null,null,null,null,null,null,null,null,"~"]
["CONTACT",2025,"Choose",114,null,null,null,null,null,null,null,null,null,null,null,null,null,null,null,null,null,null,"~"]
["CONTACT",2025,"Choose",115,null,null,null,null,null,null,null,null,null,null,null,null,null,null,null,null,null,null,"~"]
["CONTACT",2025,"Choose",116,null,null,null,null,null,null,null,null,null,null,null,null,null,null,null,null,null,null,"~"]
["CONTACT",2025,"Choose",117,null,null,null,null,null,null,null,null,null,null,null,null,null,null,null,null,null,null,"~"]
["CONTACT",2025,"Choose",118,null,null,null,null,null,null,null,null,null,null,null,null,null,null,null,null,null,null,"~"]
["CONTACT",2025,"Choose",119,null,null,null,null,null,null,null,null,null,null,null,null,null,null,null,null,null,null,"~"]
["CONTACT",2025,"Choose",120,null,null,null,null,null,null,null,null,null,null,null,null,null,null,null,null,null,null,"~"]
["CONTACT",2025,"Choose",121,null,null,null,null,null,null,null,null,null,null,null,null,null,null,null,null,null,null,"~"]
["CONTACT",2025,"Choose",122,null,null,null,null,null,null,null,null,null,null,null,null,null,null,null,null,null,null,"~"]
["CONTACT",2025,"Choose",123,null,null,null,null,null,null,null,null,null,null,null,null,null,null,null,null,null,null,"~"]
["CONTACT",2025,"Choose",124,null,null,null,null,null,null,null,null,null,null,null,null,null,null,null,null,null,null,"~"]
["CONTACT",2025,"Choose",125,null,null,null,null,null,null,null,null,null,null,null,null,null,null,null,null,null,null,"~"]
["CONTACT",2025,"Choose",126,null,null,null,null,null,null,null,null,null,null,null,null,null,null,null,null,null,null,"~"]
["CONTACT",2025,"Choose",127,null,null,null,null,null,null,null,null,null,null,null,null,null,null,null,null,null,null,"~"]
["CONTACT",2025,"Choose",128,null,null,null,null,null,null,null,null,null,null,null,null,null,null,null,null,null,null,"~"]
["CONTACT",2025,"Choose",129,null,null,null,null,null,null,null,null,null,null,null,null,null,null,null,null,null,null,"~"]
["CONTACT",2025,"Choose",130,null,null,null,null,null,null,null,null,null,null,null,null,null,null,null,null,null,null,"~"]
["CONTACT",2025,"Choose",131,null,null,null,null,null,null,null,null,null,null,null,null,null,null,null,null,null,null,"~"]
["CONTACT",2025,"Choose",132,null,null,null,null,null,null,null,null,null,null,null,null,null,null,null,null,null,null,"~"]
["CONTACT",2025,"Choose",133,null,null,null,null,null,null,null,null,null,null,null,null,null,null,null,null,null,null,"~"]
["CONTACT",2025,"Choose",134,null,null,null,null,null,null,null,null,null,null,null,null,null,null,null,null,null,null,"~"]
["CONTACT",2025,"Choose",135,null,null,null,null,null,null,null,null,null,null,null,null,null,null,null,null,null,null,"~"]
["CONTACT",2025,"Choose",136,null,null,null,null,null,null,null,null,null,null,null,null,null,null,null,null,null,null,"~"]
["CONTACT",2025,"Choose",137,null,null,null,null,null,null,null,null,null,null,null,null,null,null,null,null,null,null,"~"]
["CONTACT",2025,"Choose",138,null,null,null,null,null,null,null,null,null,null,null,null,null,null,null,null,null,null,"~"]
["SA25",2025,"Choose",0,1,"Revenue By Source",null,null,null,null,null,null,null,null,null,null,null,null,null,null,null,null,"~"]
["SA25",2025,"Choose",0,2,"Property rates",null,null,null,null,null,null,null,null,null,null,null,null,null,null,null,null,"~"]
["SA25",2025,"Choose",0,3,"Property rates - penalties & collection charges",null,null,null,null,null,null,null,null,null,null,null,null,null,null,null,null,"~"]
["SA25",2025,"Choose",0,4,"Service charges - electricity revenue",null,null,null,null,null,null,null,null,null,null,null,null,null,null,null,null,"~"]
["SA25",2025,"Choose",0,5,"Service charges - water revenue",null,null,null,null,null,null,null,null,null,null,null,null,null,null,null,null,"~"]
["SA25",2025,"Choose",0,6,"Service charges - sanitation revenue",null,null,null,null,null,null,null,null,null,null,null,null,null,null,null,null,"~"]
["SA25",2025,"Choose",0,7,"Service charges - refuse revenue",null,null,null,null,null,null,null,null,null,null,null,null,null,null,null,null,"~"]
["SA25",2025,"Choose",0,8,"Service charges - other",null,null,null,null,null,null,null,null,null,null,null,null,null,null,null,null,"~"]
["SA25",2025,"Choose",0,9,"Rental of facilities and equipment",null,null,null,null,null,null,null,null,null,null,null,null,null,null,null,null,"~"]
["SA25",2025,"Choose",0,10,"Interest earned - external investments",null,null,null,null,null,null,null,null,null,null,null,null,null,null,null,null,"~"]
["SA25",2025,"Choose",0,11,"Interest earned - outstanding debtors",null,null,null,null,null,null,null,null,null,null,null,null,null,null,null,null,"~"]
["SA25",2025,"Choose",0,12,"Dividends received",null,null,null,null,null,null,null,null,null,null,null,null,null,null,null,null,"~"]
["SA25",2025,"Choose",0,13,"Fines",null,null,null,null,null,null,null,null,null,null,null,null,null,null,null,null,"~"]
["SA25",2025,"Choose",0,14,"Licences and permits",null,null,null,null,null,null,null,null,null,null,null,null,null,null,null,null,"~"]
["SA25",2025,"Choose",0,15,"Agency services",null,null,null,null,null,null,null,null,null,null,null,null,null,null,null,null,"~"]
["SA25",2025,"Choose",0,16,"Transfers recognised - operational",null,null,null,null,null,null,null,null,null,null,null,null,null,null,null,null,"~"]
["SA25",2025,"Choose",0,17,"Other revenue",null,null,null,null,null,null,null,null,null,null,null,null,null,null,null,null,"~"]
["SA25",2025,"Choose",0,18,"Gains on disposal of PPE",null,null,null,null,null,null,null,null,null,null,null,null,null,null,null,null,"~"]
["SA25",2025,"Choose",0,19,"Total Revenue (excluding capital transfers and contributions)",null,null,null,null,null,null,null,null,null,null,null,null,null,null,null,null,"~"]
["SA25",2025,"Choose",0,20,null,null,null,null,null,null,null,null,null,null,null,null,null,null,null,null,null,"~"]
["SA25",2025,"Choose",0,21,"Expenditure By Type",null,null,null,null,null,null,null,null,null,null,null,null,null,null,null,null,"~"]
["SA25",2025,"Choose",0,22,"Employee related costs",null,null,null,null,null,null,null,null,null,null,null,null,null,null,null,null,"~"]
["SA25",2025,"Choose",0,23,"Remuneration of councillors",null,null,null,null,null,null,null,null,null,null,null,null,null,null,null,null,"~"]
["SA25",2025,"Choose",0,24,"Debt impairment",null,null,null,null,null,null,null,null,null,null,null,null,null,null,null,null,"~"]
["SA25",2025,"Choose",0,25,"Depreciation & asset impairment",null,null,null,null,null,null,null,null,null,null,null,null,null,null,null,null,"~"]
["SA25",2025,"Choose",0,26,"Finance charges",null,null,null,null,null,null,null,null,null,null,null,null,null,null,null,null,"~"]
["SA25",2025,"Choose",0,27,"Bulk purchases",null,null,null,null,null,null,null,null,null,null,null,null,null,null,null,null,"~"]
["SA25",2025,"Choose",0,28,"Other materials",null,null,null,null,null,null,null,null,null,null,null,null,null,null,null,null,"~"]
["SA25",2025,"Choose",0,29,"Contracted services",null,null,null,null,null,null,null,null,null,null,null,null,null,null,null,null,"~"]
["SA25",2025,"Choose",0,30,"Transfers and grants",null,null,null,null,null,null,null,null,null,null,null,null,null,null,null,null,"~"]
["SA25",2025,"Choose",0,31,"Other expenditure",null,null,null,null,null,null,null,null,null,null,null,null,null,null,null,null,"~"]
["SA25",2025,"Choose",0,32,"Loss on disposal of PPE",null,null,null,null,null,null,null,null,null,null,null,null,null,null,null,null,"~"]
["SA25",2025,"Choose",0,33,"Total Expenditure",null,null,null,null,null,null,null,null,null,null,null,null,null,null,null,null,"~"]
["SA25",2025,"Choose",0,34,null,null,null,null,null,null,null,null,null,null,null,null,null,null,null,null,null,"~"]
["SA25",2025,"Choose",0,35,"Surplus/(Deficit)",null,null,null,null,null,null,null,null,null,null,null,null,null,null,null,null,"~"]
["SA25",{"$f":"+MTREF","v":2025},{"$f":"LEFT(muni,(FIND(\" \",muni,1)-1))","v":"Choose"},0,36,"Transfers recognised - capital",null,null,null,null,null,null,null,null,null,null,null,null,null,null,null,null,"~"]
["SA25",2025,"Choose",0,37,"Contributions recognised - capital",null,null,null,null,null,null,null,null,null,null,null,null,null,null,null,null,"~"]
["SA25",2025,"Choose",0,38,"Contributed assets",null,null,null,null,null,null,null,null,null,null,null,null,null,null,null,null,"~"]
["SA25",2025,"Choose",0,39,"Surplus/(Deficit) after capital transfers & contributions",null,null,null,null,null,null,null,null,null,null,null,null,null,null,null,null,"~"]
["SA25",2025,"Choose",0,40,"Taxation",null,null,null,null,null,null,null,null,null,null,null,null,null,null,null,null,"~"]
["SA25",2025,"Choose",0,41,"Attributable to minorities",null,null,null,null,null,null,null,null,null,null,null,null,null,null,null,null,"~"]
["SA25",2025,"Choose",0,44,"Share of surplus/ (deficit) of associate",null,null,null,null,null,null,null,null,null,null,null,null,null,null,null,null,"~"]
["SA27",2025,"Choose",null,null,"Revenue - Standard",null,null,null,null,null,null,null,null,null,null,null,null,null,null,null,null,"~"]
["SA27",2025,"Choose",null,null,"Governance and administration",null,null,null,null,null,null,null,null,null,null,null,null,null,null,null,null,"~"]
["SA27",2025,"Choose",1,11,"Executive and council",null,null,null,null,null,null,null,null,null,null,null,null,null,null,null,null,"~"]
["SA27",2025,"Choose",1,12,"Budget and treasury office",null,null,null,null,null,null,null,null,null,null,null,null,null,null,null,null,"~"]
["SA27",2025,"Choose",1,13,"Corporate services",null,null,null,null,null,null,null,null,null,null,null,null,null,null,null,null,"~"]
["SA27",2025,"Choose",null,null,"Community and public safety",null,null,null,null,null,null,null,null,null,null,null,null,null,null,null,null,"~"]
["SA27",2025,"Choose",1,21,"Community and social services",null,null,null,null,null,null,null,null,null,null,null,null,null,null,null,null,"~"]
["SA27",2025,"Choose",1,22,"Sport and recreation",null,null,null,null,null,null,null,null,null,null,null,null,null,null,null,null,"~"]
["SA27",2025,"Choose",1,23,"Public safety",null,null,null,null,null,null,null,null,null,null,null,null,null,null,null,null,"~"]
["SA27",2025,"Choose",1,24,"Housing",null,null,null,null,null,null,null,null,null,null,null,null,null,null,null,null,"~"]
["SA27",2025,"Choose",1,25,"Health",null,null,null,null,null,null,null,null,null,null,null,null,null,null,null,null,"~"]
["SA27",2025,"Choose",null,null,"Economic and environmental services",null,null,null,null,null,null,null,null,null,null,null,null,null,null,null,null,"~"]
["SA27",2025,"Choose",1,31,"Planning and development",null,null,null,null,null,null,null,null,null,null,null,null,null,null,null,null,"~"]
["SA27",2025,"Choose",1,32,"Road transport",null,null,null,null,null,null,null,null,null,null,null,null,null,null,null,null,"~"]
["SA27",2025,"Choose",1,33,"Environmental protection",null,null,null,null,null,null,null,null,null,null,null,null,null,null,null,null,"~"]
["SA27",2025,"Choose",null,null,"Trading services",null,null,null,null,null,null,null,null,null,null,null,null,null,null,null,null,"~"]
["SA27",2025,"Choose",1,41,"Electricity",null,null,null,null,null,null,null,null,null,null,null,null,null,null,null,null,"~"]
["SA27",2025,"Choose",1,42,"Water",null,null,null,null,null,null,null,null,null,null,null,null,null,null,null,null,"~"]
["SA27",2025,"Choose",1,43,"Waste water management",null,null,null,null,null,null,null,null,null,null,null,null,null,null,null,null,"~"]
["SA27",2025,"Choose",1,44,"Waste management",null,null,null,null,null,null,null,null,null,null,null,null,null,null,null,null,"~"]
["SA27",2025,"Choose",1,45,"Other",null,null,null,null,null,null,null,null,null,null,null,null,null,null,null,null,"~"]
["SA27",2025,"Choose",null,null,"Total Revenue - Standard",null,null,null,null,null,null,null,null,null,null,null,null,null,null,null,null,"~"]
["SA27",2025,"Choose",null,null,null,null,null,null,null,null,null,null,null,null,null,null,null,null,null,null,null,"~"]
["SA27",2025,"Choose",null,null,"Expenditure - Standard",null,null,null,null,null,null,null,null,null,null,null,null,null,null,null,null,"~"]
["SA27",2025,"Choose",null,null,"Governance and administration",null,null,null,null,null,null,null,null,null,null,null,null,null,null,null,null,"~"]
["SA27",2025,"Choose",2,11,"Executive and council",null,null,null,null,null,null,null,null,null,null,null,null,null,null,null,null,"~"]
["SA27",2025,"Choose",2,12,"Budget and treasury office",null,null,null,null,null,null,null,null,null,null,null,null,null,null,null,null,"~"]
["SA27",2025,"Choose",2,13,"Corporate services",null,null,null,null,null,null,null,null,null,null,null,null,null,null,null,null,"~"]
["SA27",2025,"Choose",null,null,"Community and public safety",null,null,null,null,null,null,null,null,null,null,null,null,null,null,null,null,"~"]
["SA27",2025,"Choose",2,21,"Community and social services",null,null,null,null,null,null,null,null,null,null,null,null,null,null,null,null,"~"]
["SA27",2025,"Choose",2,22,"Sport and recreation",null,null,null,null,null,null,null,null,null,null,null,null,null,null,null,null,"~"]
["SA27",2025,"Choose",2,23,"Public safety",null,null,null,null,null,null,null,null,null,null,null,null,null,null,null,null,"~"]
["SA27",2025,"Choose",2,24,"Housing",null,null,null,null,null,null,null,null,null,null,null,null,null,null,null,null,"~"]
["SA27",2025,"Choose",2,25,"Health",null,null,null,null,null,null,null,null,null,null,null,null,null,null,null,null,"~"]
["SA27",2025,"Choose",null,null,"Economic and environmental services",null,null,null,null,null,null,null,null,null,null,null,null,null,null,null,null,"~"]
["SA27",2025,"Choose",2,31,"Planning and development",null,null,null,null,null,null,null,null,null,null,null,null,null,null,null,null,"~"]
["SA27",2025,"Choose",2,32,"Road transport",null,null,null,null,null,null,null,null,null,null,null,null,null,null,null,null,"~"]
["SA27",2025,"Choose",2,33,"Environmental protection",null,null,null,null,null,null,null,null,null,null,null,null,null,null,null,null,"~"]
["SA27",2025,"Choose",null,null,"Trading services",null,null,null,null,null,null,null,null,null,null,null,null,null,null,null,null,"~"]
["SA27",2025,"Choose",2,41,"Electricity",null,null,null,null,null,null,null,null,null,null,null,null,null,null,null,null,"~"]
["SA27",2025,"Choose",2,42,"Water",null,null,null,null,null,null,null,null,null,null,null,null,null,null,null,null,"~"]
["SA27",2025,"Choose",2,43,"Waste water management",null,null,null,null,null,null,null,null,null,null,null,null,null,null,null,null,"~"]
["SA27",2025,"Choose",2,44,"Waste management",null,null,null,null,null,null,null,null,null,null,null,null,null,null,null,null,"~"]
["SA27",2025,"Choose",2,45,"Other",null,null,null,null,null,null,null,null,null,null,null,null,null,null,null,null,"~"]
["SA27",2025,"Choose",null,null,"Total Expenditure - Standard",null,null,null,null,null,null,null,null,null,null,null,null,null,null,null,null,"~"]
["SA29",2025,"Choose",null,null,"Capital Expenditure - Standard",null,null,null,null,null,null,null,null,null,null,null,null,null,null,null,null,"~"]
["SA29",2025,"Choose",null,null,"Governance and administration",null,null,null,null,null,null,null,null,null,null,null,null,null,null,null,null,"~"]
["SA29",2025,"Choose",1,11,"Executive and council",null,null,null,null,null,null,null,null,null,null,null,null,null,null,null,null,"~"]
["SA29",2025,"Choose",1,12,"Budget and treasury office",null,null,null,null,null,null,null,null,null,null,null,null,null,null,null,null,"~"]
["SA29",2025,"Choose",1,13,"Corporate services",null,null,null,null,null,null,null,null,null,null,null,null,null,null,null,null,"~"]
["SA29",2025,"Choose",null,null,"Community and public safety",null,null,null,null,null,null,null,null,null,null,null,null,null,null,null,null,"~"]
["SA29",2025,"Choose",1,21,"Community and social services",null,null,null,null,null,null,null,null,null,null,null,null,null,null,null,null,"~"]
["SA29",2025,"Choose",1,22,"Sport and recreation",null,null,null,null,null,null,null,null,null,null,null,null,null,null,null,null,"~"]
["SA29",2025,"Choose",1,23,"Public safety",null,null,null,null,null,null,null,null,null,null,null,null,null,null,null,null,"~"]
["SA29",2025,"Choose",1,24,"Housing",null,null,null,null,null,null,null,null,null,null,null,null,null,null,null,null,"~"]
["SA29",2025,"Choose",1,25,"Health",null,null,null,null,null,null,null,null,null,null,null,null,null,null,null,null,"~"]
["SA29",2025,"Choose",null,null,"Economic and environmental services",null,null,null,null,null,null,null,null,null,null,null,null,null,null,null,null,"~"]
["SA29",{"$f":"+MTREF","v":2025},{"$f":"LEFT(muni,(FIND(\" \",muni,1)-1))","v":"Choose"},1,31,"Planning and development",null,null,null,null,null,null,null,null,null,null,null,null,null,null,null,null,"~"]
["SA29",2025,"Choose",1,32,"Road transport",null,null,null,null,null,null,null,null,null,null,null,null,null,null,null,null,"~"]
["SA29",2025,"Choose",1,33,"Environmental protection",null,null,null,null,null,null,null,null,null,null,null,null,null,null,null,null,"~"]
["SA29",2025,"Choose",null,null,"Trading services",null,null,null,null,null,null,null,null,null,null,null,null,null,null,null,null,"~"]
["SA29",2025,"Choose",1,41,"Electricity",null,null,null,null,null,null,null,null,null,null,null,null,null,null,null,null,"~"]
["SA29",2025,"Choose",1,42,"Water",null,null,null,null,null,null,null,null,null,null,null,null,null,null,null,null,"~"]
["SA29",2025,"Choose",1,43,"Waste water management",null,null,null,null,null,null,null,null,null,null,null,null,null,null,null,null,"~"]
["SA29",2025,"Choose",1,44,"Waste management",null,null,null,null,null,null,null,null,null,null,null,null,null,null,null,null,"~"]
["SA29",2025,"Choose",1,45,"Other",null,null,null,null,null,null,null,null,null,null,null,null,null,null,null,null,"~"]
["SA29",2025,"Choose",null,null,"Total Capital Expenditure - Standard",null,null,null,null,null,null,null,null,null,null,null,null,null,null,null,null,"~"]
["SA29",2025,"Choose",null,null,null,null,null,null,null,null,null,null,null,null,null,null,null,null,null,null,null,"~"]
["SA29",2025,"Choose",2,50,"Funded by:",null,null,null,null,null,null,null,null,null,null,null,null,null,null,null,null,"~"]
["SA29",2025,"Choose",2,51,"National Government",null,null,null,null,null,null,null,null,null,null,null,null,null,null,null,null,"~"]
["SA29",2025,"Choose",2,52,"Provincial Government",null,null,null,null,null,null,null,null,null,null,null,null,null,null,null,null,"~"]
["SA29",2025,"Choose",2,53,"District Municipality",null,null,null,null,null,null,null,null,null,null,null,null,null,null,null,null,"~"]
["SA29",2025,"Choose",2,54,"Other transfers and grants",null,null,null,null,null,null,null,null,null,null,null,null,null,null,null,null,"~"]
["SA29",2025,"Choose",2,55,"Transfers recognised - capital",null,null,null,null,null,null,null,null,null,null,null,null,null,null,null,null,"~"]
["SA29",2025,"Choose",2,56,"Public contributions & donations",null,null,null,null,null,null,null,null,null,null,null,null,null,null,null,null,"~"]
["SA29",2025,"Choose",2,57,"Borrowing",null,null,null,null,null,null,null,null,null,null,null,null,null,null,null,null,"~"]
["SA29",2025,"Choose",2,58,"Internally generated funds",null,null,null,null,null,null,null,null,null,null,null,null,null,null,null,null,"~"]
["SA29",2025,"Choose",2,59,"Total Capital Funding",null,null,null,null,null,null,null,null,null,null,null,null,null,null,null,null,"~"]